{"text_format":"1","workbook":"xlsx","n_sheets":63,"sheets":["Index","AF","AAF","CF","BF","WFIT","WHFIT","WFIF","P-VAC","M-VAC","AFs","HF","AHP","CHP","IHP","PF","HPF","SF","SPF","AV","CKL-B","CKL-C","CS_CS SS","SFH_SFH SS","CKL-HF","CKL-AHP","CKL-CHP","Indicators","Condensate drains","Accessories","WOSm","WOS","WOS CD","A-DRY","X-DRY","B-DRY","F-DRY","COM-DRY","R-DRY","HP-DRY","OMD","OSL","OMH","OHP","SORBEO","M-DRY","TAC","ACA","ACW","OS","TP","PP","B-AIR","B-AIR plus","AIRWATT","PETROL STATION EQUIPMENT","NG","MNG","OG","Árlista","Árak 2012","Megrendelő","Segéd"],"not_rendered":{"charts":0,"images":328,"macros":1,"external_links":0,"defined_names":67,"comments":1,"pivot_tables":0},"unopened":[],"bounds":{"document_bytes":16777216,"sheet_cells":100000,"rows_first":2000,"rows_last":500,"rows_between":2000,"halvings":0,"cell_chars":16384,"cell_head_chars":4096},"cells_cut":0,"cells_raw":0,"read":"whole","date_system":"1900"}

{"sheet":"Index","index":0,"n_rows":160,"n_cols":19,"rows_kept":160,"cut":false,"hidden":false,"merged":[[1,19,4,19],[6,1,8,3],[6,4,9,4],[6,6,8,8],[6,9,9,9],[6,11,8,13],[6,14,9,14],[6,16,8,18],[6,19,9,19],[1,1,4,4],[1,6,3,8],[1,9,4,9],[1,11,3,13],[1,14,4,14],[1,16,3,18],[11,16,13,18],[11,19,14,19],[16,1,18,3],[16,4,19,4],[16,6,18,8],[16,9,19,9],[16,11,18,13],[16,14,19,14],[16,16,18,18],[16,19,19,19],[11,1,13,3],[11,4,14,4],[11,6,13,8],[11,9,14,9],[11,11,13,13],[11,14,14,14],[21,16,23,18],[21,19,24,19],[26,1,29,4],[26,6,28,8],[26,9,29,9],[26,11,28,13],[26,14,29,14],[26,16,28,18],[26,19,29,19],[21,1,23,3],[21,4,24,4],[21,6,23,8],[21,9,24,9],[21,11,23,13],[21,14,24,14],[31,16,33,18],[31,19,34,19],[36,1,39,4],[36,6,38,8],[36,9,39,9],[36,11,38,13],[36,14,39,14],[36,16,38,18],[36,19,39,19],[31,1,33,3],[31,4,34,4],[31,6,33,8],[31,9,34,9],[31,11,33,13],[31,14,34,14],[41,16,43,18],[41,19,44,19],[46,1,49,4],[46,6,48,8],[46,9,49,9],[46,11,48,13],[46,14,49,14],[46,16,48,18],[46,19,49,19],[41,1,43,3],[41,4,44,4],[41,6,43,8],[41,9,44,9],[41,11,43,13],[41,14,44,14],[51,16,53,18],[51,19,54,19],[56,1,58,3],[56,4,59,4],[56,6,58,8],[56,9,59,9],[56,11,58,13],[56,14,59,14],[56,16,58,18],[56,19,59,19],[51,1,53,3],[51,4,54,4],[51,6,53,8],[51,9,54,9],[51,11,53,13],[51,14,54,14],[61,16,63,18],[61,19,64,19],[66,1,68,3],[66,4,69,4],[66,6,68,8],[66,9,69,9],[66,11,68,13],[66,14,69,14],[61,1,63,3],[61,4,64,4],[61,6,63,8],[61,9,64,9],[61,11,63,13],[61,14,64,14],[71,19,74,19],[76,1,78,3],[76,4,79,4],[76,6,78,8],[76,9,79,9],[76,11,78,13],[76,14,79,14],[76,16,78,18],[76,19,79,19],[71,1,74,4],[71,6,73,8],[71,9,74,9],[71,11,73,13],[71,14,74,14],[71,16,73,18],[81,16,83,18],[81,19,84,19],[86,1,89,4],[86,6,88,8],[86,9,89,9],[86,11,88,13],[86,14,89,14],[86,16,88,18],[86,19,89,19],[81,1,83,3],[81,4,84,4],[81,6,83,8],[81,9,84,9],[81,11,83,13],[81,14,84,14],[91,19,94,19],[96,1,98,3],[96,4,99,4],[96,6,98,8],[96,9,99,9],[96,11,98,13],[96,14,99,14],[96,16,98,18],[96,19,99,19],[91,1,94,4],[91,6,93,8],[91,9,94,9],[91,11,93,13],[91,14,94,14],[91,16,93,18],[111,1,113,3],[111,4,114,4],[111,6,113,8],[111,9,114,9],[111,11,113,13],[111,14,114,14],[101,16,103,18],[101,19,104,19],[106,1,108,3],[106,4,109,4],[106,6,108,8],[106,9,109,9],[106,11,108,13],[106,14,109,14],[106,16,108,18],[106,19,109,19],[101,1,103,3],[101,4,104,4],[101,6,103,8],[101,9,104,9],[101,11,103,13],[101,14,104,14],[116,19,119,19],[121,1,123,3],[121,4,124,4],[121,6,123,8],[121,9,124,9],[121,11,123,13],[121,14,124,14],[121,16,123,18],[121,19,124,19],[116,1,119,4],[116,6,118,8],[116,9,119,9],[116,11,118,13],[116,14,119,14],[116,16,118,18],[126,16,128,18],[126,19,129,19],[131,1,134,4],[131,6,133,8],[131,9,134,9],[131,11,133,13],[131,14,134,14],[131,16,133,18],[131,19,134,19],[126,1,128,3],[126,4,129,4],[126,6,128,8],[126,9,129,9],[126,11,128,13],[126,14,129,14],[136,19,139,19],[141,1,143,3],[141,4,144,4],[146,1,149,4],[146,6,148,8],[146,9,149,9],[146,11,148,13],[146,14,149,14],[146,16,148,18],[146,19,149,19],[136,1,139,4],[136,6,138,8],[136,9,139,9],[136,11,138,13],[136,14,139,14],[136,16,138,18],[156,14,159,14],[156,16,158,18],[156,19,159,19],[151,1,153,3],[151,4,154,4],[156,1,159,4],[156,6,158,8],[156,9,159,9],[156,11,158,13]]}
[]
[null,"VONALI\nSZŰRŐK",null,null,null,null,"AF \naluminium házas\nvonali szűrő",null,null,null,null,"AAF \nmini aluminium \nházas vonali szűrő",null,null,null,null,"CF \naluminium \nházas vonali szűrő"]
[]
[]
[null,null,null,null,null,null,"16 bar",null,"page 6",null,null,"16 bar",null,"page 8",null,null,"20 bar",null,"page 10"]
[]
[null,"BF \nhegesztett szénacél \nsűrített levegő szűrő",null,null,null,null,"WFIT \nhegesztett saválló szűrő-menetes",null,null,null,null,"WHFIT \nnagy nyomás hegesztett saválló - menetes",null,null,null,null,"WFIF \nhegesztett saválló szűrő-karimás csatlakozóval"]
[]
[]
[null,"16 bar",null,"page 12",null,null,"16 (12) bar",null,"page 14",null,null,"50 bar",null,"page 16",null,null,"16 (12, 10) bar",null,"page 18"]
[]
[null,"P-VAC \nvacuum szivattyú\nszűrő ",null,null,null,null,"M-VAC \nmedical vacuuum szűrő",null,null,null,null,"AFs \nszilikon mentes\nsűrített levegő szűrő ",null,null,null,null,"HF \naluminium öntvényű\nnagynyomású szűrő "]
[]
[]
[null,"20-2000 mbar",null,"page 20",null,null,"20-2000 mbar",null,"page 22",null,null,"16 bar",null,"page 24",null,null,"50 bar",null,"page 26"]
[]
[null,"AHP \naluminium házas, nagy \nnyomású szűrő",null,null,null,null,"CHP \nszénacél, nagy \nnyomású szűrő",null,null,null,null,"IHP\nsaválló, nagy \nnyomású szűrő",null,null,null,null,"PF \nsaválló \nprocess szűrő "]
[]
[]
[null,"64 bar",null,"page 28",null,null,"100,250,400 bar",null,"page 30",null,null,"100,250,400 bar",null,"page 32",null,null,"16 (12, 10) bar",null,"page 34"]
[]
[null,"HPF \nnagy nyomású saválló process szűrő",null,null,null,null,"SF \nsaválló \nsteril szűrő",null,null,null,null,"SPF \nsaválló \nsteril szűrő ",null,null,null,null,"AV \nsaválló \nair venting szűrő "]
[]
[]
[null,"50 bar",null,"page 36",null,null,"16 (10) bar",null,"page 38",null,null,"16 (12) bar",null,"page 40",null,null,null,null,"page 42"]
[]
[null,"KONDENZÁTUM \nSEPARATORS",null,null,null,null,"CKL-B \naluminium \nkondenzvíz szeparátor",null,null,null,null,"CKL-C \naluminium \nkondenzvíz szeparátor",null,null,null,null,"CS, CS SS \nhegesztett szénacél\nkondenzvíz szeparátor"]
[]
[]
[null,null,null,null,null,null,"16 bar",null,"page 44",null,null,"20 bar",null,"page 46",null,null,"16 bar",null,"page 48"]
[]
[null,"SFH, SFH SS \nhegesztett saválló\nkondenzvíz szeparátor",null,null,null,null,"CKL-HF \nalu öntvény HP\nkondenzvíz szeparátor",null,null,null,null,"CKL-AHP \naluminium HP\nkondenzvíz szeparátor",null,null,null,null,"CKL-CHP \nszénacél HP\nkondenzvíz szeparátor"]
[]
[]
[null,"16 bar",null,"page 49",null,null,"50 bar",null,"page 50",null,null,"64 bar",null,"page 51",null,null,"100,250,400 bar",null,"page 52"]
[]
[null,"INDICATORS",null,null,null,null,"PDI 16  \nnyomás különbség\nindicator",null,null,null,null,"MDM 40, 40C \nnyomáskülömbség\nmérő",null,null,null,null,"MDM 60, 60C, 60E\nnyomáskülömbség\nmérő"]
[]
[]
[null,null,null,null,null,null,"16 bar",null,"page 53",null,null,"20 bar",null,"page 53",null,null,"16 bar",null,"page 53"]
[]
[null,"MDA 60\nnyomáskülömbség\nmérő",null,null,null,null,"EPG 60, 60 SN\nelectronkus\nnyomáskülömbség mérő",null,null,null,null,"MDH\nnagy nyomású\nnyomáskülömbség mérő",null,null,null,null,"OCI\noil content indicator  "]
[]
[]
[null,"20 bar",null,"page 53",null,null,"16 bar",null,"page 53",null,null,"50 bar",null,"page 53",null,null,"16 bar",null,"page 53"]
[]
[null,"KONDENZÁTUM \nLEERESZTŐ",null,null,null,null,"EMD\nelektronikus kondenzvíz leeresztő",null,null,null,null,"ECD B \nelektronikus kondenzvíz leeresztő",null,null,null,null,"TD M, TD Mcr \nelektronikus kondenzvíz leeresztő"]
[]
[]
[null,null,null,null,null,null,"16 bar",null,"page 54",null,null,"16 bar",null,"page 54",null,null,"16, 25 bar",null,"page 54"]
[]
[null,"CDI 16B\nelektronikus kondenzvíz leeresztő",null,null,null,null,"IED\nelektronikus kondenzvíz leeresztő",null,null,null,null,"TD 50M \nelektronikus, nagy nyomású kondenzvíz leeresztő",null,null,null,null,"EMD HP\nelektronikus, nagy nyomású kondenzvíz leeresztő"]
[]
[]
[null,"16 bar",null,"page 54",null,null,"16 bar",null,"page 55",null,null,"50 bar",null,"page 55",null,null,"50 bar",null,"page 55"]
[]
[null,"AOK 50B \nautomatikus nagy nyomás kondenzvíz leeresztő",null,null,null,null,"AOK 50SS \nautomatikus nagy nyomás saválló kondenzvíz leeresztő",null,null,null,null,"AOK 20B \nautomatikus kondenzvíz leeresztő",null,null,null,null,"AOK 20SS\nautomatikus saválló \nkondenzvíz leeresztő"]
[]
[]
[null,"50 bar",null,"page 55",null,null,"50 bar",null,"page 55",null,null,"20 bar",null,"page 55",null,null,"20 bar",null,"page 55"]
[]
[null,"AOK 16B  \nkondenzvíz leeresztő\nalu szűrőkhöz",null,null,null,null,"AOK 16F \nkondenzvíz leeresztő\nalu szűrőkhöz",null,null,null,null,"MCD \nmanuális kondenzvíz leeresztő",null,null,null,null,"MCDi \nmanuális saválló\nkondenzvíz leeresztő"]
[]
[]
[null,"16 bar",null,"page 55",null,null,"16 bar",null,"page 55",null,null,"20 bar",null,"page 55",null,null,"20 bar",null,"page 55"]
[]
[null,"MCD B \nmanuális kondenzvíz leeresztő",null,null,null,null,"BALL VALVE \nmanuális kondenzvíz leeresztő",null,null,null,null,"DRAIN VALVE\nmanuális kondenzvíz leeresztő"]
[]
[]
[null,"16 bar",null,"page 55",null,null,"16 bar",null,"page 56",null,null,"64, 400 bar",null,"page 56"]
[]
[null,"KIEGÉSZÍTŐK",null,null,null,null,"AK\nszerelő kit szűrőkhöz",null,null,null,null,"2S, 3S, 2M, 3M\nsoroló kit szűrőkhöz",null,null,null,null,"WS/WM\nfalra szerelő kit szűrőkhöz"]
[]
[]
[null,null,null,null,null,null,null,null,"page 57",null,null,null,null,"page 57",null,null,null,null,"page 57"]
[]
[null,"SG\nszintjelző üveg",null,null,null,null,"NIPPLE\nvent",null,null,null,null,"NIPPLE SS\ninox vent",null,null,null,null,"NIPPLE HP\nvent"]
[]
[]
[null,null,null,"page 57",null,null,"20 bar",null,"page 57",null,null,"20, 50 bar",null,"page 57",null,null,"50 bar",null,"page 57"]
[]
[null,"Service network ",null,null,null,null,"ES \nexpansion silencer"]
[]
[]
[null,null,null,"page 57",null,null,null,null,"page 58"]
[]
[null,"OLAJ/VÍZ\nSZÉTVÁLASZTÓ",null,null,null,null,"WOSm\nwater/oil szeparátors",null,null,null,null,"WOS\nwater/oil szeparátors",null,null,null,null,"WOS CD\nkondenzvíz distributor"]
[]
[]
[null,null,null,null,null,null,"16 bar",null,"page 59",null,null,"16 bar",null,"page 60",null,null,"16 bar",null,"page 61"]
[]
[null,"sűrített levegő \nDRYERS",null,null,null,null,"A-DRY\nadszorpciós szárító",null,null,null,null,"X-DRY\nmoduális adszorpciós szárító",null,null,null,null,"B-DRY\nadszorpciós szárító"]
[]
[]
[null,null,null,null,null,null,"4-16 bar",null,"page 62",null,null,"4-16 bar",null,"page 64",null,null,"4-16 bar",null,"page 66"]
[]
[null,"F-DRY\nadszorpciós szárító",null,null,null,null,"COM-DRY\nhybrid adszorpciós szárító",null,null,null,null,"R-DRY \nmeleg regenerálású adszorpciós szárító",null,null,null,null,"HP-DRY\nnagy nyomású, adszorpciós szárító"]
[]
[]
[null,"4-16 bar",null,"page 68",null,null,"4-16 bar",null,"page 70",null,null,"4-11 bar",null,"page 72",null,null,"50-400 bar",null,"page 74"]
[]
[null,"OMD \nhűtveszárító",null,null,null,null,"OSL\nnon cycling hűtveszárító",null,null,null,null,"OMH\nmagas belépő hőmérsékletű hűtveszárító",null,null,null,null,"OHP\nnagy nyomású  hűtveszárító"]
[]
[]
[null,"14 bar",null,"page 76",null,null,"16 (14) bar",null,"page 77",null,null,"16 (14) bar",null,"page 78",null,null,"50 (45) bar",null,"page 79"]
[]
[null,"SORBEO  \nabsorbents",null,null,null,null,"M-DRY \nmembran szűrő",null,null,null,null,"TAC \nactiv szén szűrő torony",null,null,null,null,"ACA \nléghűtéses aftercooler"]
[]
[]
[null,null,null,"page 80",null,null,"12 bar",null,"page 82",null,null,"16 bar",null,"page 83",null,null,"7 bar",null,"page 84"]
[]
[null,"ACW \nvízhűtéses aftercooler"]
[]
[]
[null,"16 bar",null,"page 85"]
[]
[null,"MEASURING \nEQUIPMENT",null,null,null,null,"OS 323, OS 325\ndisplay/data logger",null,null,null,null,"OS 331\ndisplay/data logger",null,null,null,null,"OS 215, OS 220\ndew point sensor"]
[]
[]
[null,null,null,null,null,null,null,null,"page 86",null,null,null,null,"page 86",null,null,null,null,"page 86"]
[]
[null,"OS 400, OS 420\neconomic flow / consumption sensor",null,null,null,null,"OS 16, OS 40\nnyomás sensor",null,null,null,null,"OS 550-P6 set \nportable data logger, sensors:\nflow, dew point, nyomás",null,null,null,null,"OS 551-P6 set\nportable data logger, sensors:\nflow, dew point, nyomás"]
[]
[]
[null,null,null,"page 86",null,null,null,null,"page 86",null,null,null,null,"page 87",null,null,null,null,"page 87"]
[]
[null,"OS 120-P \nportable residual oil sensor",null,null,null,null,"OS 502 set\nportable dew point sensor",null,null,null,null,"OS 530\nportable leak detector for\npressurized systems",null,null,null,null,"AFTER MARKET \nportable residual oil sensor"]
[]
[]
[null,null,null,"page 87",null,null,null,null,"page 87",null,null,null,null,"page 87",null,null,null,null,"page 87"]
[]
[null,"PRESSURE\nVESSELS",null,null,null,null,"PED\nnyomás vessels",null,null,null,null,"ASME\nnyomás vessels",null,null,null,null,"TP\nnyomás vessels"]
[]
[]
[null,null,null,null,null,null,"16 bar",null,"page 88",null,null,null,null,"page 89",null,null,"10, 13 bar",null,"page 89"]
[]
[null,"sűrített levegő \nEQUIPMENT",null,null,null,null,"PP SERIES\nfestő-lakkozó szűrőrendszer",null,null,null,null,"B-AIR\nlélegezhető levegő szűrőrendszer",null,null,null,null,"B-AIR plus\nlélegezhető levegő szűrőrendszer analizátorral"]
[]
[]
[null,null,null,null,null,null,"16 bar",null,"page 90",null,null,"16 bar",null,"page 91",null,null,"16, 25 bar",null,"page 92"]
[]
[null,"AIRWATT\nenergia visszanyerő hőcserélő"]
[]
[]
[null,"16 bar",null,"page 93"]
[]
[null,"PETROL STATION \nEQUIPMENT",null,null,null,null,"BS 12-3,5\nair/water station",null,null,null,null,"AWS \nair/water station",null,null,null,null,"PETRO-PACK \npetrol station compressor"]
[]
[]
[null,null,null,null,null,null,"12 bar",null,"page 94",null,null,"10 bar",null,"page 94",null,null,"12 bar",null,"page 94"]
[]
[null,"BS TOWER\npetrol station compressor"]
[]
[]
[null,"12 bar",null,"page 94"]
[]
[null,"INDUSTRIAL \nPROJECTS",null,null,null,null,"NG\nnitrogen generators",null,null,null,null,"MNG \nmembrane nitrogen generators",null,null,null,null,"OG\noxygen generators"]
[]
[]
[null,null,null,null,null,null,"10 bar",null,"page 95",null,null,"10 bar",null,"page 96",null,null,"12 bar",null,"page 97"]

{"sheet":"AF","index":1,"n_rows":137,"n_cols":33,"rows_kept":137,"cut":false,"hidden":false,"merged":[[122,11,124,11],[122,12,124,12],[122,1,124,1],[122,2,123,2],[122,3,124,3],[122,4,124,4],[122,5,124,10],[119,1,121,3],[97,1,97,12],[98,1,100,1],[98,2,99,2],[98,3,99,3],[98,4,99,5],[98,6,99,9],[98,10,99,10],[98,11,100,11],[98,12,100,12],[14,1,14,12],[15,1,17,1],[15,2,16,2],[15,3,16,3],[15,4,16,5],[15,6,16,9],[15,10,16,10],[15,11,17,11],[15,12,17,12],[30,1,30,12],[32,1,34,3],[35,4,36,4],[35,5,36,5],[35,6,36,8],[35,9,35,11],[36,9,36,10],[37,11,39,11],[37,12,39,12],[37,1,39,1],[37,2,38,2],[37,3,39,3],[37,4,39,4],[37,5,39,9],[37,10,39,10],[62,11,62,12],[63,11,63,12],[64,1,64,2],[64,11,64,12],[53,1,53,2],[54,1,54,2],[56,1,56,2],[57,1,57,2],[68,1,68,2],[68,3,68,4],[68,5,68,6],[59,1,59,2],[60,1,60,2],[62,1,63,2],[66,1,67,2],[66,3,66,4],[66,5,66,6],[67,3,67,4],[67,5,67,6]]}
["  ","AF series   és",null,"AF HT series"]
[]
[]
[null,null,null,null,null,null,null,null,null,null,null,null,null,null,null,"INDEX "]
[]
[null,null,null,null,null,null,null,null,null,null,null,null,null,null,null,null,null,"A feltüntett árak nettó listaárak. Szállítási feltételek és kedvezmények felől érdeklődhet:\n30/201-4931\ninfo@techtomat.hu"]
[]
[]
[]
[]
[]
[]
[]
[]
[null,"SZŰRŐ HÁZ",null,null,null,null,null,null,null,null,null,null,null,null,null,null,null,"KORREKCIÓS FAKTOR"]
[null,"Szűrő \nház\nméret","Cső\n méret","Max.üz.\n nyomás","Átáramlási képesség \nat 7 bar(g), 20 °C",null,"Méretek",null,null,null,"Tömeg","Szűrő \nbetét\ntípus","Nettó ár\n(Csak szűrőház)\n[HUF]",null,null,null,null,"Üzemi nyomás [bar]",2,3,4,5,6,7,8,9,10,11,12,13,14,15,16]
[null,null,null,null,null,null,null,null,null,null,null,null,null,null,null,null,null,"Üzemi nyomás [psi]",29,44,58,72,87,100,115,130,145,160,174,189,203,218,232]
[null,null,"inch","bar/psi","Nm³/h","scfm","A [mm]","B [mm]","C [mm]","D [mm]","kg",null,null,null,null,null,null,"Korrekciós faktor",0.38,0.5,0.63,0.75,0.88,1,1.1299999999999999,1.25,1.38,1.5,1.63,1.75,1.88,2,2.13]
[null,"AF 0056","3/8’’","16/232",60,35,187,88,20,60,0.7,"06050",{"$f":"VLOOKUP(B19,Árlista!$B:$F,5,0)","v":"12 930,-Ft"}]
[null,"AF 0076","1/2’’","16/232",78,46,187,88,20,60,0.7,"07050",{"$f":"VLOOKUP(B20,Árlista!$B:$F,5,0)","v":"14 540,-Ft"}]
[null,"AF 0106","3/4’’","16/232",120,70,257,88,20,80,0.8,14050,{"$f":"VLOOKUP(B21,Árlista!$B:$F,5,0)","v":"17 140,-Ft"}]
[null,"AF 0186","1’’","16/232",198,116,263,125,32,100,1.8,12075,{"$f":"VLOOKUP(B22,Árlista!$B:$F,5,0)","v":"24 560,-Ft"}]
[null,"AF 0306","1’’","16/232",335,197,363,125,32,120,2.5,22075,{"$f":"VLOOKUP(B23,Árlista!$B:$F,5,0)","v":"26 020,-Ft"}]
[null,"AF 0476","1 1/2’’","16/232",510,300,461,125,32,140,2.5,32075,{"$f":"VLOOKUP(B24,Árlista!$B:$F,5,0)","v":"30 730,-Ft"}]
[null,"AF 0706","1 1/2’’","16/232",780,459,640,125,32,160,3.2,50075,{"$f":"VLOOKUP(B25,Árlista!$B:$F,5,0)","v":"36 670,-Ft"}]
[null,"AF 0946","2’’","16/232",1000,588,684,163,43,520,5.0999999999999996,51090,{"$f":"VLOOKUP(B26,Árlista!$B:$F,5,0)","v":"63 020,-Ft"}]
[null,"AF 1506","2’’","16/232",1500,882,935,163,43,770,7.1,76090,{"$f":"VLOOKUP(B27,Árlista!$B:$F,5,0)","v":"76 490,-Ft"}]
[null,"AF 1756","2 1/2’’","16/232",1680,990,935,163,43,770,6.9,76090,{"$f":"VLOOKUP(B28,Árlista!$B:$F,5,0)","v":"125 480,-Ft"}]
[null,"AF 2006",3,"16/232",2160,1270,795,240,59,630,12.9,51140,{"$f":"VLOOKUP(B29,Árlista!$B:$F,5,0)","v":"151 310,-Ft"}]
[null,"AF 2406",3,"16/232",2760,1620,1000,240,59,780,14,75140,{"$f":"VLOOKUP(B30,Árlista!$B:$F,5,0)","v":"186 870,-Ft"}]
[null,"MEGJEGYZÉS\n- B filter betét tisztítható ultrahangos tisztítással vagy kifúvatással. A tisztítás gyakorisága a felhasználás függvénye. Ha szükséges, akkor cserélje új szűrőbetétre.\n- Szűrő betéteket  ’’A, A2, H2’’ rendszeresen kell cserélni a felhasználás függvényében, de legkevesebb 6 havonként. Aktívszén szűrő nem működik olajjal telített állapotban! "]
[]
[null,"SZŰRŐ BETÉT",null,null,"15 µm","3 µm","1 µm","0,1 µm","0,01 µm"]
[null,null,null,null,"B","P","R","M","S","A","A²","H²","MS²"]
[null,null,null,null,"előszűrő","előszűrő","előszűrő","mikroszűrő","finomszűrő","act. carbon","adsorption","catalyst","adsorption"]
[null,null,null,null,"sintered brass","acrylic fibers, \ncellulose","borosilicate micro fibres",null,null,"borosilicate micro fibres"]
[null,null,null,null,null,null,null,null,null,"activated carbon",null,"hopcalite"]
[null,"Szűrő \nbetét \ntípus","Átáramlási képesség","Corresponding\nház","Nettó \nÁr\n[HUF]","Nettó \nÁr\n[HUF]",null,null,null,null,"Nettó \nÁr\n[HUF]","Nettó \nÁr\n[HUF]","Nettó \nÁr\n[HUF]"]
[]
[null,null,"[Nm³/h]"]
[null,6050,60,"AF 0056",{"$f":"VLOOKUP($B41&E$34,Árlista!$B:$F,5,0)","v":"6 300,-Ft"},{"$f":"VLOOKUP($B41&F$34,Árlista!$B:$F,5,0)","v":"5 480,-Ft"},{"$f":"VLOOKUP($B41&G$34,Árlista!$B:$F,5,0)","v":"5 480,-Ft"},{"$f":"VLOOKUP($B41&H$34,Árlista!$B:$F,5,0)","v":"5 480,-Ft"},{"$f":"VLOOKUP($B41&I$34,Árlista!$B:$F,5,0)","v":"5 480,-Ft"},{"$f":"VLOOKUP($B41&J$34,Árlista!$B:$F,5,0)","v":"5 480,-Ft"},"-","-","-"]
[null,7050,78,"AF 0076",{"$f":"VLOOKUP($B42&E$34,Árlista!$B:$F,5,0)","v":"7 790,-Ft"},{"$f":"VLOOKUP($B42&F$34,Árlista!$B:$F,5,0)","v":"6 780,-Ft"},{"$f":"VLOOKUP($B42&G$34,Árlista!$B:$F,5,0)","v":"6 780,-Ft"},{"$f":"VLOOKUP($B42&H$34,Árlista!$B:$F,5,0)","v":"6 780,-Ft"},{"$f":"VLOOKUP($B42&I$34,Árlista!$B:$F,5,0)","v":"6 780,-Ft"},{"$f":"VLOOKUP($B42&J$34,Árlista!$B:$F,5,0)","v":"6 780,-Ft"},{"$f":"VLOOKUP($B42&K$34,Árlista!$B:$F,5,0)","v":"19 620,-Ft"},{"$f":"VLOOKUP($B42&L$34,Árlista!$B:$F,5,0)","v":"22 560,-Ft"},{"$f":"VLOOKUP($B42&M$34,Árlista!$B:$F,5,0)","v":"20 480,-Ft"}]
[null,14050,120,"AF 0106",{"$f":"VLOOKUP($B43&E$34,Árlista!$B:$F,5,0)","v":"10 050,-Ft"},{"$f":"VLOOKUP($B43&F$34,Árlista!$B:$F,5,0)","v":"8 720,-Ft"},{"$f":"VLOOKUP($B43&G$34,Árlista!$B:$F,5,0)","v":"8 720,-Ft"},{"$f":"VLOOKUP($B43&H$34,Árlista!$B:$F,5,0)","v":"8 720,-Ft"},{"$f":"VLOOKUP($B43&I$34,Árlista!$B:$F,5,0)","v":"8 720,-Ft"},{"$f":"VLOOKUP($B43&J$34,Árlista!$B:$F,5,0)","v":"8 720,-Ft"},{"$f":"VLOOKUP($B43&K$34,Árlista!$B:$F,5,0)","v":"21 680,-Ft"},{"$f":"VLOOKUP($B43&L$34,Árlista!$B:$F,5,0)","v":"28 890,-Ft"},{"$f":"VLOOKUP($B43&M$34,Árlista!$B:$F,5,0)","v":"25 260,-Ft"}]
[null,12075,198,"AF 0186",{"$f":"VLOOKUP($B44&E$34,Árlista!$B:$F,5,0)","v":"13 190,-Ft"},{"$f":"VLOOKUP($B44&F$34,Árlista!$B:$F,5,0)","v":"10 980,-Ft"},{"$f":"VLOOKUP($B44&G$34,Árlista!$B:$F,5,0)","v":"10 980,-Ft"},{"$f":"VLOOKUP($B44&H$34,Árlista!$B:$F,5,0)","v":"10 980,-Ft"},{"$f":"VLOOKUP($B44&I$34,Árlista!$B:$F,5,0)","v":"10 980,-Ft"},{"$f":"VLOOKUP($B44&J$34,Árlista!$B:$F,5,0)","v":"10 980,-Ft"},{"$f":"VLOOKUP($B44&K$34,Árlista!$B:$F,5,0)","v":"26 590,-Ft"},{"$f":"VLOOKUP($B44&L$34,Árlista!$B:$F,5,0)","v":"35 550,-Ft"},{"$f":"VLOOKUP($B44&M$34,Árlista!$B:$F,5,0)","v":"30 980,-Ft"}]
[null,22075,335,"AF 0306",{"$f":"VLOOKUP($B45&E$34,Árlista!$B:$F,5,0)","v":"18 610,-Ft"},{"$f":"VLOOKUP($B45&F$34,Árlista!$B:$F,5,0)","v":"15 500,-Ft"},{"$f":"VLOOKUP($B45&G$34,Árlista!$B:$F,5,0)","v":"15 500,-Ft"},{"$f":"VLOOKUP($B45&H$34,Árlista!$B:$F,5,0)","v":"15 500,-Ft"},{"$f":"VLOOKUP($B45&I$34,Árlista!$B:$F,5,0)","v":"15 500,-Ft"},{"$f":"VLOOKUP($B45&J$34,Árlista!$B:$F,5,0)","v":"15 500,-Ft"},{"$f":"VLOOKUP($B45&K$34,Árlista!$B:$F,5,0)","v":"29 910,-Ft"},{"$f":"VLOOKUP($B45&L$34,Árlista!$B:$F,5,0)","v":"56 360,-Ft"},{"$f":"VLOOKUP($B45&M$34,Árlista!$B:$F,5,0)","v":"34 840,-Ft"}]
[null,32075,510,"AF 0476",{"$f":"VLOOKUP($B46&E$34,Árlista!$B:$F,5,0)","v":"22 500,-Ft"},{"$f":"VLOOKUP($B46&F$34,Árlista!$B:$F,5,0)","v":"18 750,-Ft"},{"$f":"VLOOKUP($B46&G$34,Árlista!$B:$F,5,0)","v":"18 750,-Ft"},{"$f":"VLOOKUP($B46&H$34,Árlista!$B:$F,5,0)","v":"18 750,-Ft"},{"$f":"VLOOKUP($B46&I$34,Árlista!$B:$F,5,0)","v":"18 750,-Ft"},{"$f":"VLOOKUP($B46&J$34,Árlista!$B:$F,5,0)","v":"18 750,-Ft"},{"$f":"VLOOKUP($B46&K$34,Árlista!$B:$F,5,0)","v":"32 700,-Ft"},{"$f":"VLOOKUP($B46&L$34,Árlista!$B:$F,5,0)","v":"78 060,-Ft"},{"$f":"VLOOKUP($B46&M$34,Árlista!$B:$F,5,0)","v":"38 100,-Ft"}]
[null,50075,780,"AF 0706",{"$f":"VLOOKUP($B47&E$34,Árlista!$B:$F,5,0)","v":"26 680,-Ft"},{"$f":"VLOOKUP($B47&F$34,Árlista!$B:$F,5,0)","v":"23 910,-Ft"},{"$f":"VLOOKUP($B47&G$34,Árlista!$B:$F,5,0)","v":"23 910,-Ft"},{"$f":"VLOOKUP($B47&H$34,Árlista!$B:$F,5,0)","v":"23 910,-Ft"},{"$f":"VLOOKUP($B47&I$34,Árlista!$B:$F,5,0)","v":"23 910,-Ft"},{"$f":"VLOOKUP($B47&J$34,Árlista!$B:$F,5,0)","v":"23 910,-Ft"},{"$f":"VLOOKUP($B47&K$34,Árlista!$B:$F,5,0)","v":"36 840,-Ft"},{"$f":"VLOOKUP($B47&L$34,Árlista!$B:$F,5,0)","v":"120 760,-Ft"},{"$f":"VLOOKUP($B47&M$34,Árlista!$B:$F,5,0)","v":"42 920,-Ft"}]
[null,51090,1000,"AF 0946",{"$f":"VLOOKUP($B48&E$34,Árlista!$B:$F,5,0)","v":"38 230,-Ft"},{"$f":"VLOOKUP($B48&F$34,Árlista!$B:$F,5,0)","v":"33 220,-Ft"},{"$f":"VLOOKUP($B48&G$34,Árlista!$B:$F,5,0)","v":"33 220,-Ft"},{"$f":"VLOOKUP($B48&H$34,Árlista!$B:$F,5,0)","v":"33 220,-Ft"},{"$f":"VLOOKUP($B48&I$34,Árlista!$B:$F,5,0)","v":"33 220,-Ft"},{"$f":"VLOOKUP($B48&J$34,Árlista!$B:$F,5,0)","v":"33 220,-Ft"},"-","-","-"]
[null,76090,1500,"AF 1506",{"$f":"VLOOKUP($B49&E$34,Árlista!$B:$F,5,0)","v":"46 530,-Ft"},{"$f":"VLOOKUP($B49&F$34,Árlista!$B:$F,5,0)","v":"40 450,-Ft"},{"$f":"VLOOKUP($B49&G$34,Árlista!$B:$F,5,0)","v":"40 450,-Ft"},{"$f":"VLOOKUP($B49&H$34,Árlista!$B:$F,5,0)","v":"40 450,-Ft"},{"$f":"VLOOKUP($B49&I$34,Árlista!$B:$F,5,0)","v":"40 450,-Ft"},{"$f":"VLOOKUP($B49&J$34,Árlista!$B:$F,5,0)","v":"40 450,-Ft"},"-","-","-"]
[null,76090,1680,"AF 1756",{"$f":"VLOOKUP($B50&E$34,Árlista!$B:$F,5,0)","v":"46 530,-Ft"},{"$f":"VLOOKUP($B50&F$34,Árlista!$B:$F,5,0)","v":"40 450,-Ft"},{"$f":"VLOOKUP($B50&G$34,Árlista!$B:$F,5,0)","v":"40 450,-Ft"},{"$f":"VLOOKUP($B50&H$34,Árlista!$B:$F,5,0)","v":"40 450,-Ft"},{"$f":"VLOOKUP($B50&I$34,Árlista!$B:$F,5,0)","v":"40 450,-Ft"},{"$f":"VLOOKUP($B50&J$34,Árlista!$B:$F,5,0)","v":"40 450,-Ft"},"-","-","-"]
[null,51140,2160,"AF 2006",{"$f":"VLOOKUP($B51&E$34,Árlista!$B:$F,5,0)","v":"56 560,-Ft"},{"$f":"VLOOKUP($B51&F$34,Árlista!$B:$F,5,0)","v":"51 410,-Ft"},{"$f":"VLOOKUP($B51&G$34,Árlista!$B:$F,5,0)","v":"51 410,-Ft"},{"$f":"VLOOKUP($B51&H$34,Árlista!$B:$F,5,0)","v":"51 410,-Ft"},{"$f":"VLOOKUP($B51&I$34,Árlista!$B:$F,5,0)","v":"51 410,-Ft"},{"$f":"VLOOKUP($B51&J$34,Árlista!$B:$F,5,0)","v":"51 410,-Ft"},"-","-","-"]
[null,75140,2760,"AF 2406",{"$f":"VLOOKUP($B52&E$34,Árlista!$B:$F,5,0)","v":"65 540,-Ft"},{"$f":"VLOOKUP($B52&F$34,Árlista!$B:$F,5,0)","v":"59 570,-Ft"},{"$f":"VLOOKUP($B52&G$34,Árlista!$B:$F,5,0)","v":"59 570,-Ft"},{"$f":"VLOOKUP($B52&H$34,Árlista!$B:$F,5,0)","v":"59 570,-Ft"},{"$f":"VLOOKUP($B52&I$34,Árlista!$B:$F,5,0)","v":"59 570,-Ft"},{"$f":"VLOOKUP($B52&J$34,Árlista!$B:$F,5,0)","v":"59 570,-Ft"},"-","-","-"]
[]
[null,"KONDENZÁTUM \nLEERESZTŐ",null,"MCD-B","MCD","AOK16B","AOK 20B","TD 16M","CDI 16B","ECD 15B","ECD 40B","ECD 90B","ECD 150B"]
[null,"Nettó ár [HUF]",null,{"$f":"VLOOKUP(D54,Árlista!$B:$F,5,0)","v":"1 870,-Ft"},{"$f":"VLOOKUP(E54,Árlista!$B:$F,5,0)","v":"2 430,-Ft"},{"$f":"VLOOKUP(F54,Árlista!$B:$F,5,0)","v":"6 550,-Ft"},{"$f":"VLOOKUP(G54,Árlista!$B:$F,5,0)","v":"10 330,-Ft"},{"$f":"VLOOKUP(H54,Árlista!$B:$F,5,0)","v":"19 620,-Ft"},{"$f":"VLOOKUP(I54,Árlista!$B:$F,5,0)","v":"36 670,-Ft"},{"$f":"VLOOKUP(J54,Árlista!$B:$F,5,0)","v":"42 840,-Ft"},{"$f":"VLOOKUP(K54,Árlista!$B:$F,5,0)","v":"43 710,-Ft"},{"$f":"VLOOKUP(L54,Árlista!$B:$F,5,0)","v":"44 290,-Ft"},{"$f":"VLOOKUP(M54,Árlista!$B:$F,5,0)","v":"54 010,-Ft"}]
[]
[null,null,null,"EMD 12","EMD 12A","EMD 12C","EMD 25","EMD 75","EMD 12 Vac","EMD 12A Vac","EMD 12A Vdc","IED"]
[null,null,null,{"$f":"VLOOKUP(D57,Árlista!$B:$F,5,0)","v":"31 210,-Ft"},{"$f":"VLOOKUP(E57,Árlista!$B:$F,5,0)","v":"33 680,-Ft"},{"$f":"VLOOKUP(F57,Árlista!$B:$F,5,0)","v":"36 630,-Ft"},{"$f":"VLOOKUP(G57,Árlista!$B:$F,5,0)","v":"38 910,-Ft"},{"$f":"VLOOKUP(H57,Árlista!$B:$F,5,0)","v":"40 010,-Ft"},{"$f":"VLOOKUP(I57,Árlista!$B:$F,5,0)","v":"37 640,-Ft"},{"$f":"VLOOKUP(J57,Árlista!$B:$F,5,0)","v":"43 390,-Ft"},{"$f":"VLOOKUP(K57,Árlista!$B:$F,5,0)","v":"40 680,-Ft"},{"$f":"VLOOKUP(L57,Árlista!$B:$F,5,0)","v":"22 380,-Ft"}]
[]
[null,"DIFFERENTIAL \nPRESSURE INDICATORS",null,"PDI 16","MDM 60","MDM 60C","MDM 60E","MDA60","MDM 40","MDM 40C","EPG 60","EPG 60SN"]
[null,"Nettó ár [HUF]",null,{"$f":"VLOOKUP(D60,Árlista!$B:$F,5,0)","v":"4 210,-Ft"},{"$f":"VLOOKUP(E60,Árlista!$B:$F,5,0)","v":"9 710,-Ft"},{"$f":"VLOOKUP(F60,Árlista!$B:$F,5,0)","v":"13 580,-Ft"},{"$f":"VLOOKUP(G60,Árlista!$B:$F,5,0)","v":"17 140,-Ft"},{"$f":"VLOOKUP(H60,Árlista!$B:$F,5,0)","v":"13 240,-Ft"},{"$f":"VLOOKUP(I60,Árlista!$B:$F,5,0)","v":"9 340,-Ft"},{"$f":"VLOOKUP(J60,Árlista!$B:$F,5,0)","v":"13 040,-Ft"},{"$f":"VLOOKUP(K60,Árlista!$B:$F,5,0)","v":"35 450,-Ft"},{"$f":"VLOOKUP(L60,Árlista!$B:$F,5,0)","v":"48 560,-Ft"}]
[]
[null,"KIEGÉSZÍTŐK ",null,"Vent for AOK 20B","AF 0056 to AF 2406","AF 0056 to AF 0106","AF 0186 to AF 0706","AF 0056 to AF 0106","AF 0056 to AF 0106","AF 0186 to AF 0706","AF 0186 to AF 0706","AF 0056 to AF 0106"]
[null,null,null,"Nipple","SG","WS","WM","2S","3S","2M","3M","AK-3/8”, AK-½”, AK-3/4” "]
[null,"Nettó ár [HUF]",null,{"$f":"VLOOKUP(D64,Árlista!$B:$F,5,0)","v":"4 460,-Ft"},{"$f":"VLOOKUP(E64,Árlista!$B:$F,5,0)","v":"4 180,-Ft"},{"$f":"VLOOKUP(F64,Árlista!$B:$F,5,0)","v":"10 330,-Ft"},{"$f":"VLOOKUP(G64,Árlista!$B:$F,5,0)","v":"12 930,-Ft"},{"$f":"VLOOKUP(H64,Árlista!$B:$F,5,0)","v":"2 740,-Ft"},{"$f":"VLOOKUP(I64,Árlista!$B:$F,5,0)","v":"3 560,-Ft"},{"$f":"VLOOKUP(J64,Árlista!$B:$F,5,0)","v":"4 210,-Ft"},{"$f":"VLOOKUP(K64,Árlista!$B:$F,5,0)","v":"5 200,-Ft"},{"$f":"VLOOKUP(L64,Árlista!$B:$F,5,0)","v":"20 550,-Ft"}]
[]
[null,null,null,"AF 0186 to AF 0706",null,"AF 0946 to AF 2406"]
[null,null,null,"AK-1”, AK-1½”",null,"AK-2”, AK-2½”, AK-3” "]
[null,null,null,{"$f":"VLOOKUP(D68,Árlista!$B:$F,5,0)","v":"23 890,-Ft"},null,{"$f":"VLOOKUP(F68,Árlista!$B:$F,5,0)","v":"60 080,-Ft"}]
[]
[]
[]
[]
[]
[]
[]
[]
[]
[]
[]
[]
[]
[]
[]
[]
[]
[]
[]
[]
[]
[]
[]
[]
[]
[null,"AF HT series magas hőmérsékletű alkalmazásokhoz"]
[]
[]
[null,"SZŰRŐ HÁZ",null,null,null,null,null,null,null,null,null,null,null,null,null,null,null,"KORREKCIÓS FAKTOR"]
[null,"Szűrő \nház\nméret","Cső\n méret","Max.üz.\n nyomás","Átáramlási képesség \nat 7 bar(g), 20 °C",null,"Méretek",null,null,null,"Tömeg","Szűrő \nbetét\ntípus","Nettó ár\n(Csak szűrőház)\n[HUF]",null,null,null,null,"Üzemi nyomás [bar]",2,3,4,5,6,7,8,9,10,11,12,13,14,15,16]
[null,null,null,null,null,null,null,null,null,null,null,null,null,null,null,null,null,"Üzemi nyomás [psi]",29,44,58,72,87,100,115,130,145,160,174,189,203,218,232]
[null,null,"inch","bar/psi","Nm³/h","scfm","A [mm]","B [mm]","C [mm]","D [mm]","kg",null,null,null,null,null,null,"Korrekciós faktor",0.38,0.5,0.63,0.75,0.88,1,1.1299999999999999,1.25,1.38,1.5,1.63,1.75,1.88,2,2.13]
[null,"AF HT 0056","3/8’’","16/232",60,35,187,88,20,60,0.7,"06050",{"$f":"VLOOKUP(B102,Árlista!$B:$F,5,0)","v":"13 550,-Ft"}]
[null,"AF HT 0076","1/2’’","16/232",78,46,187,88,20,60,0.7,"07050",{"$f":"VLOOKUP(B103,Árlista!$B:$F,5,0)","v":"15 230,-Ft"}]
[null,"AF HT 0106","3/4’’","16/232",120,70,257,88,20,80,0.8,14050,{"$f":"VLOOKUP(B104,Árlista!$B:$F,5,0)","v":"17 990,-Ft"}]
[null,"AF HT 0186","1’’","16/232",198,116,263,125,32,100,1.8,12075,{"$f":"VLOOKUP(B105,Árlista!$B:$F,5,0)","v":"24 970,-Ft"}]
[null,"AF HT 0306","1’’","16/232",335,197,363,125,32,120,2.5,22075,{"$f":"VLOOKUP(B106,Árlista!$B:$F,5,0)","v":"27 280,-Ft"}]
[null,"AF HT 0476","1 1/2’’","16/232",510,300,461,125,32,140,2.5,32075,{"$f":"VLOOKUP(B107,Árlista!$B:$F,5,0)","v":"32 220,-Ft"}]
[null,"AF HT 0706","1 1/2’’","16/232",780,459,640,125,32,160,3.2,50075,{"$f":"VLOOKUP(B108,Árlista!$B:$F,5,0)","v":"38 450,-Ft"}]
[null,"AF HT 0946","2’’","16/232",1000,588,684,163,43,520,5.0999999999999996,51090,{"$f":"VLOOKUP(B109,Árlista!$B:$F,5,0)","v":"66 080,-Ft"}]
[null,"AF HT 1506","2’’","16/232",1500,882,935,163,43,770,7.1,76090,{"$f":"VLOOKUP(B110,Árlista!$B:$F,5,0)","v":"80 180,-Ft"}]
[null,"AF HT 1756","2 1/2’’","16/232",1680,990,935,163,43,770,6.9,76090,{"$f":"VLOOKUP(B111,Árlista!$B:$F,5,0)","v":"131 560,-Ft"}]
[null,"AF HT 2006",3,"16/232",2160,1270,795,240,59,630,12.9,51140,{"$f":"VLOOKUP(B112,Árlista!$B:$F,5,0)","v":"158 640,-Ft"}]
[null,"AF HT 2406",3,"16/232",2760,1620,1000,240,59,780,14,75140,{"$f":"VLOOKUP(B113,Árlista!$B:$F,5,0)","v":"196 050,-Ft"}]
[]
[]
[]
[]
[]
[]
[null,"SZŰRŐ BETÉT"]
[null,null,null,null,"BHT","N25HT","N5HT","RHT","MHT","SHT","CKL-B HT"]
[null,null,null,null,"előszűrő","előszűrő","előszűrő","mikroszűrő","finomszűrő","act. carbon","ciklonszűrő"]
[null,"Szűrő \nbetét \ntípus","Átáramlási képesség","Corresponding\nház","Nettó \nÁr\n[HUF]","Nettó \nÁr\n[HUF]"]
[]
[null,null,"[Nm³/h]"]
[null,6050,60,"AF 0056",{"$f":"VLOOKUP($B126&E$121,Árlista!$B:$F,5,0)","v":"16 050,-Ft"},{"$f":"VLOOKUP($B126&F$121,Árlista!$B:$F,5,0)","v":"20 450,-Ft"},{"$f":"VLOOKUP($B126&G$121,Árlista!$B:$F,5,0)","v":"20 450,-Ft"},{"$f":"VLOOKUP($B126&H$121,Árlista!$B:$F,5,0)","v":"12 330,-Ft"},{"$f":"VLOOKUP($B126&I$121,Árlista!$B:$F,5,0)","v":"12 330,-Ft"},{"$f":"VLOOKUP($B126&J$121,Árlista!$B:$F,5,0)","v":"12 330,-Ft"},{"$f":"VLOOKUP($B126&K$121,Árlista!$B:$F,5,0)","v":"12 330,-Ft"}]
[null,7050,78,"AF 0076",{"$f":"VLOOKUP($B127&E$121,Árlista!$B:$F,5,0)","v":"17 350,-Ft"},{"$f":"VLOOKUP($B127&F$121,Árlista!$B:$F,5,0)","v":"22 550,-Ft"},{"$f":"VLOOKUP($B127&G$121,Árlista!$B:$F,5,0)","v":"22 550,-Ft"},{"$f":"VLOOKUP($B127&H$121,Árlista!$B:$F,5,0)","v":"13 280,-Ft"},{"$f":"VLOOKUP($B127&I$121,Árlista!$B:$F,5,0)","v":"13 280,-Ft"},{"$f":"VLOOKUP($B127&J$121,Árlista!$B:$F,5,0)","v":"13 280,-Ft"},{"$f":"VLOOKUP($B127&K$121,Árlista!$B:$F,5,0)","v":"13 280,-Ft"}]
[null,14050,120,"AF 0106",{"$f":"VLOOKUP($B128&E$121,Árlista!$B:$F,5,0)","v":"19 940,-Ft"},{"$f":"VLOOKUP($B128&F$121,Árlista!$B:$F,5,0)","v":"25 150,-Ft"},{"$f":"VLOOKUP($B128&G$121,Árlista!$B:$F,5,0)","v":"25 150,-Ft"},{"$f":"VLOOKUP($B128&H$121,Árlista!$B:$F,5,0)","v":"15 330,-Ft"},{"$f":"VLOOKUP($B128&I$121,Árlista!$B:$F,5,0)","v":"15 330,-Ft"},{"$f":"VLOOKUP($B128&J$121,Árlista!$B:$F,5,0)","v":"15 330,-Ft"},{"$f":"VLOOKUP($B128&K$121,Árlista!$B:$F,5,0)","v":"15 330,-Ft"}]
[null,12075,198,"AF 0186",{"$f":"VLOOKUP($B129&E$121,Árlista!$B:$F,5,0)","v":"22 830,-Ft"},{"$f":"VLOOKUP($B129&F$121,Árlista!$B:$F,5,0)","v":"28 770,-Ft"},{"$f":"VLOOKUP($B129&G$121,Árlista!$B:$F,5,0)","v":"28 770,-Ft"},{"$f":"VLOOKUP($B129&H$121,Árlista!$B:$F,5,0)","v":"17 560,-Ft"},{"$f":"VLOOKUP($B129&I$121,Árlista!$B:$F,5,0)","v":"17 560,-Ft"},{"$f":"VLOOKUP($B129&J$121,Árlista!$B:$F,5,0)","v":"17 560,-Ft"},{"$f":"VLOOKUP($B129&K$121,Árlista!$B:$F,5,0)","v":"23 850,-Ft"}]
[null,22075,335,"AF 0306",{"$f":"VLOOKUP($B130&E$121,Árlista!$B:$F,5,0)","v":"26 190,-Ft"},{"$f":"VLOOKUP($B130&F$121,Árlista!$B:$F,5,0)","v":"34 040,-Ft"},{"$f":"VLOOKUP($B130&G$121,Árlista!$B:$F,5,0)","v":"34 040,-Ft"},{"$f":"VLOOKUP($B130&H$121,Árlista!$B:$F,5,0)","v":"21 370,-Ft"},{"$f":"VLOOKUP($B130&I$121,Árlista!$B:$F,5,0)","v":"21 370,-Ft"},{"$f":"VLOOKUP($B130&J$121,Árlista!$B:$F,5,0)","v":"21 370,-Ft"},{"$f":"VLOOKUP($B130&K$121,Árlista!$B:$F,5,0)","v":",-Ft"}]
[null,32075,510,"AF 0476",{"$f":"VLOOKUP($B131&E$121,Árlista!$B:$F,5,0)","v":"28 890,-Ft"},{"$f":"VLOOKUP($B131&F$121,Árlista!$B:$F,5,0)","v":"40 440,-Ft"},{"$f":"VLOOKUP($B131&G$121,Árlista!$B:$F,5,0)","v":"40 440,-Ft"},{"$f":"VLOOKUP($B131&H$121,Árlista!$B:$F,5,0)","v":"22 900,-Ft"},{"$f":"VLOOKUP($B131&I$121,Árlista!$B:$F,5,0)","v":"22 900,-Ft"},{"$f":"VLOOKUP($B131&J$121,Árlista!$B:$F,5,0)","v":"22 900,-Ft"},{"$f":"VLOOKUP($B131&K$121,Árlista!$B:$F,5,0)","v":"29 830,-Ft"}]
[null,50075,780,"AF 0706",{"$f":"VLOOKUP($B132&E$121,Árlista!$B:$F,5,0)","v":"38 950,-Ft"},{"$f":"VLOOKUP($B132&F$121,Árlista!$B:$F,5,0)","v":"54 410,-Ft"},{"$f":"VLOOKUP($B132&G$121,Árlista!$B:$F,5,0)","v":"54 410,-Ft"},{"$f":"VLOOKUP($B132&H$121,Árlista!$B:$F,5,0)","v":"29 950,-Ft"},{"$f":"VLOOKUP($B132&I$121,Árlista!$B:$F,5,0)","v":"29 950,-Ft"},{"$f":"VLOOKUP($B132&J$121,Árlista!$B:$F,5,0)","v":"29 950,-Ft"},{"$f":"VLOOKUP($B132&K$121,Árlista!$B:$F,5,0)","v":",-Ft"}]
[null,51090,1000,"AF 0946",{"$f":"VLOOKUP($B133&E$121,Árlista!$B:$F,5,0)","v":"50 190,-Ft"},{"$f":"VLOOKUP($B133&F$121,Árlista!$B:$F,5,0)","v":"70 120,-Ft"},{"$f":"VLOOKUP($B133&G$121,Árlista!$B:$F,5,0)","v":"70 120,-Ft"},{"$f":"VLOOKUP($B133&H$121,Árlista!$B:$F,5,0)","v":"38 500,-Ft"},{"$f":"VLOOKUP($B133&I$121,Árlista!$B:$F,5,0)","v":"38 500,-Ft"},{"$f":"VLOOKUP($B133&J$121,Árlista!$B:$F,5,0)","v":"38 500,-Ft"},{"$f":"VLOOKUP($B133&K$121,Árlista!$B:$F,5,0)","v":"38 500,-Ft"}]
[null,76090,1500,"AF 1506",{"$f":"VLOOKUP($B134&E$121,Árlista!$B:$F,5,0)","v":"59 380,-Ft"},{"$f":"VLOOKUP($B134&F$121,Árlista!$B:$F,5,0)","v":"83 110,-Ft"},{"$f":"VLOOKUP($B134&G$121,Árlista!$B:$F,5,0)","v":"83 110,-Ft"},{"$f":"VLOOKUP($B134&H$121,Árlista!$B:$F,5,0)","v":"45 670,-Ft"},{"$f":"VLOOKUP($B134&I$121,Árlista!$B:$F,5,0)","v":"45 670,-Ft"},{"$f":"VLOOKUP($B134&J$121,Árlista!$B:$F,5,0)","v":"45 670,-Ft"},{"$f":"VLOOKUP($B134&K$121,Árlista!$B:$F,5,0)","v":"45 670,-Ft"}]
[null,76090,1680,"AF 1756",{"$f":"VLOOKUP($B135&E$121,Árlista!$B:$F,5,0)","v":"59 380,-Ft"},{"$f":"VLOOKUP($B135&F$121,Árlista!$B:$F,5,0)","v":"83 110,-Ft"},{"$f":"VLOOKUP($B135&G$121,Árlista!$B:$F,5,0)","v":"83 110,-Ft"},{"$f":"VLOOKUP($B135&H$121,Árlista!$B:$F,5,0)","v":"45 670,-Ft"},{"$f":"VLOOKUP($B135&I$121,Árlista!$B:$F,5,0)","v":"45 670,-Ft"},{"$f":"VLOOKUP($B135&J$121,Árlista!$B:$F,5,0)","v":"45 670,-Ft"},{"$f":"VLOOKUP($B135&K$121,Árlista!$B:$F,5,0)","v":"45 670,-Ft"}]
[null,51140,2160,"AF 2006",{"$f":"VLOOKUP($B136&E$121,Árlista!$B:$F,5,0)","v":"85 510,-Ft"},{"$f":"VLOOKUP($B136&F$121,Árlista!$B:$F,5,0)","v":"119 720,-Ft"},{"$f":"VLOOKUP($B136&G$121,Árlista!$B:$F,5,0)","v":"119 720,-Ft"},{"$f":"VLOOKUP($B136&H$121,Árlista!$B:$F,5,0)","v":"65 780,-Ft"},{"$f":"VLOOKUP($B136&I$121,Árlista!$B:$F,5,0)","v":"65 780,-Ft"},{"$f":"VLOOKUP($B136&J$121,Árlista!$B:$F,5,0)","v":"65 780,-Ft"},{"$f":"VLOOKUP($B136&K$121,Árlista!$B:$F,5,0)","v":"146 900,-Ft"}]
[null,75140,2760,"AF 2406",{"$f":"VLOOKUP($B137&E$121,Árlista!$B:$F,5,0)","v":"88 120,-Ft"},{"$f":"VLOOKUP($B137&F$121,Árlista!$B:$F,5,0)","v":"123 490,-Ft"},{"$f":"VLOOKUP($B137&G$121,Árlista!$B:$F,5,0)","v":"123 490,-Ft"},{"$f":"VLOOKUP($B137&H$121,Árlista!$B:$F,5,0)","v":"67 020,-Ft"},{"$f":"VLOOKUP($B137&I$121,Árlista!$B:$F,5,0)","v":"67 020,-Ft"},{"$f":"VLOOKUP($B137&J$121,Árlista!$B:$F,5,0)","v":"67 020,-Ft"},{"$f":"VLOOKUP($B137&K$121,Árlista!$B:$F,5,0)","v":",-Ft"}]

{"sheet":"AAF","index":2,"n_rows":56,"n_cols":33,"rows_kept":56,"cut":false,"hidden":false,"merged":[[14,1,14,12],[15,1,17,1],[15,2,16,2],[15,3,16,3],[15,4,16,5],[15,6,16,9],[15,10,16,10],[15,11,17,11],[15,12,17,12],[26,1,26,12],[28,1,30,3],[31,4,32,4],[31,5,32,7],[31,9,32,9],[45,1,45,2],[33,10,35,10],[33,11,35,11],[33,12,35,12],[33,1,35,1],[33,2,34,2],[33,3,35,3],[33,4,35,8],[33,9,35,9],[44,1,44,2],[59,1,59,2],[59,3,59,4],[59,5,59,6],[47,1,47,2],[48,1,48,2],[50,1,50,2],[51,1,51,2],[53,1,54,2],[55,1,55,2],[57,1,58,2],[57,3,57,4],[57,5,57,6],[58,3,58,4],[58,5,58,6]]}
[null,"AAF series"]
[]
[]
[null,null,null,null,null,null,null,null,null,null,null,null,null,null,null,"INDEX "]
[]
[null,null,null,null,null,null,null,null,null,null,null,null,null,null,null,null,null,{"$f":"AF!R6","v":"A feltüntett árak nettó listaárak. Szállítási feltételek és kedvezmények felől érdeklődhet:\n30/201-4931\ninfo@techtomat.hu"}]
[]
[]
[]
[]
[]
[]
[]
[]
[null,"SZŰRŐ HÁZ",null,null,null,null,null,null,null,null,null,null,null,null,null,null,null,"KORREKCIÓS FAKTOR"]
[null,"Szűrő \nház\nméret","Cső\n méret","Max.üz.\n nyomás","Átáramlási képesség \nat 7 bar(g), 20 °C",null,"Méretek",null,null,null,"Tömeg","Szűrő \nbetét\ntípus","Nettó ár\n(Csak szűrőház)\n[HUF]",null,null,null,null,"Üzemi nyomás [bar]",2,3,4,5,6,7,8,9,10,11,12,13,14,15,16]
[null,null,null,null,null,null,null,null,null,null,null,null,null,null,null,null,null,"Üzemi nyomás [psi]",29,44,58,72,87,100,115,130,145,160,174,189,203,218,232]
[null,null,"inch","bar/psi","Nm³/h","scfm","A [mm]","B [mm]","C [mm]","D [mm]","kg",null,null,null,null,null,null,"Korrekciós faktor",0.38,0.5,0.63,0.75,0.88,1,1.1299999999999999,1.25,1.38,1.5,1.63,1.75,1.88,2,2.13]
["*","AAF 0016","1/8''","16/232",15,9,110,54,17,50,0.25,"03528",{"$f":"VLOOKUP(B19,Árlista!$B:$F,5,0)","v":"14 090,-Ft"}]
[null,"AAF 0026","1/4''","16/232",30,17,153,72,19,50,0.5,"03844",{"$f":"VLOOKUP(B20,Árlista!$B:$F,5,0)","v":"15 370,-Ft"}]
[null,"AAF 0036","3/8''","16/232",30,17,153,72,19,50,0.5,"03844",{"$f":"VLOOKUP(B21,Árlista!$B:$F,5,0)","v":"16 150,-Ft"}]
[null,"AAF 0046","1/4''","16/232",60,35,187,88,20,60,0.7,"06050",{"$f":"VLOOKUP(B22,Árlista!$B:$F,5,0)","v":"18 080,-Ft"}]
[null,"AAF 0056","3/8''","16/232",60,35,187,88,20,60,0.7,"06050",{"$f":"VLOOKUP(B23,Árlista!$B:$F,5,0)","v":"18 980,-Ft"}]
[null,"AAF 0076","1/2''","16/232",78,46,187,88,20,60,0.7,"07050",{"$f":"VLOOKUP(B24,Árlista!$B:$F,5,0)","v":"20 230,-Ft"}]
[null,"AAF 0106","3/4''","16/232",120,70,257,88,20,80,0.8,14050,{"$f":"VLOOKUP(B25,Árlista!$B:$F,5,0)","v":"21 690,-Ft"}]
[]
[null,"MEGJEGYZÉS\n- Ár csak a szűrőházra vonatkozik!\n- Szűrő betéteket  ’’A, A2, H2’’ rendszeresen kell cserélni a felhasználás függvényében, de legkevesebb 6 havonként. Aktívszén szűrő nem működik olajjal telített állapotban! \n* For méret AAF 0016 no differential nyomás indicator and no internal condensate drain is available."]
[]
[null,"SZŰRŐ BETÉT",null,null,"3 µm","1 µm","0,1 µm","0,01 µm"]
[null,null,null,null,"AA-P","AA-R","AA-M","AA-S","AA-A","CKL-AAF","AAR","AAL"]
[null,null,null,null,"előszűrő","előszűrő","mikroszűrő","finomszűrő","act. carbon","szeparátor","reduktor","olajzó"]
[null,null,null,null,"acrylic  fibers, cellulose","borosilicate micro fibres",null,null,"bor. mic. fib.*","stain. steel,\n PA"]
[null,null,null,null,null,null,null,null,"act. carbon"]
[null,"Szűrő \nbetét \ntípus","Átáramlási képesség","Corresponding\nház","Nettó \nÁr\n[HUF]",null,null,null,null,"Nettó \nÁr\n[HUF]","Nettó \nÁr\n[HUF]","Nettó \nÁr\n[HUF]"]
[]
[null,null,"[Nm³/h]"]
[null,3528,15,"AAF 0016",{"$f":"VLOOKUP($B37&E$30,Árlista!$B:$F,5,0)","v":"5 130,-Ft"},{"$f":"VLOOKUP($B37&F$30,Árlista!$B:$F,5,0)","v":"5 130,-Ft"},{"$f":"VLOOKUP($B37&G$30,Árlista!$B:$F,5,0)","v":"5 130,-Ft"},{"$f":"VLOOKUP($B37&H$30,Árlista!$B:$F,5,0)","v":"5 130,-Ft"},{"$f":"VLOOKUP($B37&I$30,Árlista!$B:$F,5,0)","v":"5 130,-Ft"},{"$f":"VLOOKUP($B37&J$30,Árlista!$B:$F,5,0)","v":"5 050,-Ft"},{"$f":"VLOOKUP($D37&K$30,Árlista!$B:$F,5,0)","v":"29 180,-Ft"},{"$f":"VLOOKUP($D37&L$30,Árlista!$B:$F,5,0)","v":"19 820,-Ft"}]
[null,3844,30,"AAF 0026",{"$f":"VLOOKUP($B38&E$30,Árlista!$B:$F,5,0)","v":"5 300,-Ft"},{"$f":"VLOOKUP($B38&F$30,Árlista!$B:$F,5,0)","v":"5 300,-Ft"},{"$f":"VLOOKUP($B38&G$30,Árlista!$B:$F,5,0)","v":"5 300,-Ft"},{"$f":"VLOOKUP($B38&H$30,Árlista!$B:$F,5,0)","v":"5 300,-Ft"},{"$f":"VLOOKUP($B38&I$30,Árlista!$B:$F,5,0)","v":"5 300,-Ft"},{"$f":"VLOOKUP($B38&J$30,Árlista!$B:$F,5,0)","v":"5 180,-Ft"},{"$f":"VLOOKUP($D38&K$30,Árlista!$B:$F,5,0)","v":"29 180,-Ft"},{"$f":"VLOOKUP($D38&L$30,Árlista!$B:$F,5,0)","v":"19 820,-Ft"}]
[null,3844,30,"AAF 0036",{"$f":"VLOOKUP($B39&E$30,Árlista!$B:$F,5,0)","v":"5 300,-Ft"},{"$f":"VLOOKUP($B39&F$30,Árlista!$B:$F,5,0)","v":"5 300,-Ft"},{"$f":"VLOOKUP($B39&G$30,Árlista!$B:$F,5,0)","v":"5 300,-Ft"},{"$f":"VLOOKUP($B39&H$30,Árlista!$B:$F,5,0)","v":"5 300,-Ft"},{"$f":"VLOOKUP($B39&I$30,Árlista!$B:$F,5,0)","v":"5 300,-Ft"},{"$f":"VLOOKUP($B39&J$30,Árlista!$B:$F,5,0)","v":"5 180,-Ft"},{"$f":"VLOOKUP($D39&K$30,Árlista!$B:$F,5,0)","v":"31 210,-Ft"},{"$f":"VLOOKUP($D39&L$30,Árlista!$B:$F,5,0)","v":"22 690,-Ft"}]
[null,6050,60,"AAF 0046",{"$f":"VLOOKUP($B40&E$30,Árlista!$B:$F,5,0)","v":"5 480,-Ft"},{"$f":"VLOOKUP($B40&F$30,Árlista!$B:$F,5,0)","v":"5 480,-Ft"},{"$f":"VLOOKUP($B40&G$30,Árlista!$B:$F,5,0)","v":"5 480,-Ft"},{"$f":"VLOOKUP($B40&H$30,Árlista!$B:$F,5,0)","v":"5 480,-Ft"},{"$f":"VLOOKUP($B40&I$30,Árlista!$B:$F,5,0)","v":"5 480,-Ft"},{"$f":"VLOOKUP($B40&J$30,Árlista!$B:$F,5,0)","v":"5 310,-Ft"},{"$f":"VLOOKUP($D40&K$30,Árlista!$B:$F,5,0)","v":"31 210,-Ft"},{"$f":"VLOOKUP($D40&L$30,Árlista!$B:$F,5,0)","v":"22 690,-Ft"}]
[null,6050,60,"AAF 0056",{"$f":"VLOOKUP($B41&E$30,Árlista!$B:$F,5,0)","v":"5 480,-Ft"},{"$f":"VLOOKUP($B41&F$30,Árlista!$B:$F,5,0)","v":"5 480,-Ft"},{"$f":"VLOOKUP($B41&G$30,Árlista!$B:$F,5,0)","v":"5 480,-Ft"},{"$f":"VLOOKUP($B41&H$30,Árlista!$B:$F,5,0)","v":"5 480,-Ft"},{"$f":"VLOOKUP($B41&I$30,Árlista!$B:$F,5,0)","v":"5 480,-Ft"},{"$f":"VLOOKUP($B41&J$30,Árlista!$B:$F,5,0)","v":"5 310,-Ft"}]
[null,7050,78,"AAF 0076",{"$f":"VLOOKUP($B42&E$30,Árlista!$B:$F,5,0)","v":"6 780,-Ft"},{"$f":"VLOOKUP($B42&F$30,Árlista!$B:$F,5,0)","v":"6 780,-Ft"},{"$f":"VLOOKUP($B42&G$30,Árlista!$B:$F,5,0)","v":"6 780,-Ft"},{"$f":"VLOOKUP($B42&H$30,Árlista!$B:$F,5,0)","v":"6 780,-Ft"},{"$f":"VLOOKUP($B42&I$30,Árlista!$B:$F,5,0)","v":"6 780,-Ft"},{"$f":"VLOOKUP($B42&J$30,Árlista!$B:$F,5,0)","v":"5 310,-Ft"}]
[null,14050,120,"AAF 0106",{"$f":"VLOOKUP($B43&E$30,Árlista!$B:$F,5,0)","v":"8 720,-Ft"},{"$f":"VLOOKUP($B43&F$30,Árlista!$B:$F,5,0)","v":"8 720,-Ft"},{"$f":"VLOOKUP($B43&G$30,Árlista!$B:$F,5,0)","v":"8 720,-Ft"},{"$f":"VLOOKUP($B43&H$30,Árlista!$B:$F,5,0)","v":"8 720,-Ft"},{"$f":"VLOOKUP($B43&I$30,Árlista!$B:$F,5,0)","v":"8 720,-Ft"},{"$f":"VLOOKUP($B43&J$30,Árlista!$B:$F,5,0)","v":"6 560,-Ft"}]
[null,"* borosilicate micro fibres"]
[null,"KONDENZÁTUM \nLEERESZTŐ",null,"MCD-B","AOK16B","TD 16M","EMD 12","EMD 12A","EMD 12C","EMD 12 Vac","EMD 12A Vac","EMD 12A Vdc"]
[null,"Nettó ár [HUF]",null,{"$f":"VLOOKUP(D45,Árlista!$B:$F,5,0)","v":"1 870,-Ft"},{"$f":"VLOOKUP(E45,Árlista!$B:$F,5,0)","v":"6 550,-Ft"},{"$f":"VLOOKUP(F45,Árlista!$B:$F,5,0)","v":"19 620,-Ft"},{"$f":"VLOOKUP(G45,Árlista!$B:$F,5,0)","v":"31 210,-Ft"},{"$f":"VLOOKUP(H45,Árlista!$B:$F,5,0)","v":"33 680,-Ft"},{"$f":"VLOOKUP(I45,Árlista!$B:$F,5,0)","v":"36 630,-Ft"},{"$f":"VLOOKUP(J45,Árlista!$B:$F,5,0)","v":"37 640,-Ft"},{"$f":"VLOOKUP(K45,Árlista!$B:$F,5,0)","v":"43 390,-Ft"},{"$f":"VLOOKUP(L45,Árlista!$B:$F,5,0)","v":"40 680,-Ft"}]
[]
[null,null,null,"IED"]
[null,null,null,{"$f":"VLOOKUP(D48,Árlista!$B:$F,5,0)","v":"22 380,-Ft"}]
[]
[null,"DIFFERENTIAL \nPRESSURE INDICATORS",null,"PDI 16","MDM 40","MDM 40C"]
[null,"Nettó ár [HUF]",null,{"$f":"VLOOKUP(D51,Árlista!$B:$F,5,0)","v":"4 210,-Ft"},{"$f":"VLOOKUP(E51,Árlista!$B:$F,5,0)","v":"9 340,-Ft"},{"$f":"VLOOKUP(F51,Árlista!$B:$F,5,0)","v":"13 040,-Ft"}]
[]
[null,"KIEGÉSZÍTŐK ",null,"AAF 0016","AAF 0026-AAF 0036","AAF 0046-AAF 0106","AAF 0016","AAF 0026-AAF 0036","AAF 0046-AAF 0106","AAF 0016","AAF 0026-AAF 0036","AAF 0046-AAF 0106"]
[null,null,null,"WSm","WMm","WLm","AKSm 2","AKMm 2","AKLm 2","AKSm 3","AKMm 3","AKLm 3"]
[null,"Nettó ár [HUF]",null,{"$f":"VLOOKUP(D55,Árlista!$B:$F,5,0)","v":"9 010,-Ft"},{"$f":"VLOOKUP(E55,Árlista!$B:$F,5,0)","v":"9 800,-Ft"},{"$f":"VLOOKUP(F55,Árlista!$B:$F,5,0)","v":"10 730,-Ft"},{"$f":"VLOOKUP(G55,Árlista!$B:$F,5,0)","v":"2 770,-Ft"},{"$f":"VLOOKUP(H55,Árlista!$B:$F,5,0)","v":"3 090,-Ft"},{"$f":"VLOOKUP(I55,Árlista!$B:$F,5,0)","v":"3 310,-Ft"},{"$f":"VLOOKUP(J55,Árlista!$B:$F,5,0)","v":"3 720,-Ft"},{"$f":"VLOOKUP(K55,Árlista!$B:$F,5,0)","v":"4 130,-Ft"},{"$f":"VLOOKUP(L55,Árlista!$B:$F,5,0)","v":"4 430,-Ft"}]

{"sheet":"CF","index":3,"n_rows":66,"n_cols":37,"rows_kept":66,"cut":false,"hidden":false,"merged":[[14,1,14,12],[15,1,17,1],[15,2,16,2],[15,3,16,3],[15,4,16,5],[15,6,16,9],[15,10,16,10],[15,11,17,11],[15,12,17,12],[32,1,32,12],[34,1,36,3],[37,4,38,4],[37,5,38,5],[37,6,38,8],[39,10,41,10],[39,11,41,11],[39,12,41,12],[57,1,57,2],[58,1,58,2],[39,1,41,1],[39,2,40,2],[39,3,41,3],[39,4,41,4],[39,5,41,9],[60,1,60,2],[61,1,61,2],[63,1,64,2],[63,5,63,6],[69,1,69,2],[69,3,69,4],[69,5,69,6],[67,1,68,2],[67,3,67,4],[67,5,67,6],[68,3,68,4],[68,5,68,6],[63,9,63,10],[64,5,64,6],[64,7,64,8],[64,9,64,10],[65,1,65,2],[65,5,65,6],[65,7,65,8],[65,9,65,10],[63,7,63,8]]}
[null,"CF series"]
[]
[]
[null,null,null,null,null,null,null,null,null,null,null,null,null,null,null,"INDEX "]
[]
[]
[]
[]
[]
[]
[]
[]
[]
[]
[null,"SZŰRŐ HÁZ",null,null,null,null,null,null,null,null,null,null,null,null,null,null,null,"KORREKCIÓS FAKTOR"]
[null,"Szűrő \nház\nméret","Cső\n méret","Max.üz.\n nyomás","Átáramlási képesség \nat 7 bar(g), 20 °C",null,"Méretek",null,null,null,"Tömeg","Szűrő \nbetét\ntípus","Nettó ár\n(Csak szűrőház)\n[HUF]",null,null,null,null,"Üzemi nyomás [bar]",2,3,4,5,6,7,8,9,10,11,12,13,14,15,16,17,18,19,20]
[null,null,null,null,null,null,null,null,null,null,null,null,null,null,null,null,null,"Üzemi nyomás [psi]",29,44,58,72,87,100,115,130,145,160,174,189,203,218,232,247,261,276,290]
[null,null,"inch","bar/psi","Nm³/h","scfm","A [mm]","B [mm]","C [mm]","D [mm]","kg",null,null,null,null,null,null,"Korrekciós faktor",0.38,0.5,0.63,0.75,0.88,1,1.1299999999999999,1.25,1.38,1.5,1.63,1.75,1.88,2,2.13,2.25,2.38,2.5,2.63]
[null,"CF 20","3/8’’","20/290",72,42,187,88,20,80,0.7,"C 20",{"$f":"VLOOKUP(B19,Árlista!$B:$F,5,0)","v":"13 840,-Ft"}]
[null,"CF 21","1/2’’","20/290",96,56,256,88,20,80,0.8,"C 21",{"$f":"VLOOKUP(B20,Árlista!$B:$F,5,0)","v":"15 560,-Ft"}]
[null,"CF 30","1/2’’","20/290",150,88,278,106,25,100,1.3,"C 30",{"$f":"VLOOKUP(B21,Árlista!$B:$F,5,0)","v":"17 050,-Ft"}]
[null,"CF 31","3/4’’","20/290",216,127,278,106,25,100,1.3,"C 31 ",{"$f":"VLOOKUP(B22,Árlista!$B:$F,5,0)","v":"18 330,-Ft"}]
[null,"CF 40","1’’","20/290",282,166,252,125,32,120,2.1,"C 40",{"$f":"VLOOKUP(B23,Árlista!$B:$F,5,0)","v":"25 500,-Ft"}]
[null,"CF 41","1’’","20/290",360,212,352,125,32,140,2.4,"C 41",{"$f":"VLOOKUP(B24,Árlista!$B:$F,5,0)","v":"27 850,-Ft"}]
[null,"CF 42","1 1/4’’","20/290",432,254,352,125,32,140,2.4,"C 42",{"$f":"VLOOKUP(B25,Árlista!$B:$F,5,0)","v":"30 700,-Ft"}]
[null,"CF 43","1 1/2’’","20/290",510,300,450,125,32,160,3.2,"C 43",{"$f":"VLOOKUP(B26,Árlista!$B:$F,5,0)","v":"32 890,-Ft"}]
[null,"CF 44","1 1/2’’","20/290",750,441,450,125,32,160,3.2,"C 44",{"$f":"VLOOKUP(B27,Árlista!$B:$F,5,0)","v":"39 250,-Ft"}]
[null,"CF 50","2’’","20/290",888,522,605,160,43,180,5.0999999999999996,"C 50",{"$f":"VLOOKUP(B28,Árlista!$B:$F,5,0)","v":"67 430,-Ft"}]
[null,"CF 51","2’’","20/290",1176,692,605,160,43,180,5.0999999999999996,"C 51",{"$f":"VLOOKUP(B29,Árlista!$B:$F,5,0)","v":"84 680,-Ft"}]
[null,"CF 52","2 1/2’’","20/290",1440,847,685,160,43,200,6.3,"C 52",{"$f":"VLOOKUP(B30,Árlista!$B:$F,5,0)","v":"134 270,-Ft"}]
[null,"CF 60","3’’","20/290",1968,1158,800,240,60,300,12.9,"C 60",{"$f":"VLOOKUP(B31,Árlista!$B:$F,5,0)","v":"161 930,-Ft"}]
[null,"CF 61","3’’","20/290",2760,1624,800,240,60,300,12.9,"C 61",{"$f":"VLOOKUP(B32,Árlista!$B:$F,5,0)","v":"199 960,-Ft"}]
[null,"MEGJEGYZÉS\n- Ár, csak a szűrőházra vonatkozik!\n- B filter betét can be cleaned with ultrasonic bath or with back flushing. Interval of cleaning depends on application. Ha szükséges, akkor cserélje új szűrőbetétre.\n- Szűrő betéts ’’A’’, should be changed periodically to assure propper quality of air, but at least every 6 months. Activated carbon filters must not operate in oil saturated conditions."]
[]
[null,"SZŰRŐ BETÉT",null,null,"15 µm","3 µm","1 µm","0,1 µm","0,01 µm"]
[null,null,null,null,"B","P","R","M","S","A"]
[null,null,null,null,"előszűrő","előszűrő","előszűrő","mikroszűrő","finomszűrő","act. carbon"]
[null,null,null,null,"sintered brass","acrylic fibers, \ncellulose","borosilicate micro fibres",null,null,"bor. mic. fib.*"]
[null,null,null,null,null,null,null,null,null,"act. carbon"]
[null,"Szűrő \nbetét \ntípus","Átáramlási képesség","Corresponding\nház","Nettó \nÁr\n[HUF]","Nettó \nÁr\n[HUF]"]
[]
[null,null,"[Nm³/h]"]
[null,"C 20",72,"CF 20",{"$f":"VLOOKUP($B43&E$36,Árlista!$B:$F,5,0)","v":"6 340,-Ft"},{"$f":"VLOOKUP($B43&F$36,Árlista!$B:$F,5,0)","v":"5 760,-Ft"},{"$f":"VLOOKUP($B43&G$36,Árlista!$B:$F,5,0)","v":"5 760,-Ft"},{"$f":"VLOOKUP($B43&H$36,Árlista!$B:$F,5,0)","v":"5 760,-Ft"},{"$f":"VLOOKUP($B43&I$36,Árlista!$B:$F,5,0)","v":"5 760,-Ft"},{"$f":"VLOOKUP($B43&J$36,Árlista!$B:$F,5,0)","v":"5 760,-Ft"}]
[null,"C 21",96,"CF 21",{"$f":"VLOOKUP($B44&E$36,Árlista!$B:$F,5,0)","v":"7 830,-Ft"},{"$f":"VLOOKUP($B44&F$36,Árlista!$B:$F,5,0)","v":"7 120,-Ft"},{"$f":"VLOOKUP($B44&G$36,Árlista!$B:$F,5,0)","v":"7 120,-Ft"},{"$f":"VLOOKUP($B44&H$36,Árlista!$B:$F,5,0)","v":"7 120,-Ft"},{"$f":"VLOOKUP($B44&I$36,Árlista!$B:$F,5,0)","v":"7 120,-Ft"},{"$f":"VLOOKUP($B44&J$36,Árlista!$B:$F,5,0)","v":"7 120,-Ft"}]
[null,"C 30",150,"CF 30",{"$f":"VLOOKUP($B45&E$36,Árlista!$B:$F,5,0)","v":"9 530,-Ft"},{"$f":"VLOOKUP($B45&F$36,Árlista!$B:$F,5,0)","v":"8 670,-Ft"},{"$f":"VLOOKUP($B45&G$36,Árlista!$B:$F,5,0)","v":"8 670,-Ft"},{"$f":"VLOOKUP($B45&H$36,Árlista!$B:$F,5,0)","v":"8 670,-Ft"},{"$f":"VLOOKUP($B45&I$36,Árlista!$B:$F,5,0)","v":"8 670,-Ft"},{"$f":"VLOOKUP($B45&J$36,Árlista!$B:$F,5,0)","v":"8 670,-Ft"}]
[null,"C 31",216,"CF 31",{"$f":"VLOOKUP($B46&E$36,Árlista!$B:$F,5,0)","v":"10 060,-Ft"},{"$f":"VLOOKUP($B46&F$36,Árlista!$B:$F,5,0)","v":"9 150,-Ft"},{"$f":"VLOOKUP($B46&G$36,Árlista!$B:$F,5,0)","v":"9 150,-Ft"},{"$f":"VLOOKUP($B46&H$36,Árlista!$B:$F,5,0)","v":"9 150,-Ft"},{"$f":"VLOOKUP($B46&I$36,Árlista!$B:$F,5,0)","v":"9 150,-Ft"},{"$f":"VLOOKUP($B46&J$36,Árlista!$B:$F,5,0)","v":"9 150,-Ft"}]
[null,"C 40",282,"CF 40",{"$f":"VLOOKUP($B47&E$36,Árlista!$B:$F,5,0)","v":"12 700,-Ft"},{"$f":"VLOOKUP($B47&F$36,Árlista!$B:$F,5,0)","v":"11 550,-Ft"},{"$f":"VLOOKUP($B47&G$36,Árlista!$B:$F,5,0)","v":"11 550,-Ft"},{"$f":"VLOOKUP($B47&H$36,Árlista!$B:$F,5,0)","v":"11 550,-Ft"},{"$f":"VLOOKUP($B47&I$36,Árlista!$B:$F,5,0)","v":"11 550,-Ft"},{"$f":"VLOOKUP($B47&J$36,Árlista!$B:$F,5,0)","v":"11 550,-Ft"}]
[null,"C 41",360,"CF 41",{"$f":"VLOOKUP($B48&E$36,Árlista!$B:$F,5,0)","v":"17 920,-Ft"},{"$f":"VLOOKUP($B48&F$36,Árlista!$B:$F,5,0)","v":"16 290,-Ft"},{"$f":"VLOOKUP($B48&G$36,Árlista!$B:$F,5,0)","v":"16 290,-Ft"},{"$f":"VLOOKUP($B48&H$36,Árlista!$B:$F,5,0)","v":"16 290,-Ft"},{"$f":"VLOOKUP($B48&I$36,Árlista!$B:$F,5,0)","v":"16 290,-Ft"},{"$f":"VLOOKUP($B48&J$36,Árlista!$B:$F,5,0)","v":"16 290,-Ft"}]
[null,"C 42",432,"CF 42",{"$f":"VLOOKUP($B49&E$36,Árlista!$B:$F,5,0)","v":"20 530,-Ft"},{"$f":"VLOOKUP($B49&F$36,Árlista!$B:$F,5,0)","v":"18 660,-Ft"},{"$f":"VLOOKUP($B49&G$36,Árlista!$B:$F,5,0)","v":"18 660,-Ft"},{"$f":"VLOOKUP($B49&H$36,Árlista!$B:$F,5,0)","v":"18 660,-Ft"},{"$f":"VLOOKUP($B49&I$36,Árlista!$B:$F,5,0)","v":"18 660,-Ft"},{"$f":"VLOOKUP($B49&J$36,Árlista!$B:$F,5,0)","v":"18 660,-Ft"}]
[null,"C 43",510,"CF 43",{"$f":"VLOOKUP($B50&E$36,Árlista!$B:$F,5,0)","v":"21 650,-Ft"},{"$f":"VLOOKUP($B50&F$36,Árlista!$B:$F,5,0)","v":"19 680,-Ft"},{"$f":"VLOOKUP($B50&G$36,Árlista!$B:$F,5,0)","v":"19 680,-Ft"},{"$f":"VLOOKUP($B50&H$36,Árlista!$B:$F,5,0)","v":"19 680,-Ft"},{"$f":"VLOOKUP($B50&I$36,Árlista!$B:$F,5,0)","v":"19 680,-Ft"},{"$f":"VLOOKUP($B50&J$36,Árlista!$B:$F,5,0)","v":"19 680,-Ft"}]
[null,"C 44",750,"CF 44",{"$f":"VLOOKUP($B51&E$36,Árlista!$B:$F,5,0)","v":"26 780,-Ft"},{"$f":"VLOOKUP($B51&F$36,Árlista!$B:$F,5,0)","v":"25 100,-Ft"},{"$f":"VLOOKUP($B51&G$36,Árlista!$B:$F,5,0)","v":"25 100,-Ft"},{"$f":"VLOOKUP($B51&H$36,Árlista!$B:$F,5,0)","v":"25 100,-Ft"},{"$f":"VLOOKUP($B51&I$36,Árlista!$B:$F,5,0)","v":"25 100,-Ft"},{"$f":"VLOOKUP($B51&J$36,Árlista!$B:$F,5,0)","v":"25 100,-Ft"}]
[null,"C 50",888,"CF 50",{"$f":"VLOOKUP($B52&E$36,Árlista!$B:$F,5,0)","v":"38 500,-Ft"},{"$f":"VLOOKUP($B52&F$36,Árlista!$B:$F,5,0)","v":"35 000,-Ft"},{"$f":"VLOOKUP($B52&G$36,Árlista!$B:$F,5,0)","v":"35 000,-Ft"},{"$f":"VLOOKUP($B52&H$36,Árlista!$B:$F,5,0)","v":"35 000,-Ft"},{"$f":"VLOOKUP($B52&I$36,Árlista!$B:$F,5,0)","v":"35 000,-Ft"},{"$f":"VLOOKUP($B52&J$36,Árlista!$B:$F,5,0)","v":"35 000,-Ft"}]
[null,"C 51",1176,"CF 51",{"$f":"VLOOKUP($B53&E$36,Árlista!$B:$F,5,0)","v":"46 720,-Ft"},{"$f":"VLOOKUP($B53&F$36,Árlista!$B:$F,5,0)","v":"42 480,-Ft"},{"$f":"VLOOKUP($B53&G$36,Árlista!$B:$F,5,0)","v":"42 480,-Ft"},{"$f":"VLOOKUP($B53&H$36,Árlista!$B:$F,5,0)","v":"42 480,-Ft"},{"$f":"VLOOKUP($B53&I$36,Árlista!$B:$F,5,0)","v":"42 480,-Ft"},{"$f":"VLOOKUP($B53&J$36,Árlista!$B:$F,5,0)","v":"42 480,-Ft"}]
[null,"C 52",1440,"CF 52",{"$f":"VLOOKUP($B54&E$36,Árlista!$B:$F,5,0)","v":"46 720,-Ft"},{"$f":"VLOOKUP($B54&F$36,Árlista!$B:$F,5,0)","v":"42 480,-Ft"},{"$f":"VLOOKUP($B54&G$36,Árlista!$B:$F,5,0)","v":"42 480,-Ft"},{"$f":"VLOOKUP($B54&H$36,Árlista!$B:$F,5,0)","v":"42 480,-Ft"},{"$f":"VLOOKUP($B54&I$36,Árlista!$B:$F,5,0)","v":"42 480,-Ft"},{"$f":"VLOOKUP($B54&J$36,Árlista!$B:$F,5,0)","v":"42 480,-Ft"}]
[null,"C 60",1968,"CF 60",{"$f":"VLOOKUP($B55&E$36,Árlista!$B:$F,5,0)","v":"59 380,-Ft"},{"$f":"VLOOKUP($B55&F$36,Árlista!$B:$F,5,0)","v":"53 980,-Ft"},{"$f":"VLOOKUP($B55&G$36,Árlista!$B:$F,5,0)","v":"53 980,-Ft"},{"$f":"VLOOKUP($B55&H$36,Árlista!$B:$F,5,0)","v":"53 980,-Ft"},{"$f":"VLOOKUP($B55&I$36,Árlista!$B:$F,5,0)","v":"53 980,-Ft"},{"$f":"VLOOKUP($B55&J$36,Árlista!$B:$F,5,0)","v":"53 980,-Ft"}]
[null,"C 61",2760,"CF 61",{"$f":"VLOOKUP($B56&E$36,Árlista!$B:$F,5,0)","v":"68 810,-Ft"},{"$f":"VLOOKUP($B56&F$36,Árlista!$B:$F,5,0)","v":"62 560,-Ft"},{"$f":"VLOOKUP($B56&G$36,Árlista!$B:$F,5,0)","v":"62 560,-Ft"},{"$f":"VLOOKUP($B56&H$36,Árlista!$B:$F,5,0)","v":"62 560,-Ft"},{"$f":"VLOOKUP($B56&I$36,Árlista!$B:$F,5,0)","v":"62 560,-Ft"},{"$f":"VLOOKUP($B56&J$36,Árlista!$B:$F,5,0)","v":"62 560,-Ft"}]
[null,"* borosilicate micro fibres"]
[null,"KONDENZÁTUM \nLEERESZTŐ",null,"MCD","AOK 20B","TD 25M","EMD HP"]
[null,"Nettó ár [HUF]",null,{"$f":"VLOOKUP(D58,Árlista!$B:$F,5,0)","v":"2 430,-Ft"},{"$f":"VLOOKUP(E58,Árlista!$B:$F,5,0)","v":"10 330,-Ft"},{"$f":"VLOOKUP(F58,Árlista!$B:$F,5,0)","v":"27 060,-Ft"},{"$f":"VLOOKUP(G58,Árlista!$B:$F,5,0)","v":"212 830,-Ft"}]
[]
[null,"DIFFERENTIAL \nPRESSURE INDICATORS",null,"MDA60","MDM 40","MDM 40C"]
[null,"Nettó ár [HUF]",null,{"$f":"VLOOKUP(D61,Árlista!$B:$F,5,0)","v":"13 240,-Ft"},{"$f":"VLOOKUP(E61,Árlista!$B:$F,5,0)","v":"9 340,-Ft"},{"$f":"VLOOKUP(F61,Árlista!$B:$F,5,0)","v":"13 040,-Ft"}]
[]
[null,"KIEGÉSZÍTŐK ",null,"Vent for AOK 20B","For EMD HP ","CF 10 - CF 31",null,"CF 40 - CF 44",null,"CF 50 - CF 60"]
[null,null,null,"Nipple","Nipple HP","AK-3/8”, AK-½”, AK-3/4” ",null,"AK-1”, AK-1½”",null,"AK-2”, AK-2½”, AK-3” "]
[null,"Nettó ár [HUF]",null,{"$f":"VLOOKUP(D65,Árlista!$B:$F,5,0)","v":"4 460,-Ft"},{"$f":"VLOOKUP(E65,Árlista!$B:$F,5,0)","v":"4 920,-Ft"},{"$f":"VLOOKUP(F65,Árlista!$B:$F,5,0)","v":"20 550,-Ft"},null,{"$f":"VLOOKUP(H65,Árlista!$B:$F,5,0)","v":"23 890,-Ft"},null,{"$f":"VLOOKUP(J65,Árlista!$B:$F,5,0)","v":"60 080,-Ft"}]

{"sheet":"BF","index":4,"n_rows":52,"n_cols":33,"rows_kept":52,"cut":false,"hidden":false,"merged":[[14,1,14,13],[15,1,17,1],[15,2,16,2],[15,3,16,3],[15,4,16,5],[15,6,16,10],[15,11,16,11],[15,12,17,12],[15,13,17,13],[40,1,40,2],[41,1,41,2],[28,1,28,12],[30,1,32,3],[33,4,34,4],[33,5,34,5],[33,6,34,8],[35,1,37,1],[35,2,36,2],[35,3,37,3],[35,4,37,4],[35,5,37,9],[49,11,49,12],[50,11,50,12],[35,10,37,10],[35,11,37,11],[35,12,37,12],[43,1,43,2],[44,1,44,2],[46,1,46,2],[47,1,47,2],[49,1,50,2],[55,1,55,2],[55,3,55,4],[55,5,55,6],[51,1,51,2],[51,11,51,12],[53,1,54,2],[53,3,53,4],[53,5,53,6],[54,3,54,4],[54,5,54,6]]}
[null,"BF series"]
[]
[]
[null,null,null,null,null,null,null,null,null,null,null,null,null,null,null,"INDEX "]
[]
[]
[]
[]
[]
[]
[]
[]
[]
[]
[null,"SZŰRŐ HÁZ",null,null,null,null,null,null,null,null,null,null,null,null,null,null,null,"KORREKCIÓS FAKTOR"]
[null,"Szűrő \nház\nméret","Cső\n méret","Max.üz.\n nyomás","Átáramlási képesség \nat 7 bar(g), 20 °C",null,"Méretek",null,null,null,null,"Tömeg","Szűrő \nbetét\ntípus","Nettó ár\n(Csak szűrőház)\n[HUF]",null,null,null,"Üzemi nyomás [bar]",2,3,4,5,6,7,8,9,10,11,12,13,14,15,16]
[null,null,null,null,null,null,null,null,null,null,null,null,null,null,null,null,null,"Üzemi nyomás [psi]",29,44,58,72,87,100,115,130,145,160,174,189,203,218,232]
[null,null,"DN","bar/psi","Nm³/h","scfm","A [mm]","B [mm]","C [mm]","D [mm]","E [mm]","kg",null,null,null,null,null,"Korrekciós faktor",0.38,0.5,0.63,0.75,0.88,1,1.1299999999999999,1.25,1.38,1.5,1.63,1.75,1.88,2,2.13]
[null,"BF 0240",80,"16/232",1680,989,1170,450,1645,219,177,61,"1 x 76090",{"$f":"VLOOKUP(B19,Árlista!$B:$F,5,0)","v":"577 000,-Ft (2)"}]
[null,"BF 0300",100,"16/232",3150,1853,1340,560,1780,324,227,115,"2 x 76090",{"$f":"VLOOKUP(B20,Árlista!$B:$F,5,0)","v":"1 045 000,-Ft (2)"}]
[null,"BF 0450",125,"16/232",4700,2765,1340,560,1780,324,227,123,"3 x 76090",{"$f":"VLOOKUP(B21,Árlista!$B:$F,5,0)","v":"1 217 000,-Ft (3)"}]
[null,"BF 0600",150,"16/232",6300,3706,1425,620,1810,368,265,178,"4 x 76090",{"$f":"VLOOKUP(B22,Árlista!$B:$F,5,0)","v":"1 289 000,-Ft (3)"}]
[null,"BF 0900",150,"16/232",9400,5530,1480,680,1850,419,650,218,"6 x 76090",{"$f":"VLOOKUP(B23,Árlista!$B:$F,5,0)","v":"1 844 000,-Ft (3)"}]
[null,"BF 1200",200,"16/232",12550,7382,1835,792,510,508,"-",320,"8 x 76090",{"$f":"VLOOKUP(B24,Árlista!$B:$F,5,0)","v":"2 191 000,-Ft (4)"}]
[null,"BF 1500",200,"16/232",15700,9235,1880,918,535,610,"-",455,"10 x 76090",{"$f":"VLOOKUP(B25,Árlista!$B:$F,5,0)","v":"2 563 000,-Ft (4)"}]
[null,"BF 1800",250,"16/232",18850,11088,1950,955,555,610,"-",500,"12 x 76090",{"$f":"VLOOKUP(B26,Árlista!$B:$F,5,0)","v":"3 070 000,-Ft (4)"}]
[null,"BF 2500",250,"16/232",25100,14765,2060,1042,645,711,"-",590,"16 x 76090",{"$f":"VLOOKUP(B27,Árlista!$B:$F,5,0)","v":"3 712 000,-Ft (4)"}]
[null,"BF 3000",300,"16/232",31400,18481,2130,1085,680,711,"-",684,"20 x 76090",{"$f":"VLOOKUP(B28,Árlista!$B:$F,5,0)","v":"4 586 000,-Ft (4)"}]
[null,"MEGJEGYZÉS A megadott nettó árak tájékoztató jellegűek, az utána feltüntett szám az adott termék árkategóriáját jelöli.\n- Árs are for filter ház and manometer MDA 60 only.\n- B filter betét can be cleaned with ultrasonic bath or with back flushing. Interval of cleaning depends on application. Ha szükséges, akkor cserélje új szűrőbetétre.\n- Szűrő betéts ’’A’’, should be changed periodically to assure propper quality of air, but at least every 6 months. Activated carbon filters must not operate in oil saturated conditions."]
[]
[null,"SZŰRŐ BETÉT",null,null,"15 µm","3 µm","1 µm","0,1 µm","0,01 µm"]
[null,null,null,null,"BF-B","BF-P","BF-R","BF-M","BF-S","BF-A"]
[null,null,null,null,"előszűrő","előszűrő","előszűrő","mikroszűrő","finomszűrő","act. carbon"]
[null,null,null,null,"sintered brass","acrylic fibers, \ncellulose","borosilicate micro fibres",null,null,"bor. mic. fib.*"]
[null,null,null,null,null,null,null,null,null,"act. carbon"]
[null,"Szűrő \nbetét \ntípus","Átáramlási képesség","Corresponding\nház","Nettó \nÁr\n[HUF]","Nettó \nÁr\n[HUF]"]
[]
[null,null,"[Nm³/h]"]
[null,76090,1680,"All mérets",{"$f":"VLOOKUP($B39&E$32,Árlista!$B:$F,5,0)","v":"73 950,-Ft"},{"$f":"VLOOKUP($B39&F$32,Árlista!$B:$F,5,0)","v":"55 680,-Ft"},{"$f":"VLOOKUP($B39&G$32,Árlista!$B:$F,5,0)","v":"55 680,-Ft"},{"$f":"VLOOKUP($B39&H$32,Árlista!$B:$F,5,0)","v":"55 680,-Ft"},{"$f":"VLOOKUP($B39&I$32,Árlista!$B:$F,5,0)","v":"55 680,-Ft"},{"$f":"VLOOKUP($B39&J$32,Árlista!$B:$F,5,0)","v":"55 680,-Ft"}]
[null,"* borosilicate micro fibres"]
[null,"KONDENZÁTUM \nLEERESZTŐ",null,"AOK 20B","TD 16M","CDI 16B","ECD 15B","ECD 40B","ECD 90B","ECD 150B","EMD 12","EMD 12A","EMD 12C"]
[null,"Nettó ár [HUF]",null,{"$f":"VLOOKUP(D41,Árlista!$B:$F,5,0)","v":"10 330,-Ft"},{"$f":"VLOOKUP(E41,Árlista!$B:$F,5,0)","v":"19 620,-Ft"},{"$f":"VLOOKUP(F41,Árlista!$B:$F,5,0)","v":"36 670,-Ft"},{"$f":"VLOOKUP(G41,Árlista!$B:$F,5,0)","v":"42 840,-Ft"},{"$f":"VLOOKUP(H41,Árlista!$B:$F,5,0)","v":"43 710,-Ft"},{"$f":"VLOOKUP(I41,Árlista!$B:$F,5,0)","v":"44 290,-Ft"},{"$f":"VLOOKUP(J41,Árlista!$B:$F,5,0)","v":"54 010,-Ft"},{"$f":"VLOOKUP(K41,Árlista!$B:$F,5,0)","v":"31 210,-Ft"},{"$f":"VLOOKUP(L41,Árlista!$B:$F,5,0)","v":"33 680,-Ft"},{"$f":"VLOOKUP(M41,Árlista!$B:$F,5,0)","v":"36 630,-Ft"}]
[]
[null,null,null,"EMD 12 Vac","EMD 12A Vac","EMD 12A Vdc","EMD 25","EMD 75"]
[null,null,null,{"$f":"VLOOKUP(D44,Árlista!$B:$F,5,0)","v":"37 640,-Ft"},{"$f":"VLOOKUP(E44,Árlista!$B:$F,5,0)","v":"43 390,-Ft"},{"$f":"VLOOKUP(F44,Árlista!$B:$F,5,0)","v":"40 680,-Ft"},{"$f":"VLOOKUP(G44,Árlista!$B:$F,5,0)","v":"38 910,-Ft"},{"$f":"VLOOKUP(H44,Árlista!$B:$F,5,0)","v":"40 010,-Ft"}]
[]
[null,"DIFFERENTIAL \nPRESSURE INDICATORS",null,"MDA60"]
[null,"Nettó ár [HUF]",null,{"$f":"VLOOKUP(D47,Árlista!$B:$F,5,0)","v":"13 240,-Ft"}]
[]
[null,"KIEGÉSZÍTŐK ",null,"Vent for AOK 20B"]
[null,null,null,"Nipple"]
[null,"Nettó ár [HUF]",null,{"$f":"VLOOKUP(D51,Árlista!$B:$F,5,0)","v":"4 460,-Ft"}]

{"sheet":"WFIT","index":5,"n_rows":57,"n_cols":33,"rows_kept":57,"cut":false,"hidden":false,"merged":[[11,1,11,13],[12,1,14,1],[12,2,13,2],[12,3,13,3],[12,4,13,5],[12,6,13,9],[12,10,13,10],[12,11,14,11],[12,12,14,12],[12,13,14,13],[34,3,36,3],[34,4,36,6],[34,7,36,12],[27,1,27,12],[29,1,31,3],[32,4,33,4],[32,5,33,6],[32,7,33,8],[32,9,33,10],[32,12,33,12],[54,1,55,2],[56,1,56,2],[50,1,51,2],[52,1,52,2],[34,1,36,1],[34,2,35,2]]}
[null,"WFIT series"]
[]
[]
[null,null,null,null,null,null,null,null,null,null,null,null,null,null,null,"INDEX "]
[]
[]
[]
[]
[]
[]
[]
[null,"SZŰRŐ HÁZ",null,null,null,null,null,null,null,null,null,null,null,null,null,null,null,"KORREKCIÓS FAKTOR"]
[null,"Szűrő \nház\nméret","Cső\n méret","Max.üz.\n nyomás","Átáramlási képesség \nat 7 bar(g), 20 °C",null,"Méretek",null,null,null,"Tömeg","Szűrő \nbetét\ntípus","Nettó ár\nfor 1.4301\n(Csak szűrőház)\n[HUF]","Nettó ár\nfor 1.4404\n(Csak szűrőház)\n[HUF]",null,null,null,"Üzemi nyomás [bar]",2,3,4,5,6,7,8,9,10,11,12,13,14,15,16]
[null,null,null,null,null,null,null,null,null,null,null,null,null,null,null,null,null,"Üzemi nyomás [psi]",29,44,58,72,87,100,115,130,145,160,174,189,203,218,232]
[null,null,"inch","bar/psi","Nm³/h","scfm","A [mm]","B [mm]","C [mm]","D [’’]","kg",null,null,null,null,null,null,"Korrekciós faktor",0.38,0.5,0.63,0.75,0.88,1,1.1299999999999999,1.25,1.38,1.5,1.63,1.75,1.88,2,2.13]
[null,"WFIT 005","1/4’’","16/232",75,44,202,116,76.099999999999994,"1/2",1.9,310,{"$f":"VLOOKUP(B16,Árlista!$B:$F,5,0)","v":"181 620,-Ft"},{"$f":"VLOOKUP(B16&\"F\",Árlista!$B:$F,5,0)","v":"150 570,-Ft"}]
[null,"WFIT 007","3/8’’","16/232",105,62,232,120,76.099999999999994,"1/2",2.2000000000000002,410,{"$f":"VLOOKUP(B17,Árlista!$B:$F,5,0)","v":"186 430,-Ft"},{"$f":"VLOOKUP(B17&\"F\",Árlista!$B:$F,5,0)","v":"167 160,-Ft"}]
[null,"WFIT 010","1/2’’","16/232",150,88,230,125,76.099999999999994,"1/2",2.2000000000000002,420,{"$f":"VLOOKUP(B18,Árlista!$B:$F,5,0)","v":"196 050,-Ft"},{"$f":"VLOOKUP(B18&\"F\",Árlista!$B:$F,5,0)","v":"195 230,-Ft"}]
[null,"WFIT 018","3/4’’","16/232",225,132,254,125,76.099999999999994,"1/2",2.2999999999999998,520,{"$f":"VLOOKUP(B19,Árlista!$B:$F,5,0)","v":"206 850,-Ft"},{"$f":"VLOOKUP(B19&\"F\",Árlista!$B:$F,5,0)","v":"211 820,-Ft"}]
[null,"WFIT 030","1’’","16/232",315,185,275,136,88.9,"1/2",3.1,525,{"$f":"VLOOKUP(B20,Árlista!$B:$F,5,0)","v":"240 000,-Ft (2)"},{"$f":"VLOOKUP(B20&\"F\",Árlista!$B:$F,5,0)","v":"252 000,-Ft (2)"}]
[null,"WFIT 047","1 1/4’’","16/232",420,247,337,155,88.9,"1/2",3.5,725,{"$f":"VLOOKUP(B21,Árlista!$B:$F,5,0)","v":"260 000,-Ft (2)"},{"$f":"VLOOKUP(B21&\"F\",Árlista!$B:$F,5,0)","v":"274 000,-Ft (2)"}]
[null,"WFIT 070","1 1/2’’","16/232",600,353,386,180,114.3,"1/2",4.8,730,{"$f":"VLOOKUP(B22,Árlista!$B:$F,5,0)","v":"327 000,-Ft (2)"},{"$f":"VLOOKUP(B22&\"F\",Árlista!$B:$F,5,0)","v":"329 000,-Ft (2)"}]
[null,"WFIT 094","2’’","16/232",900,530,457,180,114.3,"1/2",5.4,1030,{"$f":"VLOOKUP(B23,Árlista!$B:$F,5,0)","v":"384 000,-Ft (2)"},{"$f":"VLOOKUP(B23&\"F\",Árlista!$B:$F,5,0)","v":"416 000,-Ft (2)"}]
[null,"WFIT 150","2’’","16/232",1260,742,583,180,114.3,"1/2",6.1,1530,{"$f":"VLOOKUP(B24,Árlista!$B:$F,5,0)","v":"408 000,-Ft (2)"},{"$f":"VLOOKUP(B24&\"F\",Árlista!$B:$F,5,0)","v":"442 000,-Ft (2)"}]
[null,"WFIT 175","2 1/2’’","16/232",1680,989,740,224,139.69999999999999,"1/2",9.1999999999999993,2030,{"$f":"VLOOKUP(B25,Árlista!$B:$F,5,0)","v":"535 000,-Ft (2)"},{"$f":"VLOOKUP(B25&\"F\",Árlista!$B:$F,5,0)","v":"557 000,-Ft (2)"}]
[null,"WFIT 200","3’’","12/174",2400,1413,1004,224,139.69999999999999,"1/2",11.5,3030,{"$f":"VLOOKUP(B26,Árlista!$B:$F,5,0)","v":"564 000,-Ft (2)"},{"$f":"VLOOKUP(B26&\"F\",Árlista!$B:$F,5,0)","v":"590 000,-Ft (2)"}]
[null,"WFIT 240","3’’","12/174",3600,2119,1029,252,168.3,"1/2",15.1,3050,{"$f":"VLOOKUP(B27,Árlista!$B:$F,5,0)","v":"723 000,-Ft (2)"},{"$f":"VLOOKUP(B27&\"F\",Árlista!$B:$F,5,0)","v":"747 000,-Ft (2)"}]
[null,"MEGJEGYZÉS A megadott nettó árak tájékoztató jellegűek, az utána feltüntett szám az adott termék árkategóriáját jelöli.\n- Ár, csak a szűrőházra vonatkozik!\n- PN, PI, PIW filter betéts tisztítható ultrahangos tisztítással vagy kifúvatással. Interval of cleaning depends on application. Ha szükséges, akkor cserélje új szűrőbetétre.\n- Szűrő betéts ’’PA’’, should be changed periodically to assure propper quality of air, but at least every 6 months. Activated carbon filters must not operate in oil saturated conditions."]
[]
[null,"SZŰRŐ BETÉT",null,null,"25 µm; 5 µm","20 µm; 1 µm","20 µm; 1 µm","3 µm","1 µm","0,1 µm","0,01 µm"]
[null,null,null,null,"PN","PI","PIW","P","R","M","S","A","CKL-P"]
[null,null,null,null,"előszűrő","előszűrő","előszűrő","előszűrő","előszűrő","mikroszűrő","finomszűrő","act. carbon","szeparátor"]
[null,null,null,null,"stain. steel\nmesh 1.4301","sintered INOX 1.4404",null,"acrylic fibers, cellulose",null,"borosilicate micro fibres",null,"bor. mic. fib.*","stainless steel"]
[null,null,null,null,null,null,null,null,null,null,null,"act. carbon"]
[null,"Szűrő \nbetét \ntípus","Átáramlási képesség","Corresponding\nház","Nettó \nÁr\n[HUF]",null,null,"Nettó \nÁr\n[HUF]"]
[]
[null,null,"[Nm³/h]"]
[null,"0310",75,"WFIT 005",{"$f":"VLOOKUP($B38&E$31,Árlista!$B:$F,5,0)","v":"27 560,-Ft"},{"$f":"VLOOKUP($B38&F$31,Árlista!$B:$F,5,0)","v":"27 560,-Ft"},{"$f":"VLOOKUP($B38&G$31,Árlista!$B:$F,5,0)","v":"27 560,-Ft"},{"$f":"VLOOKUP($B38&H$31,Árlista!$B:$F,5,0)","v":"24 000,-Ft"},{"$f":"VLOOKUP($B38&I$31,Árlista!$B:$F,5,0)","v":"24 000,-Ft"},{"$f":"VLOOKUP($B38&J$31,Árlista!$B:$F,5,0)","v":"24 000,-Ft"},{"$f":"VLOOKUP($B38&K$31,Árlista!$B:$F,5,0)","v":"24 000,-Ft"},{"$f":"VLOOKUP($B38&L$31,Árlista!$B:$F,5,0)","v":"24 000,-Ft"},{"$f":"VLOOKUP($B38&M$31,Árlista!$B:$F,5,0)","v":"24 000,-Ft"}]
[null,"0410",105,"WFIT 007",{"$f":"VLOOKUP($B39&E$31,Árlista!$B:$F,5,0)","v":"32 340,-Ft"},{"$f":"VLOOKUP($B39&F$31,Árlista!$B:$F,5,0)","v":"32 340,-Ft"},{"$f":"VLOOKUP($B39&G$31,Árlista!$B:$F,5,0)","v":"32 340,-Ft"},{"$f":"VLOOKUP($B39&H$31,Árlista!$B:$F,5,0)","v":"27 390,-Ft"},{"$f":"VLOOKUP($B39&I$31,Árlista!$B:$F,5,0)","v":"27 390,-Ft"},{"$f":"VLOOKUP($B39&J$31,Árlista!$B:$F,5,0)","v":"27 390,-Ft"},{"$f":"VLOOKUP($B39&K$31,Árlista!$B:$F,5,0)","v":"27 390,-Ft"},{"$f":"VLOOKUP($B39&L$31,Árlista!$B:$F,5,0)","v":"27 390,-Ft"},{"$f":"VLOOKUP($B39&M$31,Árlista!$B:$F,5,0)","v":"27 390,-Ft"}]
[null,"0420",150,"WFIT 010",{"$f":"VLOOKUP($B40&E$31,Árlista!$B:$F,5,0)","v":"35 160,-Ft"},{"$f":"VLOOKUP($B40&F$31,Árlista!$B:$F,5,0)","v":"35 160,-Ft"},{"$f":"VLOOKUP($B40&G$31,Árlista!$B:$F,5,0)","v":"35 160,-Ft"},{"$f":"VLOOKUP($B40&H$31,Árlista!$B:$F,5,0)","v":"30 020,-Ft"},{"$f":"VLOOKUP($B40&I$31,Árlista!$B:$F,5,0)","v":"30 020,-Ft"},{"$f":"VLOOKUP($B40&J$31,Árlista!$B:$F,5,0)","v":"30 020,-Ft"},{"$f":"VLOOKUP($B40&K$31,Árlista!$B:$F,5,0)","v":"30 020,-Ft"},{"$f":"VLOOKUP($B40&L$31,Árlista!$B:$F,5,0)","v":"30 020,-Ft"},{"$f":"VLOOKUP($B40&M$31,Árlista!$B:$F,5,0)","v":"30 020,-Ft"}]
[null,"0520",225,"WFIT 018",{"$f":"VLOOKUP($B41&E$31,Árlista!$B:$F,5,0)","v":"43 590,-Ft"},{"$f":"VLOOKUP($B41&F$31,Árlista!$B:$F,5,0)","v":"43 590,-Ft"},{"$f":"VLOOKUP($B41&G$31,Árlista!$B:$F,5,0)","v":"43 590,-Ft"},{"$f":"VLOOKUP($B41&H$31,Árlista!$B:$F,5,0)","v":"36 970,-Ft"},{"$f":"VLOOKUP($B41&I$31,Árlista!$B:$F,5,0)","v":"36 970,-Ft"},{"$f":"VLOOKUP($B41&J$31,Árlista!$B:$F,5,0)","v":"36 970,-Ft"},{"$f":"VLOOKUP($B41&K$31,Árlista!$B:$F,5,0)","v":"36 970,-Ft"},{"$f":"VLOOKUP($B41&L$31,Árlista!$B:$F,5,0)","v":"36 970,-Ft"},{"$f":"VLOOKUP($B41&M$31,Árlista!$B:$F,5,0)","v":"36 970,-Ft"}]
[null,"0525",315,"WFIT 030",{"$f":"VLOOKUP($B42&E$31,Árlista!$B:$F,5,0)","v":"52 030,-Ft"},{"$f":"VLOOKUP($B42&F$31,Árlista!$B:$F,5,0)","v":"52 030,-Ft"},{"$f":"VLOOKUP($B42&G$31,Árlista!$B:$F,5,0)","v":"52 030,-Ft"},{"$f":"VLOOKUP($B42&H$31,Árlista!$B:$F,5,0)","v":"43 820,-Ft"},{"$f":"VLOOKUP($B42&I$31,Árlista!$B:$F,5,0)","v":"43 820,-Ft"},{"$f":"VLOOKUP($B42&J$31,Árlista!$B:$F,5,0)","v":"43 820,-Ft"},{"$f":"VLOOKUP($B42&K$31,Árlista!$B:$F,5,0)","v":"43 820,-Ft"},{"$f":"VLOOKUP($B42&L$31,Árlista!$B:$F,5,0)","v":"43 820,-Ft"},{"$f":"VLOOKUP($B42&M$31,Árlista!$B:$F,5,0)","v":"43 820,-Ft"}]
[null,"0725",420,"WFIT 047",{"$f":"VLOOKUP($B43&E$31,Árlista!$B:$F,5,0)","v":"61 870,-Ft"},{"$f":"VLOOKUP($B43&F$31,Árlista!$B:$F,5,0)","v":"61 870,-Ft"},{"$f":"VLOOKUP($B43&G$31,Árlista!$B:$F,5,0)","v":"61 870,-Ft"},{"$f":"VLOOKUP($B43&H$31,Árlista!$B:$F,5,0)","v":"52 040,-Ft"},{"$f":"VLOOKUP($B43&I$31,Árlista!$B:$F,5,0)","v":"52 040,-Ft"},{"$f":"VLOOKUP($B43&J$31,Árlista!$B:$F,5,0)","v":"52 040,-Ft"},{"$f":"VLOOKUP($B43&K$31,Árlista!$B:$F,5,0)","v":"52 040,-Ft"},{"$f":"VLOOKUP($B43&L$31,Árlista!$B:$F,5,0)","v":"52 040,-Ft"},{"$f":"VLOOKUP($B43&M$31,Árlista!$B:$F,5,0)","v":"52 040,-Ft"}]
[null,"0730",600,"WFIT 070",{"$f":"VLOOKUP($B44&E$31,Árlista!$B:$F,5,0)","v":"77 340,-Ft"},{"$f":"VLOOKUP($B44&F$31,Árlista!$B:$F,5,0)","v":"77 340,-Ft"},{"$f":"VLOOKUP($B44&G$31,Árlista!$B:$F,5,0)","v":"77 340,-Ft"},{"$f":"VLOOKUP($B44&H$31,Árlista!$B:$F,5,0)","v":"65 730,-Ft"},{"$f":"VLOOKUP($B44&I$31,Árlista!$B:$F,5,0)","v":"65 730,-Ft"},{"$f":"VLOOKUP($B44&J$31,Árlista!$B:$F,5,0)","v":"65 730,-Ft"},{"$f":"VLOOKUP($B44&K$31,Árlista!$B:$F,5,0)","v":"65 730,-Ft"},{"$f":"VLOOKUP($B44&L$31,Árlista!$B:$F,5,0)","v":"65 730,-Ft"},{"$f":"VLOOKUP($B44&M$31,Árlista!$B:$F,5,0)","v":"65 730,-Ft"}]
[null,"1030",900,"WFIT 094",{"$f":"VLOOKUP($B45&E$31,Árlista!$B:$F,5,0)","v":"94 220,-Ft"},{"$f":"VLOOKUP($B45&F$31,Árlista!$B:$F,5,0)","v":"94 220,-Ft"},{"$f":"VLOOKUP($B45&G$31,Árlista!$B:$F,5,0)","v":"94 220,-Ft"},{"$f":"VLOOKUP($B45&H$31,Árlista!$B:$F,5,0)","v":"79 430,-Ft"},{"$f":"VLOOKUP($B45&I$31,Árlista!$B:$F,5,0)","v":"79 430,-Ft"},{"$f":"VLOOKUP($B45&J$31,Árlista!$B:$F,5,0)","v":"79 430,-Ft"},{"$f":"VLOOKUP($B45&K$31,Árlista!$B:$F,5,0)","v":"79 430,-Ft"},{"$f":"VLOOKUP($B45&L$31,Árlista!$B:$F,5,0)","v":"79 430,-Ft"},{"$f":"VLOOKUP($B45&M$31,Árlista!$B:$F,5,0)","v":"79 430,-Ft"}]
[null,"1530",1260,"WFIT 150",{"$f":"VLOOKUP($B46&E$31,Árlista!$B:$F,5,0)","v":"112 500,-Ft"},{"$f":"VLOOKUP($B46&F$31,Árlista!$B:$F,5,0)","v":"112 500,-Ft"},{"$f":"VLOOKUP($B46&G$31,Árlista!$B:$F,5,0)","v":"112 500,-Ft"},{"$f":"VLOOKUP($B46&H$31,Árlista!$B:$F,5,0)","v":"95 860,-Ft"},{"$f":"VLOOKUP($B46&I$31,Árlista!$B:$F,5,0)","v":"95 860,-Ft"},{"$f":"VLOOKUP($B46&J$31,Árlista!$B:$F,5,0)","v":"95 860,-Ft"},{"$f":"VLOOKUP($B46&K$31,Árlista!$B:$F,5,0)","v":"95 860,-Ft"},{"$f":"VLOOKUP($B46&L$31,Árlista!$B:$F,5,0)","v":"95 860,-Ft"},{"$f":"VLOOKUP($B46&M$31,Árlista!$B:$F,5,0)","v":"95 860,-Ft"}]
[null,"2030",1680,"WFIT 175",{"$f":"VLOOKUP($B47&E$31,Árlista!$B:$F,5,0)","v":"134 910,-Ft"},{"$f":"VLOOKUP($B47&F$31,Árlista!$B:$F,5,0)","v":"134 910,-Ft"},{"$f":"VLOOKUP($B47&G$31,Árlista!$B:$F,5,0)","v":"134 910,-Ft"},{"$f":"VLOOKUP($B47&H$31,Árlista!$B:$F,5,0)","v":"117 770,-Ft"},{"$f":"VLOOKUP($B47&I$31,Árlista!$B:$F,5,0)","v":"117 770,-Ft"},{"$f":"VLOOKUP($B47&J$31,Árlista!$B:$F,5,0)","v":"117 770,-Ft"},{"$f":"VLOOKUP($B47&K$31,Árlista!$B:$F,5,0)","v":"117 770,-Ft"},{"$f":"VLOOKUP($B47&L$31,Árlista!$B:$F,5,0)","v":"117 770,-Ft"},{"$f":"VLOOKUP($B47&M$31,Árlista!$B:$F,5,0)","v":"117 770,-Ft"}]
[null,"3030",2400,"WFIT 200",{"$f":"VLOOKUP($B48&E$31,Árlista!$B:$F,5,0)","v":"162 170,-Ft"},{"$f":"VLOOKUP($B48&F$31,Árlista!$B:$F,5,0)","v":"162 170,-Ft"},{"$f":"VLOOKUP($B48&G$31,Árlista!$B:$F,5,0)","v":"162 170,-Ft"},{"$f":"VLOOKUP($B48&H$31,Árlista!$B:$F,5,0)","v":"138 010,-Ft"},{"$f":"VLOOKUP($B48&I$31,Árlista!$B:$F,5,0)","v":"138 010,-Ft"},{"$f":"VLOOKUP($B48&J$31,Árlista!$B:$F,5,0)","v":"138 010,-Ft"},{"$f":"VLOOKUP($B48&K$31,Árlista!$B:$F,5,0)","v":"138 010,-Ft"},{"$f":"VLOOKUP($B48&L$31,Árlista!$B:$F,5,0)","v":"138 010,-Ft"},{"$f":"VLOOKUP($B48&M$31,Árlista!$B:$F,5,0)","v":"138 010,-Ft"}]
[null,"3050",3600,"WFIT 240",{"$f":"VLOOKUP($B49&E$31,Árlista!$B:$F,5,0)","v":"380 000,-Ft (2)"},{"$f":"VLOOKUP($B49&F$31,Árlista!$B:$F,5,0)","v":"380 000,-Ft (2)"},{"$f":"VLOOKUP($B49&G$31,Árlista!$B:$F,5,0)","v":"380 000,-Ft (2)"},{"$f":"VLOOKUP($B49&H$31,Árlista!$B:$F,5,0)","v":"167 210,-Ft"},{"$f":"VLOOKUP($B49&I$31,Árlista!$B:$F,5,0)","v":"167 210,-Ft"},{"$f":"VLOOKUP($B49&J$31,Árlista!$B:$F,5,0)","v":"167 210,-Ft"},{"$f":"VLOOKUP($B49&K$31,Árlista!$B:$F,5,0)","v":"167 210,-Ft"},{"$f":"VLOOKUP($B49&L$31,Árlista!$B:$F,5,0)","v":"167 210,-Ft"},{"$f":"VLOOKUP($B49&M$31,Árlista!$B:$F,5,0)","v":"167 210,-Ft"}]
[null,"* borosilicate micro fibres"]
[null,"KONDENZÁTUM \nLEERESZTŐ",null,"1/2\"","Stainless steel 1.4404"]
[null,null,null,"Drain valve","AOK 20SS","TD 16Mcr"]
[null,"Nettó ár [HUF]",null,{"$f":"VLOOKUP(D52,Árlista!$B:$F,5,0)","v":"31 960,-Ft"},{"$f":"VLOOKUP(E52,Árlista!$B:$F,5,0)","v":"127 600,-Ft"},{"$f":"VLOOKUP(F52,Árlista!$B:$F,5,0)","v":"33 880,-Ft"}]
[]
[null,"KIEGÉSZÍTŐK ",null,"Vent for AOK 20SS"]
[null,null,null,"Nipple 20SS"]
[null,"Nettó ár [HUF]",null,{"$f":"VLOOKUP(D56,Árlista!$B:$F,5,0)","v":"18 320,-Ft"}]

{"sheet":"WHFIT","index":6,"n_rows":49,"n_cols":23,"rows_kept":49,"cut":false,"hidden":false,"merged":[[11,1,11,12],[12,1,14,1],[12,2,13,2],[12,3,13,3],[12,4,13,5],[12,6,13,9],[12,10,13,10],[12,11,14,11],[12,12,14,12],[48,1,48,2],[42,1,43,2],[44,1,44,2],[46,1,47,2],[23,1,23,12],[25,1,27,3],[28,4,29,4],[28,5,29,6],[28,7,29,7],[28,8,29,10],[28,12,29,12],[30,1,32,1],[30,2,31,2],[30,3,32,3],[30,4,32,6],[30,7,32,12]]}
[null,"WHFIT series"]
[]
[]
[null,null,null,null,null,null,null,null,null,null,null,null,null,null,null,"INDEX "]
[]
[]
[]
[]
[]
[]
[]
[null,"SZŰRŐ HÁZ",null,null,null,null,null,null,null,null,null,null,null,null,null,null,null,"KORREKCIÓS FAKTOR"]
[null,"Szűrő \nház\nméret","Cső\n méret","Max.üz.\n nyomás","Átáramlási képesség \nat 7 bar(g), 20 °C",null,"Méretek",null,null,null,"Tömeg","Szűrő \nbetét\ntípus","Nettó ár\n(Csak szűrőház)\n[HUF]",null,null,null,null,"Üzemi nyomás [bar]",7,20,30,40,50]
[null,null,null,null,null,null,null,null,null,null,null,null,null,null,null,null,null,"Üzemi nyomás [psi]",100,290,435,580,725]
[null,null,"inch","bar/psi","Nm³/h","scfm","A [mm]","B [mm]","C [mm]","D [’’]","kg",null,null,null,null,null,null,"Korrekciós faktor",1,2.63,3.88,5.13,6.38]
[null,"WHFIT 010","1/2’’","50/725",150,88,231,125,76.099999999999994,"1/2’’",2.5,420,{"$f":"VLOOKUP(B16,Árlista!$B:$F,5,0)","v":"232 130,-Ft"}]
[null,"WHFIT 018","3/4’’","50/725",225,132,253,125,76.099999999999994,"1/2’’",2.6,520,{"$f":"VLOOKUP(B17,Árlista!$B:$F,5,0)","v":"236 000,-Ft (2)"}]
[null,"WHFIT 030","1’’","50/725",315,185,274,136,88.9,"1/2’’",3.4,525,{"$f":"VLOOKUP(B18,Árlista!$B:$F,5,0)","v":"302 000,-Ft (2)"}]
[null,"WHFIT 047","1 1/4’’","50/725",420,247,336,155,88.9,"1/2’’",3.9,725,{"$f":"VLOOKUP(B19,Árlista!$B:$F,5,0)","v":"319 000,-Ft (2)"}]
[null,"WHFIT 070","1 1/2’’","50/725",600,353,387,180,114.3,"1/2’’",5.6,730,{"$f":"VLOOKUP(B20,Árlista!$B:$F,5,0)","v":"401 000,-Ft (2)"}]
[null,"WHFIT 094","2’’","50/725",900,530,453,180,114.3,"1/2’’",6.2,1030,{"$f":"VLOOKUP(B21,Árlista!$B:$F,5,0)","v":"479 000,-Ft (2)"}]
[null,"WHFIT 150","2’’","50/725",1260,742,580,180,114.3,"1/2’’",6.9,1530,{"$f":"VLOOKUP(B22,Árlista!$B:$F,5,0)","v":"498 000,-Ft (2)"}]
[null,"WHFIT 200","3’’","50/725",2400,1413,1005,224,139.69999999999999,"1/2’’",14.1,3030,{"$f":"VLOOKUP(B23,Árlista!$B:$F,5,0)","v":"674 000,-Ft (2)"}]
[null,"MEGJEGYZÉS A megadott nettó árak tájékoztató jellegűek, az utána feltüntett szám az adott termék árkategóriáját jelöli.\n- Ár, csak a szűrőházra vonatkozik!\n- PN, PI, PIW filter betéts tisztítható ultrahangos tisztítással vagy kifúvatással. Interval of cleaning depends on application. Ha szükséges, akkor cserélje új szűrőbetétre.\n- Szűrő betéts ’’PA’’, should be changed periodically to assure propper quality of air, but at least every 6 months. Activated carbon filters must not operate in oil saturated conditions."]
[]
[null,"SZŰRŐ BETÉT",null,null,"25 µm; 5 µm","20 µm; 1 µm","20 µm; 1 µm","3 µm","1 µm","0,1 µm","0,01 µm"]
[null,null,null,null,"PN","PI","PIW","P","R","M","S","A","CKL-P"]
[null,null,null,null,"előszűrő","előszűrő","előszűrő","előszűrő","előszűrő","mikroszűrő","finomszűrő","act. carbon","szeparátor"]
[null,null,null,null,"stain. steel\nmesh 1.4301","sintered INOX 1.4404",null,"acrylic fibers, \ncellulose","borosilicate micro fibres",null,null,"bor. mic. fib.*","stainless steel"]
[null,null,null,null,null,null,null,null,null,null,null,"act. carbon"]
[null,"Szűrő \nbetét \ntípus","Átáramlási képesség","Corresponding\nház","Nettó \nÁr\n[HUF]",null,null,"Nettó \nÁr\n[HUF]"]
[]
[null,null,"[Nm³/h]"]
[null,"0420",150,"WHFIT 010",{"$f":"VLOOKUP($B34&E$27,Árlista!$B:$F,5,0)","v":"35 160,-Ft"},{"$f":"VLOOKUP($B34&F$27,Árlista!$B:$F,5,0)","v":"35 160,-Ft"},{"$f":"VLOOKUP($B34&G$27,Árlista!$B:$F,5,0)","v":"35 160,-Ft"},{"$f":"VLOOKUP($B34&H$27,Árlista!$B:$F,5,0)","v":"30 020,-Ft"},{"$f":"VLOOKUP($B34&I$27,Árlista!$B:$F,5,0)","v":"30 020,-Ft"},{"$f":"VLOOKUP($B34&J$27,Árlista!$B:$F,5,0)","v":"30 020,-Ft"},{"$f":"VLOOKUP($B34&K$27,Árlista!$B:$F,5,0)","v":"30 020,-Ft"},{"$f":"VLOOKUP($B34&L$27,Árlista!$B:$F,5,0)","v":"30 020,-Ft"},{"$f":"VLOOKUP($B34&M$27,Árlista!$B:$F,5,0)","v":"30 020,-Ft"}]
[null,"0520",225,"WHFIT 018",{"$f":"VLOOKUP($B35&E$27,Árlista!$B:$F,5,0)","v":"43 590,-Ft"},{"$f":"VLOOKUP($B35&F$27,Árlista!$B:$F,5,0)","v":"43 590,-Ft"},{"$f":"VLOOKUP($B35&G$27,Árlista!$B:$F,5,0)","v":"43 590,-Ft"},{"$f":"VLOOKUP($B35&H$27,Árlista!$B:$F,5,0)","v":"36 970,-Ft"},{"$f":"VLOOKUP($B35&I$27,Árlista!$B:$F,5,0)","v":"36 970,-Ft"},{"$f":"VLOOKUP($B35&J$27,Árlista!$B:$F,5,0)","v":"36 970,-Ft"},{"$f":"VLOOKUP($B35&K$27,Árlista!$B:$F,5,0)","v":"36 970,-Ft"},{"$f":"VLOOKUP($B35&L$27,Árlista!$B:$F,5,0)","v":"36 970,-Ft"},{"$f":"VLOOKUP($B35&M$27,Árlista!$B:$F,5,0)","v":"36 970,-Ft"}]
[null,"0525",315,"WHFIT 030",{"$f":"VLOOKUP($B36&E$27,Árlista!$B:$F,5,0)","v":"52 030,-Ft"},{"$f":"VLOOKUP($B36&F$27,Árlista!$B:$F,5,0)","v":"52 030,-Ft"},{"$f":"VLOOKUP($B36&G$27,Árlista!$B:$F,5,0)","v":"52 030,-Ft"},{"$f":"VLOOKUP($B36&H$27,Árlista!$B:$F,5,0)","v":"43 820,-Ft"},{"$f":"VLOOKUP($B36&I$27,Árlista!$B:$F,5,0)","v":"43 820,-Ft"},{"$f":"VLOOKUP($B36&J$27,Árlista!$B:$F,5,0)","v":"43 820,-Ft"},{"$f":"VLOOKUP($B36&K$27,Árlista!$B:$F,5,0)","v":"43 820,-Ft"},{"$f":"VLOOKUP($B36&L$27,Árlista!$B:$F,5,0)","v":"43 820,-Ft"},{"$f":"VLOOKUP($B36&M$27,Árlista!$B:$F,5,0)","v":"43 820,-Ft"}]
[null,"0725",420,"WHFIT 047",{"$f":"VLOOKUP($B37&E$27,Árlista!$B:$F,5,0)","v":"61 870,-Ft"},{"$f":"VLOOKUP($B37&F$27,Árlista!$B:$F,5,0)","v":"61 870,-Ft"},{"$f":"VLOOKUP($B37&G$27,Árlista!$B:$F,5,0)","v":"61 870,-Ft"},{"$f":"VLOOKUP($B37&H$27,Árlista!$B:$F,5,0)","v":"52 040,-Ft"},{"$f":"VLOOKUP($B37&I$27,Árlista!$B:$F,5,0)","v":"52 040,-Ft"},{"$f":"VLOOKUP($B37&J$27,Árlista!$B:$F,5,0)","v":"52 040,-Ft"},{"$f":"VLOOKUP($B37&K$27,Árlista!$B:$F,5,0)","v":"52 040,-Ft"},{"$f":"VLOOKUP($B37&L$27,Árlista!$B:$F,5,0)","v":"52 040,-Ft"},{"$f":"VLOOKUP($B37&M$27,Árlista!$B:$F,5,0)","v":"52 040,-Ft"}]
[null,"0730",600,"WHFIT 070",{"$f":"VLOOKUP($B38&E$27,Árlista!$B:$F,5,0)","v":"77 340,-Ft"},{"$f":"VLOOKUP($B38&F$27,Árlista!$B:$F,5,0)","v":"77 340,-Ft"},{"$f":"VLOOKUP($B38&G$27,Árlista!$B:$F,5,0)","v":"77 340,-Ft"},{"$f":"VLOOKUP($B38&H$27,Árlista!$B:$F,5,0)","v":"65 730,-Ft"},{"$f":"VLOOKUP($B38&I$27,Árlista!$B:$F,5,0)","v":"65 730,-Ft"},{"$f":"VLOOKUP($B38&J$27,Árlista!$B:$F,5,0)","v":"65 730,-Ft"},{"$f":"VLOOKUP($B38&K$27,Árlista!$B:$F,5,0)","v":"65 730,-Ft"},{"$f":"VLOOKUP($B38&L$27,Árlista!$B:$F,5,0)","v":"65 730,-Ft"},{"$f":"VLOOKUP($B38&M$27,Árlista!$B:$F,5,0)","v":"65 730,-Ft"}]
[null,"1030",900,"WHFIT 094",{"$f":"VLOOKUP($B39&E$27,Árlista!$B:$F,5,0)","v":"94 220,-Ft"},{"$f":"VLOOKUP($B39&F$27,Árlista!$B:$F,5,0)","v":"94 220,-Ft"},{"$f":"VLOOKUP($B39&G$27,Árlista!$B:$F,5,0)","v":"94 220,-Ft"},{"$f":"VLOOKUP($B39&H$27,Árlista!$B:$F,5,0)","v":"79 430,-Ft"},{"$f":"VLOOKUP($B39&I$27,Árlista!$B:$F,5,0)","v":"79 430,-Ft"},{"$f":"VLOOKUP($B39&J$27,Árlista!$B:$F,5,0)","v":"79 430,-Ft"},{"$f":"VLOOKUP($B39&K$27,Árlista!$B:$F,5,0)","v":"79 430,-Ft"},{"$f":"VLOOKUP($B39&L$27,Árlista!$B:$F,5,0)","v":"79 430,-Ft"},{"$f":"VLOOKUP($B39&M$27,Árlista!$B:$F,5,0)","v":"79 430,-Ft"}]
[null,"1530",1260,"WHFIT 150",{"$f":"VLOOKUP($B40&E$27,Árlista!$B:$F,5,0)","v":"112 500,-Ft"},{"$f":"VLOOKUP($B40&F$27,Árlista!$B:$F,5,0)","v":"112 500,-Ft"},{"$f":"VLOOKUP($B40&G$27,Árlista!$B:$F,5,0)","v":"112 500,-Ft"},{"$f":"VLOOKUP($B40&H$27,Árlista!$B:$F,5,0)","v":"95 860,-Ft"},{"$f":"VLOOKUP($B40&I$27,Árlista!$B:$F,5,0)","v":"95 860,-Ft"},{"$f":"VLOOKUP($B40&J$27,Árlista!$B:$F,5,0)","v":"95 860,-Ft"},{"$f":"VLOOKUP($B40&K$27,Árlista!$B:$F,5,0)","v":"95 860,-Ft"},{"$f":"VLOOKUP($B40&L$27,Árlista!$B:$F,5,0)","v":"95 860,-Ft"},{"$f":"VLOOKUP($B40&M$27,Árlista!$B:$F,5,0)","v":"95 860,-Ft"}]
[null,"3030",2400,"WHFIT 200",{"$f":"VLOOKUP($B41&E$27,Árlista!$B:$F,5,0)","v":"162 170,-Ft"},{"$f":"VLOOKUP($B41&F$27,Árlista!$B:$F,5,0)","v":"162 170,-Ft"},{"$f":"VLOOKUP($B41&G$27,Árlista!$B:$F,5,0)","v":"162 170,-Ft"},{"$f":"VLOOKUP($B41&H$27,Árlista!$B:$F,5,0)","v":"138 010,-Ft"},{"$f":"VLOOKUP($B41&I$27,Árlista!$B:$F,5,0)","v":"138 010,-Ft"},{"$f":"VLOOKUP($B41&J$27,Árlista!$B:$F,5,0)","v":"138 010,-Ft"},{"$f":"VLOOKUP($B41&K$27,Árlista!$B:$F,5,0)","v":"138 010,-Ft"},{"$f":"VLOOKUP($B41&L$27,Árlista!$B:$F,5,0)","v":"138 010,-Ft"},{"$f":"VLOOKUP($B41&M$27,Árlista!$B:$F,5,0)","v":"138 010,-Ft"}]
[null,"* borosilicate micro fibres"]
[null,"KONDENZÁTUM \nLEERESZTŐ",null,"1/2\"","Stainless steel 1.4404"]
[null,null,null,"Drain valve","AOK 50SS"]
[null,"Nettó ár [HUF]",null,{"$f":"VLOOKUP(D44,Árlista!$B:$F,5,0)","v":"31 960,-Ft"},{"$f":"VLOOKUP(E44,Árlista!$B:$F,5,0)","v":"146 800,-Ft"}]
[]
[null,"KIEGÉSZÍTŐK ",null,"Vent for AOK 50 SS"]
[null,null,null,"Nipple 50SS"]
[null,"Nettó ár [HUF]",null,{"$f":"VLOOKUP(D48,Árlista!$B:$F,5,0)","v":"20 270,-Ft"}]

{"sheet":"WFIF","index":7,"n_rows":86,"n_cols":33,"rows_kept":86,"cut":false,"hidden":false,"merged":[[12,11,14,11],[12,12,14,12],[12,13,14,13],[31,1,31,12],[33,1,35,1],[33,2,34,2],[33,3,34,3],[33,4,34,5],[33,6,34,9],[33,10,34,10],[12,1,14,1],[12,2,13,2],[12,3,13,3],[12,4,13,5],[12,6,13,9],[12,10,13,10],[57,4,58,4],[57,5,58,6],[57,7,58,8],[57,9,58,10],[57,12,58,12],[33,11,35,11],[33,12,35,12],[33,13,35,13],[52,1,52,12],[54,1,56,3],[85,1,85,2],[79,1,80,2],[81,1,81,2],[83,1,84,2],[59,7,61,12],[59,1,61,1],[59,2,60,2],[59,3,61,3],[59,4,61,6]]}
[null,"WFIF series"]
[]
[]
[null,null,null,null,null,null,null,null,null,null,null,null,null,null,null,"INDEX "]
[]
[]
[]
[]
[]
[]
[]
[null,"SZŰRŐ HÁZ - EN 1092-1/11 PN16"]
[null,"Szűrő \nház\nméret","Cső\n méret","Max.üz.\n nyomás","Átáramlási képesség \nat 7 bar(g), 20 °C",null,"Méretek",null,null,null,"Tömeg","Szűrő \nbetét\ntípus","Nettó ár\nfor 1.4301\n(Csak szűrőház)\n[HUF]","Nettó ár\nfor 1.4404\n(Csak szűrőház)\n[HUF]",null,null,null,"KORREKCIÓS FAKTOR"]
[null,null,null,null,null,null,null,null,null,null,null,null,null,null,null,null,null,"Üzemi nyomás [bar]",2,3,4,5,6,7,8,9,10,11,12,13,14,15,16]
[null,null,"DN","bar/psi","Nm³/h","scfm","A [mm]","B [mm]","C [mm]","E [’’]","kg",null,null,null,null,null,null,"Üzemi nyomás [psi]",29,44,58,72,87,100,115,130,145,160,174,189,203,218,232]
[null,"WFIF 010","DN15",16,150,88,230,195,"76,1","1/2’’",3.7,"0420",{"$f":"VLOOKUP(B16,Árlista!$B:$F,5,0)","v":"217 610,-Ft"},{"$f":"VLOOKUP(B16&\"F\",Árlista!$B:$F,5,0)","v":"188 850,-Ft"},null,null,null,"Korrekciós faktor",0.38,0.5,0.63,0.75,0.88,1,1.1299999999999999,1.25,1.38,1.5,1.63,1.75,1.88,2,2.13]
[null,"WFIF 018","DN20",16,225,132,254,201,"76,1","1/2’’",4.5,"0520",{"$f":"VLOOKUP(B17,Árlista!$B:$F,5,0)","v":"229 600,-Ft"},{"$f":"VLOOKUP(B17&\"F\",Árlista!$B:$F,5,0)","v":"205 440,-Ft"}]
[null,"WFIF 030","DN25",16,315,185,275,216,"88,9","1/2’’",5.7,"0525",{"$f":"VLOOKUP(B18,Árlista!$B:$F,5,0)","v":"266 000,-Ft (2)"},{"$f":"VLOOKUP(B18&\"F\",Árlista!$B:$F,5,0)","v":"245 000,-Ft (2)"}]
[null,"WFIF 047","DN32",16,420,247,337,235,"88,9","1/2’’",7.3,"0725",{"$f":"VLOOKUP(B19,Árlista!$B:$F,5,0)","v":"288 000,-Ft (2)"},{"$f":"VLOOKUP(B19&\"F\",Árlista!$B:$F,5,0)","v":"266 000,-Ft (2)"}]
[null,"WFIF 070","DN40",16,600,353,386,260,"114,3","1/2’’",9.1,"0730",{"$f":"VLOOKUP(B20,Árlista!$B:$F,5,0)","v":"363 000,-Ft (2)"},{"$f":"VLOOKUP(B20&\"F\",Árlista!$B:$F,5,0)","v":"319 000,-Ft (2)"}]
[null,"WFIF 094","DN50",16,900,530,457,270,"114,3","1/2’’",10.4,"1030",{"$f":"VLOOKUP(B21,Árlista!$B:$F,5,0)","v":"427 000,-Ft (2)"},{"$f":"VLOOKUP(B21&\"F\",Árlista!$B:$F,5,0)","v":"403 000,-Ft (2)"}]
[null,"WFIF 150","DN50",16,1260,742,583,270,"114,3","1/2’’",11.1,"1530",{"$f":"VLOOKUP(B22,Árlista!$B:$F,5,0)","v":"452 000,-Ft (2)"},{"$f":"VLOOKUP(B22&\"F\",Árlista!$B:$F,5,0)","v":"429 000,-Ft (2)"}]
[null,"WFIF 175","DN65",16,1680,989,740,294,"139,7","1/2’’",14.2,"2030",{"$f":"VLOOKUP(B23,Árlista!$B:$F,5,0)","v":"594 000,-Ft (2)"},{"$f":"VLOOKUP(B23&\"F\",Árlista!$B:$F,5,0)","v":"540 000,-Ft (2)"}]
[null,"WFIF 200","DN80",12,2400,1413,1004,304,"139,7","1/2’’",19.3,"3030",{"$f":"VLOOKUP(B24,Árlista!$B:$F,5,0)","v":"626 000,-Ft (2)"},{"$f":"VLOOKUP(B24&\"F\",Árlista!$B:$F,5,0)","v":"572 000,-Ft (2)"}]
[null,"WFIF 240","DN80",12,3600,2119,1029,332,"168,3","1/2’’",22.9,"3050",{"$f":"VLOOKUP(B25,Árlista!$B:$F,5,0)","v":"803 000,-Ft (2)"},{"$f":"VLOOKUP(B25&\"F\",Árlista!$B:$F,5,0)","v":"739 000,-Ft (2)"}]
[null,"WFIF 450","DN100",10,5040,2966,986,410,"219,1","1’’",55,"3 x 2030",{"$f":"VLOOKUP(B26,Árlista!$B:$F,5,0)","v":"1 391 000,-Ft (3)"},{"$f":"VLOOKUP(B26&\"F\",Árlista!$B:$F,5,0)","v":"1 183 000,-Ft (3)"}]
[null,"WFIF 600","DN100",10,6720,3955,1240,410,"219,1","1’’",58,"3 x 3030",{"$f":"VLOOKUP(B27,Árlista!$B:$F,5,0)","v":"1 629 000,-Ft (3)"},{"$f":"VLOOKUP(B27&\"F\",Árlista!$B:$F,5,0)","v":"1 261 000,-Ft (3)"}]
[null,"WFIF 900","DN150",10,9600,5650,1311,480,"273,0","1’’",87,"4 x 3030",{"$f":"VLOOKUP(B28,Árlista!$B:$F,5,0)","v":"1 997 000,-Ft (3)"},{"$f":"VLOOKUP(B28&\"F\",Árlista!$B:$F,5,0)","v":"1 668 000,-Ft (3)"}]
[null,"WFIF 1200","DN150",10,13440,7910,1351,540,"323,9","1’’",108,"6 x 3030",{"$f":"VLOOKUP(B29,Árlista!$B:$F,5,0)","v":"2 121 000,-Ft (3)"},{"$f":"VLOOKUP(B29&\"F\",Árlista!$B:$F,5,0)","v":"1 897 000,-Ft (3)"}]
[null,"WFIF 1800","DN200",10,17280,10171,1496,660,"406,4","1’’",200,"8 x 3030",{"$f":"VLOOKUP(B30,Árlista!$B:$F,5,0)","v":"2 893 000,-Ft (4)"},{"$f":"VLOOKUP(B30&\"F\",Árlista!$B:$F,5,0)","v":"2 575 000,-Ft (4)"}]
[null,"WFIF 2000","DN200",10,21120,12431,1496,660,"406,4","1’’",200,"10 x 3030",{"$f":"VLOOKUP(B31,Árlista!$B:$F,5,0)","v":"3 084 000,-Ft (4)"},{"$f":"VLOOKUP(B31&\"F\",Árlista!$B:$F,5,0)","v":"2 767 000,-Ft (4)"}]
[null,"MEGJEGYZÉS A megadott nettó árak tájékoztató jellegűek, az utána feltüntett szám az adott termék árkategóriáját jelöli.\n- Ár, csak a szűrőházra vonatkozik!\n- PN, PI, PIW filter betéts tisztítható ultrahangos tisztítással vagy kifúvatással. Interval of cleaning depends on application. Ha szükséges, akkor cserélje új szűrőbetétre.\n- Szűrő betéts ’’PA’’, should be changed periodically to assure propper quality of air, but at least every 6 months. Activated carbon filters must not operate in oil saturated conditions."]
[null,"TECHNICAL DATA - ANSI B16.5 WN Cl 150"]
[null,"Szűrő \nház\nméret","Cső\n méret","Max.üz.\n nyomás","Átáramlási képesség \nat 7 bar(g), 20 °C",null,"Méretek",null,null,null,"Tömeg","Szűrő \nbetét\ntípus","Nettó ár\nfor 1.4301\n(Csak szűrőház)\n[HUF]","Nettó ár\nfor 1.4404\n(Csak szűrőház)\n[HUF]",null,null,null,"KORREKCIÓS FAKTOR"]
[null,null,null,null,null,null,null,null,null,null,null,null,null,null,null,null,null,"Üzemi nyomás [bar]",2,3,4,5,6,7,8,9,10,11,12,13,14,15,16]
[null,null,"DN","bar/psi","Nm³/h","scfm","A [mm]","B [mm]","C [mm]","E [’’]","kg",null,null,null,null,null,null,"Üzemi nyomás [psi]",29,44,58,72,87,100,115,130,145,160,174,189,203,218,232]
[null,"WFIF 010","DN15",16,150,88,230,"-","76,1","1/2’’",3.7,"0420",{"$f":"VLOOKUP(B37&\"A\",Árlista!$B:$F,5,0)","v":"242 000,-Ft (2)"},{"$f":"VLOOKUP(B37&\"AF\",Árlista!$B:$F,5,0)","v":"236 000,-Ft (2)"},null,null,null,"Korrekciós faktor",0.38,0.5,0.63,0.75,0.88,1,1.1299999999999999,1.25,1.38,1.5,1.63,1.75,1.88,2,2.13]
[null,"WFIF 018","DN20",16,225,132,254,219,"76,1","1/2’’",4.5,"0520",{"$f":"VLOOKUP(B38&\"A\",Árlista!$B:$F,5,0)","v":"256 000,-Ft (2)"},{"$f":"VLOOKUP(B38&\"AF\",Árlista!$B:$F,5,0)","v":"258 000,-Ft (2)"}]
[null,"WFIF 030","DN25",16,315,185,275,244,"88,9","1/2’’",5.7,"0525",{"$f":"VLOOKUP(B39&\"A\",Árlista!$B:$F,5,0)","v":"306 000,-Ft (2)"},{"$f":"VLOOKUP(B39&\"AF\",Árlista!$B:$F,5,0)","v":"317 000,-Ft (2)"}]
[null,"WFIF 047","DN32",16,420,247,337,257,"88,9","1/2’’",7.3,"0725",{"$f":"VLOOKUP(B40&\"A\",Árlista!$B:$F,5,0)","v":"332 000,-Ft (2)"},{"$f":"VLOOKUP(B40&\"AF\",Árlista!$B:$F,5,0)","v":"345 000,-Ft (2)"}]
[null,"WFIF 070","DN40",16,600,353,386,290,"114,3","1/2’’",9.1,"0730",{"$f":"VLOOKUP(B41&\"A\",Árlista!$B:$F,5,0)","v":"418 000,-Ft (2)"},{"$f":"VLOOKUP(B41&\"AF\",Árlista!$B:$F,5,0)","v":"416 000,-Ft (2)"}]
[null,"WFIF 094","DN50",16,900,530,457,304,"114,3","1/2’’",10.4,"1030",{"$f":"VLOOKUP(B42&\"A\",Árlista!$B:$F,5,0)","v":"491 000,-Ft (2)"},{"$f":"VLOOKUP(B42&\"AF\",Árlista!$B:$F,5,0)","v":"526 000,-Ft (2)"}]
[null,"WFIF 150","DN50",16,1260,742,583,304,"114,3","1/2’’",11.1,"1530",{"$f":"VLOOKUP(B43&\"A\",Árlista!$B:$F,5,0)","v":"520 000,-Ft (2)"},{"$f":"VLOOKUP(B43&\"AF\",Árlista!$B:$F,5,0)","v":"558 000,-Ft (2)"}]
[null,"WFIF 175","DN65",16,1680,989,740,340,"139,7","1/2’’",14.2,"2030",{"$f":"VLOOKUP(B44&\"A\",Árlista!$B:$F,5,0)","v":"683 000,-Ft (2)"},{"$f":"VLOOKUP(B44&\"AF\",Árlista!$B:$F,5,0)","v":"773 000,-Ft (2)"}]
[null,"WFIF 200","DN80",12,2400,1413,1004,340,"139,7","1/2’’",19.3,"3030",{"$f":"VLOOKUP(B45&\"A\",Árlista!$B:$F,5,0)","v":"683 000,-Ft (2)"},{"$f":"VLOOKUP(B45&\"AF\",Árlista!$B:$F,5,0)","v":"747 000,-Ft (2)"}]
[null,"WFIF 240","DN80",12,3600,2119,1029,368,"168,3","1/2’’",22.9,"3050",{"$f":"VLOOKUP(B46&\"A\",Árlista!$B:$F,5,0)","v":"720 000,-Ft (2)"},{"$f":"VLOOKUP(B46&\"AF\",Árlista!$B:$F,5,0)","v":"970 000,-Ft (2)"}]
[null,"WFIF 450","DN100",10,5040,2966,986,"-","219,1","1’’",55,"3 x 2030","on request","on request"]
[null,"WFIF 600","DN100",10,6720,3955,1240,"-","219,1","1’’",58,"3 x 3030","on request","on request"]
[null,"WFIF 900","DN150",10,9600,5650,1311,"-","273,0","1’’",87,"4 x 3030","on request","on request"]
[null,"WFIF 1200","DN150",10,13440,7910,1351,"-","323,9","1’’",108,"6 x 3030","on request","on request"]
[null,"WFIF 1800","DN200",10,17280,10171,1496,"-","406,4","1’’",200,"8 x 3030","on request","on request"]
[null,"WFIF 2000","DN200",10,21120,12431,1496,"-","406,4","1’’",200,"10 x 3030","on request","on request"]
[]
[]
[null,"SZŰRŐ BETÉT",null,null,"25 µm; 5 µm","20 µm; 1 µm","20 µm; 1 µm","3 µm","1 µm","0,1 µm","0,01 µm"]
[null,null,null,null,"PN","PI","PIW","P","R","M","S","A","CKL-P"]
[null,null,null,null,"előszűrő","előszűrő","előszűrő","előszűrő","előszűrő","mikroszűrő","finomszűrő","act. carbon","szeparátor"]
[null,null,null,null,"stain. steel\nmesh 1.4301","sintered INOX 1.4404",null,"acrylic fibers, cellulose",null,"borosilicate micro fibres",null,"bor. mic. fib.*","stainless steel"]
[null,null,null,null,null,null,null,null,null,null,null,"act. carbon"]
[null,"Szűrő \nbetét \ntípus","Átáramlási képesség","Corresponding\nház","Nettó \nÁr\n[HUF]",null,null,"Nettó \nÁr\n[HUF]"]
[]
[null,null,"[Nm³/h]"]
[null,"0420",150,"WFIF 010",{"$f":"VLOOKUP($B63&E$56,Árlista!$B:$F,5,0)","v":"35 160,-Ft"},{"$f":"VLOOKUP($B63&F$56,Árlista!$B:$F,5,0)","v":"35 160,-Ft"},{"$f":"VLOOKUP($B63&G$56,Árlista!$B:$F,5,0)","v":"35 160,-Ft"},{"$f":"VLOOKUP($B63&H$56,Árlista!$B:$F,5,0)","v":"30 020,-Ft"},{"$f":"VLOOKUP($B63&I$56,Árlista!$B:$F,5,0)","v":"30 020,-Ft"},{"$f":"VLOOKUP($B63&J$56,Árlista!$B:$F,5,0)","v":"30 020,-Ft"},{"$f":"VLOOKUP($B63&K$56,Árlista!$B:$F,5,0)","v":"30 020,-Ft"},{"$f":"VLOOKUP($B63&L$56,Árlista!$B:$F,5,0)","v":"30 020,-Ft"},{"$f":"VLOOKUP($B63&M$56,Árlista!$B:$F,5,0)","v":"30 020,-Ft"}]
[null,"0520",225,"WFIF 018",{"$f":"VLOOKUP($B64&E$56,Árlista!$B:$F,5,0)","v":"43 590,-Ft"},{"$f":"VLOOKUP($B64&F$56,Árlista!$B:$F,5,0)","v":"43 590,-Ft"},{"$f":"VLOOKUP($B64&G$56,Árlista!$B:$F,5,0)","v":"43 590,-Ft"},{"$f":"VLOOKUP($B64&H$56,Árlista!$B:$F,5,0)","v":"36 970,-Ft"},{"$f":"VLOOKUP($B64&I$56,Árlista!$B:$F,5,0)","v":"36 970,-Ft"},{"$f":"VLOOKUP($B64&J$56,Árlista!$B:$F,5,0)","v":"36 970,-Ft"},{"$f":"VLOOKUP($B64&K$56,Árlista!$B:$F,5,0)","v":"36 970,-Ft"},{"$f":"VLOOKUP($B64&L$56,Árlista!$B:$F,5,0)","v":"36 970,-Ft"},{"$f":"VLOOKUP($B64&M$56,Árlista!$B:$F,5,0)","v":"36 970,-Ft"}]
[null,"0525",315,"WFIF 030",{"$f":"VLOOKUP($B65&E$56,Árlista!$B:$F,5,0)","v":"52 030,-Ft"},{"$f":"VLOOKUP($B65&F$56,Árlista!$B:$F,5,0)","v":"52 030,-Ft"},{"$f":"VLOOKUP($B65&G$56,Árlista!$B:$F,5,0)","v":"52 030,-Ft"},{"$f":"VLOOKUP($B65&H$56,Árlista!$B:$F,5,0)","v":"43 820,-Ft"},{"$f":"VLOOKUP($B65&I$56,Árlista!$B:$F,5,0)","v":"43 820,-Ft"},{"$f":"VLOOKUP($B65&J$56,Árlista!$B:$F,5,0)","v":"43 820,-Ft"},{"$f":"VLOOKUP($B65&K$56,Árlista!$B:$F,5,0)","v":"43 820,-Ft"},{"$f":"VLOOKUP($B65&L$56,Árlista!$B:$F,5,0)","v":"43 820,-Ft"},{"$f":"VLOOKUP($B65&M$56,Árlista!$B:$F,5,0)","v":"43 820,-Ft"}]
[null,"0725",420,"WFIF 047",{"$f":"VLOOKUP($B66&E$56,Árlista!$B:$F,5,0)","v":"61 870,-Ft"},{"$f":"VLOOKUP($B66&F$56,Árlista!$B:$F,5,0)","v":"61 870,-Ft"},{"$f":"VLOOKUP($B66&G$56,Árlista!$B:$F,5,0)","v":"61 870,-Ft"},{"$f":"VLOOKUP($B66&H$56,Árlista!$B:$F,5,0)","v":"52 040,-Ft"},{"$f":"VLOOKUP($B66&I$56,Árlista!$B:$F,5,0)","v":"52 040,-Ft"},{"$f":"VLOOKUP($B66&J$56,Árlista!$B:$F,5,0)","v":"52 040,-Ft"},{"$f":"VLOOKUP($B66&K$56,Árlista!$B:$F,5,0)","v":"52 040,-Ft"},{"$f":"VLOOKUP($B66&L$56,Árlista!$B:$F,5,0)","v":"52 040,-Ft"},{"$f":"VLOOKUP($B66&M$56,Árlista!$B:$F,5,0)","v":"52 040,-Ft"}]
[null,"0730",600,"WFIF 070",{"$f":"VLOOKUP($B67&E$56,Árlista!$B:$F,5,0)","v":"77 340,-Ft"},{"$f":"VLOOKUP($B67&F$56,Árlista!$B:$F,5,0)","v":"77 340,-Ft"},{"$f":"VLOOKUP($B67&G$56,Árlista!$B:$F,5,0)","v":"77 340,-Ft"},{"$f":"VLOOKUP($B67&H$56,Árlista!$B:$F,5,0)","v":"65 730,-Ft"},{"$f":"VLOOKUP($B67&I$56,Árlista!$B:$F,5,0)","v":"65 730,-Ft"},{"$f":"VLOOKUP($B67&J$56,Árlista!$B:$F,5,0)","v":"65 730,-Ft"},{"$f":"VLOOKUP($B67&K$56,Árlista!$B:$F,5,0)","v":"65 730,-Ft"},{"$f":"VLOOKUP($B67&L$56,Árlista!$B:$F,5,0)","v":"65 730,-Ft"},{"$f":"VLOOKUP($B67&M$56,Árlista!$B:$F,5,0)","v":"65 730,-Ft"}]
[null,"1030",900,"WFIF 094",{"$f":"VLOOKUP($B68&E$56,Árlista!$B:$F,5,0)","v":"94 220,-Ft"},{"$f":"VLOOKUP($B68&F$56,Árlista!$B:$F,5,0)","v":"94 220,-Ft"},{"$f":"VLOOKUP($B68&G$56,Árlista!$B:$F,5,0)","v":"94 220,-Ft"},{"$f":"VLOOKUP($B68&H$56,Árlista!$B:$F,5,0)","v":"79 430,-Ft"},{"$f":"VLOOKUP($B68&I$56,Árlista!$B:$F,5,0)","v":"79 430,-Ft"},{"$f":"VLOOKUP($B68&J$56,Árlista!$B:$F,5,0)","v":"79 430,-Ft"},{"$f":"VLOOKUP($B68&K$56,Árlista!$B:$F,5,0)","v":"79 430,-Ft"},{"$f":"VLOOKUP($B68&L$56,Árlista!$B:$F,5,0)","v":"79 430,-Ft"},{"$f":"VLOOKUP($B68&M$56,Árlista!$B:$F,5,0)","v":"79 430,-Ft"}]
[null,"1530",1260,"WFIF 150",{"$f":"VLOOKUP($B69&E$56,Árlista!$B:$F,5,0)","v":"112 500,-Ft"},{"$f":"VLOOKUP($B69&F$56,Árlista!$B:$F,5,0)","v":"112 500,-Ft"},{"$f":"VLOOKUP($B69&G$56,Árlista!$B:$F,5,0)","v":"112 500,-Ft"},{"$f":"VLOOKUP($B69&H$56,Árlista!$B:$F,5,0)","v":"95 860,-Ft"},{"$f":"VLOOKUP($B69&I$56,Árlista!$B:$F,5,0)","v":"95 860,-Ft"},{"$f":"VLOOKUP($B69&J$56,Árlista!$B:$F,5,0)","v":"95 860,-Ft"},{"$f":"VLOOKUP($B69&K$56,Árlista!$B:$F,5,0)","v":"95 860,-Ft"},{"$f":"VLOOKUP($B69&L$56,Árlista!$B:$F,5,0)","v":"95 860,-Ft"},{"$f":"VLOOKUP($B69&M$56,Árlista!$B:$F,5,0)","v":"95 860,-Ft"}]
[null,"2030",1680,"WFIF 175",{"$f":"VLOOKUP($B70&E$56,Árlista!$B:$F,5,0)","v":"134 910,-Ft"},{"$f":"VLOOKUP($B70&F$56,Árlista!$B:$F,5,0)","v":"134 910,-Ft"},{"$f":"VLOOKUP($B70&G$56,Árlista!$B:$F,5,0)","v":"134 910,-Ft"},{"$f":"VLOOKUP($B70&H$56,Árlista!$B:$F,5,0)","v":"117 770,-Ft"},{"$f":"VLOOKUP($B70&I$56,Árlista!$B:$F,5,0)","v":"117 770,-Ft"},{"$f":"VLOOKUP($B70&J$56,Árlista!$B:$F,5,0)","v":"117 770,-Ft"},{"$f":"VLOOKUP($B70&K$56,Árlista!$B:$F,5,0)","v":"117 770,-Ft"},{"$f":"VLOOKUP($B70&L$56,Árlista!$B:$F,5,0)","v":"117 770,-Ft"},{"$f":"VLOOKUP($B70&M$56,Árlista!$B:$F,5,0)","v":"117 770,-Ft"}]
[null,"3030",2400,"WFIF 200",{"$f":"VLOOKUP($B71&E$56,Árlista!$B:$F,5,0)","v":"162 170,-Ft"},{"$f":"VLOOKUP($B71&F$56,Árlista!$B:$F,5,0)","v":"162 170,-Ft"},{"$f":"VLOOKUP($B71&G$56,Árlista!$B:$F,5,0)","v":"162 170,-Ft"},{"$f":"VLOOKUP($B71&H$56,Árlista!$B:$F,5,0)","v":"138 010,-Ft"},{"$f":"VLOOKUP($B71&I$56,Árlista!$B:$F,5,0)","v":"138 010,-Ft"},{"$f":"VLOOKUP($B71&J$56,Árlista!$B:$F,5,0)","v":"138 010,-Ft"},{"$f":"VLOOKUP($B71&K$56,Árlista!$B:$F,5,0)","v":"138 010,-Ft"},{"$f":"VLOOKUP($B71&L$56,Árlista!$B:$F,5,0)","v":"138 010,-Ft"},{"$f":"VLOOKUP($B71&M$56,Árlista!$B:$F,5,0)","v":"138 010,-Ft"}]
[null,"3050",3600,"WFIF 240",{"$f":"VLOOKUP($B72&E$56,Árlista!$B:$F,5,0)","v":"380 000,-Ft (2)"},{"$f":"VLOOKUP($B72&F$56,Árlista!$B:$F,5,0)","v":"380 000,-Ft (2)"},{"$f":"VLOOKUP($B72&G$56,Árlista!$B:$F,5,0)","v":"380 000,-Ft (2)"},{"$f":"VLOOKUP($B72&H$56,Árlista!$B:$F,5,0)","v":"167 210,-Ft"},{"$f":"VLOOKUP($B72&I$56,Árlista!$B:$F,5,0)","v":"167 210,-Ft"},{"$f":"VLOOKUP($B72&J$56,Árlista!$B:$F,5,0)","v":"167 210,-Ft"},{"$f":"VLOOKUP($B72&K$56,Árlista!$B:$F,5,0)","v":"167 210,-Ft"},{"$f":"VLOOKUP($B72&L$56,Árlista!$B:$F,5,0)","v":"167 210,-Ft"},{"$f":"VLOOKUP($B72&M$56,Árlista!$B:$F,5,0)","v":"167 210,-Ft"}]
[null,"3 x 2030",5040,"WFIF 450"]
[null,"3 x 3030",6720,"WFIF 600"]
[null,"4 x 3030",9600,"WFIF 900"]
[null,"6 x 3030",13440,"WFIF 1200"]
[null,"8 x 3030",17280,"WFIF 1800"]
[null,"10 x 3030",21120,"WFIF 2000"]
[null,"* borosilicate micro fibres"]
[null,"KONDENZÁTUM \nLEERESZTŐ",null,"1/2\"","1\"","Stainless steel 1.4404"]
[null,null,null,"Drain valve","Drain valve 1\"","AOK 20SS","TD 16Mcr"]
[null,"Nettó ár [HUF]",null,{"$f":"VLOOKUP(D81,Árlista!$B:$F,5,0)","v":"31 960,-Ft"},{"$f":"VLOOKUP(E81,Árlista!$B:$F,5,0)","v":"32 980,-Ft"},{"$f":"VLOOKUP(F81,Árlista!$B:$F,5,0)","v":"127 600,-Ft"},{"$f":"VLOOKUP(G81,Árlista!$B:$F,5,0)","v":"33 880,-Ft"}]
[]
[null,"KIEGÉSZÍTŐK ",null,"Vent for AOK 20SS"]
[null,null,null,"Nipple 20SS"]
[null,"Nettó ár [HUF]",null,{"$f":"VLOOKUP(D85,Árlista!$B:$F,5,0)","v":"18 320,-Ft"}]

{"sheet":"P-VAC","index":8,"n_rows":59,"n_cols":30,"rows_kept":59,"cut":false,"hidden":false,"merged":[[14,1,14,12],[15,1,17,1],[15,2,16,2],[15,3,16,3],[15,4,16,5],[15,6,16,9],[15,10,16,10],[15,11,17,11],[15,12,17,12],[30,1,30,12],[32,1,34,3],[35,4,36,4],[35,5,36,5],[35,6,36,8],[35,9,35,11],[36,9,36,10],[37,12,39,12],[37,11,39,11],[37,1,39,1],[37,2,38,2],[37,3,39,3],[37,4,39,5],[37,10,39,10],[58,1,58,2],[58,11,58,12],[53,1,53,2],[54,1,54,2],[56,1,57,2],[56,11,56,12],[57,11,57,12]]}
[null,"P-VAC series"]
[]
[]
[null,null,null,null,null,null,null,null,null,null,null,null,null,null,null,"INDEX "]
[]
[null,null,null,null,null,null,null,null,null,null,null,null,null,null,null,null,null,{"$f":"AF!R6","v":"A feltüntett árak nettó listaárak. Szállítási feltételek és kedvezmények felől érdeklődhet:\n30/201-4931\ninfo@techtomat.hu"}]
[]
[]
[]
[]
[]
[]
[]
[]
[null,"SZŰRŐ HÁZ",null,null,null,null,null,null,null,null,null,null,null,null,null,null,null,"KORREKCIÓS FAKTOR"]
[null,"Szűrő \nház\nméret","Cső\n méret",null,"Free air capacity at \natmospheric nyomás",null,"Méretek",null,null,null,"Tömeg","Szűrő \nbetét\ntípus","Nettó ár\n(Csak szűrőház)\n[HUF]",null,null,null,null,"Absolute nyomás [bar]",1,0.9,0.8,0.7,0.6,0.5,0.4,0.3,0.2,0.1,0.05,0.02]
[null,null,null,null,null,null,null,null,null,null,null,null,null,null,null,null,null,"Absolute nyomás [psi]",14.7,13,11.6,10.199999999999999,8.6999999999999993,7.3,5.8,3.3,2.9,1.45,0.73,0.28999999999999998]
[null,null,"inch",null,"Nm³/h","scfm","A [mm]","B [mm]","C [mm]","D [mm]","kg",null,null,null,null,null,null,"Korrekciós faktor",1,0.9,0.8,0.7,0.6,0.5,0.4,0.3,0.2,0.1,0.05,0.02]
[null,"P-VAC 0056","3/8’’",null,7.5,4.5,187,88,20,60,0.7,6050,{"$f":"VLOOKUP(B19,Árlista!$B:$F,5,0)","v":"19 620,-Ft"}]
[null,"P-VAC 0076","1/2’’",null,9.8000000000000007,5.8,187,88,20,60,0.7,7050,{"$f":"VLOOKUP(B20,Árlista!$B:$F,5,0)","v":"20 810,-Ft"}]
[null,"P-VAC 0106","3/4’’",null,15,8.8000000000000007,257,88,20,80,0.8,14050,{"$f":"VLOOKUP(B21,Árlista!$B:$F,5,0)","v":"22 450,-Ft"}]
[null,"P-VAC 0186","1’’",null,24.8,14.6,263,125,32,100,1.8,12075,{"$f":"VLOOKUP(B22,Árlista!$B:$F,5,0)","v":"32 730,-Ft"}]
[null,"P-VAC 0306","1’’",null,41.9,24.7,363,125,32,120,2.5,22075,{"$f":"VLOOKUP(B23,Árlista!$B:$F,5,0)","v":"35 280,-Ft"}]
[null,"P-VAC 0476","1 1/2’’",null,63.8,37.6,461,125,32,140,2.5,32075,{"$f":"VLOOKUP(B24,Árlista!$B:$F,5,0)","v":"40 810,-Ft"}]
[null,"P-VAC 0706","1 1/2’’",null,97.5,57.4,640,125,32,160,3.2,50075,{"$f":"VLOOKUP(B25,Árlista!$B:$F,5,0)","v":"49 850,-Ft"}]
[null,"P-VAC 0946","2’’",null,125,73.599999999999994,684,163,43,520,5.0999999999999996,51090,{"$f":"VLOOKUP(B26,Árlista!$B:$F,5,0)","v":"80 930,-Ft"}]
[null,"P-VAC 1506","2’’",null,187,110.4,935,163,43,770,7.1,76090,{"$f":"VLOOKUP(B27,Árlista!$B:$F,5,0)","v":"110 980,-Ft"}]
[null,"P-VAC 1756","2 1/2’’",null,210,123.6,935,163,43,770,6.9,76090,{"$f":"VLOOKUP(B28,Árlista!$B:$F,5,0)","v":"151 570,-Ft"}]
[null,"P-VAC 2006","3’’",null,270,158.9,795,240,59,630,12.9,51140,{"$f":"VLOOKUP(B29,Árlista!$B:$F,5,0)","v":"180 450,-Ft"}]
[null,"P-VAC 2406","3’’",null,345,203,1000,240,59,780,14,75140,{"$f":"VLOOKUP(B30,Árlista!$B:$F,5,0)","v":"197 860,-Ft"}]
[null,"MEGJEGYZÉS\n- Árs are for filter házs and valve only.\n- To calculate the correct capacity of a given filter based on actual működési conditions, multiply the nominal flow capacity by the appropriate correction factor C1.\n- To select a filter to match system flow conditions, multiply the system flow by the correction factor C2 that corresponds to vacuum in the pipe."]
[]
[null,"SZŰRŐ BETÉT",null,null,"3 µm","0,1 µm"]
[null,null,null,null,"P-VAC P","P-VAC M"]
[null,null,null,null,"előszűrő","mikroszűrő"]
[null,null,null,null,"acrylic fibers, \ncellulose","borosilicate micro fibres"]
[]
[null,"Szűrő \nbetét \ntípus","Átáramlási képesség","Corresponding\nház","Nettó \nÁr\n[HUF]"]
[]
[null,null,"[Nm³/h]"]
[null,6050,7.5,"P-VAC 0056",{"$f":"VLOOKUP(B41&E$34,Árlista!$B:$F,5,0)","v":"6 010,-Ft"},{"$f":"VLOOKUP(B41&F$34,Árlista!$B:$F,5,0)","v":"6 010,-Ft"}]
[null,7050,9.8000000000000007,"P-VAC 0076",{"$f":"VLOOKUP(B42&E$34,Árlista!$B:$F,5,0)","v":"7 450,-Ft"},{"$f":"VLOOKUP(B42&F$34,Árlista!$B:$F,5,0)","v":"7 450,-Ft"}]
[null,14050,15,"P-VAC 0106",{"$f":"VLOOKUP(B43&E$34,Árlista!$B:$F,5,0)","v":"9 570,-Ft"},{"$f":"VLOOKUP(B43&F$34,Árlista!$B:$F,5,0)","v":"9 570,-Ft"}]
[null,12075,24.8,"P-VAC 0186",{"$f":"VLOOKUP(B44&E$34,Árlista!$B:$F,5,0)","v":"12 090,-Ft"},{"$f":"VLOOKUP(B44&F$34,Árlista!$B:$F,5,0)","v":"12 090,-Ft"}]
[null,22075,41.9,"P-VAC 0306",{"$f":"VLOOKUP(B45&E$34,Árlista!$B:$F,5,0)","v":"17 050,-Ft"},{"$f":"VLOOKUP(B45&F$34,Árlista!$B:$F,5,0)","v":"17 050,-Ft"}]
[null,32075,63.8,"P-VAC 0476",{"$f":"VLOOKUP(B46&E$34,Árlista!$B:$F,5,0)","v":"20 610,-Ft"},{"$f":"VLOOKUP(B46&F$34,Árlista!$B:$F,5,0)","v":"20 610,-Ft"}]
[null,50075,97.5,"P-VAC 0706",{"$f":"VLOOKUP(B47&E$34,Árlista!$B:$F,5,0)","v":"25 530,-Ft"},{"$f":"VLOOKUP(B47&F$34,Árlista!$B:$F,5,0)","v":"25 530,-Ft"}]
[null,51090,125,"P-VAC 0946",{"$f":"VLOOKUP(B48&E$34,Árlista!$B:$F,5,0)","v":"36 560,-Ft"},{"$f":"VLOOKUP(B48&F$34,Árlista!$B:$F,5,0)","v":"36 560,-Ft"}]
[null,76090,187,"P-VAC 1506",{"$f":"VLOOKUP(B49&E$34,Árlista!$B:$F,5,0)","v":"44 450,-Ft"},{"$f":"VLOOKUP(B49&F$34,Árlista!$B:$F,5,0)","v":"44 450,-Ft"}]
[null,76090,210,"P-VAC 1756",{"$f":"VLOOKUP(B50&E$34,Árlista!$B:$F,5,0)","v":"44 450,-Ft"},{"$f":"VLOOKUP(B50&F$34,Árlista!$B:$F,5,0)","v":"44 450,-Ft"}]
[null,51140,270,"P-VAC 2006",{"$f":"VLOOKUP(B51&E$34,Árlista!$B:$F,5,0)","v":"56 560,-Ft"},{"$f":"VLOOKUP(B51&F$34,Árlista!$B:$F,5,0)","v":"56 560,-Ft"}]
[null,75140,345,"P-VAC 2406",{"$f":"VLOOKUP(B52&E$34,Árlista!$B:$F,5,0)","v":"65 540,-Ft"},{"$f":"VLOOKUP(B52&F$34,Árlista!$B:$F,5,0)","v":"65 540,-Ft"}]
[]
[null,"KONDENZÁTUM \nDRAIN",null,"ball valve"]
[null,"Nettó ár [HUF]",null,{"$f":"VLOOKUP(D54,Árlista!$B:$F,5,0)","v":"2 850,-Ft"}]
[]
[null,"KIEGÉSZÍTŐK ",null,"P-VAC 0056 to P-VAC 0106","P-VAC 0186 to P-VAC 0706"]
[null,null,null,"WS","WM"]
[null,"Nettó ár [HUF]",null,{"$f":"VLOOKUP(D58,Árlista!$B:$F,5,0)","v":"10 330,-Ft"},{"$f":"VLOOKUP(E58,Árlista!$B:$F,5,0)","v":"12 930,-Ft"}]

{"sheet":"M-VAC","index":9,"n_rows":67,"n_cols":26,"rows_kept":67,"cut":false,"hidden":false,"merged":[[41,10,43,10],[41,11,43,11],[15,10,17,10],[34,1,34,10],[36,1,38,3],[39,4,40,4],[39,5,40,5],[39,6,40,8],[39,9,39,11],[40,9,40,10],[15,1,17,1],[15,2,16,2],[15,3,16,4],[15,5,16,7],[15,8,16,8],[66,1,66,2],[41,1,43,1],[41,2,42,2],[15,9,17,9],[41,3,43,3],[61,1,61,2],[62,1,62,2],[64,1,65,2],[41,4,43,4]]}
[null,"M-VAC series"]
[]
[]
[null,null,null,null,null,null,null,null,null,null,null,null,null,null,null,"INDEX "]
[]
[]
[]
[]
[]
[]
[]
[]
[]
[]
[null,"SZŰRŐ HÁZ",null,null,null,null,null,null,null,null,null,null,null,"KORREKCIÓS FAKTOR"]
[null,"Szűrő \nház\nméret","Cső\n méret","Free air capacity at \natmospheric nyomás",null,"Méretek",null,null,"Tömeg","Szűrő \nbetét\ntípus","Nettó ár\n(Csak szűrőház)\n[HUF]",null,null,"Absolute nyomás [bar]",1,0.9,0.8,0.7,0.6,0.5,0.4,0.3,0.2,0.1,0.05,0.02]
[null,null,null,null,null,null,null,null,null,null,null,null,null,"Absolute nyomás [psi]",14.7,13,11.6,10.199999999999999,8.6999999999999993,7.3,5.8,3.3,2.9,1.45,0.73,0.28999999999999998]
[null,null,"inch","Nm³/h","scfm","A [mm]","B [mm]","D [mm]","kg",null,null,null,null,"Korrekciós faktor",1,0.9,0.8,0.7,0.6,0.5,0.4,0.3,0.2,0.1,0.05,0.02]
[null,"M-VAC 0056","3/8’’",7.5,4,187,88,60,0.7,6050,{"$f":"VLOOKUP(B19,Árlista!$B:$F,5,0)","v":"21 570,-Ft"}]
[null,"M-VAC 0076","1/2’’",9.8000000000000007,6,187,88,60,0.7,7050,{"$f":"VLOOKUP(B20,Árlista!$B:$F,5,0)","v":"22 900,-Ft"}]
[null,"M-VAC 0106","3/4’’",15,9,257,88,80,0.8,14050,{"$f":"VLOOKUP(B21,Árlista!$B:$F,5,0)","v":"24 680,-Ft"}]
[null,"M-VAC 0186","1’’",24.8,15,263,125,100,1.8,12075,{"$f":"VLOOKUP(B22,Árlista!$B:$F,5,0)","v":"35 990,-Ft"}]
[null,"M-VAC 0306","1’’",41.9,25,363,125,120,2.5,22075,{"$f":"VLOOKUP(B23,Árlista!$B:$F,5,0)","v":"38 810,-Ft"}]
[null,"M-VAC 0476","1 1/2’’",63.8,38,461,125,140,2.5,32075,{"$f":"VLOOKUP(B24,Árlista!$B:$F,5,0)","v":"44 890,-Ft"}]
[null,"M-VAC 0706","1 1/2’’",97.5,57,640,125,160,3.2,50075,{"$f":"VLOOKUP(B25,Árlista!$B:$F,5,0)","v":"54 750,-Ft"}]
[null,"M-VAC 0946","2’’",125,74,684,163,520,5.0999999999999996,51090,{"$f":"VLOOKUP(B26,Árlista!$B:$F,5,0)","v":"89 010,-Ft"}]
[null,"M-VAC 1506","2’’",187.5,110,935,163,770,7.1,76090,{"$f":"VLOOKUP(B27,Árlista!$B:$F,5,0)","v":"122 070,-Ft"}]
[null,"M-VAC 1756","2 1/2’’",210,124,935,163,770,6.9,76090,{"$f":"VLOOKUP(B28,Árlista!$B:$F,5,0)","v":"166 700,-Ft"}]
[null,"M-VAC 2006","3’’",270,159,795,240,630,12.9,51140,{"$f":"VLOOKUP(B29,Árlista!$B:$F,5,0)","v":"198 470,-Ft"}]
[null,"M-VAC 2406","3’’",345,203,1000,240,780,14,75140,{"$f":"VLOOKUP(B30,Árlista!$B:$F,5,0)","v":"217 530,-Ft"}]
[null,"M-VAC B240","DN80",275,162,1170,450,650,61,"1x 76090",{"$f":"VLOOKUP(B31,Árlista!$B:$F,5,0)","v":"691 000,-Ft (2)"}]
[null,"M-VAC B300","DN100",394,232,1340,560,650,115,"2x 76090",{"$f":"VLOOKUP(B32,Árlista!$B:$F,5,0)","v":"1 213 000,-Ft (3)"}]
[null,"M-VAC B450","DN125",587,345,1340,560,650,123,"3x 76090",{"$f":"VLOOKUP(B33,Árlista!$B:$F,5,0)","v":"1 459 000,-Ft (3)"}]
[null,"M-VAC B600","DN150",787,463,1425,620,650,178,"4x 76090",{"$f":"VLOOKUP(B34,Árlista!$B:$F,5,0)","v":"1 547 000,-Ft (3)"}]
[null,"MEGJEGYZÉS A megadott nettó árak tájékoztató jellegűek, az utána feltüntett szám az adott termék árkategóriáját jelöli.\n- Árs are for filter házs and valve only.\n- To calculate the correct capacity of a given filter based on actual működési conditions, multiply the nominal flow capacity by the appropriate correction factor C1.\n- To select a filter to match system flow conditions, multiply the system flow by the correction factor C2 that corresponds to vacuum in the pipe."]
[]
[null,"SZŰRŐ BETÉT",null,null,"3 µm"]
[null,null,null,null,"VAC"]
[null,null,null,null,"mikroszűrő"]
[null,null,null,null,"borosilicate \nmicro fibers"]
[]
[null,"Szűrő \nbetét \ntípus","Átáramlási képesség","Corresponding\nház","Nettó \nÁr\n[HUF]"]
[]
[null,null,"[Nm³/h]"]
[null,6050,7.5,"M-VAC 0056",{"$f":"VLOOKUP(B45&E$38,Árlista!$B:$F,5,0)","v":"6 010,-Ft"}]
[null,7050,9.8000000000000007,"M-VAC 0076",{"$f":"VLOOKUP(B46&E$38,Árlista!$B:$F,5,0)","v":"7 450,-Ft"}]
[null,14050,15,"M-VAC 0106",{"$f":"VLOOKUP(B47&E$38,Árlista!$B:$F,5,0)","v":"9 570,-Ft"}]
[null,12075,24.8,"M-VAC 0186",{"$f":"VLOOKUP(B48&E$38,Árlista!$B:$F,5,0)","v":"12 090,-Ft"}]
[null,22075,41.9,"M-VAC 0306",{"$f":"VLOOKUP(B49&E$38,Árlista!$B:$F,5,0)","v":"17 050,-Ft"}]
[null,32075,63.8,"M-VAC 0476",{"$f":"VLOOKUP(B50&E$38,Árlista!$B:$F,5,0)","v":"20 610,-Ft"}]
[null,50075,97.5,"M-VAC 0706",{"$f":"VLOOKUP(B51&E$38,Árlista!$B:$F,5,0)","v":"25 530,-Ft"}]
[null,51090,125,"M-VAC 0946",{"$f":"VLOOKUP(B52&E$38,Árlista!$B:$F,5,0)","v":"36 560,-Ft"}]
[null,76090,187.5,"M-VAC 1506",{"$f":"VLOOKUP(B53&E$38,Árlista!$B:$F,5,0)","v":"44 450,-Ft"}]
[null,76090,210,"M-VAC 1756",{"$f":"VLOOKUP(B54&E$38,Árlista!$B:$F,5,0)","v":"44 450,-Ft"}]
[null,51140,270,"M-VAC 2006",{"$f":"VLOOKUP(B55&E$38,Árlista!$B:$F,5,0)","v":"56 560,-Ft"}]
[null,75140,345,"M-VAC 2406",{"$f":"VLOOKUP(B56&E$38,Árlista!$B:$F,5,0)","v":"65 540,-Ft"}]
[null,"1x 76090",275,"M-VAC B240"]
[null,"2x 76090",394,"M-VAC B300"]
[null,"3x 76090",587,"M-VAC B450"]
[null,"4x 76090",787,"M-VAC B600"]
[]
[null,"KONDENZÁTUM \nDRAIN",null,"ball valve"]
[null,"Nettó ár [HUF]",null,{"$f":"VLOOKUP(D62,Árlista!$B:$F,5,0)","v":"2 850,-Ft"}]
[]
[null,"KIEGÉSZÍTŐK ",null,"mVAC 0056-mVAC 0706","mVAC 0946-mVAC 2406","mVAC B240-mVAC B600","mVAC 0056-mVAC 0706","mVAC 0946-mVAC 2406","mVAC B240-mVAC B600","M-VAC 0056 to M-VAC 0106","M-VAC 0186 to M-VAC 0706"]
[null,null,null,"DGFSK 10","DGFSK 25","DGFSK 50","Set 10","Set 25","Set 50","WS","WM"]
[null,"Nettó ár [HUF]",null,{"$f":"VLOOKUP(D66,Árlista!$B:$F,5,0)","v":"4 380,-Ft"},{"$f":"VLOOKUP(E66,Árlista!$B:$F,5,0)","v":"4 880,-Ft"},{"$f":"VLOOKUP(F66,Árlista!$B:$F,5,0)","v":"5 620,-Ft"},{"$f":"VLOOKUP(G66,Árlista!$B:$F,5,0)","v":"11 470,-Ft"},{"$f":"VLOOKUP(H66,Árlista!$B:$F,5,0)","v":"12 360,-Ft"},{"$f":"VLOOKUP(I66,Árlista!$B:$F,5,0)","v":"13 570,-Ft"},{"$f":"VLOOKUP(J66,Árlista!$B:$F,5,0)","v":"10 330,-Ft"},{"$f":"VLOOKUP(K66,Árlista!$B:$F,5,0)","v":"12 930,-Ft"}]

{"sheet":"AFs","index":10,"n_rows":56,"n_cols":33,"rows_kept":56,"cut":false,"hidden":false,"merged":[[14,1,14,12],[15,1,17,1],[15,2,16,3],[15,4,16,5],[15,6,16,9],[15,10,16,10],[15,11,17,11],[15,12,17,12],[17,2,17,3],[17,4,17,5],[18,2,18,3],[18,4,18,5],[19,2,19,3],[19,4,19,5],[20,2,20,3],[20,4,20,5],[21,2,21,3],[21,4,21,5],[22,2,22,3],[22,4,22,5],[23,2,23,3],[23,4,23,5],[24,2,24,3],[24,4,24,5],[25,2,25,3],[25,4,25,5],[26,2,26,3],[26,4,26,5],[27,2,27,3],[27,4,27,5],[28,2,28,3],[28,4,28,5],[29,2,29,3],[29,4,29,5],[30,1,30,12],[32,1,34,3],[35,4,36,5],[35,6,36,8],[35,9,35,11],[36,9,36,10],[37,12,39,12],[37,11,39,11],[37,1,39,1],[37,2,38,2],[37,3,39,3],[37,4,39,5],[37,10,39,10],[53,1,54,2],[53,5,53,6],[53,7,53,8],[53,9,53,10],[53,11,53,12],[54,5,54,6],[54,7,54,8],[54,9,54,10],[54,11,54,12],[55,1,55,2],[55,5,55,6],[55,7,55,8],[55,9,55,10],[55,11,55,12]]}
[null,"AFs series"]
[]
[]
[null,null,null,null,null,null,null,null,null,null,null,null,null,null,null,"INDEX "]
[]
[]
[]
[]
[]
[]
[]
[]
[]
[]
[null,"SZŰRŐ HÁZ",null,null,null,null,null,null,null,null,null,null,null,null,null,null,null,"KORREKCIÓS FAKTOR"]
[null,"Szűrő \nház\nméret","Csatlakozás",null,"Átáramlási képesség \nat 7 bar(g), 20 °C",null,"Méretek",null,null,null,"Tömeg","Szűrő \nbetét\ntípus","Nettó ár\n(Csak szűrőház)\n[HUF]",null,null,null,null,"Üzemi nyomás [bar]",2,3,4,5,6,7,8,9,10,11,12,13,14,15,16]
[null,null,null,null,null,null,null,null,null,null,null,null,null,null,null,null,null,"Üzemi nyomás [psi]",29,44,58,72,87,100,115,130,145,160,174,189,203,218,232]
[null,null,"inch",null,"Nm³/h",null,"A [mm]","B [mm]","C [mm]","D [mm]","kg",null,null,null,null,null,null,"Korrekciós faktor",0.38,0.5,0.63,0.75,0.88,1,1.1299999999999999,1.25,1.38,1.5,1.63,1.75,1.88,2,2.13]
[null,"AFs 0056","3/8",null,60,null,187,88,20,60,0.7,6050,{"$f":"VLOOKUP(B19,Árlista!$B:$F,5,0)","v":"21 570,-Ft"}]
[null,"AFs 0076","1/2",null,75,null,187,88,20,60,0.7,7050,{"$f":"VLOOKUP(B20,Árlista!$B:$F,5,0)","v":"22 900,-Ft"}]
[null,"AFs 0106","3/4",null,120,null,257,88,20,80,0.8,14050,{"$f":"VLOOKUP(B21,Árlista!$B:$F,5,0)","v":"24 680,-Ft"}]
[null,"AFs 0186","1",null,198,null,263,125,32,100,1.8,12075,{"$f":"VLOOKUP(B22,Árlista!$B:$F,5,0)","v":"35 990,-Ft"}]
[null,"AFs 0306","1",null,335,null,363,125,32,120,2.5,22075,{"$f":"VLOOKUP(B23,Árlista!$B:$F,5,0)","v":"38 810,-Ft"}]
[null,"AFs 0476","1 1/2",null,510,null,461,125,32,140,2.5,32075,{"$f":"VLOOKUP(B24,Árlista!$B:$F,5,0)","v":"44 890,-Ft"}]
[null,"AFs 0706","1 1/2",null,780,null,640,125,32,160,3.2,50075,{"$f":"VLOOKUP(B25,Árlista!$B:$F,5,0)","v":"54 750,-Ft"}]
[null,"AFs 0946","2",null,1000,null,684,163,43,520,5.0999999999999996,51090,{"$f":"VLOOKUP(B26,Árlista!$B:$F,5,0)","v":"89 010,-Ft"}]
[null,"AFs 1506","2",null,1500,null,935,163,43,770,7.1,76090,{"$f":"VLOOKUP(B27,Árlista!$B:$F,5,0)","v":"122 070,-Ft"}]
[null,"AFs 1756","2 1/2",null,1680,null,935,163,43,770,6.9,76090,{"$f":"VLOOKUP(B28,Árlista!$B:$F,5,0)","v":"166 700,-Ft"}]
[null,"AFs 2006","3",null,2160,null,795,240,59,630,12.9,51140,{"$f":"VLOOKUP(B29,Árlista!$B:$F,5,0)","v":"198 470,-Ft"}]
[null,"AFs 2406","3",null,2760,null,1000,240,59,780,14,75140,{"$f":"VLOOKUP(B30,Árlista!$B:$F,5,0)","v":"217 530,-Ft"}]
[null,"MEGJEGYZÉS\n- Ár, csak a szűrőházra vonatkozik!"]
[]
[null,"SZŰRŐ BETÉT",null,null,"0,1 µm","0,01 µm"]
[null,null,null,null,"Ms","Ss"]
[null,null,null,null,"mikroszűrő","mikroszűrő"]
[null,null,null,null,"borosilicate micro fibres"]
[]
[null,"Szűrő \nbetét \ntípus","Átáramlási képesség","Corresponding\nház","Nettó \nÁr\n[HUF]"]
[]
[null,null,"[Nm³/h]"]
[null,6050,60,"AFs 0056",{"$f":"VLOOKUP(B41&E$34,Árlista!$B:$F,5,0)","v":"6 300,-Ft"},{"$f":"VLOOKUP(B41&F$34,Árlista!$B:$F,5,0)","v":"6 300,-Ft"}]
[null,7050,78,"AFs 0076",{"$f":"VLOOKUP(B42&E$34,Árlista!$B:$F,5,0)","v":"7 790,-Ft"},{"$f":"VLOOKUP(B42&F$34,Árlista!$B:$F,5,0)","v":"7 790,-Ft"}]
[null,14050,120,"AFs 0106",{"$f":"VLOOKUP(B43&E$34,Árlista!$B:$F,5,0)","v":"10 020,-Ft"},{"$f":"VLOOKUP(B43&F$34,Árlista!$B:$F,5,0)","v":"10 020,-Ft"}]
[null,12075,198,"AFs 0186",{"$f":"VLOOKUP(B44&E$34,Árlista!$B:$F,5,0)","v":"12 620,-Ft"},{"$f":"VLOOKUP(B44&F$34,Árlista!$B:$F,5,0)","v":"12 620,-Ft"}]
[null,22075,335,"AFs 0306",{"$f":"VLOOKUP(B45&E$34,Árlista!$B:$F,5,0)","v":"17 820,-Ft"},{"$f":"VLOOKUP(B45&F$34,Árlista!$B:$F,5,0)","v":"17 820,-Ft"}]
[null,32075,510,"AFs 0476",{"$f":"VLOOKUP(B46&E$34,Árlista!$B:$F,5,0)","v":"21 540,-Ft"},{"$f":"VLOOKUP(B46&F$34,Árlista!$B:$F,5,0)","v":"21 540,-Ft"}]
[null,50075,780,"AFs 0706",{"$f":"VLOOKUP(B47&E$34,Árlista!$B:$F,5,0)","v":"26 680,-Ft"},{"$f":"VLOOKUP(B47&F$34,Árlista!$B:$F,5,0)","v":"26 680,-Ft"}]
[null,51090,1000,"AFs 0946",{"$f":"VLOOKUP(B48&E$34,Árlista!$B:$F,5,0)","v":"38 210,-Ft"},{"$f":"VLOOKUP(B48&F$34,Árlista!$B:$F,5,0)","v":"38 210,-Ft"}]
[null,76090,1500,"AFs 1506",{"$f":"VLOOKUP(B49&E$34,Árlista!$B:$F,5,0)","v":"46 530,-Ft"},{"$f":"VLOOKUP(B49&F$34,Árlista!$B:$F,5,0)","v":"46 530,-Ft"}]
[null,76090,1680,"AFs 1756",{"$f":"VLOOKUP(B50&E$34,Árlista!$B:$F,5,0)","v":"46 530,-Ft"},{"$f":"VLOOKUP(B50&F$34,Árlista!$B:$F,5,0)","v":"46 530,-Ft"}]
[null,51140,2160,"AFs 2006",{"$f":"VLOOKUP(B51&E$34,Árlista!$B:$F,5,0)","v":"59 100,-Ft"},{"$f":"VLOOKUP(B51&F$34,Árlista!$B:$F,5,0)","v":"59 100,-Ft"}]
[null,75140,2760,"AFs 2406",{"$f":"VLOOKUP(B52&E$34,Árlista!$B:$F,5,0)","v":"68 390,-Ft"},{"$f":"VLOOKUP(B52&F$34,Árlista!$B:$F,5,0)","v":"68 390,-Ft"}]
[]
[null,"KIEGÉSZÍTŐK ",null,"AFs 0056 to AFs 0106","AFs 0186 to AFs 0706","AF 0056 to AF 0106",null,"AF 0186 to AF 0706",null,"AF 0946 to AF 2406"]
[null,null,null,"WS","WM","AK-3/8”, AK-½”, AK-3/4” ",null,"AK-1”, AK-1½”",null,"AK-2”, AK-2½”, AK-3” "]
[null,"Nettó ár [HUF]",null,{"$f":"VLOOKUP(D55,Árlista!$B:$F,5,0)","v":"10 330,-Ft"},{"$f":"VLOOKUP(E55,Árlista!$B:$F,5,0)","v":"12 930,-Ft"},{"$f":"VLOOKUP(F55,Árlista!$B:$F,5,0)","v":"20 550,-Ft"},{"$f":"VLOOKUP(G55,Árlista!$B:$F,5,0)","v":{"$error":"#N/A"}},{"$f":"VLOOKUP(H55,Árlista!$B:$F,5,0)","v":"23 890,-Ft"},{"$f":"VLOOKUP(I55,Árlista!$B:$F,5,0)","v":{"$error":"#N/A"}},{"$f":"VLOOKUP(J55,Árlista!$B:$F,5,0)","v":"60 080,-Ft"},{"$f":"VLOOKUP(K55,Árlista!$B:$F,5,0)","v":{"$error":"#N/A"}}]

{"sheet":"HF","index":11,"n_rows":57,"n_cols":28,"rows_kept":57,"cut":false,"hidden":false,"merged":[[14,1,14,12],[15,1,17,1],[15,2,16,2],[15,3,16,3],[15,4,16,5],[15,6,16,9],[15,10,16,10],[15,11,17,11],[15,12,17,12],[34,10,36,10],[34,11,36,11],[34,12,36,12],[27,1,27,12],[29,1,31,3],[32,4,33,4],[32,5,33,5],[32,6,33,8],[34,1,36,1],[34,2,35,2],[34,3,36,3],[34,4,36,4],[34,5,36,9],[47,1,47,2],[48,1,48,2],[49,1,49,2],[51,1,51,2],[52,1,52,2],[60,1,60,2],[60,3,60,4],[60,5,60,6],[54,11,54,12],[55,11,55,12],[56,1,56,2],[56,11,56,12],[58,1,59,2],[58,3,58,4],[58,5,58,6],[59,3,59,4],[59,5,59,6],[54,1,55,2]]}
[null,"HF series"]
[]
[]
[null,null,null,null,null,null,null,null,null,null,null,null,null,null,null,"INDEX "]
[]
[]
[]
[]
[]
[]
[]
[]
[]
[]
[null,"SZŰRŐ HÁZ",null,null,null,null,null,null,null,null,null,null,null,null,null,null,null,"KORREKCIÓS FAKTOR"]
[null,"Szűrő \nház\nméret","Cső\n méret","Max.üz.\n nyomás","Átáramlási képesség \nat 7 bar(g), 20 °C",null,"Méretek",null,null,null,"Tömeg","Szűrő \nbetét\ntípus","Nettó ár\n(Csak szűrőház)\n[HUF]",null,null,null,null,"Üzemi nyomás [bar]",3,5,7,10,13,16,20,30,40,50]
[null,null,null,null,null,null,null,null,null,null,null,null,null,null,null,null,null,"Üzemi nyomás [psi]",44,72,100,145,189,232,290,435,580,725]
[null,null,"inch","bar/psi","Nm³/h","scfm","A [mm]","B [mm]","C [mm]","D [mm]","kg",null,null,null,null,null,null,"Korrekciós faktor",0.5,0.75,1,1.38,1.75,2.13,2.63,3.88,5.13,6.38]
[null,"HF 007","1/2''","50/725",71,42,250,110,30,80,2.1,6060,{"$f":"VLOOKUP(B19,Árlista!$B:$F,5,0)","v":"53 410,-Ft"}]
[null,"HF 010","3/4''","50/725",112,66,250,110,30,90,2.1,7060,{"$f":"VLOOKUP(B20,Árlista!$B:$F,5,0)","v":"65 730,-Ft"}]
[null,"HF 018","1''","50/725",204,120,250,110,30,140,2.1,12060,{"$f":"VLOOKUP(B21,Árlista!$B:$F,5,0)","v":"75 000,-Ft"}]
[null,"HF 047","1 1/2''","50/725",282,166,535,160,45,260,9.5,22090,{"$f":"VLOOKUP(B22,Árlista!$B:$F,5,0)","v":"116 400,-Ft"}]
[null,"HF 070","1 1/2''","50/725",400,235,535,160,45,360,9.5,32090,{"$f":"VLOOKUP(B23,Árlista!$B:$F,5,0)","v":"123 170,-Ft"}]
[null,"HF 094","2''","50/725",494,291,715,160,45,540,12.2,50090,{"$f":"VLOOKUP(B24,Árlista!$B:$F,5,0)","v":"145 970,-Ft"}]
[null,"HF 150","2''","50/725",799,470,715,160,45,550,12.2,51090,{"$f":"VLOOKUP(B25,Árlista!$B:$F,5,0)","v":"164 340,-Ft"}]
[null,"HF 200","3''","50/725",2160,1270,862,198,70,620,30.4,51140,{"$f":"VLOOKUP(B26,Árlista!$B:$F,5,0)","v":"390 000,-Ft (2)"}]
[null,"HF 240","3''","50/725",2760,1620,1010,198,70,780,34.9,75140,{"$f":"VLOOKUP(B27,Árlista!$B:$F,5,0)","v":"423 000,-Ft (2)"}]
[null,"MEGJEGYZÉS  A megadott nettó árak tájékoztató jellegűek, az utána feltüntett szám az adott termék árkategóriáját jelöli.\n- Ár, csak a szűrőházra vonatkozik!\n- B filter betét can be cleaned with ultrasonic bath or with back flushing. Interval of cleaning depends on application. Ha szükséges, akkor cserélje új szűrőbetétre.\n- Szűrő betéts ’’A’’, should be changed periodically to assure propper quality of air, but at least every 6 months. Activated carbon filters must not operate in oil saturated conditions."]
[]
[null,"SZŰRŐ BETÉT",null,null,"15 µm","3 µm","1 µm","0,1 µm","0,01 µm"]
[null,null,null,null,"HF-B","HF-P","HF-R","HF-M","HF-S","HF-A"]
[null,null,null,null,"előszűrő","előszűrő","előszűrő","mikroszűrő","finomszűrő","act. carbon"]
[null,null,null,null,"sintered brass","acrylic fibers, \ncellulose","borosilicate micro fibres",null,null,"bor. mic. fib.*"]
[null,null,null,null,null,null,null,null,null,"act. carbon"]
[null,"Szűrő \nbetét \ntípus","Átáramlási képesség","Corresponding\nház","Nettó \nÁr\n[HUF]","Nettó \nÁr\n[HUF]"]
[]
[null,null,"[Nm³/h]"]
[null,6060,71,"HF 007",{"$f":"VLOOKUP($B38&E$31,Árlista!$B:$F,5,0)","v":"20 190,-Ft"},{"$f":"VLOOKUP($B38&F$31,Árlista!$B:$F,5,0)","v":"18 350,-Ft"},{"$f":"VLOOKUP($B38&G$31,Árlista!$B:$F,5,0)","v":"18 350,-Ft"},{"$f":"VLOOKUP($B38&H$31,Árlista!$B:$F,5,0)","v":"18 350,-Ft"},{"$f":"VLOOKUP($B38&I$31,Árlista!$B:$F,5,0)","v":"18 350,-Ft"},{"$f":"VLOOKUP($B38&J$31,Árlista!$B:$F,5,0)","v":"18 350,-Ft"}]
[null,7060,112,"HF 010",{"$f":"VLOOKUP($B39&E$31,Árlista!$B:$F,5,0)","v":"24 850,-Ft"},{"$f":"VLOOKUP($B39&F$31,Árlista!$B:$F,5,0)","v":"22 590,-Ft"},{"$f":"VLOOKUP($B39&G$31,Árlista!$B:$F,5,0)","v":"22 590,-Ft"},{"$f":"VLOOKUP($B39&H$31,Árlista!$B:$F,5,0)","v":"22 590,-Ft"},{"$f":"VLOOKUP($B39&I$31,Árlista!$B:$F,5,0)","v":"22 590,-Ft"},{"$f":"VLOOKUP($B39&J$31,Árlista!$B:$F,5,0)","v":"22 590,-Ft"}]
[null,12060,204,"HF 018",{"$f":"VLOOKUP($B40&E$31,Árlista!$B:$F,5,0)","v":"27 110,-Ft"},{"$f":"VLOOKUP($B40&F$31,Árlista!$B:$F,5,0)","v":"25 410,-Ft"},{"$f":"VLOOKUP($B40&G$31,Árlista!$B:$F,5,0)","v":"25 410,-Ft"},{"$f":"VLOOKUP($B40&H$31,Árlista!$B:$F,5,0)","v":"25 410,-Ft"},{"$f":"VLOOKUP($B40&I$31,Árlista!$B:$F,5,0)","v":"25 410,-Ft"},{"$f":"VLOOKUP($B40&J$31,Árlista!$B:$F,5,0)","v":"25 410,-Ft"}]
[null,22090,282,"HF 047",{"$f":"VLOOKUP($B41&E$31,Árlista!$B:$F,5,0)","v":"33 140,-Ft"},{"$f":"VLOOKUP($B41&F$31,Árlista!$B:$F,5,0)","v":"30 130,-Ft"},{"$f":"VLOOKUP($B41&G$31,Árlista!$B:$F,5,0)","v":"30 130,-Ft"},{"$f":"VLOOKUP($B41&H$31,Árlista!$B:$F,5,0)","v":"30 130,-Ft"},{"$f":"VLOOKUP($B41&I$31,Árlista!$B:$F,5,0)","v":"30 130,-Ft"},{"$f":"VLOOKUP($B41&J$31,Árlista!$B:$F,5,0)","v":"30 130,-Ft"}]
[null,32090,400,"HF 070",{"$f":"VLOOKUP($B42&E$31,Árlista!$B:$F,5,0)","v":"40 670,-Ft"},{"$f":"VLOOKUP($B42&F$31,Árlista!$B:$F,5,0)","v":"36 970,-Ft"},{"$f":"VLOOKUP($B42&G$31,Árlista!$B:$F,5,0)","v":"36 970,-Ft"},{"$f":"VLOOKUP($B42&H$31,Árlista!$B:$F,5,0)","v":"36 970,-Ft"},{"$f":"VLOOKUP($B42&I$31,Árlista!$B:$F,5,0)","v":"36 970,-Ft"},{"$f":"VLOOKUP($B42&J$31,Árlista!$B:$F,5,0)","v":"36 970,-Ft"}]
[null,50090,494,"HF 094",{"$f":"VLOOKUP($B43&E$31,Árlista!$B:$F,5,0)","v":"46 700,-Ft"},{"$f":"VLOOKUP($B43&F$31,Árlista!$B:$F,5,0)","v":"42 450,-Ft"},{"$f":"VLOOKUP($B43&G$31,Árlista!$B:$F,5,0)","v":"42 450,-Ft"},{"$f":"VLOOKUP($B43&H$31,Árlista!$B:$F,5,0)","v":"42 450,-Ft"},{"$f":"VLOOKUP($B43&I$31,Árlista!$B:$F,5,0)","v":"42 450,-Ft"},{"$f":"VLOOKUP($B43&J$31,Árlista!$B:$F,5,0)","v":"42 450,-Ft"}]
[null,51090,799,"HF 150",{"$f":"VLOOKUP($B44&E$31,Árlista!$B:$F,5,0)","v":"51 210,-Ft"},{"$f":"VLOOKUP($B44&F$31,Árlista!$B:$F,5,0)","v":"46 560,-Ft"},{"$f":"VLOOKUP($B44&G$31,Árlista!$B:$F,5,0)","v":"46 560,-Ft"},{"$f":"VLOOKUP($B44&H$31,Árlista!$B:$F,5,0)","v":"46 560,-Ft"},{"$f":"VLOOKUP($B44&I$31,Árlista!$B:$F,5,0)","v":"46 560,-Ft"},{"$f":"VLOOKUP($B44&J$31,Árlista!$B:$F,5,0)","v":"46 560,-Ft"}]
[null,51140,2160,"HF 200",{"$f":"VLOOKUP($B45&E$31,Árlista!$B:$F,5,0)","v":"77 850,-Ft"},{"$f":"VLOOKUP($B45&F$31,Árlista!$B:$F,5,0)","v":"61 150,-Ft"},{"$f":"VLOOKUP($B45&G$31,Árlista!$B:$F,5,0)","v":"61 150,-Ft"},{"$f":"VLOOKUP($B45&H$31,Árlista!$B:$F,5,0)","v":"61 150,-Ft"},{"$f":"VLOOKUP($B45&I$31,Árlista!$B:$F,5,0)","v":"61 150,-Ft"},{"$f":"VLOOKUP($B45&J$31,Árlista!$B:$F,5,0)","v":"61 150,-Ft"}]
[null,75140,2760,"HF 240",{"$f":"VLOOKUP($B46&E$31,Árlista!$B:$F,5,0)","v":"105 020,-Ft"},{"$f":"VLOOKUP($B46&F$31,Árlista!$B:$F,5,0)","v":"84 930,-Ft"},{"$f":"VLOOKUP($B46&G$31,Árlista!$B:$F,5,0)","v":"84 930,-Ft"},{"$f":"VLOOKUP($B46&H$31,Árlista!$B:$F,5,0)","v":"84 930,-Ft"},{"$f":"VLOOKUP($B46&I$31,Árlista!$B:$F,5,0)","v":"84 930,-Ft"},{"$f":"VLOOKUP($B46&J$31,Árlista!$B:$F,5,0)","v":"84 930,-Ft"}]
[null,"* borosilicate micro fibres"]
[null,null,null,null,"1/2\""]
[null,"KONDENZÁTUM \nLEERESZTŐ",null,"TD 50M","Drain valve","EMD HP","AOK 50B"]
[null,"Nettó ár [HUF]",null,{"$f":"VLOOKUP(D49,Árlista!$B:$F,5,0)","v":"35 550,-Ft"},{"$f":"VLOOKUP(E49,Árlista!$B:$F,5,0)","v":"31 960,-Ft"},{"$f":"VLOOKUP(F49,Árlista!$B:$F,5,0)","v":"212 830,-Ft"},{"$f":"VLOOKUP(G49,Árlista!$B:$F,5,0)","v":"100 990,-Ft"}]
[]
[null,"DIFFERENTIAL \nPRESSURE INDICATORS",null,"MDH 50"]
[null,"Nettó ár [HUF]",null,{"$f":"VLOOKUP(D52,Árlista!$B:$F,5,0)","v":"131 380,-Ft"}]
[]
[null,"KIEGÉSZÍTŐK ",null,"For EMD HP, AOK 50B "]
[null,null,null,"Nipple HP"]
[null,"Nettó ár [HUF]",null,{"$f":"VLOOKUP(D56,Árlista!$B:$F,5,0)","v":"4 920,-Ft"}]

{"sheet":"AHP","index":12,"n_rows":46,"n_cols":30,"rows_kept":46,"cut":false,"hidden":false,"merged":[[15,10,17,10],[15,11,17,11],[25,1,25,12],[27,1,29,3],[30,4,31,4],[30,5,31,5],[30,6,31,8],[15,1,17,1],[15,2,16,2],[15,3,16,3],[15,4,16,5],[15,6,16,8],[15,9,16,9],[32,11,34,11],[32,12,34,12],[32,1,34,1],[32,2,33,2],[32,3,34,3],[32,4,34,4],[32,5,34,9],[32,10,34,10],[47,1,47,2],[47,3,47,4],[47,5,47,6],[43,1,43,2],[44,1,44,2],[46,1,46,2],[46,3,46,4],[46,5,46,6],[45,1,45,2]]}
[null,"AHP series"]
[]
[]
[null,null,null,null,null,null,null,null,null,null,null,null,null,null,null,"INDEX "]
[]
[]
[]
[]
[]
[]
[]
[]
[]
[]
[null,"SZŰRŐ HÁZ",null,null,null,null,null,null,null,null,null,null,null,null,null,null,null,"KORREKCIÓS FAKTOR"]
[null,"Szűrő \nház\nméret","Cső\n méret","Max.üz.\n nyomás","Átáramlási képesség \nat 7 bar(g), 20 °C",null,"Méretek",null,null,"Tömeg","Szűrő \nbetét\ntípus","Nettó ár\n(Csak szűrőház)\n[HUF]",null,null,null,null,null,"Üzemi nyomás [bar]",3,5,7,10,13,16,20,30,40,50,60,64]
[null,null,null,null,null,null,null,null,null,null,null,null,null,null,null,null,null,"Üzemi nyomás [psi]",44,72,100,145,189,232,290,435,580,725,870,928]
[null,null,"inch","bar/psi","Nm³/h","scfm","A [mm]","B [mm]","C [mm]","kg",null,null,null,null,null,null,null,"Korrekciós faktor",0.5,0.75,1,1.38,1.75,2.13,2.63,3.88,5.13,6.38,7.63,8.1300000000000008]
[null,"AHP 005","3/8’’","64/928",30,17.600000000000001,167,104,90,2.25,6050,{"$f":"VLOOKUP(B19,Árlista!$B:$F,5,0)","v":"53 410,-Ft"}]
[null,"AHP 007","1/2’’","64/928",60,35.299999999999997,167,104,90,2.25,7050,{"$f":"VLOOKUP(B20,Árlista!$B:$F,5,0)","v":"65 730,-Ft"}]
[null,"AHP 010","3/4’’","64/928",120,70.599999999999994,232,104,90,2.84,14050,{"$f":"VLOOKUP(B21,Árlista!$B:$F,5,0)","v":"75 000,-Ft"}]
[null,"AHP 018","1’’","64/928",180,106,258,150,120,6.45,12075,{"$f":"VLOOKUP(B22,Árlista!$B:$F,5,0)","v":"116 400,-Ft"}]
[null,"AHP 030","1 1/4’’","64/928",270,159,358,150,120,7.8,22075,{"$f":"VLOOKUP(B23,Árlista!$B:$F,5,0)","v":"123 170,-Ft"}]
[null,"AHP 047","1 1/2’’","64/928",360,212,458,150,120,9.17,32075,{"$f":"VLOOKUP(B24,Árlista!$B:$F,5,0)","v":"145 970,-Ft"}]
[null,"AHP 094","2’’","64/928",720,423,665,170,120,16.5,51090,{"$f":"VLOOKUP(B25,Árlista!$B:$F,5,0)","v":"164 340,-Ft"}]
[null,"MEGJEGYZÉS  A megadott nettó árak tájékoztató jellegűek, az utána feltüntett szám az adott termék árkategóriáját jelöli.\n- Ár, csak a szűrőházra vonatkozik!\n- B filter betét can be cleaned with ultrasonic bath or with back flushing. Interval of cleaning depends on application. Ha szükséges, akkor cserélje új szűrőbetétre.\n- Szűrő betéts ’’A’’, should be changed periodically to assure propper quality of air, but at least every 6 months. Activated carbon filters must not operate in oil saturated conditions."]
[]
[null,"SZŰRŐ BETÉT",null,null,"15 µm","3 µm","1 µm","0,1 µm","0,01 µm"]
[null,null,null,null,"AHP-B","AHP-P","AHP-R","AHP-M","AHP-S","AHP-A"]
[null,null,null,null,"előszűrő","előszűrő","előszűrő","mikroszűrő","finomszűrő","act. carbon"]
[null,null,null,null,"sintered brass","acrylic fibers, \ncellulose","borosilicate micro fibres",null,null,"bor. mic. fib.*"]
[null,null,null,null,null,null,null,null,null,"act. carbon"]
[null,"Szűrő \nbetét \ntípus","Átáramlási képesség","Corresponding\nház","Nettó \nÁr\n[HUF]","Nettó \nÁr\n[HUF]"]
[]
[null,null,"[Nm³/h]"]
[null,6050,30,"AHP 005",{"$f":"VLOOKUP($B36&E$29,Árlista!$B:$F,5,0)","v":"25 610,-Ft"},{"$f":"VLOOKUP($B36&F$29,Árlista!$B:$F,5,0)","v":"20 420,-Ft"},{"$f":"VLOOKUP($B36&G$29,Árlista!$B:$F,5,0)","v":"20 420,-Ft"},{"$f":"VLOOKUP($B36&H$29,Árlista!$B:$F,5,0)","v":"20 420,-Ft"},{"$f":"VLOOKUP($B36&I$29,Árlista!$B:$F,5,0)","v":"20 420,-Ft"},{"$f":"VLOOKUP($B36&J$29,Árlista!$B:$F,5,0)","v":"20 420,-Ft"}]
[null,7050,60,"AHP 007",{"$f":"VLOOKUP($B37&E$29,Árlista!$B:$F,5,0)","v":"36 150,-Ft"},{"$f":"VLOOKUP($B37&F$29,Árlista!$B:$F,5,0)","v":"27 940,-Ft"},{"$f":"VLOOKUP($B37&G$29,Árlista!$B:$F,5,0)","v":"27 940,-Ft"},{"$f":"VLOOKUP($B37&H$29,Árlista!$B:$F,5,0)","v":"27 940,-Ft"},{"$f":"VLOOKUP($B37&I$29,Árlista!$B:$F,5,0)","v":"27 940,-Ft"},{"$f":"VLOOKUP($B37&J$29,Árlista!$B:$F,5,0)","v":"27 940,-Ft"}]
[null,14050,120,"AHP 010",{"$f":"VLOOKUP($B38&E$29,Árlista!$B:$F,5,0)","v":"42 180,-Ft"},{"$f":"VLOOKUP($B38&F$29,Árlista!$B:$F,5,0)","v":"32 600,-Ft"},{"$f":"VLOOKUP($B38&G$29,Árlista!$B:$F,5,0)","v":"32 600,-Ft"},{"$f":"VLOOKUP($B38&H$29,Árlista!$B:$F,5,0)","v":"32 600,-Ft"},{"$f":"VLOOKUP($B38&I$29,Árlista!$B:$F,5,0)","v":"32 600,-Ft"},{"$f":"VLOOKUP($B38&J$29,Árlista!$B:$F,5,0)","v":"32 600,-Ft"}]
[null,12075,180,"AHP 018",{"$f":"VLOOKUP($B39&E$29,Árlista!$B:$F,5,0)","v":"54 230,-Ft"},{"$f":"VLOOKUP($B39&F$29,Árlista!$B:$F,5,0)","v":"41 950,-Ft"},{"$f":"VLOOKUP($B39&G$29,Árlista!$B:$F,5,0)","v":"41 950,-Ft"},{"$f":"VLOOKUP($B39&H$29,Árlista!$B:$F,5,0)","v":"41 950,-Ft"},{"$f":"VLOOKUP($B39&I$29,Árlista!$B:$F,5,0)","v":"41 950,-Ft"},{"$f":"VLOOKUP($B39&J$29,Árlista!$B:$F,5,0)","v":"41 950,-Ft"}]
[null,22075,270,"AHP 030",{"$f":"VLOOKUP($B40&E$29,Árlista!$B:$F,5,0)","v":"66 280,-Ft"},{"$f":"VLOOKUP($B40&F$29,Árlista!$B:$F,5,0)","v":"51 220,-Ft"},{"$f":"VLOOKUP($B40&G$29,Árlista!$B:$F,5,0)","v":"51 220,-Ft"},{"$f":"VLOOKUP($B40&H$29,Árlista!$B:$F,5,0)","v":"51 220,-Ft"},{"$f":"VLOOKUP($B40&I$29,Árlista!$B:$F,5,0)","v":"51 220,-Ft"},{"$f":"VLOOKUP($B40&J$29,Árlista!$B:$F,5,0)","v":"51 220,-Ft"}]
[null,32075,360,"AHP 047",{"$f":"VLOOKUP($B41&E$29,Árlista!$B:$F,5,0)","v":"78 330,-Ft"},{"$f":"VLOOKUP($B41&F$29,Árlista!$B:$F,5,0)","v":"60 520,-Ft"},{"$f":"VLOOKUP($B41&G$29,Árlista!$B:$F,5,0)","v":"60 520,-Ft"},{"$f":"VLOOKUP($B41&H$29,Árlista!$B:$F,5,0)","v":"60 520,-Ft"},{"$f":"VLOOKUP($B41&I$29,Árlista!$B:$F,5,0)","v":"60 520,-Ft"},{"$f":"VLOOKUP($B41&J$29,Árlista!$B:$F,5,0)","v":"60 520,-Ft"}]
[null,51090,720,"AHP 094",{"$f":"VLOOKUP($B42&E$29,Árlista!$B:$F,5,0)","v":"87 370,-Ft"},{"$f":"VLOOKUP($B42&F$29,Árlista!$B:$F,5,0)","v":"67 600,-Ft"},{"$f":"VLOOKUP($B42&G$29,Árlista!$B:$F,5,0)","v":"67 600,-Ft"},{"$f":"VLOOKUP($B42&H$29,Árlista!$B:$F,5,0)","v":"67 600,-Ft"},{"$f":"VLOOKUP($B42&I$29,Árlista!$B:$F,5,0)","v":"67 600,-Ft"},{"$f":"VLOOKUP($B42&J$29,Árlista!$B:$F,5,0)","v":"67 600,-Ft"}]
[null,"* borosilicate micro fibres"]
[null,null,null,"1/2\""]
[null,"KONDENZÁTUM \nLEERESZTŐ",null,"Drain valve"]
[null,"Nettó ár [HUF]",null,{"$f":"VLOOKUP(D45,Árlista!$B:$F,5,0)","v":"31 960,-Ft"}]

{"sheet":"CHP","index":13,"n_rows":47,"n_cols":26,"rows_kept":47,"cut":false,"hidden":false,"merged":[[13,10,15,10],[13,11,15,13],[25,1,25,13],[27,1,29,3],[30,4,31,4],[30,5,31,5],[30,6,31,8],[13,1,15,1],[13,2,14,2],[13,3,14,3],[13,4,14,5],[13,6,14,8],[13,9,14,9],[32,11,34,11],[32,13,34,13],[32,1,34,1],[32,2,33,2],[32,3,34,3],[32,4,34,4],[32,5,34,9],[32,10,34,10],[48,1,48,2],[48,3,48,4],[48,5,48,6],[44,1,44,2],[46,1,46,2],[47,1,47,2],[47,3,47,4],[47,5,47,6],[45,1,45,2]]}
[null,"CHP series"]
[]
[]
[null,null,null,null,null,null,null,null,null,null,null,null,null,null,null,"INDEX "]
[]
[]
[]
[]
[]
[]
[]
[]
[null,"SZŰRŐ HÁZ",null,null,null,null,null,null,null,null,null,null,null,null,null,null,null,null,"KORREKCIÓS FAKTOR"]
[null,"Szűrő \nház\nméret","Cső\n méret","Max.üz.\n nyomás","Átáramlási képesség \nat 7 bar(g), 20 °C",null,"Méretek",null,null,"Tömeg","Szűrő \nbetét\ntípus","Nettó ár\n(Csak szűrőház)\n[HUF]",null,null,null,null,null,null,"Üzemi nyomás [bar]",7,25,40,64,100,250,400]
[null,null,null,null,null,null,null,null,null,null,null,null,null,null,null,null,null,null,"Üzemi nyomás [psi]",100,362,580,928,1450,3625,5800]
[null,null,"inch","bar/psi","Nm³/h","scfm","A [mm]","B [mm]","C [mm]","kg",null,null,null,null,null,null,null,null,"Korrekciós faktor",1,3,5,8,12,12,12]
[null,null,null,null,null,null,null,null,null,null,null,"100 bar","250 bar","400 bar"]
[null,"CHP 003","1/4’’","100/250/400",40,23.5,165,83.5,70,4.5999999999999996,305,{"$f":"VLOOKUP(B18&\"-100\",Árlista!$B:$F,5,0)","v":"135 360,-Ft"},{"$f":"VLOOKUP(B18&\"-250\",Árlista!$B:$F,5,0)","v":"234 000,-Ft (2)"},{"$f":"VLOOKUP(B18&\"-400\",Árlista!$B:$F,5,0)","v":"254 000,-Ft (2)"}]
[null,"CHP 005","3/8’’","100/250/400",70,41.2,165,83.5,70,4.5999999999999996,310,{"$f":"VLOOKUP(B19&\"-100\",Árlista!$B:$F,5,0)","v":"135 360,-Ft"},{"$f":"VLOOKUP(B19&\"-250\",Árlista!$B:$F,5,0)","v":"234 000,-Ft (2)"},{"$f":"VLOOKUP(B19&\"-400\",Árlista!$B:$F,5,0)","v":"254 000,-Ft (2)"}]
[null,"CHP 007","1/2’’","100/250/400",130,76.5,210,105,85,8.6999999999999993,420,{"$f":"VLOOKUP(B20&\"-100\",Árlista!$B:$F,5,0)","v":"183 130,-Ft"},{"$f":"VLOOKUP(B20&\"-250\",Árlista!$B:$F,5,0)","v":"270 000,-Ft (2)"},{"$f":"VLOOKUP(B20&\"-400\",Árlista!$B:$F,5,0)","v":"339 000,-Ft (2)"}]
[null,"CHP 010","3/4’’","100/250/400",195,115,210,105,85,9.3000000000000007,520,{"$f":"VLOOKUP(B21&\"-100\",Árlista!$B:$F,5,0)","v":"233 560,-Ft"},{"$f":"VLOOKUP(B21&\"-250\",Árlista!$B:$F,5,0)","v":"419 000,-Ft (2)"},{"$f":"VLOOKUP(B21&\"-400\",Árlista!$B:$F,5,0)","v":"473 000,-Ft (2)"}]
[null,"CHP 018","1’’","100/250/400",275,162,253,119,100,14.8,525,{"$f":"VLOOKUP(B22&\"-100\",Árlista!$B:$F,5,0)","v":"313 000,-Ft (2)"},{"$f":"VLOOKUP(B22&\"-250\",Árlista!$B:$F,5,0)","v":"465 000,-Ft (2)"},{"$f":"VLOOKUP(B22&\"-400\",Árlista!$B:$F,5,0)","v":"529 000,-Ft (2)"}]
[null,"CHP 030","1 1/4’’","100/250/400",380,223,303,119,100,16,725,{"$f":"VLOOKUP(B23&\"-100\",Árlista!$B:$F,5,0)","v":"352 000,-Ft (2)"},{"$f":"VLOOKUP(B23&\"-250\",Árlista!$B:$F,5,0)","v":"493 000,-Ft (2)"},{"$f":"VLOOKUP(B23&\"-400\",Árlista!$B:$F,5,0)","v":"583 000,-Ft (2)"}]
[null,"CHP 047","1 1/2’’","100/250/400",495,291,329,146,130,26.5,730,{"$f":"VLOOKUP(B24&\"-100\",Árlista!$B:$F,5,0)","v":"498 000,-Ft (2)"},{"$f":"VLOOKUP(B24&\"-250\",Árlista!$B:$F,5,0)","v":"563 000,-Ft (2)"},{"$f":"VLOOKUP(B24&\"-400\",Árlista!$B:$F,5,0)","v":"665 000,-Ft (2)"}]
[null,"CHP 094","2’’","100/250/400",715,421,415,182,150,49,1030,{"$f":"VLOOKUP(B25&\"-100\",Árlista!$B:$F,5,0)","v":"596 000,-Ft (2)"},{"$f":"VLOOKUP(B25&\"-250\",Árlista!$B:$F,5,0)","v":"804 000,-Ft (2)"},{"$f":"VLOOKUP(B25&\"-400\",Árlista!$B:$F,5,0)","v":"938 000,-Ft (2)"}]
[null,"MEGJEGYZÉS  A megadott nettó árak tájékoztató jellegűek, az utána feltüntett szám az adott termék árkategóriáját jelöli.\n- Ár, csak a szűrőházra vonatkozik!\n- B filter betét can be cleaned with ultrasonic bath or with back flushing. Interval of cleaning depends on application. Ha szükséges, akkor cserélje új szűrőbetétre.\n- Szűrő betéts ’’A’’, should be changed periodically to assure propper quality of air, but at least every 6 months. Activated carbon filters must not operate in oil saturated conditions."]
[]
[null,"SZŰRŐ BETÉT",null,null,"25 µm","3 µm","1 µm","0,1 µm","0,01 µm"]
[null,null,null,null,"CHP-B","CHP-P","CHP-R","CHP-M","CHP-S","CHP-A"]
[null,null,null,null,"előszűrő","előszűrő","előszűrő","mikroszűrő","finomszűrő","act. carbon"]
[null,null,null,null,"sintered brass","acrylic fibers, \ncellulose","borosilicate micro fibres",null,null,"bor. mic. fib.*"]
[null,null,null,null,null,null,null,null,null,"act. carbon"]
[null,"Szűrő \nbetét \ntípus","Átáramlási képesség","Corresponding\nház","Nettó \nÁr\n[HUF]","Nettó \nÁr\n[HUF]"]
[]
[null,null,"[Nm³/h]"]
[null,305,40,"CHP 003",{"$f":"VLOOKUP($B36&E$29,Árlista!$B:$F,5,0)","v":"23 290,-Ft"},{"$f":"VLOOKUP($B36&F$29,Árlista!$B:$F,5,0)","v":"15 880,-Ft"},{"$f":"VLOOKUP($B36&G$29,Árlista!$B:$F,5,0)","v":"15 880,-Ft"},{"$f":"VLOOKUP($B36&H$29,Árlista!$B:$F,5,0)","v":"15 880,-Ft"},{"$f":"VLOOKUP($B36&I$29,Árlista!$B:$F,5,0)","v":"15 880,-Ft"},{"$f":"VLOOKUP($B36&J$29,Árlista!$B:$F,5,0)","v":"15 880,-Ft"}]
[null,310,70,"CHP 005",{"$f":"VLOOKUP($B37&E$29,Árlista!$B:$F,5,0)","v":"25 610,-Ft"},{"$f":"VLOOKUP($B37&F$29,Árlista!$B:$F,5,0)","v":"18 000,-Ft"},{"$f":"VLOOKUP($B37&G$29,Árlista!$B:$F,5,0)","v":"18 000,-Ft"},{"$f":"VLOOKUP($B37&H$29,Árlista!$B:$F,5,0)","v":"18 000,-Ft"},{"$f":"VLOOKUP($B37&I$29,Árlista!$B:$F,5,0)","v":"18 000,-Ft"},{"$f":"VLOOKUP($B37&J$29,Árlista!$B:$F,5,0)","v":"18 000,-Ft"}]
[null,420,130,"CHP 007",{"$f":"VLOOKUP($B38&E$29,Árlista!$B:$F,5,0)","v":"36 150,-Ft"},{"$f":"VLOOKUP($B38&F$29,Árlista!$B:$F,5,0)","v":"25 410,-Ft"},{"$f":"VLOOKUP($B38&G$29,Árlista!$B:$F,5,0)","v":"25 410,-Ft"},{"$f":"VLOOKUP($B38&H$29,Árlista!$B:$F,5,0)","v":"25 410,-Ft"},{"$f":"VLOOKUP($B38&I$29,Árlista!$B:$F,5,0)","v":"25 410,-Ft"},{"$f":"VLOOKUP($B38&J$29,Árlista!$B:$F,5,0)","v":"25 410,-Ft"}]
[null,520,195,"CHP 010",{"$f":"VLOOKUP($B39&E$29,Árlista!$B:$F,5,0)","v":"42 180,-Ft"},{"$f":"VLOOKUP($B39&F$29,Árlista!$B:$F,5,0)","v":"28 630,-Ft"},{"$f":"VLOOKUP($B39&G$29,Árlista!$B:$F,5,0)","v":"28 630,-Ft"},{"$f":"VLOOKUP($B39&H$29,Árlista!$B:$F,5,0)","v":"28 630,-Ft"},{"$f":"VLOOKUP($B39&I$29,Árlista!$B:$F,5,0)","v":"28 630,-Ft"},{"$f":"VLOOKUP($B39&J$29,Árlista!$B:$F,5,0)","v":"28 630,-Ft"}]
[null,525,275,"CHP 018",{"$f":"VLOOKUP($B40&E$29,Árlista!$B:$F,5,0)","v":"54 230,-Ft"},{"$f":"VLOOKUP($B40&F$29,Árlista!$B:$F,5,0)","v":"36 970,-Ft"},{"$f":"VLOOKUP($B40&G$29,Árlista!$B:$F,5,0)","v":"36 970,-Ft"},{"$f":"VLOOKUP($B40&H$29,Árlista!$B:$F,5,0)","v":"36 970,-Ft"},{"$f":"VLOOKUP($B40&I$29,Árlista!$B:$F,5,0)","v":"36 970,-Ft"},{"$f":"VLOOKUP($B40&J$29,Árlista!$B:$F,5,0)","v":"36 970,-Ft"}]
[null,725,380,"CHP 030",{"$f":"VLOOKUP($B41&E$29,Árlista!$B:$F,5,0)","v":"66 280,-Ft"},{"$f":"VLOOKUP($B41&F$29,Árlista!$B:$F,5,0)","v":"47 160,-Ft"},{"$f":"VLOOKUP($B41&G$29,Árlista!$B:$F,5,0)","v":"47 160,-Ft"},{"$f":"VLOOKUP($B41&H$29,Árlista!$B:$F,5,0)","v":"47 160,-Ft"},{"$f":"VLOOKUP($B41&I$29,Árlista!$B:$F,5,0)","v":"47 160,-Ft"},{"$f":"VLOOKUP($B41&J$29,Árlista!$B:$F,5,0)","v":"47 160,-Ft"}]
[null,730,495,"CHP 047",{"$f":"VLOOKUP($B42&E$29,Árlista!$B:$F,5,0)","v":"78 330,-Ft"},{"$f":"VLOOKUP($B42&F$29,Árlista!$B:$F,5,0)","v":"53 410,-Ft"},{"$f":"VLOOKUP($B42&G$29,Árlista!$B:$F,5,0)","v":"53 410,-Ft"},{"$f":"VLOOKUP($B42&H$29,Árlista!$B:$F,5,0)","v":"53 410,-Ft"},{"$f":"VLOOKUP($B42&I$29,Árlista!$B:$F,5,0)","v":"53 410,-Ft"},{"$f":"VLOOKUP($B42&J$29,Árlista!$B:$F,5,0)","v":"53 410,-Ft"}]
[null,1030,715,"CHP 094",{"$f":"VLOOKUP($B43&E$29,Árlista!$B:$F,5,0)","v":"87 370,-Ft"},{"$f":"VLOOKUP($B43&F$29,Árlista!$B:$F,5,0)","v":"59 570,-Ft"},{"$f":"VLOOKUP($B43&G$29,Árlista!$B:$F,5,0)","v":"59 570,-Ft"},{"$f":"VLOOKUP($B43&H$29,Árlista!$B:$F,5,0)","v":"59 570,-Ft"},{"$f":"VLOOKUP($B43&I$29,Árlista!$B:$F,5,0)","v":"59 570,-Ft"},{"$f":"VLOOKUP($B43&J$29,Árlista!$B:$F,5,0)","v":"59 570,-Ft"}]
[null,"* borosilicate micro fibres"]
[null,null,null,"1/2\""]
[null,"KONDENZÁTUM \nLEERESZTŐ",null,"Drain valve"]
[null,"Nettó ár [HUF]",null,{"$f":"VLOOKUP(D46,Árlista!$B:$F,5,0)","v":"31 960,-Ft"}]

{"sheet":"IHP","index":14,"n_rows":45,"n_cols":26,"rows_kept":45,"cut":false,"hidden":false,"merged":[[11,10,13,10],[11,11,13,13],[23,1,23,13],[25,1,27,3],[28,4,29,4],[28,5,29,7],[28,9,29,9],[11,1,13,1],[11,2,12,2],[11,3,12,3],[11,4,12,5],[11,6,12,8],[11,9,12,9],[30,11,32,11],[30,13,32,13],[30,1,32,1],[30,2,31,2],[30,3,32,3],[30,4,32,4],[30,5,32,9],[30,10,32,10],[46,1,46,2],[46,3,46,4],[46,5,46,6],[42,1,42,2],[44,1,44,2],[45,1,45,2],[45,3,45,4],[45,5,45,6],[43,1,43,2]]}
[null,"IHP series"]
[]
[]
[null,null,null,null,null,null,null,null,null,null,null,null,null,null,null,"INDEX "]
[]
[]
[]
[]
[]
[]
[null,"SZŰRŐ HÁZ",null,null,null,null,null,null,null,null,null,null,null,null,null,null,null,null,"KORREKCIÓS FAKTOR"]
[null,"Szűrő \nház\nméret","Cső\n méret","Max.üz.\n nyomás","Átáramlási képesség \nat 7 bar(g), 20 °C",null,"Méretek",null,null,"Tömeg","Szűrő \nbetét\ntípus","Nettó ár\n(Csak szűrőház)\n[HUF]",null,null,null,null,null,null,"Üzemi nyomás [bar]",7,25,40,64,100,250,400]
[null,null,null,null,null,null,null,null,null,null,null,null,null,null,null,null,null,null,"Üzemi nyomás [psi]",100,362,580,928,1450,3625,5800]
[null,null,"inch","bar/psi","Nm³/h","scfm","A [mm]","B [mm]","C [mm]","kg",null,null,null,null,null,null,null,null,"Korrekciós faktor",1,3,5,8,12,12,12]
[null,null,null,null,null,null,null,null,null,null,null,"100 bar","250 bar","400 bar"]
[null,"IHP 003","1/4’’","100/250/400",40,23.5,165,83.5,70,4.5999999999999996,305,{"$f":"VLOOKUP(B16&\"-100\",Árlista!$B:$F,5,0)","v":"205 440,-Ft"},{"$f":"VLOOKUP(B16&\"-250\",Árlista!$B:$F,5,0)","v":"355 000,-Ft (2)"},{"$f":"VLOOKUP(B16&\"-400\",Árlista!$B:$F,5,0)","v":"387 000,-Ft (2)"}]
[null,"IHP 005","3/8’’","100/250/400",70,41.2,165,83.5,70,4.5999999999999996,310,{"$f":"VLOOKUP(B17&\"-100\",Árlista!$B:$F,5,0)","v":"205 440,-Ft"},{"$f":"VLOOKUP(B17&\"-250\",Árlista!$B:$F,5,0)","v":"355 000,-Ft (2)"},{"$f":"VLOOKUP(B17&\"-400\",Árlista!$B:$F,5,0)","v":"387 000,-Ft (2)"}]
[null,"IHP 007","1/2’’","100/250/400",130,76.5,210,105,85,8.6999999999999993,420,{"$f":"VLOOKUP(B18&\"-100\",Árlista!$B:$F,5,0)","v":"269 000,-Ft (2)"},{"$f":"VLOOKUP(B18&\"-250\",Árlista!$B:$F,5,0)","v":"410 000,-Ft (2)"},{"$f":"VLOOKUP(B18&\"-400\",Árlista!$B:$F,5,0)","v":"515 000,-Ft (2)"}]
[null,"IHP 010","3/4’’","100/250/400",195,115,210,105,85,9.3000000000000007,520,{"$f":"VLOOKUP(B19&\"-100\",Árlista!$B:$F,5,0)","v":"343 000,-Ft (2)"},{"$f":"VLOOKUP(B19&\"-250\",Árlista!$B:$F,5,0)","v":"636 000,-Ft (2)"},{"$f":"VLOOKUP(B19&\"-400\",Árlista!$B:$F,5,0)","v":"719 000,-Ft (2)"}]
[null,"IHP 018","1’’","100/250/400",275,162,253,119,100,11.6,525,{"$f":"VLOOKUP(B20&\"-100\",Árlista!$B:$F,5,0)","v":"477 000,-Ft (2)"},{"$f":"VLOOKUP(B20&\"-250\",Árlista!$B:$F,5,0)","v":"707 000,-Ft (2)"},{"$f":"VLOOKUP(B20&\"-400\",Árlista!$B:$F,5,0)","v":"804 000,-Ft (2)"}]
[null,"IHP 030","1 1/4’’","100/250/400",380,223,303,119,100,16,725,{"$f":"VLOOKUP(B21&\"-100\",Árlista!$B:$F,5,0)","v":"535 000,-Ft (2)"},{"$f":"VLOOKUP(B21&\"-250\",Árlista!$B:$F,5,0)","v":"750 000,-Ft (2)"},{"$f":"VLOOKUP(B21&\"-400\",Árlista!$B:$F,5,0)","v":"884 000,-Ft (2)"}]
[null,"IHP 047","1 1/2’’","100/250/400",495,291,329,146,130,26.5,730,{"$f":"VLOOKUP(B22&\"-100\",Árlista!$B:$F,5,0)","v":"757 000,-Ft (2)"},{"$f":"VLOOKUP(B22&\"-250\",Árlista!$B:$F,5,0)","v":"855 000,-Ft (2)"},{"$f":"VLOOKUP(B22&\"-400\",Árlista!$B:$F,5,0)","v":"1 012 000,-Ft (2)"}]
[null,"IHP 094","2’’","100/250/400",715,421,415,182,150,49,1030,{"$f":"VLOOKUP(B23&\"-100\",Árlista!$B:$F,5,0)","v":"905 000,-Ft (2)"},{"$f":"VLOOKUP(B23&\"-250\",Árlista!$B:$F,5,0)","v":"1 181 000,-Ft (3)"},{"$f":"VLOOKUP(B23&\"-400\",Árlista!$B:$F,5,0)","v":"1 379 000,-Ft (3)"}]
[null,"MEGJEGYZÉS  A megadott nettó árak tájékoztató jellegűek, az utána feltüntett szám az adott termék árkategóriáját jelöli.\n- Ár, csak a szűrőházra vonatkozik!\n- Used material is 1.4301.\n- On request possible 1.4404.\n- B filter betét can be cleaned with ultrasonic bath or with back flushing. Interval of cleaning depends on application. Ha szükséges, akkor cserélje új szűrőbetétre.\n- N filter betéts tisztítható ultrahangos tisztítással vagy kifúvatással. Interval of cleaning depends on application. Ha szükséges, akkor cserélje új szűrőbetétre.\n- Szűrő betéts ’’A’’, should be changed periodically to assure propper quality of air, but at least every 6 months. Activated carbon  filters must not operate in oil saturated conditions."]
[]
[null,"SZŰRŐ BETÉT",null,null,"25 µm; 5 µm","1 µm","0,1 µm","0,01 µm"]
[null,null,null,null,"IHP-N","IHP-R","IHP-M","IHP-S","IHP-A","IHP-CKL-P"]
[null,null,null,null,"előszűrő","előszűrő","mikroszűrő","finomszűrő","acti. carbon","szeparátor"]
[null,null,null,null,"stainess steel \nmesh","borosilicate micro fibres",null,null,"bor. micro fib.","stainless steel"]
[null,null,null,null,null,null,null,null,"activ. carbon"]
[null,"Szűrő \nbetét \ntípus","Átáramlási képesség","Corresponding\nház","Nettó \nÁr\n[HUF]","Nettó \nÁr\n[HUF]"]
[]
[null,null,"[Nm³/h]"]
[null,305,40,"IHP 003",{"$f":"VLOOKUP($B34&E$27,Árlista!$B:$F,5,0)","v":"24 030,-Ft"},{"$f":"VLOOKUP($B34&F$27,Árlista!$B:$F,5,0)","v":"22 340,-Ft"},{"$f":"VLOOKUP($B34&G$27,Árlista!$B:$F,5,0)","v":"22 340,-Ft"},{"$f":"VLOOKUP($B34&H$27,Árlista!$B:$F,5,0)","v":"22 340,-Ft"},{"$f":"VLOOKUP($B34&I$27,Árlista!$B:$F,5,0)","v":"22 340,-Ft"},{"$f":"VLOOKUP($B34&J$27,Árlista!$B:$F,5,0)","v":"22 340,-Ft"}]
[null,310,70,"IHP 005",{"$f":"VLOOKUP($B35&E$27,Árlista!$B:$F,5,0)","v":"25 810,-Ft"},{"$f":"VLOOKUP($B35&F$27,Árlista!$B:$F,5,0)","v":"24 000,-Ft"},{"$f":"VLOOKUP($B35&G$27,Árlista!$B:$F,5,0)","v":"24 000,-Ft"},{"$f":"VLOOKUP($B35&H$27,Árlista!$B:$F,5,0)","v":"24 000,-Ft"},{"$f":"VLOOKUP($B35&I$27,Árlista!$B:$F,5,0)","v":"24 000,-Ft"},{"$f":"VLOOKUP($B35&J$27,Árlista!$B:$F,5,0)","v":"24 000,-Ft"}]
[null,420,130,"IHP 007",{"$f":"VLOOKUP($B36&E$27,Árlista!$B:$F,5,0)","v":"32 920,-Ft"},{"$f":"VLOOKUP($B36&F$27,Árlista!$B:$F,5,0)","v":"30 020,-Ft"},{"$f":"VLOOKUP($B36&G$27,Árlista!$B:$F,5,0)","v":"30 020,-Ft"},{"$f":"VLOOKUP($B36&H$27,Árlista!$B:$F,5,0)","v":"30 020,-Ft"},{"$f":"VLOOKUP($B36&I$27,Árlista!$B:$F,5,0)","v":"30 020,-Ft"},{"$f":"VLOOKUP($B36&J$27,Árlista!$B:$F,5,0)","v":"30 020,-Ft"}]
[null,520,195,"IHP 010",{"$f":"VLOOKUP($B37&E$27,Árlista!$B:$F,5,0)","v":"40 820,-Ft"},{"$f":"VLOOKUP($B37&F$27,Árlista!$B:$F,5,0)","v":"36 970,-Ft"},{"$f":"VLOOKUP($B37&G$27,Árlista!$B:$F,5,0)","v":"36 970,-Ft"},{"$f":"VLOOKUP($B37&H$27,Árlista!$B:$F,5,0)","v":"36 970,-Ft"},{"$f":"VLOOKUP($B37&I$27,Árlista!$B:$F,5,0)","v":"36 970,-Ft"},{"$f":"VLOOKUP($B37&J$27,Árlista!$B:$F,5,0)","v":"36 970,-Ft"}]
[null,525,275,"IHP 018",{"$f":"VLOOKUP($B38&E$27,Árlista!$B:$F,5,0)","v":"48 720,-Ft"},{"$f":"VLOOKUP($B38&F$27,Árlista!$B:$F,5,0)","v":"43 820,-Ft"},{"$f":"VLOOKUP($B38&G$27,Árlista!$B:$F,5,0)","v":"43 820,-Ft"},{"$f":"VLOOKUP($B38&H$27,Árlista!$B:$F,5,0)","v":"43 820,-Ft"},{"$f":"VLOOKUP($B38&I$27,Árlista!$B:$F,5,0)","v":"43 820,-Ft"},{"$f":"VLOOKUP($B38&J$27,Árlista!$B:$F,5,0)","v":"43 820,-Ft"}]
[null,725,380,"IHP 030",{"$f":"VLOOKUP($B39&E$27,Árlista!$B:$F,5,0)","v":"57 940,-Ft"},{"$f":"VLOOKUP($B39&F$27,Árlista!$B:$F,5,0)","v":"52 040,-Ft"},{"$f":"VLOOKUP($B39&G$27,Árlista!$B:$F,5,0)","v":"52 040,-Ft"},{"$f":"VLOOKUP($B39&H$27,Árlista!$B:$F,5,0)","v":"52 040,-Ft"},{"$f":"VLOOKUP($B39&I$27,Árlista!$B:$F,5,0)","v":"52 040,-Ft"},{"$f":"VLOOKUP($B39&J$27,Árlista!$B:$F,5,0)","v":"52 040,-Ft"}]
[null,730,495,"IHP 047",{"$f":"VLOOKUP($B40&E$27,Árlista!$B:$F,5,0)","v":"72 420,-Ft"},{"$f":"VLOOKUP($B40&F$27,Árlista!$B:$F,5,0)","v":"65 730,-Ft"},{"$f":"VLOOKUP($B40&G$27,Árlista!$B:$F,5,0)","v":"65 730,-Ft"},{"$f":"VLOOKUP($B40&H$27,Árlista!$B:$F,5,0)","v":"65 730,-Ft"},{"$f":"VLOOKUP($B40&I$27,Árlista!$B:$F,5,0)","v":"65 730,-Ft"},{"$f":"VLOOKUP($B40&J$27,Árlista!$B:$F,5,0)","v":"65 730,-Ft"}]
[null,1030,715,"IHP 094",{"$f":"VLOOKUP($B41&E$27,Árlista!$B:$F,5,0)","v":"88 220,-Ft"},{"$f":"VLOOKUP($B41&F$27,Árlista!$B:$F,5,0)","v":"79 430,-Ft"},{"$f":"VLOOKUP($B41&G$27,Árlista!$B:$F,5,0)","v":"79 430,-Ft"},{"$f":"VLOOKUP($B41&H$27,Árlista!$B:$F,5,0)","v":"79 430,-Ft"},{"$f":"VLOOKUP($B41&I$27,Árlista!$B:$F,5,0)","v":"79 430,-Ft"},{"$f":"VLOOKUP($B41&J$27,Árlista!$B:$F,5,0)","v":"79 430,-Ft"}]
[null,"* borosilicate micro fibres"]
[null,null,null,"1/2\""]
[null,"KONDENZÁTUM \nLEERESZTŐ",null,"Drain valve"]
[null,"Nettó ár [HUF]",null,{"$f":"VLOOKUP(D44,Árlista!$B:$F,5,0)","v":"31 960,-Ft"}]

{"sheet":"PF","index":15,"n_rows":66,"n_cols":33,"rows_kept":66,"cut":false,"hidden":false,"merged":[[12,1,12,12],[13,1,15,1],[13,2,14,2],[13,3,14,3],[13,4,14,5],[13,6,14,9],[13,10,14,10],[13,11,15,11],[13,12,15,12],[65,1,65,2],[63,1,63,2],[64,1,64,2],[34,1,34,12],[36,1,38,3],[39,4,40,4],[39,5,40,6],[39,7,40,7],[39,8,40,10],[41,1,43,1],[41,2,42,2],[41,3,43,3],[41,4,43,6],[41,7,43,11]]}
[null,"PF series"]
[]
[]
[null,null,null,null,null,null,null,null,null,null,null,null,null,null,null,"INDEX "]
[]
[]
[]
[]
[]
[]
[]
[]
[null,"SZŰRŐ HÁZ",null,null,null,null,null,null,null,null,null,null,null,null,null,null,null,"KORREKCIÓS FAKTOR"]
[null,"Szűrő \nház\nméret","Cső\n méret","Max.üz.\n nyomás","Átáramlási képesség \nat 7 bar(g), 20 °C",null,"Méretek",null,null,null,"Tömeg","Szűrő \nbetét\ntípus","Nettó ár\n(Csak szűrőház)\n[HUF]",null,null,null,null,"Üzemi nyomás [bar]",2,3,4,5,6,7,8,9,10,11,12,13,14,15,16]
[null,null,null,null,null,null,null,null,null,null,null,null,null,null,null,null,null,"Üzemi nyomás [psi]",29,44,58,72,87,100,115,130,145,160,174,189,203,218,232]
[null,null,"inch/DN","bar/psi","Nm³/h","scfm","A [mm]","B [mm]","C [mm]","D [mm]","kg",null,null,null,null,null,null,"Korrekciós faktor",0.38,0.5,0.63,0.75,0.88,1,1.1299999999999999,1.25,1.38,1.5,1.63,1.75,1.88,2,2.13]
[null,"PF 005","1/4’’",16,75,44,202,116,76.099999999999994,"1/4’’",1.7,310,{"$f":"VLOOKUP(B17,Árlista!$B:$F,5,0)","v":"181 740,-Ft"}]
[null,"PF 007","3/8’’",16,105,62,232,120,76.099999999999994,"1/4’’",1.9,410,{"$f":"VLOOKUP(B18,Árlista!$B:$F,5,0)","v":"186 430,-Ft"}]
[null,"PF 010","1/2’’",16,150,88,230,125,76.099999999999994,"1/4’’",1.9,420,{"$f":"VLOOKUP(B19,Árlista!$B:$F,5,0)","v":"196 050,-Ft"}]
[null,"PF 018","3/4’’",16,225,132,254,125,76.099999999999994,"1/4’’",2,520,{"$f":"VLOOKUP(B20,Árlista!$B:$F,5,0)","v":"206 850,-Ft"}]
[null,"PF 030","1’’",16,315,185,275,136,88.9,"1/4’’",2.6,525,{"$f":"VLOOKUP(B21,Árlista!$B:$F,5,0)","v":"240 000,-Ft (2)"}]
[null,"PF 047","1 1/4’’",16,420,247,337,155,88.9,"1/4’’",3,725,{"$f":"VLOOKUP(B22,Árlista!$B:$F,5,0)","v":"260 000,-Ft (2)"}]
[null,"PF 070","1 1/2’’",16,600,353,386,180,114.3,"1/4’’",4.3,730,{"$f":"VLOOKUP(B23,Árlista!$B:$F,5,0)","v":"327 000,-Ft (2)"}]
[null,"PF 094","2’’",16,900,530,457,180,114.3,"1/4’’",4.8,1030,{"$f":"VLOOKUP(B24,Árlista!$B:$F,5,0)","v":"384 000,-Ft (2)"}]
[null,"PF 150","2’’",16,1260,742,583,180,114.3,"1/4’’",5.3,1530,{"$f":"VLOOKUP(B25,Árlista!$B:$F,5,0)","v":"408 000,-Ft (2)"}]
[null,"PF 175","2 1/2’’",16,1680,989,740,224,139.69999999999999,"1/4’’",9,2030,{"$f":"VLOOKUP(B26,Árlista!$B:$F,5,0)","v":"535 000,-Ft (2)"}]
[null,"PF 200","3’’",12,2400,1413,1004,224,139.69999999999999,"1/4’’",10.8,3030,{"$f":"VLOOKUP(B27,Árlista!$B:$F,5,0)","v":"564 000,-Ft (2)"}]
[null,"PF 240","3’’",12,3600,2119,1029,252,168.3,"1/4’’",16.2,3050,{"$f":"VLOOKUP(B28,Árlista!$B:$F,5,0)","v":"723 000,-Ft (2)"}]
[null,"PF 450","DN100",10,5040,2966,986,410,219.1,"1’’",45,"3x 2030",{"$f":"VLOOKUP(B29,Árlista!$B:$F,5,0)","v":"1 274 000,-Ft (3)"}]
[null,"PF 600","DN100",10,6720,3955,1240,410,219.1,"1’’",46,"3x 3030",{"$f":"VLOOKUP(B30,Árlista!$B:$F,5,0)","v":"1 467 000,-Ft (3)"}]
[null,"PF 900","DN150",10,9600,5650,1311,480,273,"1’’",70,"4x 3030",{"$f":"VLOOKUP(B31,Árlista!$B:$F,5,0)","v":"1 800 000,-Ft (3)"}]
[null,"PF 1200","DN150",10,13440,7910,1351,540,323.89999999999998,"1’’",80,"6x 3030",{"$f":"VLOOKUP(B32,Árlista!$B:$F,5,0)","v":"1 911 000,-Ft (3)"}]
[null,"PF 1800","DN200",10,17280,10171,1496,660,406.4,"1’’",135,"8x 3030",{"$f":"VLOOKUP(B33,Árlista!$B:$F,5,0)","v":"2 606 000,-Ft (4)"}]
[null,"PF 2000","DN200",10,21120,12431,1496,660,406.4,"1’’",135,"10x 3030",{"$f":"VLOOKUP(B34,Árlista!$B:$F,5,0)","v":"2 779 000,-Ft (4)"}]
[null,"MEGJEGYZÉS  A megadott nettó árak tájékoztató jellegűek, az utána feltüntett szám az adott termék árkategóriáját jelöli.\n- Ár, csak a szűrőházra vonatkozik!\n- Used material is 1.4301.\n- On request possible 1.4404.\n- Szűrő betéts ’’PA’’, should be changed periodically to assure propper quality of air, but at least every 6 months. Activated carbon filters must not operate in oil saturated conditions.\n- PN, PI, PIW filter betéts tisztítható ultrahangos tisztítással vagy kifúvatással. Interval of cleaning depends on application. If  necessary replace filter betét with new one."]
[]
[null,"SZŰRŐ BETÉT",null,null,"25 µm; 5 µm","20 µm; 1 µm","20 µm; 1 µm","3 µm","1 µm","0,1 µm","0,01 µm"]
[null,null,null,null,"PF-PN","PF-PI","PF-PIW","PF-PP","PF-PR","PF-PM","PF-PS","PF-PA"]
[null,null,null,null,"előszűrő","előszűrő","előszűrő","előszűrő","előszűrő","mikroszűrő","finomszűrő","activated carbon"]
[null,null,null,null,"stainless steel \nmesh 1.4301","sintered INOX 1.4404",null,"acrylic fibers, \ncellulose","borosilicate micro fibres",null,null,"bor. mic. fib.*"]
[null,null,null,null,null,null,null,null,null,null,null,"act. carbon"]
[null,"Szűrő \nbetét \ntípus","Átáramlási képesség","Corresponding\nház","Nettó \nÁr\n[HUF]",null,null,"Nettó \nÁr\n[HUF]"]
[]
[null,null,"[Nm³/h]"]
[null,310,75,"PF 005",{"$f":"VLOOKUP($B45&E$38,Árlista!$B:$F,5,0)","v":"27 560,-Ft"},{"$f":"VLOOKUP($B45&F$38,Árlista!$B:$F,5,0)","v":"27 560,-Ft"},{"$f":"VLOOKUP($B45&G$38,Árlista!$B:$F,5,0)","v":"27 560,-Ft"},{"$f":"VLOOKUP($B45&H$38,Árlista!$B:$F,5,0)","v":"24 000,-Ft"},{"$f":"VLOOKUP($B45&I$38,Árlista!$B:$F,5,0)","v":"24 000,-Ft"},{"$f":"VLOOKUP($B45&J$38,Árlista!$B:$F,5,0)","v":"24 000,-Ft"},{"$f":"VLOOKUP($B45&K$38,Árlista!$B:$F,5,0)","v":"24 000,-Ft"},{"$f":"VLOOKUP($B45&L$38,Árlista!$B:$F,5,0)","v":"24 000,-Ft"}]
[null,410,105,"PF 007",{"$f":"VLOOKUP($B46&E$38,Árlista!$B:$F,5,0)","v":"32 340,-Ft"},{"$f":"VLOOKUP($B46&F$38,Árlista!$B:$F,5,0)","v":"32 340,-Ft"},{"$f":"VLOOKUP($B46&G$38,Árlista!$B:$F,5,0)","v":"32 340,-Ft"},{"$f":"VLOOKUP($B46&H$38,Árlista!$B:$F,5,0)","v":"27 390,-Ft"},{"$f":"VLOOKUP($B46&I$38,Árlista!$B:$F,5,0)","v":"27 390,-Ft"},{"$f":"VLOOKUP($B46&J$38,Árlista!$B:$F,5,0)","v":"27 390,-Ft"},{"$f":"VLOOKUP($B46&K$38,Árlista!$B:$F,5,0)","v":"27 390,-Ft"},{"$f":"VLOOKUP($B46&L$38,Árlista!$B:$F,5,0)","v":"27 390,-Ft"}]
[null,420,150,"PF 010",{"$f":"VLOOKUP($B47&E$38,Árlista!$B:$F,5,0)","v":"35 160,-Ft"},{"$f":"VLOOKUP($B47&F$38,Árlista!$B:$F,5,0)","v":"35 160,-Ft"},{"$f":"VLOOKUP($B47&G$38,Árlista!$B:$F,5,0)","v":"35 160,-Ft"},{"$f":"VLOOKUP($B47&H$38,Árlista!$B:$F,5,0)","v":"30 130,-Ft"},{"$f":"VLOOKUP($B47&I$38,Árlista!$B:$F,5,0)","v":"30 130,-Ft"},{"$f":"VLOOKUP($B47&J$38,Árlista!$B:$F,5,0)","v":"30 130,-Ft"},{"$f":"VLOOKUP($B47&K$38,Árlista!$B:$F,5,0)","v":"30 130,-Ft"},{"$f":"VLOOKUP($B47&L$38,Árlista!$B:$F,5,0)","v":"30 130,-Ft"}]
[null,520,225,"PF 018",{"$f":"VLOOKUP($B48&E$38,Árlista!$B:$F,5,0)","v":"43 590,-Ft"},{"$f":"VLOOKUP($B48&F$38,Árlista!$B:$F,5,0)","v":"43 590,-Ft"},{"$f":"VLOOKUP($B48&G$38,Árlista!$B:$F,5,0)","v":"43 590,-Ft"},{"$f":"VLOOKUP($B48&H$38,Árlista!$B:$F,5,0)","v":"36 970,-Ft"},{"$f":"VLOOKUP($B48&I$38,Árlista!$B:$F,5,0)","v":"36 970,-Ft"},{"$f":"VLOOKUP($B48&J$38,Árlista!$B:$F,5,0)","v":"36 970,-Ft"},{"$f":"VLOOKUP($B48&K$38,Árlista!$B:$F,5,0)","v":"36 970,-Ft"},{"$f":"VLOOKUP($B48&L$38,Árlista!$B:$F,5,0)","v":"36 970,-Ft"}]
[null,525,315,"PF 030",{"$f":"VLOOKUP($B49&E$38,Árlista!$B:$F,5,0)","v":"52 030,-Ft"},{"$f":"VLOOKUP($B49&F$38,Árlista!$B:$F,5,0)","v":"52 030,-Ft"},{"$f":"VLOOKUP($B49&G$38,Árlista!$B:$F,5,0)","v":"52 030,-Ft"},{"$f":"VLOOKUP($B49&H$38,Árlista!$B:$F,5,0)","v":"43 820,-Ft"},{"$f":"VLOOKUP($B49&I$38,Árlista!$B:$F,5,0)","v":"43 820,-Ft"},{"$f":"VLOOKUP($B49&J$38,Árlista!$B:$F,5,0)","v":"43 820,-Ft"},{"$f":"VLOOKUP($B49&K$38,Árlista!$B:$F,5,0)","v":"43 820,-Ft"},{"$f":"VLOOKUP($B49&L$38,Árlista!$B:$F,5,0)","v":"43 820,-Ft"}]
[null,725,420,"PF 047",{"$f":"VLOOKUP($B50&E$38,Árlista!$B:$F,5,0)","v":"61 870,-Ft"},{"$f":"VLOOKUP($B50&F$38,Árlista!$B:$F,5,0)","v":"61 870,-Ft"},{"$f":"VLOOKUP($B50&G$38,Árlista!$B:$F,5,0)","v":"61 870,-Ft"},{"$f":"VLOOKUP($B50&H$38,Árlista!$B:$F,5,0)","v":"52 040,-Ft"},{"$f":"VLOOKUP($B50&I$38,Árlista!$B:$F,5,0)","v":"52 040,-Ft"},{"$f":"VLOOKUP($B50&J$38,Árlista!$B:$F,5,0)","v":"52 040,-Ft"},{"$f":"VLOOKUP($B50&K$38,Árlista!$B:$F,5,0)","v":"52 040,-Ft"},{"$f":"VLOOKUP($B50&L$38,Árlista!$B:$F,5,0)","v":"52 040,-Ft"}]
[null,730,600,"PF 070",{"$f":"VLOOKUP($B51&E$38,Árlista!$B:$F,5,0)","v":"77 340,-Ft"},{"$f":"VLOOKUP($B51&F$38,Árlista!$B:$F,5,0)","v":"77 340,-Ft"},{"$f":"VLOOKUP($B51&G$38,Árlista!$B:$F,5,0)","v":"77 340,-Ft"},{"$f":"VLOOKUP($B51&H$38,Árlista!$B:$F,5,0)","v":"65 730,-Ft"},{"$f":"VLOOKUP($B51&I$38,Árlista!$B:$F,5,0)","v":"65 730,-Ft"},{"$f":"VLOOKUP($B51&J$38,Árlista!$B:$F,5,0)","v":"65 730,-Ft"},{"$f":"VLOOKUP($B51&K$38,Árlista!$B:$F,5,0)","v":"65 730,-Ft"},{"$f":"VLOOKUP($B51&L$38,Árlista!$B:$F,5,0)","v":"65 730,-Ft"}]
[null,1030,900,"PF 094",{"$f":"VLOOKUP($B52&E$38,Árlista!$B:$F,5,0)","v":"94 220,-Ft"},{"$f":"VLOOKUP($B52&F$38,Árlista!$B:$F,5,0)","v":"94 220,-Ft"},{"$f":"VLOOKUP($B52&G$38,Árlista!$B:$F,5,0)","v":"94 220,-Ft"},{"$f":"VLOOKUP($B52&H$38,Árlista!$B:$F,5,0)","v":"79 430,-Ft"},{"$f":"VLOOKUP($B52&I$38,Árlista!$B:$F,5,0)","v":"79 430,-Ft"},{"$f":"VLOOKUP($B52&J$38,Árlista!$B:$F,5,0)","v":"79 430,-Ft"},{"$f":"VLOOKUP($B52&K$38,Árlista!$B:$F,5,0)","v":"79 430,-Ft"},{"$f":"VLOOKUP($B52&L$38,Árlista!$B:$F,5,0)","v":"79 430,-Ft"}]
[null,1530,1260,"PF 150",{"$f":"VLOOKUP($B53&E$38,Árlista!$B:$F,5,0)","v":"112 500,-Ft"},{"$f":"VLOOKUP($B53&F$38,Árlista!$B:$F,5,0)","v":"112 500,-Ft"},{"$f":"VLOOKUP($B53&G$38,Árlista!$B:$F,5,0)","v":"112 500,-Ft"},{"$f":"VLOOKUP($B53&H$38,Árlista!$B:$F,5,0)","v":"95 860,-Ft"},{"$f":"VLOOKUP($B53&I$38,Árlista!$B:$F,5,0)","v":"95 860,-Ft"},{"$f":"VLOOKUP($B53&J$38,Árlista!$B:$F,5,0)","v":"95 860,-Ft"},{"$f":"VLOOKUP($B53&K$38,Árlista!$B:$F,5,0)","v":"95 860,-Ft"},{"$f":"VLOOKUP($B53&L$38,Árlista!$B:$F,5,0)","v":"95 860,-Ft"}]
[null,2030,1680,"PF 175",{"$f":"VLOOKUP($B54&E$38,Árlista!$B:$F,5,0)","v":"134 910,-Ft"},{"$f":"VLOOKUP($B54&F$38,Árlista!$B:$F,5,0)","v":"134 910,-Ft"},{"$f":"VLOOKUP($B54&G$38,Árlista!$B:$F,5,0)","v":"134 910,-Ft"},{"$f":"VLOOKUP($B54&H$38,Árlista!$B:$F,5,0)","v":"117 770,-Ft"},{"$f":"VLOOKUP($B54&I$38,Árlista!$B:$F,5,0)","v":"117 770,-Ft"},{"$f":"VLOOKUP($B54&J$38,Árlista!$B:$F,5,0)","v":"117 770,-Ft"},{"$f":"VLOOKUP($B54&K$38,Árlista!$B:$F,5,0)","v":"117 770,-Ft"},{"$f":"VLOOKUP($B54&L$38,Árlista!$B:$F,5,0)","v":"117 770,-Ft"}]
[null,3030,2400,"PF 200",{"$f":"VLOOKUP($B55&E$38,Árlista!$B:$F,5,0)","v":"162 170,-Ft"},{"$f":"VLOOKUP($B55&F$38,Árlista!$B:$F,5,0)","v":"162 170,-Ft"},{"$f":"VLOOKUP($B55&G$38,Árlista!$B:$F,5,0)","v":"162 170,-Ft"},{"$f":"VLOOKUP($B55&H$38,Árlista!$B:$F,5,0)","v":"138 010,-Ft"},{"$f":"VLOOKUP($B55&I$38,Árlista!$B:$F,5,0)","v":"138 010,-Ft"},{"$f":"VLOOKUP($B55&J$38,Árlista!$B:$F,5,0)","v":"138 010,-Ft"},{"$f":"VLOOKUP($B55&K$38,Árlista!$B:$F,5,0)","v":"138 010,-Ft"},{"$f":"VLOOKUP($B55&L$38,Árlista!$B:$F,5,0)","v":"138 010,-Ft"}]
[null,3050,3600,"PF 240",{"$f":"VLOOKUP($B56&E$38,Árlista!$B:$F,5,0)","v":"380 000,-Ft (2)"},{"$f":"VLOOKUP($B56&F$38,Árlista!$B:$F,5,0)","v":"380 000,-Ft (2)"},{"$f":"VLOOKUP($B56&G$38,Árlista!$B:$F,5,0)","v":"380 000,-Ft (2)"},{"$f":"VLOOKUP($B56&H$38,Árlista!$B:$F,5,0)","v":"167 210,-Ft"},{"$f":"VLOOKUP($B56&I$38,Árlista!$B:$F,5,0)","v":"167 210,-Ft"},{"$f":"VLOOKUP($B56&J$38,Árlista!$B:$F,5,0)","v":"167 210,-Ft"},{"$f":"VLOOKUP($B56&K$38,Árlista!$B:$F,5,0)","v":"167 210,-Ft"},{"$f":"VLOOKUP($B56&L$38,Árlista!$B:$F,5,0)","v":"167 210,-Ft"}]
[null,"3x 2030",5040,"PF 450"]
[null,"3x 3030",6720,"PF 600"]
[null,"4x 3030",9600,"PF 900"]
[null,"6x 3030",13440,"PF 1200"]
[null,"8x 3030",17280,"PF 1800"]
[null,"10x 3030",21120,"PF 2000"]
[null,"* borosilicate micro fibres"]
[null,null,null,"1/4\"","1\""]
[null,"KONDENZÁTUM \nLEERESZTŐ",null,"Drain valve 1/4\"","Drain valve 1\""]
[null,"Nettó ár [HUF]",null,{"$f":"VLOOKUP(D65,Árlista!$B:$F,5,0)","v":"19 770,-Ft"},{"$f":"VLOOKUP(E65,Árlista!$B:$F,5,0)","v":"32 980,-Ft"}]

{"sheet":"HPF","index":16,"n_rows":46,"n_cols":23,"rows_kept":46,"cut":false,"hidden":false,"merged":[[12,1,12,12],[13,1,15,1],[13,2,14,2],[13,3,14,3],[13,4,14,5],[13,6,14,9],[13,10,14,10],[13,11,15,11],[13,12,15,12],[45,1,45,2],[43,1,43,2],[44,1,44,2],[31,12,33,12],[24,1,24,12],[26,1,28,3],[29,4,30,4],[29,5,30,6],[29,7,30,7],[29,8,30,10],[29,12,30,12],[31,1,33,1],[31,2,32,2],[31,3,33,3],[31,4,33,6],[31,7,33,11]]}
[null,"HPF series"]
[]
[]
[null,null,null,null,null,null,null,null,null,null,null,null,null,null,null,"INDEX "]
[]
[]
[]
[]
[]
[]
[]
[]
[null,"SZŰRŐ HÁZ",null,null,null,null,null,null,null,null,null,null,null,null,null,null,null,"KORREKCIÓS FAKTOR"]
[null,"Szűrő \nház\nméret","Cső\n méret","Max.üz.\n nyomás","Átáramlási képesség \nat 7 bar(g), 20 °C",null,"Méretek",null,null,null,"Tömeg","Szűrő \nbetét\ntípus","Nettó ár\n(Csak szűrőház)\n[HUF]",null,null,null,null,"Üzemi nyomás [bar]",7,20,30,40,50]
[null,null,null,null,null,null,null,null,null,null,null,null,null,null,null,null,null,"Üzemi nyomás [psi]",100,290,435,580,725]
[null,null,"inch","bar/psi","Nm³/h","scfm","A [mm]","B [mm]","C [mm]",null,"kg",null,null,null,null,null,null,"Korrekciós faktor",1,2.63,3.88,5.13,6.38]
[null,"HPF 010/50","1/2’’",50,150,88,231,125,76.099999999999994,null,2.5,420,{"$f":"VLOOKUP(B17,Árlista!$B:$F,5,0)","v":"232 130,-Ft"}]
[null,"HPF 018/50","3/4’’",50,225,132,253,125,76.099999999999994,null,2.6,520,{"$f":"VLOOKUP(B18,Árlista!$B:$F,5,0)","v":"236 000,-Ft (2)"}]
[null,"HPF 030/50","1’’",50,315,185,274,136,88.9,null,3.4,525,{"$f":"VLOOKUP(B19,Árlista!$B:$F,5,0)","v":"302 000,-Ft (2)"}]
[null,"HPF 047/50","1 1/4’’",50,420,247,336,155,88.9,null,3.9,725,{"$f":"VLOOKUP(B20,Árlista!$B:$F,5,0)","v":"319 000,-Ft (2)"}]
[null,"HPF 070/50","1 1/2’’",50,600,353,387,180,114.3,null,5.6,730,{"$f":"VLOOKUP(B21,Árlista!$B:$F,5,0)","v":"401 000,-Ft (2)"}]
[null,"HPF 094/50","2’’",50,900,530,453,180,114.3,null,6.2,1030,{"$f":"VLOOKUP(B22,Árlista!$B:$F,5,0)","v":"479 000,-Ft (2)"}]
[null,"HPF 150/50","2’’",50,1260,742,580,180,114.3,null,6.9,1530,{"$f":"VLOOKUP(B23,Árlista!$B:$F,5,0)","v":"498 000,-Ft (2)"}]
[null,"HPF 200/50","3’’",50,2400,1413,1005,224,139.69999999999999,null,14.1,3030,{"$f":"VLOOKUP(B24,Árlista!$B:$F,5,0)","v":"674 000,-Ft (2)"}]
[null,"MEGJEGYZÉS  A megadott nettó árak tájékoztató jellegűek, az utána feltüntett szám az adott termék árkategóriáját jelöli.\n- Ár, csak a szűrőházra vonatkozik!\n- Used material is 1.4301.\n- On request possible 1.4404.\n- Szűrő betéts ’’PA’’, should be changed periodically to assure propper quality of air, but at least every 6 months. Activated carbon filters must not operate in oil saturated conditions.\n- PN, PI, PIW filter betéts tisztítható ultrahangos tisztítással vagy kifúvatással. A tisztítás gyakorisága a felhasználás függvénye. Ha szükséges, akkor cserélje új szűrőbetétre."]
[]
[null,"SZŰRŐ BETÉT",null,null,"25 µm; 5 µm","20 µm; 1 µm","20 µm; 1 µm","3 µm","1 µm","0,1 µm","0,01 µm"]
[null,null,null,null,"HPF-PN","HPF-PI","HPF-PIW","HPF-PP","HPF-PR","HPF-PM","HPF-PS","HPF-PA","HPF-VSF"]
[null,null,null,null,"előszűrő","előszűrő","előszűrő","előszűrő","előszűrő","mikroszűrő","finomszűrő","activated carbon","sterile"]
[null,null,null,null,"stainless steel \nmesh 1.4301","sintered INOX 1.4404",null,"acrylic fibers, \ncellulose","borosilicate micro fibres",null,null,"bor. mic. fib.*","borosilicate \nmicro fibres"]
[null,null,null,null,null,null,null,null,null,null,null,"act. carbon"]
[null,"Szűrő \nbetét \ntípus","Átáramlási képesség","Corresponding\nház","Nettó \nÁr\n[HUF]",null,null,"Nettó \nÁr\n[HUF]",null,null,null,null,"Nettó \nÁr\n[HUF]"]
[]
[null,null,"[Nm³/h]"]
[null,420,150,"HPF 010/50",{"$f":"VLOOKUP($B35&E$28,Árlista!$B:$F,5,0)","v":"35 160,-Ft"},{"$f":"VLOOKUP($B35&F$28,Árlista!$B:$F,5,0)","v":"35 160,-Ft"},{"$f":"VLOOKUP($B35&G$28,Árlista!$B:$F,5,0)","v":"35 160,-Ft"},{"$f":"VLOOKUP($B35&H$28,Árlista!$B:$F,5,0)","v":"30 130,-Ft"},{"$f":"VLOOKUP($B35&I$28,Árlista!$B:$F,5,0)","v":"30 130,-Ft"},{"$f":"VLOOKUP($B35&J$28,Árlista!$B:$F,5,0)","v":"30 130,-Ft"},{"$f":"VLOOKUP($B35&K$28,Árlista!$B:$F,5,0)","v":"30 130,-Ft"},{"$f":"VLOOKUP($B35&L$28,Árlista!$B:$F,5,0)","v":"30 130,-Ft"},{"$f":"VLOOKUP($B35&M$28,Árlista!$B:$F,5,0)","v":"34 230,-Ft"}]
[null,520,225,"HPF 018/50",{"$f":"VLOOKUP($B36&E$28,Árlista!$B:$F,5,0)","v":"43 590,-Ft"},{"$f":"VLOOKUP($B36&F$28,Árlista!$B:$F,5,0)","v":"43 590,-Ft"},{"$f":"VLOOKUP($B36&G$28,Árlista!$B:$F,5,0)","v":"43 590,-Ft"},{"$f":"VLOOKUP($B36&H$28,Árlista!$B:$F,5,0)","v":"36 970,-Ft"},{"$f":"VLOOKUP($B36&I$28,Árlista!$B:$F,5,0)","v":"36 970,-Ft"},{"$f":"VLOOKUP($B36&J$28,Árlista!$B:$F,5,0)","v":"36 970,-Ft"},{"$f":"VLOOKUP($B36&K$28,Árlista!$B:$F,5,0)","v":"36 970,-Ft"},{"$f":"VLOOKUP($B36&L$28,Árlista!$B:$F,5,0)","v":"36 970,-Ft"},{"$f":"VLOOKUP($B36&M$28,Árlista!$B:$F,5,0)","v":"38 340,-Ft"}]
[null,525,315,"HPF 030/50",{"$f":"VLOOKUP($B37&E$28,Árlista!$B:$F,5,0)","v":"52 030,-Ft"},{"$f":"VLOOKUP($B37&F$28,Árlista!$B:$F,5,0)","v":"52 030,-Ft"},{"$f":"VLOOKUP($B37&G$28,Árlista!$B:$F,5,0)","v":"52 030,-Ft"},{"$f":"VLOOKUP($B37&H$28,Árlista!$B:$F,5,0)","v":"43 820,-Ft"},{"$f":"VLOOKUP($B37&I$28,Árlista!$B:$F,5,0)","v":"43 820,-Ft"},{"$f":"VLOOKUP($B37&J$28,Árlista!$B:$F,5,0)","v":"43 820,-Ft"},{"$f":"VLOOKUP($B37&K$28,Árlista!$B:$F,5,0)","v":"43 820,-Ft"},{"$f":"VLOOKUP($B37&L$28,Árlista!$B:$F,5,0)","v":"43 820,-Ft"},{"$f":"VLOOKUP($B37&M$28,Árlista!$B:$F,5,0)","v":"46 560,-Ft"}]
[null,725,420,"HPF 047/50",{"$f":"VLOOKUP($B38&E$28,Árlista!$B:$F,5,0)","v":"61 870,-Ft"},{"$f":"VLOOKUP($B38&F$28,Árlista!$B:$F,5,0)","v":"61 870,-Ft"},{"$f":"VLOOKUP($B38&G$28,Árlista!$B:$F,5,0)","v":"61 870,-Ft"},{"$f":"VLOOKUP($B38&H$28,Árlista!$B:$F,5,0)","v":"52 040,-Ft"},{"$f":"VLOOKUP($B38&I$28,Árlista!$B:$F,5,0)","v":"52 040,-Ft"},{"$f":"VLOOKUP($B38&J$28,Árlista!$B:$F,5,0)","v":"52 040,-Ft"},{"$f":"VLOOKUP($B38&K$28,Árlista!$B:$F,5,0)","v":"52 040,-Ft"},{"$f":"VLOOKUP($B38&L$28,Árlista!$B:$F,5,0)","v":"52 040,-Ft"},{"$f":"VLOOKUP($B38&M$28,Árlista!$B:$F,5,0)","v":"57 230,-Ft"}]
[null,730,600,"HPF 070/50",{"$f":"VLOOKUP($B39&E$28,Árlista!$B:$F,5,0)","v":"77 340,-Ft"},{"$f":"VLOOKUP($B39&F$28,Árlista!$B:$F,5,0)","v":"77 340,-Ft"},{"$f":"VLOOKUP($B39&G$28,Árlista!$B:$F,5,0)","v":"77 340,-Ft"},{"$f":"VLOOKUP($B39&H$28,Árlista!$B:$F,5,0)","v":"65 730,-Ft"},{"$f":"VLOOKUP($B39&I$28,Árlista!$B:$F,5,0)","v":"65 730,-Ft"},{"$f":"VLOOKUP($B39&J$28,Árlista!$B:$F,5,0)","v":"65 730,-Ft"},{"$f":"VLOOKUP($B39&K$28,Árlista!$B:$F,5,0)","v":"65 730,-Ft"},{"$f":"VLOOKUP($B39&L$28,Árlista!$B:$F,5,0)","v":"65 730,-Ft"},{"$f":"VLOOKUP($B39&M$28,Árlista!$B:$F,5,0)","v":"71 210,-Ft"}]
[null,1030,900,"HPF 094/50",{"$f":"VLOOKUP($B40&E$28,Árlista!$B:$F,5,0)","v":"94 220,-Ft"},{"$f":"VLOOKUP($B40&F$28,Árlista!$B:$F,5,0)","v":"94 220,-Ft"},{"$f":"VLOOKUP($B40&G$28,Árlista!$B:$F,5,0)","v":"94 220,-Ft"},{"$f":"VLOOKUP($B40&H$28,Árlista!$B:$F,5,0)","v":"79 430,-Ft"},{"$f":"VLOOKUP($B40&I$28,Árlista!$B:$F,5,0)","v":"79 430,-Ft"},{"$f":"VLOOKUP($B40&J$28,Árlista!$B:$F,5,0)","v":"79 430,-Ft"},{"$f":"VLOOKUP($B40&K$28,Árlista!$B:$F,5,0)","v":"79 430,-Ft"},{"$f":"VLOOKUP($B40&L$28,Árlista!$B:$F,5,0)","v":"79 430,-Ft"},{"$f":"VLOOKUP($B40&M$28,Árlista!$B:$F,5,0)","v":"90 380,-Ft"}]
[null,1530,1260,"HPF 150/50",{"$f":"VLOOKUP($B41&E$28,Árlista!$B:$F,5,0)","v":"112 500,-Ft"},{"$f":"VLOOKUP($B41&F$28,Árlista!$B:$F,5,0)","v":"112 500,-Ft"},{"$f":"VLOOKUP($B41&G$28,Árlista!$B:$F,5,0)","v":"112 500,-Ft"},{"$f":"VLOOKUP($B41&H$28,Árlista!$B:$F,5,0)","v":"95 860,-Ft"},{"$f":"VLOOKUP($B41&I$28,Árlista!$B:$F,5,0)","v":"95 860,-Ft"},{"$f":"VLOOKUP($B41&J$28,Árlista!$B:$F,5,0)","v":"95 860,-Ft"},{"$f":"VLOOKUP($B41&K$28,Árlista!$B:$F,5,0)","v":"95 860,-Ft"},{"$f":"VLOOKUP($B41&L$28,Árlista!$B:$F,5,0)","v":"95 860,-Ft"},{"$f":"VLOOKUP($B41&M$28,Árlista!$B:$F,5,0)","v":"101 230,-Ft"}]
[null,3030,2400,"HPF 200/50",{"$f":"VLOOKUP($B42&E$28,Árlista!$B:$F,5,0)","v":"380 000,-Ft (2)"},{"$f":"VLOOKUP($B42&F$28,Árlista!$B:$F,5,0)","v":"380 000,-Ft (2)"},{"$f":"VLOOKUP($B42&G$28,Árlista!$B:$F,5,0)","v":"380 000,-Ft (2)"},{"$f":"VLOOKUP($B42&H$28,Árlista!$B:$F,5,0)","v":"138 010,-Ft"},{"$f":"VLOOKUP($B42&I$28,Árlista!$B:$F,5,0)","v":"138 010,-Ft"},{"$f":"VLOOKUP($B42&J$28,Árlista!$B:$F,5,0)","v":"138 010,-Ft"},{"$f":"VLOOKUP($B42&K$28,Árlista!$B:$F,5,0)","v":"138 010,-Ft"},{"$f":"VLOOKUP($B42&L$28,Árlista!$B:$F,5,0)","v":"138 010,-Ft"},{"$f":"VLOOKUP($B42&M$28,Árlista!$B:$F,5,0)","v":"145 970,-Ft"}]
[null,"* borosilicate micro fibres"]
[null,null,null,"1/4\""]
[null,"KONDENZÁTUM \nDRAIN",null,"Drain valve 1/4\""]
[null,"Nettó ár [HUF]",null,{"$f":"VLOOKUP(D45,Árlista!$B:$F,5,0)","v":"19 770,-Ft"}]

{"sheet":"SF","index":17,"n_rows":58,"n_cols":33,"rows_kept":58,"cut":false,"hidden":false,"merged":[[39,1,41,1],[39,2,40,2],[39,3,41,3],[39,4,41,4],[13,1,15,1],[13,2,14,2],[13,3,14,3],[13,4,14,5],[13,12,15,12],[13,13,15,13],[32,1,32,12],[34,1,36,3],[37,4,38,4],[13,6,14,10],[13,11,14,11]]}
[null,"SF series"]
[]
[]
[null,null,null,null,null,null,null,null,null,null,null,null,null,null,null,"INDEX "]
[]
[]
[]
[]
[]
[]
[]
[]
[null,"SZŰRŐ HÁZ",null,null,null,null,null,null,null,null,null,null,null,null,null,null,null,"KORREKCIÓS FAKTOR"]
[null,"Szűrő \nház\nméret","Cső\n méret","Max.üz.\n nyomás","Átáramlási képesség \nat 7 bar(g), 20 °C",null,"Méretek",null,null,null,null,"Tömeg","Szűrő \nbetét\ntípus","Nettó ár\n(Csak szűrőház)\n[HUF]",null,null,null,"Üzemi nyomás [bar]",2,3,4,5,6,7,8,9,10,11,12,13,14,15,16]
[null,null,null,null,null,null,null,null,null,null,null,null,null,null,null,null,null,"Üzemi nyomás [psi]",29,44,58,72,87,100,115,130,145,160,174,189,203,218,232]
[null,null,"DN","bar/psi","Nm³/h","scfm","A [mm]","B [mm]","C [mm]","D [mm]","E [mm]","kg",null,null,null,null,null,"Korrekciós faktor",0.38,0.5,0.63,0.75,0.88,1,1.1299999999999999,1.25,1.38,1.5,1.63,1.75,1.88,2,2.13]
[null,"SF 006","DN10 / ø17,2","16/232",75,44,218,125,76.099999999999994,69,"1/8’’",1.6,310,{"$f":"VLOOKUP(B17,Árlista!$B:$F,5,0)","v":"220 220,-Ft"}]
[null,"SF 009","DN10 / ø17,2","16/232",105,62,246,125,76.099999999999994,69,"1/8’’",1.7,410,{"$f":"VLOOKUP(B18,Árlista!$B:$F,5,0)","v":"227 180,-Ft"}]
[null,"SF012","DN15 / ø21,3","16/232",150,88,251,120,76.099999999999994,69,"1/8’’",1.7,420,{"$f":"VLOOKUP(B19,Árlista!$B:$F,5,0)","v":"235 450,-Ft"}]
[null,"SF 018","DN15 / ø21,3","16/232",225,132,275,120,76.099999999999994,69,"1/8’’",1.8,520,{"$f":"VLOOKUP(B20,Árlista!$B:$F,5,0)","v":"239 000,-Ft (2)"}]
[null,"SF 032","DN25 / ø35,7","16/232",315,185,303,169,114.3,86,"1/4’’",3.1,530,{"$f":"VLOOKUP(B21,Árlista!$B:$F,5,0)","v":"327 000,-Ft (2)"}]
[null,"SF 048","DN32 / ø42,4","16/232",600,353,363,169,114.3,86,"1/4’’",3.4,730,{"$f":"VLOOKUP(B22,Árlista!$B:$F,5,0)","v":"373 000,-Ft (2)"}]
[null,"SF 072","DN40 / ø48,3","16/232",900,530,446,169,114.3,86,"1/4’’",3.6,1030,{"$f":"VLOOKUP(B23,Árlista!$B:$F,5,0)","v":"414 000,-Ft (2)"}]
[null,"SF 108","DN50 / ø60,3","16/232",1260,742,587,183,114.3,96,"1/4’’",4.9000000000000004,1530,{"$f":"VLOOKUP(B24,Árlista!$B:$F,5,0)","v":"468 000,-Ft (2)"}]
[null,"SF 144","DN65 / ø76,1","16/232",1680,989,763,195,139.69999999999999,120,"1/4’’",8.4,2030,{"$f":"VLOOKUP(B25,Árlista!$B:$F,5,0)","v":"550 000,-Ft (2)"}]
[null,"SF 192","DN80 / ø88,9","16/232",2400,1413,1015,195,139.69999999999999,120,"1/4’’",10.199999999999999,3030,{"$f":"VLOOKUP(B26,Árlista!$B:$F,5,0)","v":"583 000,-Ft (2)"}]
[null,"SF 432","DN100","10/145",5040,2966,1012,410,219.1,183,"1/2’’",44,"3 x 2030",{"$f":"VLOOKUP(B27,Árlista!$B:$F,5,0)","v":"1 066 000,-Ft (2)"}]
[null,"SF 576","DN100","10/145",6720,3955,1266,410,219.1,183,"1/2’’",45,"3 x 3030",{"$f":"VLOOKUP(B28,Árlista!$B:$F,5,0)","v":"1 280 000,-Ft (3)"}]
[null,"SF 768","DN150","10/145",9600,5650,1305,480,273,225,"1/2’’",70,"4 x 3030",{"$f":"VLOOKUP(B29,Árlista!$B:$F,5,0)","v":"1 280 000,-Ft (3)"}]
[null,"SF 1152","DN150","10/145",13440,7910,1418,540,323.89999999999998,256,"1’’",80,"6 x 3030",{"$f":"VLOOKUP(B30,Árlista!$B:$F,5,0)","v":"1 719 000,-Ft (3)"}]
[null,"SF 1536","DN200","10/145",17200,10124,1568,660,406.4,306,"1’’",135,"8 x 3030",{"$f":"VLOOKUP(B31,Árlista!$B:$F,5,0)","v":"2 501 000,-Ft (4)"}]
[null,"SF 1920","DN200","10/145",21120,12431,1568,660,406.4,306,"1’’",135,"10 x 3030",{"$f":"VLOOKUP(B32,Árlista!$B:$F,5,0)","v":"2 549 000,-Ft (4)"}]
[null,"MEGJEGYZÉS  A megadott nettó árak tájékoztató jellegűek, az utána feltüntett szám az adott termék árkategóriáját jelöli.\n- Ár, csak a szűrőházra vonatkozik!\n- Used material is 1.4301.\n- On request possible 1.4404."]
[]
[null,"SZŰRŐ BETÉT"]
[null,null,null,null,"SF-VSF"]
[null,null,null,null,"sterile"]
[null,null,null,null,"borosilicate \nmicro fibres"]
[]
[null,"Szűrő \nbetét \ntípus","Átáramlási képesség","Corresponding\nház","Nettó \nÁr\n[HUF]"]
[]
[null,null,"[Nm³/h]"]
[null,310,75,"SF 006",{"$f":"VLOOKUP($B43&E$36,Árlista!$B:$F,5,0)","v":"25 410,-Ft"}]
[null,410,105,"SF 009",{"$f":"VLOOKUP($B44&E$36,Árlista!$B:$F,5,0)","v":"30 130,-Ft"}]
[null,420,150,"SF 012",{"$f":"VLOOKUP($B45&E$36,Árlista!$B:$F,5,0)","v":"34 230,-Ft"}]
[null,520,225,"SF 018",{"$f":"VLOOKUP($B46&E$36,Árlista!$B:$F,5,0)","v":"38 340,-Ft"}]
[null,530,315,"SF 032",{"$f":"VLOOKUP($B47&E$36,Árlista!$B:$F,5,0)","v":"62 120,-Ft"}]
[null,730,600,"SF 048",{"$f":"VLOOKUP($B48&E$36,Árlista!$B:$F,5,0)","v":"71 210,-Ft"}]
[null,1030,900,"SF 072",{"$f":"VLOOKUP($B49&E$36,Árlista!$B:$F,5,0)","v":"90 380,-Ft"}]
[null,1530,1260,"SF 108",{"$f":"VLOOKUP($B50&E$36,Árlista!$B:$F,5,0)","v":"101 230,-Ft"}]
[null,2030,1680,"SF 144",{"$f":"VLOOKUP($B51&E$36,Árlista!$B:$F,5,0)","v":"122 090,-Ft"}]
[null,3030,2400,"SF 192",{"$f":"VLOOKUP($B52&E$36,Árlista!$B:$F,5,0)","v":"145 970,-Ft"}]
[null,"3 x 2030",5040,"SF 432"]
[null,"3 x 3030",6720,"SF 576"]
[null,"4 x 3030",9600,"SF 768"]
[null,"6 x 3030",13440,"SF 1152"]
[null,"8 x 3030",17200,"SF 1536"]
[null,"10 x 3030",21120,"SF 1920"]

{"sheet":"SPF","index":18,"n_rows":54,"n_cols":33,"rows_kept":54,"cut":false,"hidden":false,"merged":[[12,1,12,12],[13,1,15,1],[13,2,14,2],[13,3,14,3],[13,4,14,5],[13,6,14,9],[13,10,14,10],[13,11,15,11],[13,12,15,12],[51,1,51,2],[52,1,52,2],[53,1,53,2],[35,12,37,12],[28,1,28,12],[30,1,32,3],[33,4,34,4],[33,5,34,6],[33,7,34,7],[33,8,34,10],[33,12,34,12],[35,1,37,1],[35,2,36,2],[35,3,37,3],[35,4,37,6],[35,7,37,11]]}
[null,"SPF series"]
[]
[]
[null,null,null,null,null,null,null,null,null,null,null,null,null,null,null,"INDEX "]
[]
[]
[]
[]
[]
[]
[]
[]
[null,"SZŰRŐ HÁZ",null,null,null,null,null,null,null,null,null,null,null,null,null,null,null,"KORREKCIÓS FAKTOR"]
[null,"Szűrő \nház\nméret","Cső\n méret","Max.üz.\n nyomás","Átáramlási képesség \nat 7 bar(g), 20 °C",null,"Méretek",null,null,null,"Tömeg","Szűrő \nbetét\ntípus","Nettó ár\n(Csak szűrőház)\n[HUF]",null,null,null,null,"Üzemi nyomás [bar]",2,3,4,5,6,7,8,9,10,11,12,13,14,15,16]
[null,null,null,null,null,null,null,null,null,null,null,null,null,null,null,null,null,"Üzemi nyomás [psi]",29,44,58,72,87,100,115,130,145,160,174,189,203,218,232]
[null,null,"inch","bar/psi","Nm³/h","scfm","A [mm]","B [mm]","C [mm]","E [mm]","kg",null,null,null,null,null,null,"Korrekciós faktor",0.38,0.5,0.63,0.75,0.88,1,1.1299999999999999,1.25,1.38,1.5,1.63,1.75,1.88,2,2.13]
[null,"SPF 005","1/4’’","16/232",75,44,225,116,76.099999999999994,"1/8’’",1.7,310,{"$f":"VLOOKUP(B17,Árlista!$B:$F,5,0)","v":"208 990,-Ft"}]
[null,"SPF 007","3/8’’","16/232",105,62,251,120,76.099999999999994,"1/8’’",1.9,410,{"$f":"VLOOKUP(B18,Árlista!$B:$F,5,0)","v":"214 070,-Ft"}]
[null,"SPF 010","1/2’’","16/232",150,88,253,125,76.099999999999994,"1/8’’",1.9,420,{"$f":"VLOOKUP(B19,Árlista!$B:$F,5,0)","v":"225 760,-Ft"}]
[null,"SPF 018","3/4’’","16/232",225,132,281,125,76.099999999999994,"1/8’’",2,520,{"$f":"VLOOKUP(B20,Árlista!$B:$F,5,0)","v":"237 860,-Ft"}]
[null,"SPF 030","1’’","16/232",315,185,290,136,88.9,"1/8’’",2.6,525,{"$f":"VLOOKUP(B21,Árlista!$B:$F,5,0)","v":"275 000,-Ft (2)"}]
[null,"SPF 047","1 1/4’’","16/232",420,247,357,155,88.9,"1/8’’",3,725,{"$f":"VLOOKUP(B22,Árlista!$B:$F,5,0)","v":"299 000,-Ft (2)"}]
[null,"SPF 070","1 1/2’’","16/232",600,353,408,179,114.3,"1/4’’",4.3,730,{"$f":"VLOOKUP(B23,Árlista!$B:$F,5,0)","v":"377 000,-Ft (2)"}]
[null,"SPF 094","2’’","16/232",900,530,476,179,114.3,"1/4’’",4.8,1030,{"$f":"VLOOKUP(B24,Árlista!$B:$F,5,0)","v":"441 000,-Ft (2)"}]
[null,"SPF 150","2’’","16/232",1260,742,602,180,114.3,"1/4’’",5.3,1530,{"$f":"VLOOKUP(B25,Árlista!$B:$F,5,0)","v":"469 000,-Ft (2)"}]
[null,"SPF 175","2 1/2’’","16/232",1680,989,762,224,139.69999999999999,"1/4’’",9,2030,{"$f":"VLOOKUP(B26,Árlista!$B:$F,5,0)","v":"616 000,-Ft (2)"}]
[null,"SPF 200","3’’","12/174",2400,1413,1030,224,139.69999999999999,"1/4’’",10.8,3030,{"$f":"VLOOKUP(B27,Árlista!$B:$F,5,0)","v":"648 000,-Ft (2)"}]
[null,"SPF 240","3’’","12/174",3600,2119,1035,238,154,"1/4’’",16.2,3050,{"$f":"VLOOKUP(B28,Árlista!$B:$F,5,0)","v":"827 000,-Ft (2)"}]
[null,"MEGJEGYZÉS  A megadott nettó árak tájékoztató jellegűek, az utána feltüntett szám az adott termék árkategóriáját jelöli.\n- Ár, csak a szűrőházra vonatkozik!\n- Used material is 1.4301.\n- On request possible 1.4404.\n- SPN, SPFI filter betéts tisztítható ultrahangos tisztítással vagy kifúvatással. Interval of cleaning depends on application. Ha szükséges, akkor cserélje új szűrőbetétre."]
[]
[null,"SZŰRŐ BETÉT",null,null,"25 µm; 5 µm","20 µm; 1 µm","20 µm; 1 µm","3 µm","1 µm","0,1 µm","0,01 µm"]
[null,null,null,null,"SPF-PN","SPF-PI","SPF-PIW","SPF-PP","SPF-PR","SPF-PM","SPF-PS","SPF-PA","SPF-VSF"]
[null,null,null,null,"előszűrő","előszűrő","előszűrő","előszűrő","előszűrő","mikroszűrő","finomszűrő","activated carbon","sterile"]
[null,null,null,null,"stainless steel \nmesh 1.4301","sintered INOX 1.4404",null,"acrylic fibers, \ncellulose","borosilicate micro fibres",null,null,"bor. mic. fib.*","borosilicate \nmicro fibres"]
[null,null,null,null,null,null,null,null,null,null,null,"act. carbon"]
[null,"Szűrő \nbetét \ntípus","Átáramlási képesség","Corresponding\nház","Nettó \nÁr\n[HUF]",null,null,"Nettó \nÁr\n[HUF]",null,null,null,null,"Nettó \nÁr\n[HUF]"]
[]
[null,null,"[Nm³/h]"]
[null,310,75,"SPF 005",{"$f":"VLOOKUP($B39&E$32,Árlista!$B:$F,5,0)","v":"25 810,-Ft"},{"$f":"VLOOKUP($B39&F$32,Árlista!$B:$F,5,0)","v":"25 810,-Ft"},{"$f":"VLOOKUP($B39&G$32,Árlista!$B:$F,5,0)","v":"25 810,-Ft"},{"$f":"VLOOKUP($B39&H$32,Árlista!$B:$F,5,0)","v":"24 000,-Ft"},{"$f":"VLOOKUP($B39&I$32,Árlista!$B:$F,5,0)","v":"24 000,-Ft"},{"$f":"VLOOKUP($B39&J$32,Árlista!$B:$F,5,0)","v":"24 000,-Ft"},{"$f":"VLOOKUP($B39&K$32,Árlista!$B:$F,5,0)","v":"24 000,-Ft"},{"$f":"VLOOKUP($B39&L$32,Árlista!$B:$F,5,0)","v":"24 000,-Ft"},{"$f":"VLOOKUP($B39&M$32,Árlista!$B:$F,5,0)","v":"25 410,-Ft"}]
[null,410,105,"SPF 007",{"$f":"VLOOKUP($B40&E$32,Árlista!$B:$F,5,0)","v":"30 280,-Ft"},{"$f":"VLOOKUP($B40&F$32,Árlista!$B:$F,5,0)","v":"30 280,-Ft"},{"$f":"VLOOKUP($B40&G$32,Árlista!$B:$F,5,0)","v":"30 280,-Ft"},{"$f":"VLOOKUP($B40&H$32,Árlista!$B:$F,5,0)","v":"27 390,-Ft"},{"$f":"VLOOKUP($B40&I$32,Árlista!$B:$F,5,0)","v":"27 390,-Ft"},{"$f":"VLOOKUP($B40&J$32,Árlista!$B:$F,5,0)","v":"27 390,-Ft"},{"$f":"VLOOKUP($B40&K$32,Árlista!$B:$F,5,0)","v":"27 390,-Ft"},{"$f":"VLOOKUP($B40&L$32,Árlista!$B:$F,5,0)","v":"27 390,-Ft"},{"$f":"VLOOKUP($B40&M$32,Árlista!$B:$F,5,0)","v":"30 130,-Ft"}]
[null,420,150,"SPF 010",{"$f":"VLOOKUP($B41&E$32,Árlista!$B:$F,5,0)","v":"32 920,-Ft"},{"$f":"VLOOKUP($B41&F$32,Árlista!$B:$F,5,0)","v":"32 920,-Ft"},{"$f":"VLOOKUP($B41&G$32,Árlista!$B:$F,5,0)","v":"32 920,-Ft"},{"$f":"VLOOKUP($B41&H$32,Árlista!$B:$F,5,0)","v":"30 020,-Ft"},{"$f":"VLOOKUP($B41&I$32,Árlista!$B:$F,5,0)","v":"30 020,-Ft"},{"$f":"VLOOKUP($B41&J$32,Árlista!$B:$F,5,0)","v":"30 020,-Ft"},{"$f":"VLOOKUP($B41&K$32,Árlista!$B:$F,5,0)","v":"30 020,-Ft"},{"$f":"VLOOKUP($B41&L$32,Árlista!$B:$F,5,0)","v":"30 020,-Ft"},{"$f":"VLOOKUP($B41&M$32,Árlista!$B:$F,5,0)","v":"34 230,-Ft"}]
[null,520,225,"SPF 018",{"$f":"VLOOKUP($B42&E$32,Árlista!$B:$F,5,0)","v":"40 820,-Ft"},{"$f":"VLOOKUP($B42&F$32,Árlista!$B:$F,5,0)","v":"40 820,-Ft"},{"$f":"VLOOKUP($B42&G$32,Árlista!$B:$F,5,0)","v":"40 820,-Ft"},{"$f":"VLOOKUP($B42&H$32,Árlista!$B:$F,5,0)","v":"36 970,-Ft"},{"$f":"VLOOKUP($B42&I$32,Árlista!$B:$F,5,0)","v":"36 970,-Ft"},{"$f":"VLOOKUP($B42&J$32,Árlista!$B:$F,5,0)","v":"36 970,-Ft"},{"$f":"VLOOKUP($B42&K$32,Árlista!$B:$F,5,0)","v":"36 970,-Ft"},{"$f":"VLOOKUP($B42&L$32,Árlista!$B:$F,5,0)","v":"36 970,-Ft"},{"$f":"VLOOKUP($B42&M$32,Árlista!$B:$F,5,0)","v":"38 340,-Ft"}]
[null,525,315,"SPF 030",{"$f":"VLOOKUP($B43&E$32,Árlista!$B:$F,5,0)","v":"48 720,-Ft"},{"$f":"VLOOKUP($B43&F$32,Árlista!$B:$F,5,0)","v":"48 720,-Ft"},{"$f":"VLOOKUP($B43&G$32,Árlista!$B:$F,5,0)","v":"48 720,-Ft"},{"$f":"VLOOKUP($B43&H$32,Árlista!$B:$F,5,0)","v":"43 820,-Ft"},{"$f":"VLOOKUP($B43&I$32,Árlista!$B:$F,5,0)","v":"43 820,-Ft"},{"$f":"VLOOKUP($B43&J$32,Árlista!$B:$F,5,0)","v":"43 820,-Ft"},{"$f":"VLOOKUP($B43&K$32,Árlista!$B:$F,5,0)","v":"43 820,-Ft"},{"$f":"VLOOKUP($B43&L$32,Árlista!$B:$F,5,0)","v":"43 820,-Ft"},{"$f":"VLOOKUP($B43&M$32,Árlista!$B:$F,5,0)","v":"46 560,-Ft"}]
[null,725,420,"SPF 047",{"$f":"VLOOKUP($B44&E$32,Árlista!$B:$F,5,0)","v":"57 940,-Ft"},{"$f":"VLOOKUP($B44&F$32,Árlista!$B:$F,5,0)","v":"57 940,-Ft"},{"$f":"VLOOKUP($B44&G$32,Árlista!$B:$F,5,0)","v":"57 940,-Ft"},{"$f":"VLOOKUP($B44&H$32,Árlista!$B:$F,5,0)","v":"52 040,-Ft"},{"$f":"VLOOKUP($B44&I$32,Árlista!$B:$F,5,0)","v":"52 040,-Ft"},{"$f":"VLOOKUP($B44&J$32,Árlista!$B:$F,5,0)","v":"52 040,-Ft"},{"$f":"VLOOKUP($B44&K$32,Árlista!$B:$F,5,0)","v":"52 040,-Ft"},{"$f":"VLOOKUP($B44&L$32,Árlista!$B:$F,5,0)","v":"52 040,-Ft"},{"$f":"VLOOKUP($B44&M$32,Árlista!$B:$F,5,0)","v":"57 230,-Ft"}]
[null,730,600,"SPF 070",{"$f":"VLOOKUP($B45&E$32,Árlista!$B:$F,5,0)","v":"72 420,-Ft"},{"$f":"VLOOKUP($B45&F$32,Árlista!$B:$F,5,0)","v":"72 420,-Ft"},{"$f":"VLOOKUP($B45&G$32,Árlista!$B:$F,5,0)","v":"72 420,-Ft"},{"$f":"VLOOKUP($B45&H$32,Árlista!$B:$F,5,0)","v":"65 730,-Ft"},{"$f":"VLOOKUP($B45&I$32,Árlista!$B:$F,5,0)","v":"65 730,-Ft"},{"$f":"VLOOKUP($B45&J$32,Árlista!$B:$F,5,0)","v":"65 730,-Ft"},{"$f":"VLOOKUP($B45&K$32,Árlista!$B:$F,5,0)","v":"65 730,-Ft"},{"$f":"VLOOKUP($B45&L$32,Árlista!$B:$F,5,0)","v":"65 730,-Ft"},{"$f":"VLOOKUP($B45&M$32,Árlista!$B:$F,5,0)","v":"71 210,-Ft"}]
[null,1030,900,"SPF 094",{"$f":"VLOOKUP($B46&E$32,Árlista!$B:$F,5,0)","v":"88 220,-Ft"},{"$f":"VLOOKUP($B46&F$32,Árlista!$B:$F,5,0)","v":"88 220,-Ft"},{"$f":"VLOOKUP($B46&G$32,Árlista!$B:$F,5,0)","v":"88 220,-Ft"},{"$f":"VLOOKUP($B46&H$32,Árlista!$B:$F,5,0)","v":"79 430,-Ft"},{"$f":"VLOOKUP($B46&I$32,Árlista!$B:$F,5,0)","v":"79 430,-Ft"},{"$f":"VLOOKUP($B46&J$32,Árlista!$B:$F,5,0)","v":"79 430,-Ft"},{"$f":"VLOOKUP($B46&K$32,Árlista!$B:$F,5,0)","v":"79 430,-Ft"},{"$f":"VLOOKUP($B46&L$32,Árlista!$B:$F,5,0)","v":"79 430,-Ft"},{"$f":"VLOOKUP($B46&M$32,Árlista!$B:$F,5,0)","v":"90 380,-Ft"}]
[null,1530,1260,"SPF 150",{"$f":"VLOOKUP($B47&E$32,Árlista!$B:$F,5,0)","v":"105 340,-Ft"},{"$f":"VLOOKUP($B47&F$32,Árlista!$B:$F,5,0)","v":"105 340,-Ft"},{"$f":"VLOOKUP($B47&G$32,Árlista!$B:$F,5,0)","v":"105 340,-Ft"},{"$f":"VLOOKUP($B47&H$32,Árlista!$B:$F,5,0)","v":"95 860,-Ft"},{"$f":"VLOOKUP($B47&I$32,Árlista!$B:$F,5,0)","v":"95 860,-Ft"},{"$f":"VLOOKUP($B47&J$32,Árlista!$B:$F,5,0)","v":"95 860,-Ft"},{"$f":"VLOOKUP($B47&K$32,Árlista!$B:$F,5,0)","v":"95 860,-Ft"},{"$f":"VLOOKUP($B47&L$32,Árlista!$B:$F,5,0)","v":"95 860,-Ft"},{"$f":"VLOOKUP($B47&M$32,Árlista!$B:$F,5,0)","v":"101 230,-Ft"}]
[null,2030,1680,"SPF 175",{"$f":"VLOOKUP($B48&E$32,Árlista!$B:$F,5,0)","v":"126 320,-Ft"},{"$f":"VLOOKUP($B48&F$32,Árlista!$B:$F,5,0)","v":"126 320,-Ft"},{"$f":"VLOOKUP($B48&G$32,Árlista!$B:$F,5,0)","v":"126 320,-Ft"},{"$f":"VLOOKUP($B48&H$32,Árlista!$B:$F,5,0)","v":"117 770,-Ft"},{"$f":"VLOOKUP($B48&I$32,Árlista!$B:$F,5,0)","v":"117 770,-Ft"},{"$f":"VLOOKUP($B48&J$32,Árlista!$B:$F,5,0)","v":"117 770,-Ft"},{"$f":"VLOOKUP($B48&K$32,Árlista!$B:$F,5,0)","v":"117 770,-Ft"},{"$f":"VLOOKUP($B48&L$32,Árlista!$B:$F,5,0)","v":"117 770,-Ft"},{"$f":"VLOOKUP($B48&M$32,Árlista!$B:$F,5,0)","v":"122 090,-Ft"}]
[null,3030,2400,"SPF 200",{"$f":"VLOOKUP($B49&E$32,Árlista!$B:$F,5,0)","v":"151 840,-Ft"},{"$f":"VLOOKUP($B49&F$32,Árlista!$B:$F,5,0)","v":"151 840,-Ft"},{"$f":"VLOOKUP($B49&G$32,Árlista!$B:$F,5,0)","v":"151 840,-Ft"},{"$f":"VLOOKUP($B49&H$32,Árlista!$B:$F,5,0)","v":"138 010,-Ft"},{"$f":"VLOOKUP($B49&I$32,Árlista!$B:$F,5,0)","v":"138 010,-Ft"},{"$f":"VLOOKUP($B49&J$32,Árlista!$B:$F,5,0)","v":"138 010,-Ft"},{"$f":"VLOOKUP($B49&K$32,Árlista!$B:$F,5,0)","v":"138 010,-Ft"},{"$f":"VLOOKUP($B49&L$32,Árlista!$B:$F,5,0)","v":"138 010,-Ft"},{"$f":"VLOOKUP($B49&M$32,Árlista!$B:$F,5,0)","v":"145 970,-Ft"}]
[null,3050,3600,"SPF 240",{"$f":"VLOOKUP($B50&E$32,Árlista!$B:$F,5,0)","v":"183 740,-Ft"},{"$f":"VLOOKUP($B50&F$32,Árlista!$B:$F,5,0)","v":"183 740,-Ft"},{"$f":"VLOOKUP($B50&G$32,Árlista!$B:$F,5,0)","v":"183 740,-Ft"},{"$f":"VLOOKUP($B50&H$32,Árlista!$B:$F,5,0)","v":"167 210,-Ft"},{"$f":"VLOOKUP($B50&I$32,Árlista!$B:$F,5,0)","v":"167 210,-Ft"},{"$f":"VLOOKUP($B50&J$32,Árlista!$B:$F,5,0)","v":"167 210,-Ft"},{"$f":"VLOOKUP($B50&K$32,Árlista!$B:$F,5,0)","v":"167 210,-Ft"},{"$f":"VLOOKUP($B50&L$32,Árlista!$B:$F,5,0)","v":"167 210,-Ft"},{"$f":"VLOOKUP($B50&M$32,Árlista!$B:$F,5,0)","v":"175 170,-Ft"}]
[null,"* borosilicate micro fibres"]
[null,null,null,"1/8\"","1/4\""]
[null,"KONDENZÁTUM \nLEERESZTŐ",null,"Drain valve 1/8\"","Drain valve 1/4\""]
[null,"Nettó ár [HUF]",null,{"$f":"VLOOKUP(D53,Árlista!$B:$F,5,0)","v":"16 340,-Ft"},{"$f":"VLOOKUP(E53,Árlista!$B:$F,5,0)","v":"19 770,-Ft"}]

{"sheet":"AV","index":19,"n_rows":37,"n_cols":16,"rows_kept":37,"cut":false,"hidden":false,"merged":[[12,7,13,7],[12,8,14,8],[28,1,30,1],[28,2,29,2],[28,3,30,3],[28,4,30,4],[12,9,14,9],[21,1,21,12],[23,1,25,3],[26,4,27,4],[26,5,27,6],[26,7,27,7],[26,8,27,10],[26,12,27,12],[12,1,14,1],[12,2,13,2],[12,3,13,3],[12,4,13,6]]}
[null,"AV series"]
[]
[]
[null,null,null,null,null,null,null,null,null,null,null,null,null,null,null,"INDEX "]
[]
[]
[]
[]
[]
[]
[]
[null,"SZŰRŐ HÁZ"]
[null,"Szűrő \nház\nméret","Cső\n méret","Átáramlási képesség ","Méretek",null,null,"Tömeg","Szűrő \nbetét\ntípus","Nettó ár\n(Csak szűrőház)\n[HUF]"]
[]
[null,null,"DN","Nm³/h","A [mm]","B [mm]","C [mm]","kg"]
[null,"AV 006",32,9,115,88.9,"Rd 58 x 1/6",1.6,"AVF 0310",{"$f":"VLOOKUP(B16,Árlista!$B:$F,5,0)","v":"88 220,-Ft"}]
[null,"AV 027",40,25,176,114.3,"Rd 65 x 1/6",2.4,"AVF 0525",{"$f":"VLOOKUP(B17,Árlista!$B:$F,5,0)","v":"93 490,-Ft"}]
[null,"AV 032",50,40,184,114.3,"Rd 78 x 1/6",2.5,"AVF 0530",{"$f":"VLOOKUP(B18,Árlista!$B:$F,5,0)","v":"113 240,-Ft"}]
[null,"AV 072",50,110,320,114.3,"Rd 78 x 1/6",3.4,"AVF 1030",{"$f":"VLOOKUP(B19,Árlista!$B:$F,5,0)","v":"118 510,-Ft"}]
[null,"AV 144",80,210,123,168.3,"Rd 110 x 1/4",9.5,"AVF 2030",{"$f":"VLOOKUP(B20,Árlista!$B:$F,5,0)","v":"207 990,-Ft"}]
[null,"AV 192",80,310,820,168.3,"Rd 110 x 1/4",12,"AVF 3030",{"$f":"VLOOKUP(B21,Árlista!$B:$F,5,0)","v":"216 920,-Ft"}]
[null,"MEGJEGYZÉS  A megadott nettó árak tájékoztató jellegűek, az utána feltüntett szám az adott termék árkategóriáját jelöli.\n- Ár, csak a szűrőházra vonatkozik!\n- Used material is 1.4301.\n- On request possible 1.4404.\n- Replace filter betét al least every 12 months or folow instructions for specific application.\n- Once a year make a visual check on filter ház and make sure is no visual damage.\n- *TRI-CLAMP connection on request."]
[]
[null,"SZŰRŐ BETÉT"]
[null,null,null,null,"AV-AVF"]
[null,null,null,null,"előszűrő"]
[null,null,null,null,"stainless steel "]
[]
[null,"Szűrő \nbetét \ntípus","Átáramlási képesség","Corresponding\nház","Nettó \nÁr\n[HUF]"]
[]
[null,null,"[Nm³/h]"]
[null,310,9,"AVF 0310",{"$f":"VLOOKUP($B32&E$25,Árlista!$B:$F,5,0)","v":"25 410,-Ft"}]
[null,525,25,"AVF 0525",{"$f":"VLOOKUP($B33&E$25,Árlista!$B:$F,5,0)","v":"46 560,-Ft"}]
[null,530,40,"AVF 0530",{"$f":"VLOOKUP($B34&E$25,Árlista!$B:$F,5,0)","v":"62 120,-Ft"}]
[null,1030,110,"AVF 1030",{"$f":"VLOOKUP($B35&E$25,Árlista!$B:$F,5,0)","v":"90 380,-Ft"}]
[null,2030,210,"AVF 2030",{"$f":"VLOOKUP($B36&E$25,Árlista!$B:$F,5,0)","v":"122 090,-Ft"}]
[null,3030,310,"AVF 3030",{"$f":"VLOOKUP($B37&E$25,Árlista!$B:$F,5,0)","v":"145 970,-Ft"}]

{"sheet":"CKL-B","index":20,"n_rows":52,"n_cols":35,"rows_kept":52,"cut":false,"hidden":false,"merged":[[15,13,17,13],[15,14,17,14],[26,1,26,12],[28,1,30,3],[15,1,17,1],[15,2,16,2],[15,3,16,3],[15,4,16,5],[15,6,16,7],[15,8,16,11],[37,5,37,9],[38,5,38,9],[39,5,39,9],[40,5,40,9],[15,12,16,12],[36,5,36,9],[31,10,33,10],[31,11,33,11],[31,12,33,12],[34,5,34,9],[35,5,35,9],[31,1,33,1],[31,2,32,2],[31,3,33,3],[31,4,33,4],[31,5,33,9],[41,5,41,9],[51,1,51,2],[51,11,51,12],[44,1,44,2],[46,1,46,2],[47,1,47,2],[49,1,50,2],[49,11,49,12],[50,11,50,12],[43,1,43,2]]}
[null,"CKL-B series"]
[]
[]
[null,null,null,null,null,null,null,null,null,null,null,null,null,null,null,"INDEX "]
[]
[null,null,null,null,null,null,null,null,null,null,null,null,null,null,null,null,null,{"$f":"AF!R6","v":"A feltüntett árak nettó listaárak. Szállítási feltételek és kedvezmények felől érdeklődhet:\n30/201-4931\ninfo@techtomat.hu"}]
[]
[]
[]
[]
[]
[]
[]
[]
[null,"SZŰRŐ HÁZ",null,null,null,null,null,null,null,null,null,null,null,null,null,null,null,null,null,"KORREKCIÓS FAKTOR"]
[null,"Szűrő \nház\nméret","Cső\n méret","Max.üz.\n nyomás","Átáramlási képesség \nat 7 bar(g), 20 °C",null,"Temperature\nüz. Range",null,"Méretek",null,null,null,"Tömeg","Szűrő \nbetét\ntípus","Nettó ár\n(Csak szűrőház)\n[HUF]",null,null,null,null,"Üzemi nyomás [bar]",2,3,4,5,6,7,8,9,10,11,12,13,14,15,16]
[null,null,null,null,null,null,null,null,null,null,null,null,null,null,null,null,null,null,null,"Üzemi nyomás [psi]",29,44,58,72,87,100,115,130,145,160,174,189,203,218,232]
[null,null,"inch","bar/psi","Nm³/h","scfm","°C","°F","A [mm]","B [mm]","C [mm]","D [mm]","kg",null,null,null,null,null,null,"Korrekciós faktor",0.38,0.5,0.63,0.75,0.88,1,1.1299999999999999,1.25,1.38,1.5,1.63,1.75,1.88,2,2.13]
[null,"CKL 005 B","3/8","16/232",120,70,"1,5 - 65","35 - 149",187,88,20,60,0.7,6050,{"$f":"VLOOKUP(B19,Árlista!$B:$F,5,0)","v":"12 930,-Ft"}]
[null,"CKL 007 B","1/2","16/232",155,91,"1,5 - 65","35 - 149",187,88,20,60,0.7,7050,{"$f":"VLOOKUP(B20,Árlista!$B:$F,5,0)","v":"14 540,-Ft"}]
[null,"CKL 010 B","3/4","16/232",235,138,"1,5 - 65","35 - 149",257,88,20,80,0.8,14050,{"$f":"VLOOKUP(B21,Árlista!$B:$F,5,0)","v":"17 140,-Ft"}]
[null,"CKL 018 B","1","16/232",365,215,"1,5 - 65","35 - 149",263,125,32,100,1.8,12075,{"$f":"VLOOKUP(B22,Árlista!$B:$F,5,0)","v":"24 560,-Ft"}]
[null,"CKL 047 B","1 1/2","16/232",770,452,"1,5 - 65","35 - 149",461,125,32,140,2.5,32075,{"$f":"VLOOKUP(B23,Árlista!$B:$F,5,0)","v":"30 730,-Ft"}]
[null,"CKL 094 B","2","16/232",1280,753,"1,5 - 65","35 - 149",684,163,43,520,5.0999999999999996,51090,{"$f":"VLOOKUP(B24,Árlista!$B:$F,5,0)","v":"63 020,-Ft"}]
[null,"CKL 150 B","2 1/2","16/232",2460,1447,"1,5 - 65","35 - 149",684,163,43,520,5.0999999999999996,76090,{"$f":"VLOOKUP(B25,Árlista!$B:$F,5,0)","v":"76 490,-Ft"}]
[null,"CKL 200 B","3","16/232",2850,1677,"1,5 - 65","35 - 149",795,240,59,630,12.9,51140,{"$f":"VLOOKUP(B26,Árlista!$B:$F,5,0)","v":"151 310,-Ft"}]
[null,"MEGJEGYZÉS\n- Ár, csak a szűrőházra vonatkozik!"]
[]
[null,"SZŰRŐ BETÉT"]
[null,null,null,null,"CKL-B"]
[null,null,null,null,"szeparátor"]
[null,"Szűrő \nbetét \ntípus","Átáramlási képesség","Corresponding\nház","Nettó \nÁr\n[HUF]"]
[]
[null,null,"[Nm³/h]"]
[null,6050,120,"CKL 005 B",{"$f":"VLOOKUP($B35&E$30,Árlista!$B:$F,5,0)","v":"5 310,-Ft"}]
[null,7050,155,"CKL 007 B",{"$f":"VLOOKUP($B36&E$30,Árlista!$B:$F,5,0)","v":"5 310,-Ft"}]
[null,14050,235,"CKL 010 B",{"$f":"VLOOKUP($B37&E$30,Árlista!$B:$F,5,0)","v":"6 560,-Ft"}]
[null,12075,365,"CKL 018 B",{"$f":"VLOOKUP($B38&E$30,Árlista!$B:$F,5,0)","v":"7 990,-Ft"}]
[null,32075,770,"CKL 047 B",{"$f":"VLOOKUP($B39&E$30,Árlista!$B:$F,5,0)","v":"9 340,-Ft"}]
[null,51090,1280,"CKL 094 B",{"$f":"VLOOKUP($B40&E$30,Árlista!$B:$F,5,0)","v":"19 650,-Ft"}]
[null,76090,2460,"CKL 150 B",{"$f":"VLOOKUP($B41&E$30,Árlista!$B:$F,5,0)","v":"19 650,-Ft"}]
[null,51140,2850,"CKL 200 B",{"$f":"VLOOKUP($B42&E$30,Árlista!$B:$F,5,0)","v":"40 730,-Ft"}]
[]
[null,"KONDENZÁTUM \nLEERESZTŐ",null,"AOK16B","AOK 20B","TD 16M","CDI 16B","ECD 15B","ECD 40B","ECD 90B","ECD 150B","EMD 12","EMD 12A"]
[null,"Nettó ár [HUF]",null,{"$f":"VLOOKUP(D44,Árlista!$B:$F,5,0)","v":"6 550,-Ft"},{"$f":"VLOOKUP(E44,Árlista!$B:$F,5,0)","v":"10 330,-Ft"},{"$f":"VLOOKUP(F44,Árlista!$B:$F,5,0)","v":"19 620,-Ft"},{"$f":"VLOOKUP(G44,Árlista!$B:$F,5,0)","v":"36 670,-Ft"},{"$f":"VLOOKUP(H44,Árlista!$B:$F,5,0)","v":"42 840,-Ft"},{"$f":"VLOOKUP(I44,Árlista!$B:$F,5,0)","v":"43 710,-Ft"},{"$f":"VLOOKUP(J44,Árlista!$B:$F,5,0)","v":"44 290,-Ft"},{"$f":"VLOOKUP(K44,Árlista!$B:$F,5,0)","v":"54 010,-Ft"},{"$f":"VLOOKUP(L44,Árlista!$B:$F,5,0)","v":"31 210,-Ft"},{"$f":"VLOOKUP(M44,Árlista!$B:$F,5,0)","v":"33 680,-Ft"}]
[]
[null,null,null,"EMD 12C","EMD 25","EMD 75","EMD 12 Vac","EMD 12A Vac","EMD 12A Vdc","IED"]
[null,null,null,{"$f":"VLOOKUP(D47,Árlista!$B:$F,5,0)","v":"36 630,-Ft"},{"$f":"VLOOKUP(E47,Árlista!$B:$F,5,0)","v":"38 910,-Ft"},{"$f":"VLOOKUP(F47,Árlista!$B:$F,5,0)","v":"40 010,-Ft"},{"$f":"VLOOKUP(G47,Árlista!$B:$F,5,0)","v":"37 640,-Ft"},{"$f":"VLOOKUP(H47,Árlista!$B:$F,5,0)","v":"43 390,-Ft"},{"$f":"VLOOKUP(I47,Árlista!$B:$F,5,0)","v":"40 680,-Ft"},{"$f":"VLOOKUP(J47,Árlista!$B:$F,5,0)","v":"22 380,-Ft"}]
[]
[null,"KIEGÉSZÍTŐK ",null,"CKL 005 B - CKL 200 B","Vent for AOK 20B"]
[null,null,null,"SG","Nipple"]
[null,"Nettó ár [HUF]",null,{"$f":"VLOOKUP(D51,Árlista!$B:$F,5,0)","v":"4 180,-Ft"},{"$f":"VLOOKUP(E51,Árlista!$B:$F,5,0)","v":"4 460,-Ft"}]

{"sheet":"CKL-C","index":21,"n_rows":51,"n_cols":35,"rows_kept":51,"cut":false,"hidden":false,"merged":[[15,11,17,11],[15,12,17,12],[27,1,27,12],[29,1,31,3],[32,1,34,1],[32,2,33,2],[32,3,34,3],[32,4,34,4],[32,5,34,9],[32,10,34,10],[15,1,17,1],[15,2,16,2],[15,3,16,3],[15,4,16,5],[15,6,16,9],[15,10,16,10],[45,1,45,2],[32,11,34,11],[32,12,34,12],[35,5,35,9],[36,5,36,9],[37,5,37,9],[38,5,38,9],[39,5,39,9],[40,5,40,9],[41,5,41,9],[42,5,42,9],[43,5,43,9],[46,1,46,2],[48,1,49,2],[48,11,48,12],[49,11,49,12],[50,1,50,2],[50,11,50,12]]}
[null,"CKL-C series"]
[]
[]
[null,null,null,null,null,null,null,null,null,null,null,null,null,null,null,"INDEX "]
[]
[]
[]
[]
[]
[]
[]
[]
[]
[]
[null,"SZŰRŐ HÁZ",null,null,null,null,null,null,null,null,null,null,null,null,null,"KORREKCIÓS FAKTOR"]
[null,"Szűrő \nház\nméret","Cső\n méret","Max.üz.\n nyomás","Átáramlási képesség \nat 7 bar(g), 20 °C",null,"Méretek",null,null,null,"Tömeg","Szűrő \nbetét\ntípus","Nettó ár\n(Csak szűrőház)\n[HUF]",null,null,"Üzemi nyomás [bar]",2,3,4,5,6,7,8,9,10,11,12,13,14,15,16,17,18,19,20]
[null,null,null,null,null,null,null,null,null,null,null,null,null,null,null,"Üzemi nyomás [psi]",29,44,58,72,87,100,115,130,145,160,174,189,203,218,232,247,261,276,290]
[null,null,"inch","bar/psi","Nm³/h","scfm","A [mm]","B [mm]","C [mm]","D [mm]","kg",null,null,null,null,"Korrekciós faktor",0.38,0.5,0.63,0.75,0.88,1,1.1299999999999999,1.25,1.38,1.5,1.63,1.75,1.88,2,2.13,2.25,2.38,2.5,2.63]
[null,"CKL-C 20","3/8’’","20/290",72,42,187,88,20,80,0.7,"CKL-C 20",{"$f":"VLOOKUP(B19,Árlista!$B:$F,5,0)","v":"13 840,-Ft"}]
[null,"CKL-C 21","1/2’’","20/290",96,56,256,88,20,80,0.8,"CKL-C 21",{"$f":"VLOOKUP(B20,Árlista!$B:$F,5,0)","v":"15 560,-Ft"}]
[null,"CKL-C 30","1/2’’","20/290",150,88,278,106,25,100,1.3,"CKL-C 30",{"$f":"VLOOKUP(B21,Árlista!$B:$F,5,0)","v":"17 050,-Ft"}]
[null,"CKL-C 31","3/4’’","20/290",216,127,278,106,25,100,1.3,"CKL-C 31",{"$f":"VLOOKUP(B22,Árlista!$B:$F,5,0)","v":"18 330,-Ft"}]
[null,"CKL-C 40","1’’","20/290",282,166,252,125,32,120,2.1,"CKL-C 40",{"$f":"VLOOKUP(B23,Árlista!$B:$F,5,0)","v":"25 500,-Ft"}]
[null,"CKL-C 43","1 1/2’’","20/290",510,300,450,125,32,160,3.2,"CKL-C 43",{"$f":"VLOOKUP(B24,Árlista!$B:$F,5,0)","v":"32 890,-Ft"}]
[null,"CKL-C 50","2’’","20/290",888,522,605,160,43,180,5.0999999999999996,"CKL-C 50",{"$f":"VLOOKUP(B25,Árlista!$B:$F,5,0)","v":"67 430,-Ft"}]
[null,"CKL-C 52","2 1/2’’","20/290",1440,847,685,160,43,200,6.3,"CKL-C 52",{"$f":"VLOOKUP(B26,Árlista!$B:$F,5,0)","v":"134 270,-Ft"}]
[null,"CKL-C 61","3’’","20/290",2760,1624,800,240,60,300,12.9,"CKL-C 61",{"$f":"VLOOKUP(B27,Árlista!$B:$F,5,0)","v":"199 960,-Ft"}]
[null,"MEGJEGYZÉS\n- Ár, csak a szűrőházra vonatkozik!"]
[]
[null,"SZŰRŐ BETÉT"]
[null,null,null,null,"CKL-C"]
[null,null,null,null,"szeparátor"]
[null,"Szűrő \nbetét \ntípus","Átáramlási képesség","Corresponding\nház","Nettó \nÁr\n[HUF]"]
[]
[null,null,"[Nm³/h]"]
[null,20,72,"CKL-C 20",{"$f":"VLOOKUP($B36&E$31,Árlista!$B:$F,5,0)","v":"8 550,-Ft"}]
[null,21,96,"CKL-C 21",{"$f":"VLOOKUP($B37&E$31,Árlista!$B:$F,5,0)","v":"9 290,-Ft"}]
[null,30,150,"CKL-C 30",{"$f":"VLOOKUP($B38&E$31,Árlista!$B:$F,5,0)","v":"10 830,-Ft"}]
[null,31,216,"CKL-C 31",{"$f":"VLOOKUP($B39&E$31,Árlista!$B:$F,5,0)","v":"11 650,-Ft"}]
[null,40,282,"CKL-C 40",{"$f":"VLOOKUP($B40&E$31,Árlista!$B:$F,5,0)","v":"16 150,-Ft"}]
[null,43,510,"CKL-C 43",{"$f":"VLOOKUP($B41&E$31,Árlista!$B:$F,5,0)","v":"20 500,-Ft"}]
[null,50,888,"CKL-C 50",{"$f":"VLOOKUP($B42&E$31,Árlista!$B:$F,5,0)","v":"34 050,-Ft"}]
[null,52,1440,"CKL-C 52",{"$f":"VLOOKUP($B43&E$31,Árlista!$B:$F,5,0)","v":"41 930,-Ft"}]
[null,61,2760,"CKL-C 61",{"$f":"VLOOKUP($B44&E$31,Árlista!$B:$F,5,0)","v":"60 620,-Ft"}]
[]
[null,"KONDENZÁTUM \nLEERESZTŐ",null,"AOK 20B","TD 25M","EMD HP"]
[null,"Nettó ár [HUF]",null,{"$f":"VLOOKUP(D46,Árlista!$B:$F,5,0)","v":"10 330,-Ft"},{"$f":"VLOOKUP(E46,Árlista!$B:$F,5,0)","v":"27 060,-Ft"},{"$f":"VLOOKUP(F46,Árlista!$B:$F,5,0)","v":"212 830,-Ft"}]
[]
[null,"KIEGÉSZÍTŐK ",null,"Vent for AOK 20B","Vent for EMD HP"]
[null,null,null,"Nipple","Nipple HP"]
[null,"Nettó ár [HUF]",null,{"$f":"VLOOKUP(D50,Árlista!$B:$F,5,0)","v":"4 460,-Ft"},{"$f":"VLOOKUP(E50,Árlista!$B:$F,5,0)","v":"4 920,-Ft"}]

{"sheet":"CS_CS SS","index":22,"n_rows":31,"n_cols":39,"rows_kept":31,"cut":false,"hidden":false,"merged":[[15,16,16,16],[24,1,24,15],[25,1,25,2],[15,1,16,1],[15,2,17,2],[15,3,16,3],[15,4,17,4],[15,5,16,5],[15,6,16,6],[30,1,30,2],[30,9,30,10],[30,13,30,15],[15,7,16,8],[15,9,16,10],[15,11,16,15],[26,1,26,2],[28,1,29,2],[28,9,29,10],[28,13,28,15],[29,13,29,15]]}
[null,"CS/CS SS series"]
[]
[]
[null,null,null,null,null,null,null,null,null,null,null,null,null,null,null,"INDEX "]
[]
[]
[]
[]
[]
[]
[]
[]
[]
[]
[null,"SZŰRŐ HÁZ",null,null,null,null,null,null,null,null,null,null,null,null,null,null,null,null,null,"KORREKCIÓS FAKTOR"]
[null,"Szűrő \nmodel","Nettó \nÁr\n[HUF]","Szűrő model","Nettó \nÁr\n[HUF]","Cső\n méret","Max.üz.\n nyomás","Átáramlási képesség \nat 7 bar(g), 20 °C",null,"Temperature\nüz. Range",null,"Méretek",null,null,null,null,"Tömeg",null,null,"Üzemi nyomás [bar]",2,3,4,5,6,7,8,9,10,11,12,13,14,15,16,17,18,19,20]
[null,null,null,null,null,null,null,null,null,null,null,null,null,null,null,null,null,null,null,"Üzemi nyomás [psi]",29,44,58,72,87,100,115,130,145,160,174,189,203,218,232,247,261,276,290]
[null,"carbon steel",null,"stain. steel",null,"DN","bar/psi","Nm³/h","scfm","°C","°F","A [mm]","B [mm]","C [mm]","D [mm]","E [mm]","kg",null,null,"Korrekciós faktor",0.38,0.5,0.63,0.75,0.88,1,1.1299999999999999,1.25,1.38,1.5,1.63,1.75,1.88,2,2.13,2.25,2.38,2.5,2.63]
[null,"CS 14",{"$f":"VLOOKUP(B19,Árlista!$B:$F,5,0)","v":"284 000,-Ft (2)"},"CS SS 14",{"$f":"VLOOKUP(D19,Árlista!$B:$F,5,0)","v":"467 000,-Ft (2)"},"65","16/232",840,495,"1,5 - 65","35 - 149",613,153,302,45,"1/2’’",21]
[null,"CS 28",{"$f":"VLOOKUP(B20,Árlista!$B:$F,5,0)","v":"295 000,-Ft (2)"},"CS SS 28",{"$f":"VLOOKUP(D20,Árlista!$B:$F,5,0)","v":"499 000,-Ft (2)"},"80","16/232",1710,1005,"1,5 - 65","35 - 149",745,182,302,35,"1/2’’",26]
[null,"CS 62",{"$f":"VLOOKUP(B21,Árlista!$B:$F,5,0)","v":"383 000,-Ft (2)"},"CS SS 62",{"$f":"VLOOKUP(D21,Árlista!$B:$F,5,0)","v":"736 000,-Ft (2)"},"125","16/232",3720,2190,"1,5 - 65","35 - 149",1041,280,390,37,"1/2’’",56]
[null,"CS 88",{"$f":"VLOOKUP(B22,Árlista!$B:$F,5,0)","v":"489 000,-Ft (2)"},"CS SS 88",{"$f":"VLOOKUP(D22,Árlista!$B:$F,5,0)","v":"1 027 000,-Ft (2)"},"150","16/232",5280,3110,"1,5 - 65","35 - 149",1298,330,489,50,"1/2’’",94]
[null,"CS 124",{"$f":"VLOOKUP(B23,Árlista!$B:$F,5,0)","v":"626 000,-Ft (2)"},"CS SS 124",{"$f":"VLOOKUP(D23,Árlista!$B:$F,5,0)","v":"1 369 000,-Ft (3)"},"200","16/232",7440,4380,"1,5 - 65","35 - 149",1506,436,619,52,"1/2’’",147]
[null,"CS 238",{"$f":"VLOOKUP(B24,Árlista!$B:$F,5,0)","v":"1 242 000,-Ft (3)"},"CS SS 238",{"$f":"VLOOKUP(D24,Árlista!$B:$F,5,0)","v":"2 998 000,-Ft (4)"},"300","16/232",14280,8404,"1,5 - 65","35 - 149",1673,504,805,91,"1/2’’",290]
[null,"MEGJEGYZÉS  A megadott nettó árak tájékoztató jellegűek, az utána feltüntett szám az adott termék árkategóriáját jelöli.\n- Ár, csak a szűrőházra vonatkozik!\n- Used material for CS SS is 1.4301.\n- On request for CS SS is possible 1.4404."]
[null,"KONDENZÁTUM \nLEERESZTŐ",null,"AOK 20B","TD 16M","CDI 16B","ECD 15B","ECD 40B","ECD 90B","ECD 150B","EMD 12","EMD 12A","EMD 12C"]
[null,"Nettó ár [HUF]",null,{"$f":"VLOOKUP(D26,Árlista!$B:$F,5,0)","v":"10 330,-Ft"},{"$f":"VLOOKUP(E26,Árlista!$B:$F,5,0)","v":"19 620,-Ft"},{"$f":"VLOOKUP(F26,Árlista!$B:$F,5,0)","v":"36 670,-Ft"},{"$f":"VLOOKUP(G26,Árlista!$B:$F,5,0)","v":"42 840,-Ft"},{"$f":"VLOOKUP(H26,Árlista!$B:$F,5,0)","v":"43 710,-Ft"},{"$f":"VLOOKUP(I26,Árlista!$B:$F,5,0)","v":"44 290,-Ft"},{"$f":"VLOOKUP(J26,Árlista!$B:$F,5,0)","v":"54 010,-Ft"},{"$f":"VLOOKUP(K26,Árlista!$B:$F,5,0)","v":"31 210,-Ft"},{"$f":"VLOOKUP(L26,Árlista!$B:$F,5,0)","v":"33 680,-Ft"},{"$f":"VLOOKUP(M26,Árlista!$B:$F,5,0)","v":"36 630,-Ft"}]
[]
[null,null,null,null,null,null,null,null,null,"KIEGÉSZÍTŐK ",null,"Vent for AOK 20B","Vent for AOK 20SS"]
[null,null,null,"EMD 12 Vac","EMD 12A Vac","EMD 12A Vdc","EMD 25","EMD 75","AOK 20SS",null,null,"Nipple","Nipple 20SS"]
[null,null,null,{"$f":"VLOOKUP(D30,Árlista!$B:$F,5,0)","v":"37 640,-Ft"},{"$f":"VLOOKUP(E30,Árlista!$B:$F,5,0)","v":"43 390,-Ft"},{"$f":"VLOOKUP(F30,Árlista!$B:$F,5,0)","v":"40 680,-Ft"},{"$f":"VLOOKUP(G30,Árlista!$B:$F,5,0)","v":"38 910,-Ft"},{"$f":"VLOOKUP(H30,Árlista!$B:$F,5,0)","v":"40 010,-Ft"},{"$f":"VLOOKUP(I30,Árlista!$B:$F,5,0)","v":"127 600,-Ft"},"Nettó ár [HUF]",null,{"$f":"VLOOKUP(L30,Árlista!$B:$F,5,0)","v":"4 460,-Ft"},{"$f":"VLOOKUP(M30,Árlista!$B:$F,5,0)","v":"18 320,-Ft"}]

{"sheet":"SFH_SFH SS","index":23,"n_rows":33,"n_cols":39,"rows_kept":33,"cut":false,"hidden":false,"merged":[[15,16,16,16],[26,1,26,15],[27,1,27,2],[15,1,16,1],[15,2,17,2],[15,3,16,3],[15,4,17,4],[15,5,16,5],[15,6,16,6],[32,1,32,2],[32,9,32,10],[32,13,32,15],[15,7,16,8],[15,9,16,10],[15,11,16,15],[28,1,28,2],[30,1,31,2],[30,9,31,10],[30,13,30,15],[31,13,31,15]]}
[null,"SFH/SFH SS series"]
[]
[]
[null,null,null,null,null,null,null,null,null,null,null,null,null,null,null,"INDEX "]
[]
[]
[]
[]
[]
[]
[]
[]
[]
[]
[null,"SZŰRŐ HÁZ",null,null,null,null,null,null,null,null,null,null,null,null,null,null,null,null,null,"KORREKCIÓS FAKTOR"]
[null,"Szűrő \nmodel","Nettó \nÁr\n[HUF]","Szűrő model","Nettó \nÁr\n[HUF]","Cső\n méret","Max.üz.\n nyomás","Átáramlási képesség \nat 7 bar(g), 20 °C",null,"Temperature\nüz. Range",null,"Méretek",null,null,null,null,"Tömeg",null,null,"Üzemi nyomás [bar]",2,3,4,5,6,7,8,9,10,11,12,13,14,15,16,17,18,19,20]
[null,null,null,null,null,null,null,null,null,null,null,null,null,null,null,null,null,null,null,"Üzemi nyomás [psi]",29,44,58,72,87,100,115,130,145,160,174,189,203,218,232,247,261,276,290]
[null,"carbon steel",null,"stain. steel",null,"DN","bar/psi","Nm³/h","scfm","°C","°F","A [mm]","B [mm]","C [mm]","D [mm]","E [mm]","kg",null,null,"Korrekciós faktor",0.38,0.5,0.63,0.75,0.88,1,1.1299999999999999,1.25,1.38,1.5,1.63,1.75,1.88,2,2.13,2.25,2.38,2.5,2.63]
[null,"SFH 029",{"$f":"VLOOKUP(B19,Árlista!$B:$F,5,0)","v":"315 000,-Ft (2)"},"SFH SS 029",{"$f":"VLOOKUP(D19,Árlista!$B:$F,5,0)","v":"540 000,-Ft (2)"},"80","16/232",1760,1024,"1,5 - 65","35 - 149",720,400,165,219,"1/2''",33]
[null,"SFH 037",{"$f":"VLOOKUP(B20,Árlista!$B:$F,5,0)","v":"377 000,-Ft (2)"},"SFH SS 037",{"$f":"VLOOKUP(D20,Árlista!$B:$F,5,0)","v":"672 000,-Ft (2)"},"100","16/232",2200,1307,"1,5 - 65","35 - 149",890,460,236,244,"1/2''",45]
[null,"SFH 066",{"$f":"VLOOKUP(B21,Árlista!$B:$F,5,0)","v":"443 000,-Ft (2)"},"SFH SS 066",{"$f":"VLOOKUP(D21,Árlista!$B:$F,5,0)","v":"846 000,-Ft (2)"},"125","16/232",3940,2331,"1,5 - 65","35 - 149",980,550,250,273,"1''",58]
[null,"SFH 088",{"$f":"VLOOKUP(B22,Árlista!$B:$F,5,0)","v":"514 000,-Ft (2)"},"SFH SS 088",{"$f":"VLOOKUP(D22,Árlista!$B:$F,5,0)","v":"1 013 000,-Ft (2)"},"150","16/232",5300,3108,"1,5 - 65","35 - 149",1040,570,250,300,"1''",81]
[null,"SFH 097",{"$f":"VLOOKUP(B23,Árlista!$B:$F,5,0)","v":"640 000,-Ft (2)"},"SFH SS 097",{"$f":"VLOOKUP(D23,Árlista!$B:$F,5,0)","v":"1 310 000,-Ft (3)"},"200","16/232",5820,3426,"1,5 - 65","35 - 149",1110,690,265,350,"1''",107]
[null,"SFH 142",{"$f":"VLOOKUP(B24,Árlista!$B:$F,5,0)","v":"1 099 000,-Ft (2)"},"SFH SS 142",{"$f":"VLOOKUP(D24,Árlista!$B:$F,5,0)","v":"2 412 000,-Ft (4)"},"250","16/232",8520,5015,"1,5 - 65","35 - 149",1330,800,360,480,"1''",207]
[null,"SFH 180",{"$f":"VLOOKUP(B25,Árlista!$B:$F,5,0)","v":"1 284 000,-Ft (3)"},"SFH SS 180",{"$f":"VLOOKUP(D25,Árlista!$B:$F,5,0)","v":"2 947 000,-Ft (4)"},"300","16/232",10770,6357,"1,5 - 65","35 - 149",1470,820,408,550,"1''",280]
[null,"SFH 209",{"$f":"VLOOKUP(B26,Árlista!$B:$F,5,0)","v":"1 660 000,-Ft (3)"},"SFH SS 209",{"$f":"VLOOKUP(D26,Árlista!$B:$F,5,0)","v":"3 895 000,-Ft (4)"},"350","16/232",12550,7381,"1,5 - 65","35 - 149",1670,920,471,622,"1''",379]
[null,"MEGJEGYZÉS  A megadott nettó árak tájékoztató jellegűek, az utána feltüntett szám az adott termék árkategóriáját jelöli.\n- Ár, csak a szűrőházra vonatkozik!\n- Used material for SFH SS is 1.4301.\n- On request for SFH SS is possible 1.4404."]
[null,"KONDENZÁTUM \nLEERESZTŐ",null,"AOK 20B","TD 16M","CDI 16B","ECD 15B","ECD 40B","ECD 90B","ECD 150B","EMD 12","EMD 12A","EMD 12C"]
[null,"Nettó ár [HUF]",null,{"$f":"VLOOKUP(D28,Árlista!$B:$F,5,0)","v":"10 330,-Ft"},{"$f":"VLOOKUP(E28,Árlista!$B:$F,5,0)","v":"19 620,-Ft"},{"$f":"VLOOKUP(F28,Árlista!$B:$F,5,0)","v":"36 670,-Ft"},{"$f":"VLOOKUP(G28,Árlista!$B:$F,5,0)","v":"42 840,-Ft"},{"$f":"VLOOKUP(H28,Árlista!$B:$F,5,0)","v":"43 710,-Ft"},{"$f":"VLOOKUP(I28,Árlista!$B:$F,5,0)","v":"44 290,-Ft"},{"$f":"VLOOKUP(J28,Árlista!$B:$F,5,0)","v":"54 010,-Ft"},{"$f":"VLOOKUP(K28,Árlista!$B:$F,5,0)","v":"31 210,-Ft"},{"$f":"VLOOKUP(L28,Árlista!$B:$F,5,0)","v":"33 680,-Ft"},{"$f":"VLOOKUP(M28,Árlista!$B:$F,5,0)","v":"36 630,-Ft"}]
[]
[null,null,null,null,null,null,null,null,null,"KIEGÉSZÍTŐK ",null,"Vent for AOK 20B","Vent for AOK 20SS"]
[null,null,null,"EMD 12 Vac","EMD 12A Vac","EMD 12A Vdc","EMD 25","EMD 75","AOK 20SS",null,null,"Nipple","Nipple 20SS"]
[null,null,null,{"$f":"VLOOKUP(D32,Árlista!$B:$F,5,0)","v":"37 640,-Ft"},{"$f":"VLOOKUP(E32,Árlista!$B:$F,5,0)","v":"43 390,-Ft"},{"$f":"VLOOKUP(F32,Árlista!$B:$F,5,0)","v":"40 680,-Ft"},{"$f":"VLOOKUP(G32,Árlista!$B:$F,5,0)","v":"38 910,-Ft"},{"$f":"VLOOKUP(H32,Árlista!$B:$F,5,0)","v":"40 010,-Ft"},{"$f":"VLOOKUP(I32,Árlista!$B:$F,5,0)","v":"127 600,-Ft"},"Nettó ár [HUF]",null,{"$f":"VLOOKUP(L32,Árlista!$B:$F,5,0)","v":"4 460,-Ft"},{"$f":"VLOOKUP(M32,Árlista!$B:$F,5,0)","v":"18 320,-Ft"}]

{"sheet":"CKL-HF","index":24,"n_rows":51,"n_cols":28,"rows_kept":51,"cut":false,"hidden":false,"merged":[[15,13,17,13],[15,14,17,14],[27,1,27,12],[29,1,31,3],[32,1,34,1],[32,2,33,2],[32,3,34,3],[32,4,34,4],[32,5,34,9],[15,1,17,1],[15,2,16,2],[15,3,16,3],[15,4,16,5],[15,6,16,7],[32,10,34,10],[32,11,34,11],[32,12,34,12],[35,5,35,9],[15,8,16,11],[15,12,16,12],[36,5,36,9],[37,5,37,9],[50,1,50,2],[50,11,50,12],[38,5,38,9],[39,5,39,9],[40,5,40,9],[41,5,41,9],[42,5,42,9],[43,5,43,9],[45,1,45,2],[46,1,46,2],[48,1,49,2],[48,11,48,12],[49,11,49,12]]}
[null,"CKL-HF series"]
[]
[]
[null,null,null,null,null,null,null,null,null,null,null,null,null,null,null,"INDEX "]
[]
[]
[]
[]
[]
[]
[]
[]
[]
[]
[null,"SZŰRŐ HÁZ",null,null,null,null,null,null,null,null,null,null,null,null,null,null,null,"KORREKCIÓS FAKTOR"]
[null,"Szűrő \nház\nméret","Cső\n méret","Max.üz.\n nyomás","Átáramlási képesség \nat 7 bar(g), 20 °C",null,"Temperature\nüz. Range",null,"Méretek",null,null,null,"Tömeg","Szűrő \nbetét\ntípus","Nettó ár\n(Csak szűrőház)\n[HUF]",null,null,"Üzemi nyomás [bar]",3,5,7,10,13,16,20,30,40,50]
[null,null,null,null,null,null,null,null,null,null,null,null,null,null,null,null,null,"Üzemi nyomás [psi]",44,72,100,145,189,232,290,435,580,725]
[null,null,"inch","bar/psi","Nm³/h","scfm","°C","°F","A [mm]","B [mm]","C [mm]","D [mm]","kg",null,null,null,null,"Korrekciós faktor",0.5,0.75,1,1.38,1.75,2.13,2.63,3.88,5.13,6.38]
[null,"CKL-HF 007","1/2’’","50/725",71,42,"1,5 - 65","35 - 149",250,110,30,80,2.1,6060,{"$f":"VLOOKUP(B19,Árlista!$B:$F,5,0)","v":"53 410,-Ft"}]
[null,"CKL-HF 010","3/4’’","50/725",112,66,"1,5 - 65","35 - 149",250,110,30,90,2.1,7060,{"$f":"VLOOKUP(B20,Árlista!$B:$F,5,0)","v":"65 730,-Ft"}]
[null,"CKL-HF 018","1’’","50/725",204,120,"1,5 - 65","35 - 149",250,110,30,140,2.1,12060,{"$f":"VLOOKUP(B21,Árlista!$B:$F,5,0)","v":"75 000,-Ft"}]
[null,"CKL-HF 047","1 1/2’’","50/725",282,166,"1,5 - 65","35 - 149",535,160,45,260,9.5,22090,{"$f":"VLOOKUP(B22,Árlista!$B:$F,5,0)","v":"116 400,-Ft"}]
[null,"CKL-HF 070","1 1/2’’","50/725",400,235,"1,5 - 65","35 - 149",535,160,45,360,9.5,32090,{"$f":"VLOOKUP(B23,Árlista!$B:$F,5,0)","v":"123 170,-Ft"}]
[null,"CKL-HF 094","2’’","50/725",494,291,"1,5 - 65","35 - 149",715,160,45,540,12.2,50090,{"$f":"VLOOKUP(B24,Árlista!$B:$F,5,0)","v":"145 970,-Ft"}]
[null,"CKL-HF 150","2’’","50/725",799,470,"1,5 - 65","35 - 149",715,160,45,550,12.2,51090,{"$f":"VLOOKUP(B25,Árlista!$B:$F,5,0)","v":"164 340,-Ft"}]
[null,"CKL-HF 200","3''","50/725",2160,1270,"1,5 - 65","35 - 149",862,198,70,620,30.4,51140,{"$f":"VLOOKUP(B26,Árlista!$B:$F,5,0)","v":"390 000,-Ft (2)"}]
[null,"CKL-HF 140","3''","50/725",2760,1620,"1,5 - 65","35 - 149",1010,198,70,780,34.9,75140,{"$f":"VLOOKUP(B27,Árlista!$B:$F,5,0)","v":"423 000,-Ft (2)"}]
[null,"MEGJEGYZÉS  A megadott nettó árak tájékoztató jellegűek, az utána feltüntett szám az adott termék árkategóriáját jelöli.\n- Ár, csak a szűrőházra vonatkozik!"]
[]
[null,"SZŰRŐ BETÉT"]
[null,null,null,null,"CKL-HF"]
[null,null,null,null,"szeparátor"]
[null,"Szűrő \nbetét \ntípus","Átáramlási képesség","Corresponding\nház","Nettó \nÁr\n[HUF]"]
[]
[null,null,"[Nm³/h]"]
[null,6060,71,"CKL-HF 007",{"$f":"VLOOKUP($B36&E$31,Árlista!$B:$F,5,0)","v":"18 350,-Ft"}]
[null,7060,112,"CKL-HF 010",{"$f":"VLOOKUP($B37&E$31,Árlista!$B:$F,5,0)","v":"22 590,-Ft"}]
[null,12060,204,"CKL-HF 018",{"$f":"VLOOKUP($B38&E$31,Árlista!$B:$F,5,0)","v":"25 410,-Ft"}]
[null,22090,282,"CKL-HF 047",{"$f":"VLOOKUP($B39&E$31,Árlista!$B:$F,5,0)","v":"30 130,-Ft"}]
[null,32090,400,"CKL-HF 070",{"$f":"VLOOKUP($B40&E$31,Árlista!$B:$F,5,0)","v":"36 970,-Ft"}]
[null,50090,494,"CKL-HF 094",{"$f":"VLOOKUP($B41&E$31,Árlista!$B:$F,5,0)","v":"42 450,-Ft"}]
[null,51090,799,"CKL-HF 150",{"$f":"VLOOKUP($B42&E$31,Árlista!$B:$F,5,0)","v":"46 560,-Ft"}]
[null,51140,2160,"CKL-HF 200",{"$f":"VLOOKUP($B43&E$31,Árlista!$B:$F,5,0)","v":"61 150,-Ft"}]
[null,75140,2760,"CKL-HF 140",{"$f":"VLOOKUP($B44&E$31,Árlista!$B:$F,5,0)","v":"84 930,-Ft"}]
[]
[null,"KONDENZÁTUM \nLEERESZTŐ",null,"TD 50M","EMD HP","AOK 50B"]
[null,"Nettó ár [HUF]",null,{"$f":"VLOOKUP(D46,Árlista!$B:$F,5,0)","v":"35 550,-Ft"},{"$f":"VLOOKUP(E46,Árlista!$B:$F,5,0)","v":"212 830,-Ft"},{"$f":"VLOOKUP(F46,Árlista!$B:$F,5,0)","v":"100 990,-Ft"}]
[]
[null,"KIEGÉSZÍTŐK ",null,"For EMD HP,  AOK 50B"]
[null,null,null,"Nipple HP"]
[null,"Nettó ár [HUF]",null,{"$f":"VLOOKUP(D50,Árlista!$B:$F,5,0)","v":"4 920,-Ft"}]

{"sheet":"CKL-AHP","index":25,"n_rows":44,"n_cols":29,"rows_kept":44,"cut":false,"hidden":false,"merged":[[15,13,17,13],[25,1,25,12],[27,1,29,3],[30,1,32,1],[30,2,31,2],[30,3,32,3],[30,4,32,4],[30,5,32,9],[15,1,17,1],[15,2,16,2],[15,3,16,3],[15,4,16,5],[15,6,16,7],[30,10,32,10],[30,11,32,11],[30,12,32,12],[33,5,33,9],[15,8,16,10],[15,11,16,11],[15,12,17,12],[34,5,34,9],[35,5,35,9],[43,1,43,2],[43,11,43,12],[36,5,36,9],[37,5,37,9],[38,5,38,9],[39,5,39,9],[41,1,42,2],[41,11,41,12],[42,11,42,12]]}
[null,"CKL-AHP series"]
[]
[]
[null,null,null,null,null,null,null,null,null,null,null,null,null,null,null,"INDEX "]
[]
[]
[]
[]
[]
[]
[]
[]
[]
[]
[null,"SZŰRŐ HÁZ",null,null,null,null,null,null,null,null,null,null,null,null,null,null,"KORREKCIÓS FAKTOR"]
[null,"Szűrő \nház\nméret","Cső\n méret","Max.üz.\n nyomás","Átáramlási képesség \nat 7 bar(g), 20 °C",null,"Temperature\nüz. Range",null,"Méretek",null,null,"Tömeg","Szűrő \nbetét\ntípus","Nettó ár\n(Csak szűrőház)\n[HUF]",null,null,"Üzemi nyomás [bar]",3,5,7,10,13,16,20,30,40,50,60,64]
[null,null,null,null,null,null,null,null,null,null,null,null,null,null,null,null,"Üzemi nyomás [psi]",44,72,100,145,189,232,290,435,580,725,870,928]
[null,null,"inch","bar/psi","Nm³/h","scfm","°C","°F","A [mm]","B [mm]","C [mm]","kg",null,null,null,null,"Korrekciós faktor",0.5,0.75,1,1.38,1.75,2.13,2.63,3.88,5.13,6.38,7.63,8.1300000000000008]
[null,"CKL-AHP 005","3/8’’","64/928",30,17.600000000000001,"1,5 - 65","35 - 149",167,104,90,2.25,6050,{"$f":"VLOOKUP(B19,Árlista!$B:$F,5,0)","v":"130 050,-Ft"}]
[null,"CKL-AHP 007","1/2’’","64/928",60,35.299999999999997,"1,5 - 65","35 - 149",167,104,90,2.25,7050,{"$f":"VLOOKUP(B20,Árlista!$B:$F,5,0)","v":"153 940,-Ft"}]
[null,"CKL-AHP 010","3/4’’","64/928",120,70.599999999999994,"1,5 - 65","35 - 149",232,104,90,2.84,14050,{"$f":"VLOOKUP(B21,Árlista!$B:$F,5,0)","v":"199 060,-Ft"}]
[null,"CKL-AHP 018","1’’","64/928",180,106,"1,5 - 65","35 - 149",258,150,120,6.45,12075,{"$f":"VLOOKUP(B22,Árlista!$B:$F,5,0)","v":"234 000,-Ft (2)"}]
[null,"CKL-AHP 030","1 1/4’’","64/928",270,159,"1,5 - 65","35 - 149",358,150,120,7.8,22075,{"$f":"VLOOKUP(B23,Árlista!$B:$F,5,0)","v":"275 000,-Ft (2)"}]
[null,"CKL-AHP 047","1 1/2’’","64/928",360,212,"1,5 - 65","35 - 149",458,150,120,9.17,32075,{"$f":"VLOOKUP(B24,Árlista!$B:$F,5,0)","v":"344 000,-Ft (2)"}]
[null,"CKL-AHP 094","2’’","64/928",720,423,"1,5 - 65","35 - 149",665,170,120,16.5,51090,{"$f":"VLOOKUP(B25,Árlista!$B:$F,5,0)","v":"434 000,-Ft (2)"}]
[null,"MEGJEGYZÉS  A megadott nettó árak tájékoztató jellegűek, az utána feltüntett szám az adott termék árkategóriáját jelöli.\n- Ár, csak a szűrőházra vonatkozik!"]
[]
[null,"SZŰRŐ BETÉT"]
[null,null,null,null,"CKL-AHP"]
[null,null,null,null,"szeparátor"]
[null,"Szűrő \nbetét \ntípus","Átáramlási képesség","Corresponding\nház","Nettó \nÁr\n[HUF]"]
[]
[null,null,"[Nm³/h]"]
[null,6050,60,"CKL-AHP 005",{"$f":"VLOOKUP($B34&E$29,Árlista!$B:$F,5,0)","v":"6 300,-Ft"}]
[null,7050,78,"CKL-AHP 007",{"$f":"VLOOKUP($B35&E$29,Árlista!$B:$F,5,0)","v":"7 790,-Ft"}]
[null,14050,120,"CKL-AHP 010",{"$f":"VLOOKUP($B36&E$29,Árlista!$B:$F,5,0)","v":"10 050,-Ft"}]
[null,12075,198,"CKL-AHP 018",{"$f":"VLOOKUP($B37&E$29,Árlista!$B:$F,5,0)","v":"13 190,-Ft"}]
[null,22075,335,"CKL-AHP 030",{"$f":"VLOOKUP($B38&E$29,Árlista!$B:$F,5,0)","v":"18 610,-Ft"}]
[null,32075,510,"CKL-AHP 047",{"$f":"VLOOKUP($B39&E$29,Árlista!$B:$F,5,0)","v":"22 500,-Ft"}]
[null,51090,780,"CKL-AHP 094",{"$f":"VLOOKUP($B40&E$29,Árlista!$B:$F,5,0)","v":"26 680,-Ft"}]
[]
[null,"KONDENZÁTUM \nLEERESZTŐ",null,"1/2\""]
[null,null,null,"Drain valve"]
[null,"Nettó ár [HUF]",null,{"$f":"VLOOKUP(D43,Árlista!$B:$F,5,0)","v":"31 960,-Ft"}]

{"sheet":"CKL-CHP","index":26,"n_rows":47,"n_cols":26,"rows_kept":47,"cut":false,"hidden":false,"merged":[[15,8,16,10],[15,11,16,11],[15,12,17,12],[15,1,17,1],[15,2,16,2],[15,3,16,3],[15,4,16,5],[15,6,16,7],[15,13,17,13],[15,14,17,14],[15,15,17,15],[37,5,37,9],[29,1,31,3],[32,1,34,1],[32,2,33,2],[32,3,34,3],[32,4,34,4],[32,5,34,9],[32,10,34,10],[32,11,34,11],[32,12,34,12],[35,5,35,9],[36,5,36,9],[27,1,27,12],[44,11,44,12],[45,11,45,12],[46,1,46,2],[46,11,46,12],[38,5,38,9],[39,5,39,9],[40,5,40,9],[41,5,41,9],[42,5,42,9],[44,1,45,2]]}
[null,"CKL-CHP series"]
[]
[]
[null,null,null,null,null,null,null,null,null,null,null,null,null,null,null,"INDEX "]
[]
[]
[]
[]
[]
[]
[]
[]
[]
[]
[null,"SZŰRŐ HÁZ",null,null,null,null,null,null,null,null,null,null,null,null,null,null,null,null,"KORREKCIÓS FAKTOR"]
[null,"Szűrő \nház\nméret","Cső\n méret","Max.üz.\n nyomás","Átáramlási képesség \nat 7 bar(g), 20 °C",null,"Temperature\nüz. Range",null,"Méretek",null,null,"Tömeg","Szűrő \nbetét\ntípus","Nettó ár\n(Csak szűrőház)\n[HUF]","Nettó ár\n(Csak szűrőház)\n[HUF]","Nettó ár\n(Csak szűrőház)\n[HUF]",null,null,"Üzemi nyomás [bar]",7,25,40,64,100,250,400]
[null,null,null,null,null,null,null,null,null,null,null,null,null,null,null,null,null,null,"Üzemi nyomás [psi]",100,362,580,928,1450,3625,5800]
[null,null,"inch","bar/psi","Nm³/h","scfm","°C","°F","A [mm]","B [mm]","C [mm]","kg",null,null,null,null,null,null,"Korrekciós faktor",1,3,5,8,12,12,12]
[null,null,null,null,null,null,null,null,null,null,null,null,null,"100 bar","250 bar","400 bar"]
[null,"CKL-CHP 003","1/4’’","100/250/400",40,23.5,"1,5 - 65","35 - 149",165,83.5,70,4.5999999999999996,"0305",{"$f":"VLOOKUP($B20&\"-100\",Árlista!$B:$F,5,0)","v":"135 360,-Ft"},{"$f":"VLOOKUP($B20&\"-250\",Árlista!$B:$F,5,0)","v":"234 000,-Ft (2)"},{"$f":"VLOOKUP($B20&\"-400\",Árlista!$B:$F,5,0)","v":"254 000,-Ft (2)"}]
[null,"CKL-CHP 005","3/8’’","100/250/400",70,41.2,"1,5 - 65","35 - 149",165,83.5,70,4.5999999999999996,"0310",{"$f":"VLOOKUP($B21&\"-100\",Árlista!$B:$F,5,0)","v":"135 360,-Ft"},{"$f":"VLOOKUP($B21&\"-250\",Árlista!$B:$F,5,0)","v":"234 000,-Ft (2)"},{"$f":"VLOOKUP($B21&\"-400\",Árlista!$B:$F,5,0)","v":"254 000,-Ft (2)"}]
[null,"CKL-CHP 007","1/2’’","100/250/400",130,76.5,"1,5 - 65","35 - 149",210,105,85,8.6999999999999993,"0420",{"$f":"VLOOKUP($B22&\"-100\",Árlista!$B:$F,5,0)","v":"183 130,-Ft"},{"$f":"VLOOKUP($B22&\"-250\",Árlista!$B:$F,5,0)","v":"270 000,-Ft (2)"},{"$f":"VLOOKUP($B22&\"-400\",Árlista!$B:$F,5,0)","v":"339 000,-Ft (2)"}]
[null,"CKL-CHP 010","3/4’’","100/250/400",195,115,"1,5 - 65","35 - 149",210,105,85,9.3000000000000007,"0520",{"$f":"VLOOKUP($B23&\"-100\",Árlista!$B:$F,5,0)","v":"233 560,-Ft"},{"$f":"VLOOKUP($B23&\"-250\",Árlista!$B:$F,5,0)","v":"419 000,-Ft (2)"},{"$f":"VLOOKUP($B23&\"-400\",Árlista!$B:$F,5,0)","v":"473 000,-Ft (2)"}]
[null,"CKL-CHP 018","1’’","100/250/400",275,162,"1,5 - 65","35 - 149",253,119,100,11.6,"0525",{"$f":"VLOOKUP($B24&\"-100\",Árlista!$B:$F,5,0)","v":"313 000,-Ft (2)"},{"$f":"VLOOKUP($B24&\"-250\",Árlista!$B:$F,5,0)","v":"465 000,-Ft (2)"},{"$f":"VLOOKUP($B24&\"-400\",Árlista!$B:$F,5,0)","v":"529 000,-Ft (2)"}]
[null,"CKL-CHP 030","1 1/4’’","100/250/400",380,223,"1,5 - 65","35 - 149",303,119,100,16,"0725",{"$f":"VLOOKUP($B25&\"-100\",Árlista!$B:$F,5,0)","v":"352 000,-Ft (2)"},{"$f":"VLOOKUP($B25&\"-250\",Árlista!$B:$F,5,0)","v":"493 000,-Ft (2)"},{"$f":"VLOOKUP($B25&\"-400\",Árlista!$B:$F,5,0)","v":"583 000,-Ft (2)"}]
[null,"CKL-CHP 047","1 1/2’’","100/250/400",495,291,"1,5 - 65","35 - 149",329,146,130,26.5,"0730",{"$f":"VLOOKUP($B26&\"-100\",Árlista!$B:$F,5,0)","v":"498 000,-Ft (2)"},{"$f":"VLOOKUP($B26&\"-250\",Árlista!$B:$F,5,0)","v":"563 000,-Ft (2)"},{"$f":"VLOOKUP($B26&\"-400\",Árlista!$B:$F,5,0)","v":"665 000,-Ft (2)"}]
[null,"CKL-CHP 094","2’’","100/250/400",715,421,"1,5 - 65","35 - 149",415,182,150,49,"1030",{"$f":"VLOOKUP($B27&\"-100\",Árlista!$B:$F,5,0)","v":"596 000,-Ft (2)"},{"$f":"VLOOKUP($B27&\"-250\",Árlista!$B:$F,5,0)","v":"804 000,-Ft (2)"},{"$f":"VLOOKUP($B27&\"-400\",Árlista!$B:$F,5,0)","v":"938 000,-Ft (2)"}]
[null,"MEGJEGYZÉS  A megadott nettó árak tájékoztató jellegűek, az utána feltüntett szám az adott termék árkategóriáját jelöli.\n- Ár, csak a szűrőházra vonatkozik!"]
[]
[null,"SZŰRŐ BETÉT"]
[null,null,null,null,"CKL-CHP"]
[null,null,null,null,"szeparátor"]
[null,"Szűrő \nbetét \ntípus","Átáramlási képesség","Corresponding\nház","Nettó \nÁr\n[HUF]"]
[]
[null,null,"[Nm³/h]"]
[null,305,40,"CKL-CHP 003",{"$f":"VLOOKUP($B36&E$31,Árlista!$B:$F,5,0)","v":"15 880,-Ft"}]
[null,310,70,"CKL-CHP 005",{"$f":"VLOOKUP($B37&E$31,Árlista!$B:$F,5,0)","v":"18 000,-Ft"}]
[null,420,130,"CKL-CHP 007",{"$f":"VLOOKUP($B38&E$31,Árlista!$B:$F,5,0)","v":"25 410,-Ft"}]
[null,520,195,"CKL-CHP 010",{"$f":"VLOOKUP($B39&E$31,Árlista!$B:$F,5,0)","v":"28 630,-Ft"}]
[null,525,275,"CKL-CHP 018",{"$f":"VLOOKUP($B40&E$31,Árlista!$B:$F,5,0)","v":"36 970,-Ft"}]
[null,725,380,"CKL-CHP 030",{"$f":"VLOOKUP($B41&E$31,Árlista!$B:$F,5,0)","v":"47 160,-Ft"}]
[null,730,495,"CKL-CHP 047",{"$f":"VLOOKUP($B42&E$31,Árlista!$B:$F,5,0)","v":"53 410,-Ft"}]
[null,1030,715,"CKL-CHP 094",{"$f":"VLOOKUP($B43&E$31,Árlista!$B:$F,5,0)","v":"59 570,-Ft"}]
[]
[null,"KONDENZÁTUM \nLEERESZTŐ",null,"1/2\""]
[null,null,null,"Drain valve"]
[null,"Nettó ár [HUF]",null,{"$f":"VLOOKUP(D46,Árlista!$B:$F,5,0)","v":"31 960,-Ft"}]

{"sheet":"Indicators","index":27,"n_rows":36,"n_cols":10,"rows_kept":36,"cut":false,"hidden":false,"merged":[[30,1,35,1],[2,1,7,1],[16,1,21,1],[22,5,22,9],[23,1,28,1],[29,5,29,9]]}
[null,"Indicators"]
[]
[null,"DIFFERENTIAL \nPRESSURE INDICATOR","PDI 16","MDM 40","MDM 40C","MDM 60","MDM 60C"]
[null,null,"16 bar","20 bar","16 bar","16 bar","16 bar",null,null,"INDEX "]
[]
[null,null,"Code: 3500666","Code: 10005752","Code: 3505753","Code: 3500713","Code: 3500931"]
[null,null,"Nettó ár:","Nettó ár:","Nettó ár:","Nettó ár:","Nettó ár:"]
[null,null,{"$f":"VLOOKUP(C3,Árlista!$B:$F,5,0)","v":"4 210,-Ft"},{"$f":"VLOOKUP(D3,Árlista!$B:$F,5,0)","v":"9 340,-Ft"},{"$f":"VLOOKUP(E3,Árlista!$B:$F,5,0)","v":"13 040,-Ft"},{"$f":"VLOOKUP(F3,Árlista!$B:$F,5,0)","v":"9 710,-Ft"},{"$f":"VLOOKUP(G3,Árlista!$B:$F,5,0)","v":"13 580,-Ft"}]
[]
[null,null,"MDM 60E","MDA 60"]
[null,null,"16 bar","20 bar"]
[]
[null,null,"Code: 3500714","Code: 3500001"]
[null,null,"Nettó ár:","Nettó ár:"]
[null,null,{"$f":"VLOOKUP(C10,Árlista!$B:$F,5,0)","v":"17 140,-Ft"},{"$f":"VLOOKUP(D10,Árlista!$B:$F,5,0)","v":"13 240,-Ft"}]
[]
[null,"ELECTRONIC \nPRESSURE GAUGE","EPG 60","EPG 60SN"]
[null,null,"16 bar","16 bar"]
[]
[null,null,"Code: 3505545","Code: 3505546"]
[null,null,"Nettó ár:","Nettó ár:"]
[null,null,{"$f":"VLOOKUP(C17,Árlista!$B:$F,5,0)","v":"35 450,-Ft"},{"$f":"VLOOKUP(D17,Árlista!$B:$F,5,0)","v":"48 560,-Ft"}]
[]
[null,"DIFFERENTIAL \nHIGH PRESSURE \nINDICATOR","MDH 50"]
[null,null,"50 bar"]
[]
[null,null,"Code: 3506164"]
[null,null,"Nettó ár:"]
[null,null,{"$f":"VLOOKUP(C24,Árlista!$B:$F,5,0)","v":"131 380,-Ft"}]
[]
[null,"OIL CONTENT \nINDICATOR","OCI","OCI\nservice kit"]
[null,null,"0,68  - 16 bar"]
[]
[null,null,"Code: 2300190","Code: 3400855"]
[null,null,"Nettó ár:","Nettó ár:"]
[null,null,252.35,195.7]

{"sheet":"Condensate drains","index":28,"n_rows":92,"n_cols":9,"rows_kept":92,"cut":false,"hidden":false,"merged":[[33,1,39,1],[2,1,8,1],[18,1,24,1],[25,5,25,9],[26,1,31,1],[32,5,32,9],[79,1,84,1],[86,1,91,1],[40,5,40,9],[41,1,47,1],[49,1,55,1],[57,1,63,1],[65,1,70,1],[72,1,77,1]]}
[null,"Condensate drains"]
[]
[null,"ELECTRONIC \nKONDENZÁTUM DRAIN","EMD 12","EMD 12A","EMD 12C","EMD 12 Vac","EMD 12A Vac"]
[null,null,"16 bar\n230 V/115 V","16 bar\n230 V/115 V","16 bar\n230 V/115 V","16 bar\n24 Vac","16 bar\n24 Vac",null,"INDEX "]
[]
[null,null,"Code 220 V: 3400860","Code 220 V: 3400870","Code 220 V: 3400861"]
[null,null,"Code 115 V: 3400858","Code 115 V: 3400872","Code 115 V: 3400859","Code 24 Vac: 3401147","Code 24 Vac: 3401148"]
[null,null,"Nettó ár:","Nettó ár:","Nettó ár:","Nettó ár:","Nettó ár:"]
[null,null,{"$f":"VLOOKUP(C3,Árlista!$B:$F,5,0)","v":"31 210,-Ft"},{"$f":"VLOOKUP(D3,Árlista!$B:$F,5,0)","v":"33 680,-Ft"},{"$f":"VLOOKUP(E3,Árlista!$B:$F,5,0)","v":"36 630,-Ft"},{"$f":"VLOOKUP(F3,Árlista!$B:$F,5,0)","v":"37 640,-Ft"},{"$f":"VLOOKUP(G3,Árlista!$B:$F,5,0)","v":"43 390,-Ft"}]
[]
[null,null,"EMD 12A Vdc","EMD 25","EMD 75","EMD 12SK","EMD 25SK"]
[null,null,"16 bar\n24 Vdc","16 bar\n230 V/115 V","16 bar\n230 V/115 V","service kit\n230 V/115 V","service kit\n230 V/115 V"]
[]
[null,null,null,"Code 220 V: 3401624","Code 220 V: 3401630","Code 220 V: 3400856","Code 220 V: 3401642"]
[null,null,"Code 24 Vdc: 3401145","Code 115 V: 3401627","Code 115 V: 3401633","Code 115 V: 3400857","Code 115 V: 3401643"]
[null,null,"Nettó ár:","Nettó ár:","Nettó ár:","Nettó ár:","Nettó ár:"]
[null,null,{"$f":"VLOOKUP(C11,Árlista!$B:$F,5,0)","v":"40 680,-Ft"},{"$f":"VLOOKUP(D11,Árlista!$B:$F,5,0)","v":"38 910,-Ft"},{"$f":"VLOOKUP(E11,Árlista!$B:$F,5,0)","v":"40 010,-Ft"},{"$f":"VLOOKUP(F11,Árlista!$B:$F,5,0)","v":"22 110,-Ft"},{"$f":"VLOOKUP(G11,Árlista!$B:$F,5,0)","v":"22 110,-Ft"}]
[]
[null,null,"EMD 75SK","ECD 15B","ECD 40B","ECD 90B","ECD 150B"]
[null,null,"service kit\n230 V/115 V","16 bar\n230 V/115 V","16 bar\n230 V/115 V","16 bar\n230 V/115 V","16 bar\n230 V/115 V"]
[]
[null,null,"Code 220 V: 3401644","Code 220 V: 3400291","Code 220 V: 3400292","Code 220 V: 3400293","Code 220 V: 3400294"]
[null,null,"Code 115 V: 3401645","Code 115 V: 3400295","Code 115 V: 3400296","Code 115 V: 3400297","Code 115 V: 3400298"]
[null,null,"Nettó ár:","Nettó ár:","Nettó ár:","Nettó ár:","Nettó ár:"]
[null,null,{"$f":"VLOOKUP(C19,Árlista!$B:$F,5,0)","v":"22 110,-Ft"},{"$f":"VLOOKUP(D19,Árlista!$B:$F,5,0)","v":"42 840,-Ft"},{"$f":"VLOOKUP(E19,Árlista!$B:$F,5,0)","v":"43 710,-Ft"},{"$f":"VLOOKUP(F19,Árlista!$B:$F,5,0)","v":"44 290,-Ft"},{"$f":"VLOOKUP(G19,Árlista!$B:$F,5,0)","v":"54 010,-Ft"}]
[]
[null,null,"ECD 15B, 40B \nservice kit 1","ECD 90B \nservice kit 1","ECD 150B \nservice kit 1","ECD 15B, 40B \nservice kit 2","ECD 90B \nservice kit 2"]
[]
[]
[null,null,"Code: 2300190","Code: 3400331","Code: 3400332","Code: 3400664","Code: 3400665"]
[null,null,"Nettó ár:","Nettó ár:","Nettó ár:","Nettó ár:","Nettó ár:"]
[null,null,{"$f":"VLOOKUP(C27,Árlista!$B:$F,5,0)","v":"3 910,-Ft"},{"$f":"VLOOKUP(D27,Árlista!$B:$F,5,0)","v":"4 290,-Ft"},{"$f":"VLOOKUP(E27,Árlista!$B:$F,5,0)","v":"4 850,-Ft"},{"$f":"VLOOKUP(F27,Árlista!$B:$F,5,0)","v":"18 130,-Ft"},{"$f":"VLOOKUP(G27,Árlista!$B:$F,5,0)","v":"18 710,-Ft"}]
[]
[null,null,"ECD 150B \nservice kit 2","TD 16M","TD 25M","TD 16Mcr","CDI 16B"]
[null,null,null,"16 bar\n230 V/115 V","25 bar\n230 V/115 V","16 bar\n230 V/115 V","16 bar\n230 V/115 V"]
[]
[null,null,null,"Code 220 V: 3400395","Code 220 V: 3400480","Code 220 V: 3400484","Code 220 V: 3400325"]
[null,null,"Code: 3400666","Code 115 V: 3400394","Code 115 V: 3400479","Code 115 V: 3400483","Code 115 V: 3400317"]
[null,null,"Nettó ár:","Nettó ár:","Nettó ár:","Nettó ár:","Nettó ár:"]
[null,null,{"$f":"VLOOKUP(C34,Árlista!$B:$F,5,0)","v":"19 740,-Ft"},{"$f":"VLOOKUP(D34,Árlista!$B:$F,5,0)","v":"19 620,-Ft"},{"$f":"VLOOKUP(E34,Árlista!$B:$F,5,0)","v":"27 060,-Ft"},{"$f":"VLOOKUP(F34,Árlista!$B:$F,5,0)","v":"33 880,-Ft"},{"$f":"VLOOKUP(G34,Árlista!$B:$F,5,0)","v":"36 670,-Ft"}]
[]
[null,null,"IED"]
[null,null,"16 bar\n230 V/115 V"]
[]
[null,null,"Code 220 V: 3401622"]
[null,null,"Code 115 V: 3401623"]
[null,null,"Nettó ár:"]
[null,null,{"$f":"VLOOKUP(C42,Árlista!$B:$F,5,0)","v":"22 380,-Ft"}]
[]
[null,"HIGH PRESSURE \nELECTRONIC \nKONDENZÁTUM DRAIN","TD 50M","EMD HP","EMD HP A","EMD HP C","EMD HP"]
[null,null,"timer controlled 50 bar\n230 V/115 V","50 bar\n230 V/115 V","50 bar\n230 V/115 V","50 bar\n230 V/115 V","50 bar\n24 Vac"]
[]
[null,null,"Code 220 V: 3400958","Code 220 V: 3401432","Code 220 V: 3401434","Code 220 V: 3401436"]
[null,null,"Code 115 V: 3400959","Code 115 V: 3401433","Code 115 V: 3401435","Code 115 V: 3401437","Code 24 Vac: 3401438"]
[null,null,"Nettó ár:","Nettó ár:","Nettó ár:","Nettó ár:","Nettó ár:"]
[null,null,{"$f":"VLOOKUP(C50,Árlista!$B:$F,5,0)","v":"35 550,-Ft"},{"$f":"VLOOKUP(D50,Árlista!$B:$F,5,0)","v":"212 830,-Ft"},{"$f":"VLOOKUP(E50,Árlista!$B:$F,5,0)","v":"216 360,-Ft"},{"$f":"VLOOKUP(F50,Árlista!$B:$F,5,0)","v":"221 210,-Ft"},{"$f":"VLOOKUP(G50,Árlista!$B:$F,5,0)","v":"212 830,-Ft"}]
[]
[null,null,"EMD HP A","EMD HP A","EMD HP SK","AOK 50B","AOK 50SS"]
[null,null,"50 bar\n24 Vac","50 bar\n24 Vdc","\n230 V/115 V","50 bar\n","50 bar\n"]
[null,null,null,null,null,null,"Stainless steel 1.4404"]
[null,null,null,null,"Code 220 V: 3401646"]
[null,null,"Code: 3401439","Code: 3401440","Code 115 V: 3401647","Code: 3401619","Code: 3401620"]
[null,null,"Nettó ár:","Nettó ár:","Nettó ár:","Nettó ár:","Nettó ár:"]
[null,null,{"$f":"VLOOKUP(C58,Árlista!$B:$F,5,0)","v":"216 360,-Ft"},{"$f":"VLOOKUP(D58,Árlista!$B:$F,5,0)","v":"216 360,-Ft"},{"$f":"VLOOKUP(E58,Árlista!$B:$F,5,0)","v":"30 250,-Ft"},{"$f":"VLOOKUP(F58,Árlista!$B:$F,5,0)","v":"100 990,-Ft"},{"$f":"VLOOKUP(G58,Árlista!$B:$F,5,0)","v":"146 800,-Ft"}]
[]
[null,"AUTOMATIC \nKONDENZÁTUM DRAIN","AOK 20B","AOK 20B + nipple","AOK 20SS","AOK 16B","AOK 16F"]
[null,null,"20 bar","20 bar","20 bar","16 bar","16 bar"]
[null,null,null,null,"Stainless steel 1.4404"]
[null,null,"Code: 3400058","Code: 3400140","Code: 3401618","Code: 3400014","Code: 125055005"]
[null,null,"Nettó ár:","Nettó ár:","Nettó ár:","Nettó ár:","Nettó ár:"]
[null,null,{"$f":"VLOOKUP(C66,Árlista!$B:$F,5,0)","v":"10 330,-Ft"},56.12,{"$f":"VLOOKUP(E66,Árlista!$B:$F,5,0)","v":"127 600,-Ft"},{"$f":"VLOOKUP(F66,Árlista!$B:$F,5,0)","v":"6 550,-Ft"},{"$f":"VLOOKUP(G66,Árlista!$B:$F,5,0)","v":"9 640,-Ft"}]
[]
[null,"MANUAL\nKONDENZÁTUM DRAIN","MCD","MCDi","MCD-B"]
[null,null,"16 bar","16 bar","16 bar"]
[null,null,null,"Stainless steel 1.4404"]
[null,null,"Code: 2800370","Code: 2800370","Code: 2800370"]
[null,null,"Nettó ár:","Nettó ár:","Nettó ár:"]
[null,null,{"$f":"VLOOKUP(C73,Árlista!$B:$F,5,0)","v":"2 430,-Ft"},{"$f":"VLOOKUP(D73,Árlista!$B:$F,5,0)","v":"6 430,-Ft"},{"$f":"VLOOKUP(E73,Árlista!$B:$F,5,0)","v":"1 870,-Ft"}]
[]
[null,"VALVES","BALL VALVE","DRAIN VALVE 1/8\"","DRAIN VALVE 1/4\"","DRAIN VALVE","DRAIN VALVE 1\""]
[null,null,"16 bar\n","64 bar\n1/8\"","64 bar\n1/4\"","64 bar\n1/2\"","64 bar\n1\""]
[]
[null,null,"Code: 2800370","Code: 2803500","Code: 2803501","Code: 2803508","Code: 2803502"]
[null,null,"Nettó ár:","Nettó ár:","Nettó ár:","Nettó ár:","Nettó ár:"]
[null,null,{"$f":"VLOOKUP(C80,Árlista!$B:$F,5,0)","v":"2 850,-Ft"},{"$f":"VLOOKUP(D80,Árlista!$B:$F,5,0)","v":"16 340,-Ft"},{"$f":"VLOOKUP(E80,Árlista!$B:$F,5,0)","v":"19 770,-Ft"},{"$f":"VLOOKUP(F80,Árlista!$B:$F,5,0)","v":"31 960,-Ft"},{"$f":"VLOOKUP(G80,Árlista!$B:$F,5,0)","v":"32 980,-Ft"}]
[]
[null,null,"DRAIN VALVE 400"]
[null,null,"400 bar\n1/2\""]
[]
[null,null,"Code: 2803505"]
[null,null,"Nettó ár:"]
[null,null,{"$f":"VLOOKUP(C87,Árlista!$B:$F,5,0)","v":"54 970,-Ft"}]

{"sheet":"Accessories","index":29,"n_rows":64,"n_cols":10,"rows_kept":64,"cut":false,"hidden":false,"merged":[[30,1,35,1],[2,1,7,1],[16,1,21,1],[22,5,22,9],[23,1,28,1],[29,5,29,9],[79,1,84,1],[36,5,36,9],[37,1,42,1],[51,1,56,1],[58,1,63,1],[65,1,70,1],[72,1,77,1]]}
[null,"Accessories"]
[]
[null,"ASSEMBLY KITS \nFOR SZŰRŐS","AK 3/8\"","AK 1/2\"","AK 3/4\"","AK 1\"","AK 1 1/2\""]
[null,null,"For mérets\nAF 0056 - AF 0106, CF 10 - CF 31","For mérets\nAF 0056 - AF 0106, CF 10 - CF 31","For mérets\nAF 0056 - AF 0106, CF 10 - CF 31","For mérets\nAF 0186 - AF 0706, CF 40 - CF 44","For mérets\nAF 0186 - AF 0706, CF 40 - CF 44",null,null,"INDEX "]
[]
[null,null,"Code: 3700504","Code: 3700436","Code: 3700468","Code: 3700506","Code: 3700507"]
[null,null,"Nettó ár:","Nettó ár:","Nettó ár:","Nettó ár:","Nettó ár:"]
[null,null,{"$f":"VLOOKUP(C3,Árlista!$B:$F,5,0)","v":"20 550,-Ft"},{"$f":"VLOOKUP(D3,Árlista!$B:$F,5,0)","v":"20 550,-Ft"},{"$f":"VLOOKUP(E3,Árlista!$B:$F,5,0)","v":"20 550,-Ft"},{"$f":"VLOOKUP(F3,Árlista!$B:$F,5,0)","v":"23 890,-Ft"},{"$f":"VLOOKUP(G3,Árlista!$B:$F,5,0)","v":"23 890,-Ft"}]
[]
[null,null,"AK 2\"","AK 2 1/2\"","AK 3\"","2S","3S"]
[null,null,"For mérets\nAF 0946 - AF 2406, CF 50 - CF 60","For mérets\nAF 0946 - AF 2406, CF 50 - CF 60","For mérets\nAF 0946 - AF 2406, CF 50 - CF 60","For mérets \nAF 0056 - AF 0106","For mérets \nAF 0056 - AF 0106"]
[]
[null,null,"Code: 3701049","Code: 3701047","Code: 3701044","Code: 3503867","Code: 3503868"]
[null,null,"Nettó ár:","Nettó ár:","Nettó ár:","Nettó ár:","Nettó ár:"]
[null,null,{"$f":"VLOOKUP(C10,Árlista!$B:$F,5,0)","v":"60 080,-Ft"},{"$f":"VLOOKUP(D10,Árlista!$B:$F,5,0)","v":"60 080,-Ft"},{"$f":"VLOOKUP(E10,Árlista!$B:$F,5,0)","v":"60 080,-Ft"},{"$f":"VLOOKUP(F10,Árlista!$B:$F,5,0)","v":"2 740,-Ft"},{"$f":"VLOOKUP(G10,Árlista!$B:$F,5,0)","v":"3 560,-Ft"}]
[]
[null,null,"2M","3M","WS","WM"]
[null,null,"For mérets \nAF 0186 - AF 0706","For mérets \nAF 0186 - AF 0706","For mérets \nAF 0056 - AF 0106","For mérets \nAF 0186 - AF 0706"]
[]
[null,null,"Code: 3500413","Code: 3500414","Code: 3500415","Code: 3500416"]
[null,null,"Nettó ár:","Nettó ár:","Nettó ár:","Nettó ár:"]
[null,null,{"$f":"VLOOKUP(C17,Árlista!$B:$F,5,0)","v":"4 210,-Ft"},{"$f":"VLOOKUP(D17,Árlista!$B:$F,5,0)","v":"5 200,-Ft"},{"$f":"VLOOKUP(E17,Árlista!$B:$F,5,0)","v":"10 330,-Ft"},{"$f":"VLOOKUP(F17,Árlista!$B:$F,5,0)","v":"12 930,-Ft"}]
[]
[null,"OTHER\nKIEGÉSZÍTŐK","SG - Sight glass","NIPPLE","NIPPLE 20SS","NIPPLE 50SS","NIPPLE HP"]
[null,null,"For mérets 0056 to 2406","20 bar\nFor AOK 20B","20 bar\nFor AOK 20SS","50 bar\nFor AOK 50SS","50 bar\nFor EMD HP & AOK 50B"]
[]
[null,null,"Code: 3500409","Code: 3401041","Code: 3401621","Code: 3401672","Code: 2100188"]
[null,null,"Nettó ár:","Nettó ár:","Nettó ár:","Nettó ár:","Nettó ár:"]
[null,null,{"$f":"VLOOKUP(C24,Árlista!$B:$F,5,0)","v":"4 180,-Ft"},{"$f":"VLOOKUP(D24,Árlista!$B:$F,5,0)","v":"4 460,-Ft"},{"$f":"VLOOKUP(E24,Árlista!$B:$F,5,0)","v":"18 320,-Ft"},{"$f":"VLOOKUP(F24,Árlista!$B:$F,5,0)","v":"20 270,-Ft"},{"$f":"VLOOKUP(G24,Árlista!$B:$F,5,0)","v":"4 920,-Ft"}]
[]
[null,null,"ECDH","Service network","WQTK"]
[null,null,"Heater for ECD","For \nA-DRY, EPG 60SN, EMD 12C","For \nWOSm, WOS"]
[]
[null,null,"Code: 2100854","Code: 3400678","Code: 3400424"]
[null,null,"Nettó ár:","Nettó ár:","Nettó ár:"]
[null,null,115,684.95,42.85]
[]
[null,"EXHAUST \nSILENCER","ES 06050","ES 14050","ES 12075","ES 22075","ES 22090"]
[null,null,"1/4\"","3/8\"","1/2\"","3/4\"\n","1\"\n"]
[]
[null,null,"Code: 10006801","Code: 10006802","Code: 10006803","Code: 10006804","Code: 10006805"]
[null,null,"Nettó ár:","Nettó ár:","Nettó ár:","Nettó ár:","Nettó ár:"]
[null,null,63.5,65.7,84.5,93.5,109.5]
[]
[null,null,"ES 32090","ES 32140","ES 45140","ES 06050\nservice kit","ES 14050\nservice kit"]
[null,null,"1 1/4\"","1 1/2\"","2\"\n","1/4\"","3/8\""]
[]
[null,null,"Code: 10006806","Code: 10006807","Code: 10006808","Code: 3506834","Code: 3506835"]
[null,null,"Nettó ár:","Nettó ár:","Nettó ár:","Nettó ár:","Nettó ár:"]
[null,null,118.8,176.5,205.5,14.85,17.149999999999999]
[]
[null,null,"ES 12075\nservice kit","ES 22075\nservice kit","ES 22090\nservice kit","ES 32090\nservice kit","ES 32140\nservice kit"]
[null,null,"1/4\"","3/8\"","1/2\"","3/4\"\n","1\"\n"]
[]
[null,null,"Code: 3506836","Code: 3506837","Code: 3506838","Code: 3506839","Code: 3506840"]
[null,null,"Nettó ár:","Nettó ár:","Nettó ár:","Nettó ár:","Nettó ár:"]
[null,null,26.15,33.200000000000003,34.5,70.3,72.95]
[]
[null,null,"ES 45140 \nservice kit"]
[null,null,"1/4\""]
[]
[null,null,"Code: 3506841"]
[null,null,"Nettó ár:"]
[null,null,102.8]

{"sheet":"WOSm","index":30,"n_rows":31,"n_cols":18,"rows_kept":31,"cut":false,"hidden":false,"merged":[[15,10,17,10],[15,1,17,1],[15,2,16,2],[15,3,16,7],[15,8,16,8],[15,9,17,9],[23,11,25,11],[23,12,25,12],[29,1,29,2],[30,1,30,2],[21,1,22,3],[23,1,25,1],[23,2,24,2],[23,3,25,3],[23,4,25,4],[23,10,25,10]]}
[null,"WOSm series"]
[]
[]
[null,null,null,null,null,null,null,null,null,null,null,null,null,null,null,"INDEX "]
[]
[null,null,null,null,null,null,null,null,null,null,null,null,null,null,null,null,null,{"$f":"AF!R6","v":"A feltüntett árak nettó listaárak. Szállítási feltételek és kedvezmények felől érdeklődhet:\n30/201-4931\ninfo@techtomat.hu"}]
[]
[]
[]
[]
[]
[]
[]
[]
[null,"WOSm SERIES"]
[null,"WOSm MODEL","Átáramlási képesség\n15 °C 60%RH / 25 °C 60%RH / 40 °C 100%RH","Méretek",null,null,null,null,"Tömeg","Szűrő \nbetét\ntípus","Nettó ár\n[HUF]"]
[]
[null,null,"[Nm³/h]","A [mm]","B [mm]","C [mm]","D [mm]","E [mm]","kg"]
[null,"WOSm 1","1,23 / 1,08 / 0,62",483,106,80,335,50,1.21,"0305",{"$f":"VLOOKUP(B19,Árlista!$B:$F,5,0)","v":"35 470,-Ft"}]
[null,"WOSm 2","2,54 / 2,23 / 1,28",816,106,80,670,50,1.75,"0310",{"$f":"VLOOKUP(B20,Árlista!$B:$F,5,0)","v":"42 670,-Ft"}]
[]
[null,"SZŰRŐ \nBETÉT"]
[null,null,null,null,"WOSm"]
[null,"Szűrő \nbetét \ntípus","Átáramlási képesség\n15 °C 60%RH / 25 °C 60%RH / 40 °C 100%RH","Corresponding\nház","Nettó \nÁr\n[HUF]"]
[]
[null,null,"[Nm³/h]"]
[null,"WOS-m1","1,23 / 1,08 / 0,62","CKL-CHP 003",{"$f":"VLOOKUP(B27,Árlista!$B:$F,5,0)","v":"19 540,-Ft"}]
[null,"WOS-m2","2,54 / 2,23 / 1,28","CKL-CHP 005",{"$f":"VLOOKUP(B28,Árlista!$B:$F,5,0)","v":"26 160,-Ft"}]
[]
[null,"WATER QUALITY\nTEST KIT",null,"WQTK"]
[null,"Nettó ár [HUF]",null,{"$f":"VLOOKUP(D30,Árlista!$B:$F,5,0)","v":"11 290,-Ft"}]

{"sheet":"WOS","index":31,"n_rows":36,"n_cols":18,"rows_kept":36,"cut":false,"hidden":false,"merged":[[15,8,17,8],[15,1,17,1],[15,2,16,2],[15,3,16,5],[15,6,16,6],[15,7,17,7],[22,1,22,8],[24,1,25,3],[26,1,28,2],[26,3,28,3],[26,4,28,5],[35,1,35,2],[26,11,28,11],[26,12,28,12],[29,1,29,2],[30,1,30,2],[26,10,28,10],[31,1,31,2],[32,1,32,2],[34,1,34,2]]}
[null,"WOS series"]
[]
[]
[null,null,null,null,null,null,null,null,null,null,null,null,null,null,null,"INDEX "]
[]
[null,null,null,null,null,null,null,null,null,null,null,null,null,null,null,null,null,{"$f":"AF!R6","v":"A feltüntett árak nettó listaárak. Szállítási feltételek és kedvezmények felől érdeklődhet:\n30/201-4931\ninfo@techtomat.hu"}]
[]
[]
[]
[]
[]
[]
[]
[]
[null,"WOS SERIES"]
[null,"WOS\n MODEL","Kompresszor kapacitás\n15 °C 60%RH / 25 °C 60%RH / 40 °C 100%RH","Méretek",null,null,"Tömeg","Szűrő \nbetét\ntípus","Nettó ár\n[HUF]"]
[]
[null,null,"[Nm³/min]","A [mm]","B [mm]","C [mm]","kg"]
[null,"WOS 4","4,82 / 4,04 / 2,05",416,243,411,2.77,"PP,AK, WOS4",{"$f":"VLOOKUP(B19,Árlista!$B:$F,5,0)","v":"82 160,-Ft"}]
[null,"WOS 8","10,0 / 8,4 / 4,25",730,343,680,11.77,"PP,AK, WOS8",{"$f":"VLOOKUP(B20,Árlista!$B:$F,5,0)","v":"126 070,-Ft"}]
[null,"WOS 20","24,4 / 20,5 / 10,37",820,366,940,16.23,"PP,AK, WOS20",{"$f":"VLOOKUP(B21,Árlista!$B:$F,5,0)","v":"177 820,-Ft"}]
[null,"WOS 35","42,3 / 35,5 / 17,99",960,386,1137,21.54,"PP,AK, WOS35",{"$f":"VLOOKUP(B22,Árlista!$B:$F,5,0)","v":"242 000,-Ft (2)"}]
[null,"Hűvös / Enyhe / Forró klímatikus viszony esetén.\nMEGJEGYZÉS  A megadott nettó árak tájékoztató jellegűek, az utána feltüntett szám az adott termék árkategóriáját jelöli.\n- Ár csak a szűrőházra vonatkozik"]
[]
[null,"SZŰRŐ \nBETÉT"]
[null,null,null,null,"PP","AK"]
[null,"Szűrő \nbetét \ntípus",null,"Corresponding\nház","Nettó \nÁr\n[HUF]"]
[]
[]
[null,"WOS 4",null,"WOS-4",{"$f":"VLOOKUP(B30&E$26,Árlista!$B:$F,5,0)","v":"14 120,-Ft"},{"$f":"VLOOKUP(B30&F$26,Árlista!$B:$F,5,0)","v":"14 120,-Ft"}]
[null,"WOS 8",null,"WOS-8",{"$f":"VLOOKUP(B31&E$26,Árlista!$B:$F,5,0)","v":"19 760,-Ft"},{"$f":"VLOOKUP(B31&F$26,Árlista!$B:$F,5,0)","v":"19 760,-Ft"}]
[null,"WOS 20",null,"WOS-20",{"$f":"VLOOKUP(B32&E$26,Árlista!$B:$F,5,0)","v":"28 760,-Ft"},{"$f":"VLOOKUP(B32&F$26,Árlista!$B:$F,5,0)","v":"28 760,-Ft"}]
[null,"WOS 35",null,"WOS-35",{"$f":"VLOOKUP(B33&E$26,Árlista!$B:$F,5,0)","v":"46 560,-Ft"},{"$f":"VLOOKUP(B33&F$26,Árlista!$B:$F,5,0)","v":"46 560,-Ft"}]
[]
[null,"WATER QUALITY\nTEST KIT",null,"WQTK"]
[null,"Nettó ár [HUF]",null,{"$f":"VLOOKUP(D35,Árlista!$B:$F,5,0)","v":"11 290,-Ft"}]

{"sheet":"WOS CD","index":32,"n_rows":25,"n_cols":16,"rows_kept":25,"cut":false,"hidden":false,"merged":[[15,10,17,10],[15,1,17,1],[15,2,16,2],[15,4,16,7],[15,8,16,8],[15,9,16,9]]}
[null,"WOS CD series"]
[]
[]
[null,null,null,null,null,null,null,null,null,null,null,null,null,null,null,"INDEX "]
[]
[]
[]
[]
[]
[]
[]
[]
[]
[]
[null,"WOS CD SERIES"]
[null,"WOS CD MODEL","Cső méret","Hosetail ","Méretek",null,null,null,"Volume","Tömeg","Nettó ár\n[HUF]"]
[null,null,null,"connections"]
[null,null,"inch","pcs","A [mm]","B [mm]","C [mm]","D [mm]","L","kg"]
[null,"WOS CD 2","3/4''",2,257,88,20,140,0.6,1.2,{"$f":"VLOOKUP(B19,Árlista!$B:$F,5,0)","v":"45 310,-Ft"}]
[null,"WOS CD 4","1 1/2''",4,461,125,32,140,2.8,3,{"$f":"VLOOKUP(B20,Árlista!$B:$F,5,0)","v":"81 640,-Ft"}]
[null,"WOS CD 8","2''",8,684,163,43,140,6,6,{"$f":"VLOOKUP(B21,Árlista!$B:$F,5,0)","v":"132 650,-Ft"}]
[null,"WOS CD 12","3''",12,795,240,59,140,20,12.9,{"$f":"VLOOKUP(B22,Árlista!$B:$F,5,0)","v":"259 000,-Ft (2)"}]
[]
[]
[null," A megadott nettó árak tájékoztató jellegűek, az utána feltüntett szám az adott termék árkategóriáját jelöli."]

{"sheet":"A-DRY","index":33,"n_rows":67,"n_cols":33,"rows_kept":67,"cut":false,"hidden":false,"merged":[[15,13,17,13],[16,3,17,3],[16,4,17,4],[16,5,17,5],[16,6,17,6],[16,12,17,12],[12,6,12,11],[15,1,17,1],[15,2,17,2],[15,4,15,5],[15,6,15,10],[16,7,17,7],[16,8,17,8],[16,9,17,9],[16,10,17,10],[16,11,17,11],[20,27,20,28],[20,29,20,30],[20,31,20,32],[21,27,21,28],[21,29,21,30],[21,31,21,32],[42,1,42,2],[42,4,42,7],[31,1,31,12],[33,1,33,5],[34,1,34,5],[35,1,35,5],[36,1,36,5],[37,1,37,7],[39,1,39,2],[39,4,39,7],[40,1,40,8],[41,1,41,2],[41,4,41,7],[43,1,43,2],[43,4,43,7],[44,1,44,2],[44,4,44,7],[45,1,45,2],[45,4,45,7],[52,1,52,2],[52,4,52,7],[46,1,46,2],[46,4,46,7],[47,1,47,2],[47,4,47,7],[48,1,48,2],[48,4,48,7],[49,1,49,2],[49,4,49,7],[50,1,50,8],[51,1,51,2],[51,4,51,7],[53,1,53,2],[53,4,53,7],[54,1,54,2],[54,4,54,7],[55,1,55,2],[55,4,55,7],[59,1,59,2],[59,4,59,7],[63,1,63,3],[56,1,56,2],[56,4,56,7],[57,1,57,2],[57,4,57,7],[58,1,58,2],[58,4,58,7]]}
[null,"A-DRY series"]
[]
[]
[null,null,null,null,null,null,null,null,null,null,null,null,null,null,null,"INDEX "]
[]
[]
[]
[]
[]
[]
[]
[]
[null,null,null,null,null,null,"INCLUDED\n- pre-filter with automatic drain AOK16B and manometer PDI 16,\n- after-filter with manual drain MCD and manometer PDI 16."]
[]
[null,"A-DRY SERIES",null,null,null,null,null,null,null,null,null,null,null,null,null,null,null,"OPERATING PRESSURE - KORREKCIÓS FAKTOR - COP"]
[null,"A-DRY MODEL","CODE","Connection","Nominal volume flow",null,"Méretek",null,null,null,null,null,"Tömeg","Nettó ár\n[HUF]",null,null,null,"Üzemi nyomás [bar]",2,3,4,5,6,7,8,9,10,11,12,13,14,15,16]
[null,null,null,"IN/OUT\n[inch]","Inlet¹\n[Nm³/h]","Outlet²\n[Nm³/h]","A \n[mm]","A* \n[mm]","B\n[mm]","B* \n[mm]","C\n [mm]","C*\n [mm]","\nkg",null,null,null,null,"Üzemi nyomás [psi]",29,44,58,72,87,100,115,130,145,160,174,189,203,218,232]
[null,null,null,null,null,null,null,null,null,null,null,null,null,null,null,null,null,"Korrekciós faktor",0.38,0.5,0.63,0.75,0.88,1,1.1299999999999999,1.25,1.38,1.5,1.63,1.75,1.88,2,2.13]
[null,"A-DRY 06","A12000289","G3/8''",6,4.7,339,404,288,352,100,120,10.5,{"$f":"VLOOKUP(C19,Árlista!$B:$F,5,0)","v":"326 000,-Ft (2)"}]
[null,"A-DRY 12","A12000294","G3/8''",12,9.4,573,638,288,352,100,120,13.5,{"$f":"VLOOKUP(C20,Árlista!$B:$F,5,0)","v":"360 000,-Ft (2)"},null,null,null,"OPERATING TEMPERATURE - KORREKCIÓS FAKTOR - COT",null,null,null,null,null,null,null,null,"DEW POINT - KORREKCIÓS FAKTOR - CD"]
[null,"A-DRY 24","A12000306","G3/8''",24,19,1041,1106,288,352,100,120,19,{"$f":"VLOOKUP(C21,Árlista!$B:$F,5,0)","v":"434 000,-Ft (2)"},null,null,null,"Inlet temperature  [°C]",25,30,35,40,45,50,null,null,"[°C]","—25",null,"—40",null,"—70"]
[null,"A-DRY 36","A12000307","G3/8''",36,28.4,1509,1574,288,352,100,120,27.5,{"$f":"VLOOKUP(C22,Árlista!$B:$F,5,0)","v":"516 000,-Ft (2)"},null,null,null,"Korrekciós faktor",1,1,1,0.97,0.87,0.8,null,null,"CD",1.1000000000000001,null,1,null,0.7]
[null,"A-DRY 60","A12000308","G1/2''",60,47.4,1041,1106,370,434,148,170,45,{"$f":"VLOOKUP(C23,Árlista!$B:$F,5,0)","v":"585 000,-Ft (2)"}]
[null,"A-DRY 75","A12000309","G1/2''",75,59.3,1275,1340,370,434,148,170,53,{"$f":"VLOOKUP(C24,Árlista!$B:$F,5,0)","v":"643 000,-Ft (2)"}]
[null,"A-DRY 105","A12000310","G3/4''",105,83,1743,1808,370,434,148,170,70,{"$f":"VLOOKUP(C25,Árlista!$B:$F,5,0)","v":"736 000,-Ft (2)"}]
[null,"A-DRY 150","A12000356","G1''",150,118.5,1345,1455,440,570,198,240,170.5,{"$f":"VLOOKUP(C26,Árlista!$B:$F,5,0)","v":"1 043 000,-Ft (2)"}]
[null,"A-DRY 200","A12000357","G1''",200,158,1538,1648,440,570,198,240,182.2,{"$f":"VLOOKUP(C27,Árlista!$B:$F,5,0)","v":"1 118 000,-Ft (2)"}]
[null,"A-DRY 250","A12000623","G 1 1/2''",250,196,799,953,740,1019,405,650,410.5,{"$f":"VLOOKUP(C28,Árlista!$B:$F,5,0)","v":"2 136 000,-Ft (3)"}]
[null,"A-DRY 300","A12000624","G 1 1/2''",300,235,899,1053,740,1019,405,650,427.7,{"$f":"VLOOKUP(C29,Árlista!$B:$F,5,0)","v":"2 202 000,-Ft (3)"}]
[null,"A-DRY 400","A12000625","G 1 1/2''",400,313,1094,1247,740,1019,405,650,461.9,{"$f":"VLOOKUP(C30,Árlista!$B:$F,5,0)","v":"2 274 000,-Ft (4)"}]
[null,"A-DRY 600","A12000626","G 1 1/2''",600,470,1484,1638,740,1019,405,650,530,{"$f":"VLOOKUP(C31,Árlista!$B:$F,5,0)","v":"2 632 000,-Ft (4)"}]
[null,"(¹) Refers to 1 bar(a) and 20 °C at 7 bar működési nyomás , inlet temperature 35 °C and nyomás dew point at outlet —40 °C\n(²) Outlet flow refers to typical assumption during regeneration phase for működési at nominal inlet flow conditions. Outlet flow includes average air losses of approximately 17,3 %.\n\n* If dryer is supplied without inlet filter compressed air class 1 (ISO 8753-1) for solid particles and oil should be provided to the inlet of the dryer.\n\nMEGJEGYZÉS  A megadott nettó árak tájékoztató jellegűek, az utána feltüntett szám az adott termék árkategóriáját jelöli.\n- Standard dew point is —40 °C.\n- Dew points —25 °C and —70 °C on request.\n- Szűrő BETÉT should be changed at least once per year."]
[null,"OPTIONAL EQUIPMENT"]
[null,"EQUIPMENT TYPE",null,null,null,null,"CODE","Nettó ár\n[HUF]"]
[null,"Controller ADC 2.0 (Siemens) ",null,null,null,null,3401201,{"$f":"VLOOKUP(G35,Árlista!$B:$F,5,0)","v":"263 000,-Ft (2)"}]
[null,"Dew point controller OS 220",null,null,null,null,2505546,{"$f":"VLOOKUP(G36,Árlista!$B:$F,5,0)","v":"311 000,-Ft (2)"}]
[null,"Dew point sensor (OS 220) calibration with certificate",null,null,null,null,4000831,{"$f":"VLOOKUP(G37,Árlista!$B:$F,5,0)","v":"137 510,-Ft"}]
[null,"A-DRY Service kits\n\nService kit - 24 Monts\n- Inlet Valve\n- Expansion valve\n- Check valve\n- Sealings\n- Purge nozzle\n- Silencer\n- Packaging\n \nService kit - 48 months\n- Service kit - 24 months\n- Adsorbent\n- Packaging\n \nNote:\n-  Szűrő betéts are not part of Service Kits\n-  Silencer must be changed annually"]
[null,"A-DRY SERIES SERVICE KITS"]
[null,"SERVICE KITS TYPE",null,"CODE","SERVICE KIT INCLUDES",null,null,null,"Nettó ár\n[HUF]"]
[null,"24 month kits"]
[null,"A-DRY 06/24",null,"A12000327","valve, silencers, packaging",null,null,null,{"$f":"VLOOKUP(D42,Árlista!$B:$F,5,0)","v":"111 220,-Ft"}]
[null,"A-DRY 12/24",null,"A12000328","valve, silencers, packaging",null,null,null,{"$f":"VLOOKUP(D43,Árlista!$B:$F,5,0)","v":"111 220,-Ft"}]
[null,"A-DRY 24/24",null,"A12000329","valve, silencers, packaging",null,null,null,{"$f":"VLOOKUP(D44,Árlista!$B:$F,5,0)","v":"111 220,-Ft"}]
[null,"A-DRY 36/24",null,"A12000330","valve, silencers, packaging",null,null,null,{"$f":"VLOOKUP(D45,Árlista!$B:$F,5,0)","v":"111 220,-Ft"}]
[null,"A-DRY 60/24",null,"A12000331","valve, silencers, packaging",null,null,null,{"$f":"VLOOKUP(D46,Árlista!$B:$F,5,0)","v":"122 720,-Ft"}]
[null,"A-DRY 75/24",null,"A12000332","valve, silencers, packaging",null,null,null,{"$f":"VLOOKUP(D47,Árlista!$B:$F,5,0)","v":"122 720,-Ft"}]
[null,"A-DRY 105/24",null,"A12000333","valve, silencers, packaging",null,null,null,{"$f":"VLOOKUP(D48,Árlista!$B:$F,5,0)","v":"122 720,-Ft"}]
[null,"A-DRY 150/24",null,"A12000360","valve, silencers, packaging",null,null,null,{"$f":"VLOOKUP(D49,Árlista!$B:$F,5,0)","v":"130 080,-Ft"}]
[null,"A-DRY 200/24",null,"A12000361","valve, silencers, packaging",null,null,null,{"$f":"VLOOKUP(D50,Árlista!$B:$F,5,0)","v":"130 080,-Ft"}]
[null,"48 month kits"]
[null,"A-DRY 06/48",null,"A12000311","valve, silencers, adsorbent, packaging",null,null,null,{"$f":"VLOOKUP(D52,Árlista!$B:$F,5,0)","v":"147 420,-Ft"}]
[null,"A-DRY 12/48",null,"A12000312","valve, silencers, adsorbent, packaging",null,null,null,{"$f":"VLOOKUP(D53,Árlista!$B:$F,5,0)","v":"163 530,-Ft"}]
[null,"A-DRY 24/48",null,"A12000313","valve, silencers, adsorbent, packaging",null,null,null,{"$f":"VLOOKUP(D54,Árlista!$B:$F,5,0)","v":"195 740,-Ft"}]
[null,"A-DRY 36/48",null,"A12000314","valve, silencers, adsorbent, packaging",null,null,null,{"$f":"VLOOKUP(D55,Árlista!$B:$F,5,0)","v":"224 230,-Ft"}]
[null,"A-DRY 60/48",null,"A12000315","valve, silencers, adsorbent, packaging",null,null,null,{"$f":"VLOOKUP(D56,Árlista!$B:$F,5,0)","v":"270 000,-Ft (2)"}]
[null,"A-DRY 75/48",null,"A12000316","valve, silencers, adsorbent, packaging",null,null,null,{"$f":"VLOOKUP(D57,Árlista!$B:$F,5,0)","v":"299 000,-Ft (2)"}]
[null,"A-DRY 105/48",null,"A12000317","valve, silencers, adsorbent, packaging",null,null,null,{"$f":"VLOOKUP(D58,Árlista!$B:$F,5,0)","v":"348 000,-Ft (2)"}]
[null,"A-DRY 150/48",null,"A12000358","valve, silencers, adsorbent, packaging",null,null,null,{"$f":"VLOOKUP(D59,Árlista!$B:$F,5,0)","v":"504 000,-Ft (2)"}]
[null,"A-DRY 200/48",null,"A12000359","valve, silencers, adsorbent, packaging",null,null,null,{"$f":"VLOOKUP(D60,Árlista!$B:$F,5,0)","v":"595 000,-Ft (2)"}]
[]
[]
[null,"SILENCERS"]
[null,"SILENCER TYPE",null,null,"CODE","Nettó ár\n[HUF]"]
[null,"SILENCER for A-DRY 06-36   ",null,null,12000350,{"$f":"VLOOKUP(E65,Árlista!$B:$F,5,0)","v":"3 620,-Ft"}]
[null,"SILENCER for A-DRY 60-105",null,null,12000351,{"$f":"VLOOKUP(E66,Árlista!$B:$F,5,0)","v":"8 170,-Ft"}]
[null,"SILENCER for A-DRY 150-200",null,null,12000371,{"$f":"VLOOKUP(E67,Árlista!$B:$F,5,0)","v":"10 250,-Ft"}]

{"sheet":"X-DRY","index":34,"n_rows":56,"n_cols":29,"rows_kept":56,"cut":false,"hidden":false,"merged":[[12,6,12,11],[15,1,17,1],[15,3,15,4],[15,5,15,7],[15,9,17,9],[15,10,17,10],[16,2,17,2],[16,3,17,4],[16,5,17,5],[16,6,17,6],[16,7,17,7],[16,8,17,8],[18,3,18,4],[19,3,19,4],[20,3,20,4],[20,25,20,26],[20,27,20,28],[21,3,21,4],[21,23,21,24],[21,25,21,26],[21,27,21,28],[20,23,20,24],[40,4,40,7],[22,3,22,4],[23,3,23,4],[24,1,24,12],[26,1,26,5],[27,1,27,5],[28,1,28,5],[29,1,29,7],[31,1,31,2],[31,4,31,7],[32,1,32,8],[39,1,39,8],[54,1,54,3],[55,1,55,3],[41,4,41,7],[42,4,42,7],[43,4,43,7],[44,4,44,7],[45,4,45,7],[49,1,49,3]]}
[null,"X-DRY series"]
[]
[]
[null,null,null,null,null,null,null,null,null,null,null,null,null,null,null,"INDEX "]
[]
[]
[]
[]
[]
[]
[]
[]
[null,null,null,null,null,null,"INCLUDED\n- pre-filter with automatic drain AOK16B and manometer PDI 16,\n- after-filter with manual drain MCD and manometer PDI 16."]
[]
[null,"X-DRY SERIES",null,null,null,null,null,null,null,null,null,null,null,"OPERATING PRESSURE - KORREKCIÓS FAKTOR - COP"]
[null,"X-DRY MODEL","Connection","Nominal volume flow",null,"Méretek",null,null,"Tömeg","CODE","Nettó ár\n[HUF]",null,null,"Üzemi nyomás [bar]",2,3,4,5,6,7,8,9,10,11,12,13,14,15,16]
[null,null,"IN/OUT2\n[inch]","Inlet¹\n[Nm³/h]",null,"A \n[mm]","B\n[mm]","C\n [mm]","\nkg",null,null,null,null,"Üzemi nyomás [psi]",29,44,58,72,87,100,115,130,145,160,174,189,203,218,232]
[null,null,null,null,null,null,null,null,null,null,null,null,null,"Korrekciós faktor",0.38,0.5,0.63,0.75,0.88,1,1.1299999999999999,1.25,1.38,1.5,1.63,1.75,1.88,2,2.13]
[null,"X-DRY 300  ","G 2''",300,null,570,670,1450,350,"X12000492",{"$f":"VLOOKUP(J19,Árlista!$B:$F,5,0)","v":"2 677 000,-Ft (4)"}]
[null,"X-DRY 450","G 2''",450,null,570,870,1450,520,"X12000493",{"$f":"VLOOKUP(J20,Árlista!$B:$F,5,0)","v":"3 518 000,-Ft (4)"},null,null,"OPERATING TEMPERATURE - KORREKCIÓS FAKTOR - COT",null,null,null,null,null,null,null,null,"DEW POINT - KORREKCIÓS FAKTOR - CD"]
[null,"X-DRY 600","G 2''",600,null,570,1070,1450,690,"X12000494",{"$f":"VLOOKUP(J21,Árlista!$B:$F,5,0)","v":"4 358 000,-Ft (4)"},null,null,"Inlet temperature  [°C]",25,30,35,40,45,50,null,null,"[°C]","—25",null,"—40",null,"—70"]
[null,"X-DRY 750","G 2''",750,null,570,1270,1450,860,"X12000495",{"$f":"VLOOKUP(J22,Árlista!$B:$F,5,0)","v":"5 198 000,-Ft (4)"},null,null,"Korrekciós faktor",1,1,1,0.97,0.87,0.8,null,null,"CD",1.1000000000000001,null,1,null,0.7]
[null,"X-DRY 900","G 2''",900,null,570,1470,1450,1030,"X12000496",{"$f":"VLOOKUP(J23,Árlista!$B:$F,5,0)","v":"6 038 000,-Ft (4)"}]
[null,"X-DRY1050","G 2''",1050,null,570,1670,1450,1200,"X12000497",{"$f":"VLOOKUP(J24,Árlista!$B:$F,5,0)","v":"6 878 000,-Ft (4)"}]
[null,"(¹) Refers to 1 bar(a) and 20 °C at 7 bar működési nyomás , inlet temperature 35 °C and nyomás dew point at outlet —40 °C\n(²) Reffers to inlet and outlet filter ház\n\nMEGJEGYZÉS  A megadott nettó árak tájékoztató jellegűek, az utána feltüntett szám az adott termék árkategóriáját jelöli.\n- Standard dew point is —40 °C.\n- Dew points —25 °C and —70 °C on request.\n- Szűrő BETÉT should be changed at least once per year."]
[null,"OPTIONAL EQUIPMENT"]
[null,"EQUIPMENT TYPE",null,null,null,null,"CODE","Nettó ár\n[HUF]"]
[null,"Dew point controller OS 220",null,null,null,null,2505546,{"$f":"VLOOKUP(G28,Árlista!$B:$F,5,0)","v":"311 000,-Ft (2)"}]
[null,"Dew point sensor (OS 220) calibration with certificate",null,null,null,null,4000831,{"$f":"VLOOKUP(G29,Árlista!$B:$F,5,0)","v":"137 510,-Ft"}]
[null,"X-DRY Service kits\n\nService kit - 24 Monts\n-  Electromagnetic valve (without coil) \n-  Membrane for inlet and expenion valves on lower control valve block \n-  Membrane for non-return valve \n-  Silencer  \n-  Packaging\n \nService kit - 48 months\n- Service kit - 24 months\n- Adsorbent\n- Packaging\n \nNote:\n-  Szűrő betéts are not part of Service Kits\n-  Silencer must be changed annually"]
[null,"X-DRY SERIES SERVICE KITS"]
[null,"SERVICE KITS TYPE",null,"CODE","SERVICE KIT INCLUDES",null,null,null,"Nettó ár\n[HUF]"]
[null,"24 month kits"]
[null,"X-DRY 300/24",null,"X12000412","valve, silencers, packaging",null,null,null,{"$f":"VLOOKUP(D34,Árlista!$B:$F,5,0)","v":"335 000,-Ft (2)"}]
[null,"X-DRY 450/24 ",null,"X12000413","valve, silencers, packaging",null,null,null,{"$f":"VLOOKUP(D35,Árlista!$B:$F,5,0)","v":"355 000,-Ft (2)"}]
[null,"X-DRY 600/24 ",null,"X12000414","valve, silencers, packaging",null,null,null,{"$f":"VLOOKUP(D36,Árlista!$B:$F,5,0)","v":"377 000,-Ft (2)"}]
[null,"X-DRY 750/24",null,"X12000415","valve, silencers, packaging",null,null,null,{"$f":"VLOOKUP(D37,Árlista!$B:$F,5,0)","v":"397 000,-Ft (2)"}]
[null,"X-DRY 900/24 ",null,"X12000416","valve, silencers, packaging",null,null,null,{"$f":"VLOOKUP(D38,Árlista!$B:$F,5,0)","v":"419 000,-Ft (2)"}]
[null,"X-DRY 1050/24 ",null,"X12000417","valve, silencers, packaging",null,null,null,{"$f":"VLOOKUP(D39,Árlista!$B:$F,5,0)","v":"439 000,-Ft (2)"}]
[null,"48 month kits"]
[null,"X-DRY 300/48 ",null,"X12000418","valve, silencers, adsorbent, packaging",null,null,null,{"$f":"VLOOKUP(D41,Árlista!$B:$F,5,0)","v":"582 000,-Ft (2)"}]
[null,"X-DRY 450/48 ",null,"X12000419","valve, silencers, adsorbent, packaging",null,null,null,{"$f":"VLOOKUP(D42,Árlista!$B:$F,5,0)","v":"694 000,-Ft (2)"}]
[null,"X-DRY 600/48 ",null,"X12000420","valve, silencers, adsorbent, packaging",null,null,null,{"$f":"VLOOKUP(D43,Árlista!$B:$F,5,0)","v":"836 000,-Ft (2)"}]
[null,"X-DRY 750/48 ",null,"X12000421","valve, silencers, adsorbent, packaging",null,null,null,{"$f":"VLOOKUP(D44,Árlista!$B:$F,5,0)","v":"949 000,-Ft (2)"}]
[null,"X-DRY 900/48 ",null,"X12000422","valve, silencers, adsorbent, packaging",null,null,null,{"$f":"VLOOKUP(D45,Árlista!$B:$F,5,0)","v":"1 066 000,-Ft (2)"}]
[null,"X-DRY 1050/48 ",null,"X12000423","valve, silencers, adsorbent, packaging",null,null,null,{"$f":"VLOOKUP(D46,Árlista!$B:$F,5,0)","v":"1 176 000,-Ft (3)"}]
[]
[]
[null,"SILENCERS"]
[null,"SILENCER TYPE",null,null,"CODE","Nettó ár\n[HUF]"]
[null,"SILENCER for X-DRY 300-1050   ",null,null,12000355,{"$f":"VLOOKUP(E51,Árlista!$B:$F,5,0)","v":"105 080,-Ft"}]
[]
[]
[null,"DUAL BANK"]
[null,"DUAL BANK TYPE",null,null,"CODE","Nettó ár\n[HUF]"]
[null,"DUAL BANK",null,null,12000483,{"$f":"VLOOKUP(E56,Árlista!$B:$F,5,0)","v":"899 000,-Ft (2)"}]

{"sheet":"B-DRY","index":35,"n_rows":50,"n_cols":31,"rows_kept":50,"cut":false,"hidden":false,"merged":[[22,23,22,27],[12,6,12,11],[15,1,17,1],[15,3,15,4],[15,5,15,7],[15,9,17,9],[15,10,17,10],[16,2,17,2],[16,3,17,3],[16,4,17,4],[16,5,17,5],[16,6,17,6],[16,7,17,7],[16,8,17,8],[20,23,20,27],[21,23,21,27],[44,4,44,7],[27,1,27,12],[30,1,30,5],[31,1,31,5],[32,1,32,5],[33,1,33,7],[35,1,35,2],[35,4,35,7],[36,1,36,8],[40,1,40,8],[41,4,41,7],[42,4,42,7],[43,4,43,7],[58,1,58,3],[59,1,59,3],[45,4,45,7],[46,4,46,7],[47,4,47,7],[48,4,48,7],[49,4,49,7],[53,1,53,3]]}
[null,"B-DRY series"]
[]
[]
[null,null,null,null,null,null,null,null,null,null,null,null,null,null,null,"INDEX "]
[]
[]
[]
[]
[]
[]
[]
[]
[null,null,null,null,null,null,"INCLUDED\n- pre-filter with automatic drain AOK16B and manometer PDI 16,\n- after-filter with manual drain MCD and manometer PDI 16."]
[]
[null,"B-DRY SERIES",null,null,null,null,null,null,null,null,null,null,null,"OPERATING PRESSURE - KORREKCIÓS FAKTOR - COP"]
[null,"B-DRY MODEL","Connection","Nominal volume flow",null,"Méretek",null,null,"Tömeg","CODE","Nettó ár\n[HUF]",null,null,"Üzemi nyomás [bar]",2,3,4,5,6,7,8,9,10,11,12,13,14,15,16]
[null,null,"IN/OUT\n[inch]","Inlet¹\n[Nm³/h]","Outlet²\n[Nm³/h]","A \n[mm]","B\n[mm]","C\n [mm]","\nkg",null,null,null,null,"Üzemi nyomás [psi]",29,44,58,72,87,100,115,130,145,160,174,189,203,218,232]
[null,null,null,null,null,null,null,null,null,null,null,null,null,"Korrekciós faktor",0.38,0.5,0.63,0.75,0.88,1,1.1299999999999999,1.25,1.38,1.5,1.63,1.75,1.88,2,2.13]
[null,"B-DRY 110","G1’’",110,86,650,390,1570,126,"B12000318",{"$f":"VLOOKUP(J19,Árlista!$B:$F,5,0)","v":"1 206 000,-Ft (3)"}]
[null,"B-DRY 150","G1’’",150,117.5,700,410,1820,142,"B12000319",{"$f":"VLOOKUP(J20,Árlista!$B:$F,5,0)","v":"1 287 000,-Ft (3)"},null,null,"OPERATING TEMPERATURE - KORREKCIÓS FAKTOR - COT",null,null,null,null,null,null,null,null,null,"DEW POINT - KORREKCIÓS FAKTOR - CD"]
[null,"B-DRY 200","G1’’",200,157,700,450,1600,180,"B12000320",{"$f":"VLOOKUP(J21,Árlista!$B:$F,5,0)","v":"1 363 000,-Ft (3)"},null,null,"Inlet temperature  [°C]",25,30,35,40,45,50,55,60,null,"Inlet temperature  [°C]",null,null,null,null,"—25","—40","—70"]
[null,"B-DRY 250","G1’’",260,204,700,450,1850,220,"B12000321",{"$f":"VLOOKUP(J22,Árlista!$B:$F,5,0)","v":"1 763 000,-Ft (3)"},null,null,"Inlet temperature  [F]",77,86,95,104,113,122,131,140,null,"Inlet temperature  [F]",null,null,null,null,-13,-40,-94]
[null,"B-DRY 300","G1 1/2’’",320,251,900,530,1620,255,"B12000322",{"$f":"VLOOKUP(J23,Árlista!$B:$F,5,0)","v":"1 938 000,-Ft (3)"},null,null,"Korrekciós faktor",1,1,1,0.97,0.87,0.8,0.64,0.51,null,"Korrekciós faktor",null,null,null,null,1.1000000000000001,1,0.7]
[null,"B-DRY 400","G1 1/2’’",410,321.5,900,530,1870,275,"B12000323",{"$f":"VLOOKUP(J24,Árlista!$B:$F,5,0)","v":"2 122 000,-Ft (3)"}]
[null,"B-DRY 600","G1 1/2’’",590,462.5,850,700,1940,355,"B12000324",{"$f":"VLOOKUP(J25,Árlista!$B:$F,5,0)","v":"2 498 000,-Ft (4)"}]
[null,"B-DRY 800","G2’’",770,603.5,1000,710,1980,470,"B12000325",{"$f":"VLOOKUP(J26,Árlista!$B:$F,5,0)","v":"2 857 000,-Ft (4)"}]
[null,"B-DRY 1000","G2’’",1000,784,1050,710,1980,560,"B12000326",{"$f":"VLOOKUP(J27,Árlista!$B:$F,5,0)","v":"3 327 000,-Ft (4)"}]
[null,"(¹) Refers to 1 bar(a) and 20 °C at 7 bar működési nyomás , inlet temperature 35 °C and nyomás dew point at outlet —40 °C\n(²) Outlet flow refers to typical assumption during regeneration phase for működési at nominal inlet flow conditions. Outlet flow includes average air losses of approximately 17,3 %.\n* If dryer is supplied without inlet filter compressed air class 1 (ISO 8753-1) for solid particles and oil should be provided to the inlet of the dryer.\n\nMEGJEGYZÉS  A megadott nettó árak tájékoztató jellegűek, az utána feltüntett szám az adott termék árkategóriáját jelöli.\n- Standard dew point is —40 °C.\n- Dew points —25 °C and —70 °C on request.\n- Szűrő BETÉT should be changed at least once per year."]
[]
[null,"OPTIONAL EQUIPMENT"]
[null,"EQUIPMENT TYPE",null,null,null,null,"CODE","Nettó ár\n[HUF]"]
[null,"Dew point controller OS 220",null,null,null,null,2505546,{"$f":"VLOOKUP(G32,Árlista!$B:$F,5,0)","v":"311 000,-Ft (2)"}]
[null,"Dew point sensor (OS 220) calibration with certificate",null,null,null,null,4000831,{"$f":"VLOOKUP(G33,Árlista!$B:$F,5,0)","v":"137 510,-Ft"}]
[null,"B-DRY Service kits\n\nService kit - 24 Monts\n-  Electromagnetic valve (without coil) \n-  Membrane for inlet and expenion valves on lower control valve block \n-  Membrane for non-return valve \n-  Silencer \n-  Packaging\n \nService kit - 48 months\n-  Service kit - 24 months\n-  Adsorbent \n-  Packaging\n \nNote:\n-  Szűrő betéts are not part of Service Kits\n-  Silencer must be changed annually"]
[null,"B-DRY SERIES SERVICE KITS"]
[null,"SERVICE KITS TYPE",null,"CODE","SERVICE KIT INCLUDES",null,null,null,"Nettó ár\n[HUF]"]
[null,"24 month kits"]
[null,"B-DRY 110-250/24",null,"B12000412","valve, silencers, packaging",null,null,null,{"$f":"VLOOKUP(D38,Árlista!$B:$F,5,0)","v":"310 000,-Ft (2)"}]
[null,"B-DRY 300-600/24",null,"B12000413","valve, silencers, packaging",null,null,null,{"$f":"VLOOKUP(D39,Árlista!$B:$F,5,0)","v":"433 000,-Ft (2)"}]
[null,"B-DRY 800-1000/24",null,"B12000414","valve, silencers, packaging",null,null,null,{"$f":"VLOOKUP(D40,Árlista!$B:$F,5,0)","v":"444 000,-Ft (2)"}]
[null,"48 month kits"]
[null,"B-DRY 110/48",null,"B12000403","valve, silencers, adsorbent, packaging",null,null,null,{"$f":"VLOOKUP(D42,Árlista!$B:$F,5,0)","v":"425 000,-Ft (2)"}]
[null,"B-DRY 150/48",null,"B12000404","valve, silencers, adsorbent, packaging",null,null,null,{"$f":"VLOOKUP(D43,Árlista!$B:$F,5,0)","v":"455 000,-Ft (2)"}]
[null,"B-DRY 200/48",null,"B12000405","valve, silencers, adsorbent, packaging",null,null,null,{"$f":"VLOOKUP(D44,Árlista!$B:$F,5,0)","v":"501 000,-Ft (2)"}]
[null,"B-DRY 250/48",null,"B12000406","valve, silencers, adsorbent, packaging",null,null,null,{"$f":"VLOOKUP(D45,Árlista!$B:$F,5,0)","v":"546 000,-Ft (2)"}]
[null,"B-DRY 300/48",null,"B12000407","valve, silencers, adsorbent, packaging",null,null,null,{"$f":"VLOOKUP(D46,Árlista!$B:$F,5,0)","v":"728 000,-Ft (2)"}]
[null,"B-DRY 400/48",null,"B12000408","valve, silencers, adsorbent, packaging",null,null,null,{"$f":"VLOOKUP(D47,Árlista!$B:$F,5,0)","v":"794 000,-Ft (2)"}]
[null,"B-DRY 600/48",null,"B12000409","valve, silencers, adsorbent, packaging",null,null,null,{"$f":"VLOOKUP(D48,Árlista!$B:$F,5,0)","v":"944 000,-Ft (2)"}]
[null,"B-DRY 800/48",null,"B12000410","valve, silencers, adsorbent, packaging",null,null,null,{"$f":"VLOOKUP(D49,Árlista!$B:$F,5,0)","v":"1 097 000,-Ft (2)"}]
[null,"B-DRY 1000/48",null,"B12000411","valve, silencers, adsorbent, packaging",null,null,null,{"$f":"VLOOKUP(D50,Árlista!$B:$F,5,0)","v":"1 222 000,-Ft (3)"}]

{"sheet":"F-DRY","index":36,"n_rows":74,"n_cols":31,"rows_kept":74,"cut":false,"hidden":false,"merged":[[20,23,20,27],[21,23,21,27],[22,23,22,27],[12,6,12,11],[15,1,17,1],[15,3,15,4],[15,5,15,7],[15,9,17,9],[15,10,17,10],[16,2,17,2],[16,3,17,3],[16,4,17,4],[16,5,17,5],[34,1,34,2],[34,4,34,7],[16,6,17,6],[16,7,17,7],[16,8,17,8],[26,1,26,12],[29,1,29,5],[30,1,30,5],[31,1,31,5],[32,1,32,7],[46,4,46,7],[35,1,35,8],[36,4,36,7],[37,4,37,7],[38,4,38,7],[39,4,39,7],[40,4,40,7],[41,4,41,7],[42,4,42,7],[43,4,43,7],[44,1,44,8],[45,4,45,7],[60,4,60,5],[47,4,47,7],[48,4,48,7],[49,4,49,7],[50,4,50,7],[51,4,51,7],[52,4,52,7],[56,1,56,2],[56,4,56,5],[57,4,57,5],[58,4,58,5],[59,4,59,5],[61,4,61,5],[62,4,62,5],[63,4,63,5],[64,4,64,5],[68,1,68,2],[68,4,68,5],[72,1,72,2],[72,4,72,5],[73,1,73,2],[73,4,73,5],[69,1,69,2],[69,4,69,5],[70,1,70,2],[70,4,70,5],[71,1,71,2],[71,4,71,5]]}
[null,"F-DRY series"]
[]
[]
[null,null,null,null,null,null,null,null,null,null,null,null,null,null,null,"INDEX "]
[]
[]
[]
[]
[]
[]
[]
[]
[null,null,null,null,null,null,"INCLUDED\n- pre-filter with automatic drain AOK16B and manometer PDI 16,\n- after-filter with manual drain MCD and manometer PDI 16."]
[]
[null,"F-DRY SERIES",null,null,null,null,null,null,null,null,null,null,null,"OPERATING PRESSURE - KORREKCIÓS FAKTOR - COP"]
[null,"F-DRY MODEL","Connection","Nominal volume flow",null,"Méretek",null,null,"Tömeg","CODE","Nettó ár\n[HUF]",null,null,"Üzemi nyomás [bar]",2,3,4,5,6,7,8,9,10,11,12,13,14,15,16]
[null,null,"IN/OUT\n[DN]","Inlet¹\n[Nm³/h]","Outlet²\n[Nm³/h]","A \n[mm]","B\n[mm]","C\n [mm]","\nkg",null,null,null,null,"Üzemi nyomás [psi]",29,44,58,72,87,100,115,130,145,160,174,189,203,218,232]
[null,null,null,null,null,null,null,null,null,null,null,null,null,"Korrekciós faktor",0.38,0.5,0.63,0.75,0.88,1,1.1299999999999999,1.25,1.38,1.5,1.63,1.75,1.88,2,2.13]
[null,"F-DRY 1200","DN50",1200,936,1400,600,2050,650,"F12000334",{"$f":"VLOOKUP(J19,Árlista!$B:$F,5,0)","v":"4 694 000,-Ft (4)"}]
[null,"F-DRY 1500 ","DN65",1500,1170,1500,650,2100,850,"F12000335",{"$f":"VLOOKUP(J20,Árlista!$B:$F,5,0)","v":"5 287 000,-Ft (4)"},null,null,"OPERATING TEMPERATURE - KORREKCIÓS FAKTOR - COT",null,null,null,null,null,null,null,null,null,"DEW POINT - KORREKCIÓS FAKTOR - CD"]
[null,"F-DRY 2000","DN65",2000,1560,1600,750,2150,950,"F12000336",{"$f":"VLOOKUP(J21,Árlista!$B:$F,5,0)","v":"6 486 000,-Ft (4)"},null,null,"Inlet temperature  [°C]",25,30,35,40,45,50,55,60,null,"Inlet temperature  [°C]",null,null,null,null,"—25","—40","—70"]
[null,"F-DRY 2500","DN80",2500,1950,1750,800,2250,1100,"F12000337",{"$f":"VLOOKUP(J22,Árlista!$B:$F,5,0)","v":"7 461 000,-Ft (4)"},null,null,"Inlet temperature  [F]",77,86,95,104,113,122,131,140,null,"Inlet temperature  [F]",null,null,null,null,-13,-40,-94]
[null,"F-DRY 3000","DN80",3000,2340,1900,850,2250,1500,"F12000338",{"$f":"VLOOKUP(J23,Árlista!$B:$F,5,0)","v":"8 323 000,-Ft (4)"},null,null,"Korrekciós faktor",1,1,1,0.97,0.87,0.8,0.64,0.51,null,"Korrekciós faktor",null,null,null,null,1.1000000000000001,1,0.7]
[null,"F-DRY 3750","DN100",3750,2925,2100,950,2350,2000,"F12000339",{"$f":"VLOOKUP(J24,Árlista!$B:$F,5,0)","v":"9 589 000,-Ft (4)"}]
[null,"F-DRY 5000","DN100",5000,3900,2250,1050,2650,2450,"F12000340",{"$f":"VLOOKUP(J25,Árlista!$B:$F,5,0)","v":"11 415 000,-Ft (4)"}]
[null,"F-DRY 6500","DN125",6500,5070,2450,1100,2850,3000,"F12000341",{"$f":"VLOOKUP(J26,Árlista!$B:$F,5,0)","v":"14 216 000,-Ft (4)"}]
[null,"(¹) Refers to 1 bar(a) and 20 °C at 7 bar működési nyomás , inlet temperature 35 °C and nyomás dew point at outlet —40 °C\n(²) Outlet flow refers to typical assumption during regeneration phase for működési at nominal inlet flow conditions. Outlet flow includes average air losses of approximately 17,3 %.\n* If dryer is supplied without inlet filter compressed air class 1 (ISO 8753-1) for solid particles and oil should be provided to the inlet of the dryer.\n\nMEGJEGYZÉS  A megadott nettó árak tájékoztató jellegűek, az utána feltüntett szám az adott termék árkategóriáját jelöli.\n- Standard dew point is —40 °C.\n- Dew points —25 °C and —70 °C on request.\n- Szűrő BETÉT should be changed at least once per year."]
[]
[null,"OPTIONAL EQUIPMENT"]
[null,"EQUIPMENT TYPE",null,null,null,null,"CODE","Nettó ár\n[HUF]"]
[null,"Dew point controller OS 220",null,null,null,null,2505546,{"$f":"VLOOKUP(G31,Árlista!$B:$F,5,0)","v":"311 000,-Ft (2)"}]
[null,"Dew point sensor (OS 220) calibration with certificate",null,null,null,null,4000831,{"$f":"VLOOKUP(G32,Árlista!$B:$F,5,0)","v":"137 510,-Ft"}]
[null,"F-DRY Service kits\n\nService kit - 24 Monts\n- Valve set \n- Nonreturn valve\n- Silencers (different quantity depending on the model)\n- Sealings and other spare parts\n- Packaging\n \nService kit - 48 months\n- Servis kit - 24 month\n- Adsorbent\n- Packaging\n \nNote:\n- Szűrő betéts are not part of Service Kits\n- Silencer must be changed annually"]
[null,"F-DRY SERIES SERVICE KITS"]
[null,"SERVICE KITS TYPE",null,"CODE","SERVICE KIT INCLUDES",null,null,null,"Nettó ár\n[HUF]"]
[null,"24 month kits"]
[null,"F-DRY 1200/24",null,"F12000424","valve, silencers, packaging",null,null,null,{"$f":"VLOOKUP(D37,Árlista!$B:$F,5,0)","v":"446 000,-Ft (2)"}]
[null,"F-DRY 1500/24",null,"F12000425","valve, silencers, packaging",null,null,null,{"$f":"VLOOKUP(D38,Árlista!$B:$F,5,0)","v":"540 000,-Ft (2)"}]
[null,"F-DRY2000/24",null,"F12000426","valve, silencers, packaging",null,null,null,{"$f":"VLOOKUP(D39,Árlista!$B:$F,5,0)","v":"622 000,-Ft (2)"}]
[null,"F-DRY2500/24",null,"F12000427","valve, silencers, packaging",null,null,null,{"$f":"VLOOKUP(D40,Árlista!$B:$F,5,0)","v":"632 000,-Ft (2)"}]
[null,"F-DRY3000/24",null,"F12000428","valve, silencers, packaging",null,null,null,{"$f":"VLOOKUP(D41,Árlista!$B:$F,5,0)","v":"669 000,-Ft (2)"}]
[null,"F-DRY3750/24",null,"F12000429","valve, silencers, packaging",null,null,null,{"$f":"VLOOKUP(D42,Árlista!$B:$F,5,0)","v":"757 000,-Ft (2)"}]
[null,"F-DRY5000/24",null,"F12000430","valve, silencers, packaging",null,null,null,{"$f":"VLOOKUP(D43,Árlista!$B:$F,5,0)","v":"796 000,-Ft (2)"}]
[null,"F-DRY6500/24",null,"F12000431","valve, silencers, packaging",null,null,null,{"$f":"VLOOKUP(D44,Árlista!$B:$F,5,0)","v":"989 000,-Ft (2)"}]
[null,"48 month kits"]
[null,"F-DRY 1200/48",null,"F12000432","valve, silencers, adsorbent, packaging",null,null,null,{"$f":"VLOOKUP(D46,Árlista!$B:$F,5,0)","v":"1 435 000,-Ft (3)"}]
[null,"F-DRY 1500/48",null,"F12000433","valve, silencers, adsorbent, packaging",null,null,null,{"$f":"VLOOKUP(D47,Árlista!$B:$F,5,0)","v":"1 562 000,-Ft (3)"}]
[null,"F-DRY2000/48",null,"F12000434","valve, silencers, adsorbent, packaging",null,null,null,{"$f":"VLOOKUP(D48,Árlista!$B:$F,5,0)","v":"1 982 000,-Ft (3)"}]
[null,"F-DRY2500/48",null,"F12000435","valve, silencers, adsorbent, packaging",null,null,null,{"$f":"VLOOKUP(D49,Árlista!$B:$F,5,0)","v":"2 312 000,-Ft (4)"}]
[null,"F-DRY3000/48",null,"F12000436","valve, silencers, adsorbent, packaging",null,null,null,{"$f":"VLOOKUP(D50,Árlista!$B:$F,5,0)","v":"2 507 000,-Ft (4)"}]
[null,"F-DRY3750/48",null,"F12000437","valve, silencers, adsorbent, packaging",null,null,null,{"$f":"VLOOKUP(D51,Árlista!$B:$F,5,0)","v":"3 187 000,-Ft (4)"}]
[null,"F-DRY5000/48",null,"F12000438","valve, silencers, adsorbent, packaging",null,null,null,{"$f":"VLOOKUP(D52,Árlista!$B:$F,5,0)","v":"3 639 000,-Ft (4)"}]
[null,"F-DRY6500/48",null,"F12000439","valve, silencers, adsorbent, packaging",null,null,null,{"$f":"VLOOKUP(D53,Árlista!$B:$F,5,0)","v":"5 519 000,-Ft (4)"}]
[]
[]
[null,"SILENCERS"]
[null,"SILENCER TYPE",null,"CODE","No. of ES45140",null,"Nettó ár\n[HUF]"]
[null,"SILENCER for F-Dry 1200",null,12000395,1,null,{"$f":"VLOOKUP(D58,Árlista!$B:$F,5,0)","v":"52 540,-Ft"}]
[null,"SILENCER for F-Dry 1500",null,12000396,2,null,{"$f":"VLOOKUP(D59,Árlista!$B:$F,5,0)","v":"105 080,-Ft"}]
[null,"SILENCER for F-Dry 2000",null,12000397,2,null,{"$f":"VLOOKUP(D60,Árlista!$B:$F,5,0)","v":"105 080,-Ft"}]
[null,"SILENCER for F-Dry 2500",null,12000398,3,null,{"$f":"VLOOKUP(D61,Árlista!$B:$F,5,0)","v":"152 750,-Ft"}]
[null,"SILENCER for F-DRY 3000",null,12000399,4,null,{"$f":"VLOOKUP(D62,Árlista!$B:$F,5,0)","v":"203 670,-Ft"}]
[null,"SILENCER for F-DRY 3750",null,12000440,4,null,{"$f":"VLOOKUP(D63,Árlista!$B:$F,5,0)","v":"203 670,-Ft"}]
[null,"SILENCER for F-DRY 5000",null,12000441,5,null,{"$f":"VLOOKUP(D64,Árlista!$B:$F,5,0)","v":"246 000,-Ft (2)"}]
[null,"SILENCER for F-DRY 6500",null,12000442,6,null,{"$f":"VLOOKUP(D65,Árlista!$B:$F,5,0)","v":"296 000,-Ft (2)"}]
[]
[]
[null,"START-UP DEVICES"]
[null,"START-UP DEVICES TYPE",null,"CODE","For device",null,"Nettó ár\n[HUF]"]
[null,"DN50",null,12000484,"F-DRY 1200",null,{"$f":"VLOOKUP(D70,Árlista!$B:$F,5,0)","v":"43 040,-Ft"}]
[null,"DN65",null,12000485,"F-DRY 1500-2000",null,{"$f":"VLOOKUP(D71,Árlista!$B:$F,5,0)","v":"44 900,-Ft"}]
[null,"DN80",null,12000486,"F-DRY 2500-3000",null,{"$f":"VLOOKUP(D72,Árlista!$B:$F,5,0)","v":"46 770,-Ft"}]
[null,"DN100",null,12000487,"F-DRY 3750-5000",null,{"$f":"VLOOKUP(D73,Árlista!$B:$F,5,0)","v":"60 130,-Ft"}]
[null,"DN125",null,12000488,"F-DRY 6500",null,{"$f":"VLOOKUP(D74,Árlista!$B:$F,5,0)","v":"67 340,-Ft"}]

{"sheet":"COM-DRY","index":37,"n_rows":112,"n_cols":31,"rows_kept":112,"cut":false,"hidden":false,"merged":[[18,3,18,4],[19,3,19,4],[20,3,20,4],[12,6,12,11],[15,1,17,1],[15,3,15,4],[15,5,17,5],[15,6,17,6],[15,9,17,9],[15,10,17,10],[16,2,17,2],[16,3,17,4],[16,7,17,7],[16,8,17,8],[20,23,20,27],[32,3,32,4],[22,3,22,4],[22,23,22,27],[23,3,23,4],[24,3,24,4],[25,3,25,4],[26,3,26,4],[27,3,27,4],[28,3,28,4],[29,3,29,4],[30,3,30,4],[31,3,31,4],[21,3,21,4],[21,23,21,27],[46,1,46,5],[33,3,33,4],[34,3,34,4],[35,3,35,4],[36,3,36,4],[37,3,37,4],[38,3,38,4],[39,3,39,4],[40,3,40,4],[41,1,41,12],[44,1,44,5],[45,1,45,5],[47,1,47,5],[49,1,49,3],[49,4,49,9],[49,10,49,13],[51,1,51,2],[51,4,51,7],[63,4,63,7],[52,1,52,8],[53,4,53,7],[54,4,54,7],[55,4,55,7],[56,4,56,7],[57,4,57,7],[58,4,58,7],[59,4,59,7],[60,4,60,7],[61,4,61,7],[62,4,62,7],[75,4,75,7],[64,4,64,7],[65,4,65,7],[66,4,66,7],[67,4,67,7],[68,4,68,7],[69,4,69,7],[70,1,70,8],[71,4,71,7],[72,4,72,7],[73,4,73,7],[74,4,74,7],[87,4,87,7],[76,4,76,7],[77,4,77,7],[78,4,78,7],[79,4,79,7],[80,4,80,7],[81,4,81,7],[82,4,82,7],[83,4,83,7],[84,4,84,7],[85,4,85,7],[86,4,86,7],[97,1,97,2],[88,4,88,7],[89,4,89,7],[90,4,90,7],[91,4,91,7],[92,4,92,7],[93,4,93,7]]}
[null,"COM-DRY series"]
[]
[]
[null,null,null,null,null,null,null,null,null,null,null,null,null,null,null,"INDEX "]
[]
[]
[]
[]
[]
[]
[]
[]
[null,null,null,null,null,null,"INCLUDED\n- pre-filter with automatic drain AOK16B and manometer MDA 60,\n- after-filter with manual drain MCD and manometer MDA 60.\n* Szűrős are not mounted on COM DRY models 1200-6500."]
[]
[null,"COM-DRY SERIES",null,null,null,null,null,null,null,null,null,null,null,"OPERATING PRESSURE - KORREKCIÓS FAKTOR - COP"]
[null,"COM-DRY MODEL","Connection","Nominal volume flow",null,"Adsorption\ndryer","Refrigeration\ndryer","Power","Volume","CODE","Nettó ár\n[HUF]",null,null,"Üzemi nyomás [bar]",2,3,4,5,6,7,8,9,10,11,12,13,14,15,16]
[null,null,"IN/OUT\n[Inch]","Inlet¹\n[Nm³/h]",null,null,null,"\nkW","l",null,null,null,null,"Üzemi nyomás [psi]",29,44,58,72,87,100,115,130,145,160,174,189,203,218,232]
[null,null,null,null,null,null,null,null,null,null,null,null,null,"Korrekciós faktor",0.38,0.5,0.63,0.75,0.88,1,1.1299999999999999,1.25,1.38,1.5,1.63,1.75,1.88,2,2.13]
[null,"COM-DRY 06","G 3/8”",6,null,"A-DRY 06","OMD 20",0.15,2.6,"C12000311",{"$f":"VLOOKUP(J19,Árlista!$B:$F,5,0)","v":"983 000,-Ft (2)"}]
[null,"COM -DRY 12","G 3/8”",12,null,"A-DRY 12","OMD 20",0.15,4.33,"C12000312",{"$f":"VLOOKUP(J20,Árlista!$B:$F,5,0)","v":"1 077 000,-Ft (2)"},null,null,"OPERATING TEMPERATURE - KORREKCIÓS FAKTOR - COT",null,null,null,null,null,null,null,null,null,"DEW POINT - KORREKCIÓS FAKTOR - CD"]
[null,"COM -DRY 24","G 3/8”",24,null,"A-DRY 24","OMD 35",0.16,7.78,"C12000313",{"$f":"VLOOKUP(J21,Árlista!$B:$F,5,0)","v":"1 134 000,-Ft (3)"},null,null,"Inlet temperature  [°C]",25,30,35,40,45,50,55,60,null,"Inlet temperature  [°C]",null,null,null,null,"—25","—40","—70"]
[null,"COM -DRY 36","G 3/8”",36,null,"A-DRY 36","OMD 35",0.16,11.22,"C12000314",{"$f":"VLOOKUP(J22,Árlista!$B:$F,5,0)","v":"1 213 000,-Ft (3)"},null,null,"Inlet temperature  [F]",77,86,95,104,113,122,131,140,null,"Inlet temperature  [F]",null,null,null,null,-13,-40,-94]
[null,"COM -DRY 60","G 1/2”",60,null,"A-DRY 60","OMD 65",0.21,19.91,"C12000315",{"$f":"VLOOKUP(J23,Árlista!$B:$F,5,0)","v":"1 306 000,-Ft (3)"},null,null,"Korrekciós faktor",1,1,1,0.97,0.87,0.8,0.64,0.51,null,"Korrekciós faktor",null,null,null,null,1.1000000000000001,1,0.7]
[null,"COM -DRY 75","G 1/2”",75,null,"A-DRY 75","OMD 100",0.28999999999999998,24.32,"C12000316",{"$f":"VLOOKUP(J24,Árlista!$B:$F,5,0)","v":"1 371 000,-Ft (3)"}]
[null,"COM -DRY 110","G 3/4”",110,null,"B-DRY 110","OMD 135",0.39,20,"C12000403",{"$f":"VLOOKUP(J25,Árlista!$B:$F,5,0)","v":"2 183 000,-Ft (3)"}]
[null,"COM -DRY 150","G 1”",150,null,"B-DRY 150","OMD 175",0.48,25,"C12000404",{"$f":"VLOOKUP(J26,Árlista!$B:$F,5,0)","v":"2 304 000,-Ft (4)"}]
[null,"COM -DRY 200","G 1”",200,null,"B-DRY 200","OMD 235",0.71,36,"C12000405",{"$f":"VLOOKUP(J27,Árlista!$B:$F,5,0)","v":"2 402 000,-Ft (4)"}]
[null,"COM -DRY 250","G 1”",260,null,"B-DRY 250","OMD 280",0.79,45,"C12000406",{"$f":"VLOOKUP(J28,Árlista!$B:$F,5,0)","v":"2 859 000,-Ft (4)"}]
[null,"COM -DRY 300","G 1”",320,null,"B-DRY 300","OMD 330",0.82,57,"C12000407",{"$f":"VLOOKUP(J29,Árlista!$B:$F,5,0)","v":"3 277 000,-Ft (4)"}]
[null,"COM -DRY 400","G 1 ½”",410,null,"B-DRY 400","OMD 410",0.71,70,"C12000408",{"$f":"VLOOKUP(J30,Árlista!$B:$F,5,0)","v":"3 582 000,-Ft (4)"}]
[null,"COM -DRY 600","G 1 ½”",590,null,"B-DRY 600","OMD 710",1.4,102,"C12000409",{"$f":"VLOOKUP(J31,Árlista!$B:$F,5,0)","v":"4 457 000,-Ft (4)"}]
[null,"COM -DRY 800","G 2”",770,null,"B-DRY 800","OMD 920",1.5,134,"C12000410",{"$f":"VLOOKUP(J32,Árlista!$B:$F,5,0)","v":"5 143 000,-Ft (4)"}]
[null,"COM -DRY 1000","G 2”",1000,null,"B-DRY 1000","OMD 1050",2.1,164,"C12000411",{"$f":"VLOOKUP(J33,Árlista!$B:$F,5,0)","v":"5 143 000,-Ft (4)"}]
[null,"COM -DRY 1200","DN50",1200,null,"F-DRY 1200","OMD 1200",2.2999999999999998,225,"C12000432",{"$f":"VLOOKUP(J34,Árlista!$B:$F,5,0)","v":"7 880 000,-Ft (4)"}]
[null,"COM -DRY 1500","DN65",1500,null,"F-DRY 1500","OMD 1900",3.6,280,"C12000388",{"$f":"VLOOKUP(J35,Árlista!$B:$F,5,0)","v":"9 485 000,-Ft (4)"}]
[null,"COM -DRY 2000","DN65",2000,null,"F-DRY 2000","OMD 2200",3.9,295,"C12000389",{"$f":"VLOOKUP(J36,Árlista!$B:$F,5,0)","v":"11 143 000,-Ft (4)"}]
[null,"COM -DRY 2500","DN80",2500,null,"F-DRY 2500","OMD 2600",5.2,470,"C12000390",{"$f":"VLOOKUP(J37,Árlista!$B:$F,5,0)","v":"14 216 000,-Ft (4)"}]
[null,"COM -DRY 3000","DN80",3000,null,"F-DRY 3000","OMD 3350",5.9,570,"C12000391",{"$f":"VLOOKUP(J38,Árlista!$B:$F,5,0)","v":"15 457 000,-Ft (4)"}]
[null,"COM -DRY 3750","DN100",3750,null,"F-DRY 3750","OMD 4400",7.1,660,"C12000392",{"$f":"VLOOKUP(J39,Árlista!$B:$F,5,0)","v":"17 886 000,-Ft (4)"}]
[null,"COM -DRY 5000","DN100",5000,null,"F-DRY 5000","OMD 6600",10.8,980,"C12000393",{"$f":"VLOOKUP(J40,Árlista!$B:$F,5,0)","v":"21 211 000,-Ft (4)"}]
[null,"COM -DRY 6500","DN125",6500,null,"F-DRY 6500","OMD 7200",11.3,1200,"C12000394",{"$f":"VLOOKUP(J41,Árlista!$B:$F,5,0)","v":"25 587 000,-Ft (4)"}]
[null,"(¹) Refers to 1 bar(a) and 20 °C at 7 bar működési nyomás , inlet temperature 35 °C and nyomás dew point at outlet —40 °C\n* If dryer is supplied without inlet filter compressed air class 1 (ISO 8753-1) for solid particles and oil should be provided to the inlet of the dryer.\n\nMEGJEGYZÉS  A megadott nettó árak tájékoztató jellegűek, az utána feltüntett szám az adott termék árkategóriáját jelöli.\n- Standard dew point is —40 °C.\n- Dew points —25 °C and —70 °C on request.\n- Szűrő BETÉT should be changed at least once per year."]
[]
[null,"OPTIONAL EQUIPMENT"]
[null,"EQUIPMENT TYPE",null,null,null,null,"CODE","Nettó ár\n[HUF]"]
[null,"Controller ADC 2.0 (Siemens) for mérets 6-75",null,null,null,null,3401201,{"$f":"VLOOKUP(G46,Árlista!$B:$F,5,0)","v":"263 000,-Ft (2)"}]
[null,"Dew point controller OS 220",null,null,null,null,2505546,{"$f":"VLOOKUP(G47,Árlista!$B:$F,5,0)","v":"311 000,-Ft (2)"}]
[null,"Dew point sensor (OS 220) calibration with certificate",null,null,null,null,4000831,{"$f":"VLOOKUP(G48,Árlista!$B:$F,5,0)","v":"137 510,-Ft"}]
[]
[null,"COM-DRY Service kits\n\nService kit - 24 Monts\nFor models COM-DRY 06-75       \n- Inlet Valve\n- Expansion valve\n- Check valve\n- Sealings\n- Purge nozzle\n- Silencer\n- Packaging\n \nService kit - 48 months\n-  Servis kit - 24 month      \n-  Adsorbent          \n-  Packaging \n \nNote:\n-  Szűrő betéts are not part of Service Kits\n-  Silencer must be changed annually",null,null," \n\n \nFor models COM-DRY 110-1000                \n-  Electromagnetic valve (without coil) \n-  Membrane for inlet and expenion valves on lower control valve block \n-  Membrane for non-return valve \n-  Silencer \n-  Packaging",null,null,null,null,null," \n\n \nFor models COM-DRY 1200-6500             \n- Valve set \n- Nonreturn valve\n- Silencers (different quantity depending on the model)\n- Sealings and other spare parts\n- Packaging"]
[null,"COM-DRY SERIES SERVICE KITS"]
[null,"SERVICE KITS TYPE",null,"CODE","SERVICE KIT INCLUDES",null,null,null,"Nettó ár\n[HUF]"]
[null,"24 month kits"]
[null,"COM-DRY 06/24",null,"C24-12000327","valve, silencers, packaging",null,null,null,{"$f":"VLOOKUP(D54,Árlista!$B:$F,5,0)","v":"111 220,-Ft"}]
[null,"COM-DRY 12/24",null,"C24-12000328","valve, silencers, packaging",null,null,null,{"$f":"VLOOKUP(D55,Árlista!$B:$F,5,0)","v":"111 220,-Ft"}]
[null,"COM-DRY 24/24",null,"C24-12000329","valve, silencers, packaging",null,null,null,{"$f":"VLOOKUP(D56,Árlista!$B:$F,5,0)","v":"111 220,-Ft"}]
[null,"COM-DRY 36/24",null,"C24-12000330","valve, silencers, packaging",null,null,null,{"$f":"VLOOKUP(D57,Árlista!$B:$F,5,0)","v":"111 220,-Ft"}]
[null,"COM-DRY 60/24",null,"C24-12000331","valve, silencers, packaging",null,null,null,{"$f":"VLOOKUP(D58,Árlista!$B:$F,5,0)","v":"122 720,-Ft"}]
[null,"COM-DRY 75/24",null,"C24-12000332","valve, silencers, packaging",null,null,null,{"$f":"VLOOKUP(D59,Árlista!$B:$F,5,0)","v":"122 720,-Ft"}]
[null,"COM-DRY 110-250/24",null,"C24-12000400","valve, silencers, packaging",null,null,null,{"$f":"VLOOKUP(D60,Árlista!$B:$F,5,0)","v":"310 000,-Ft (2)"}]
[null,"COM-DRY 300-600/24",null,"C24-12000401","valve, silencers, packaging",null,null,null,{"$f":"VLOOKUP(D61,Árlista!$B:$F,5,0)","v":"433 000,-Ft (2)"}]
[null,"COM-DRY 800-1000/24",null,"C24-12000402","valve, silencers, packaging",null,null,null,{"$f":"VLOOKUP(D62,Árlista!$B:$F,5,0)","v":"444 000,-Ft (2)"}]
[null,"COM-DRY 1200/24",null,"C24-12000424","valve, silencers, packaging",null,null,null,{"$f":"VLOOKUP(D63,Árlista!$B:$F,5,0)","v":"446 000,-Ft (2)"}]
[null,"COM-DRY 1500/24",null,"C24-12000425","valve, silencers, packaging",null,null,null,{"$f":"VLOOKUP(D64,Árlista!$B:$F,5,0)","v":"540 000,-Ft (2)"}]
[null,"COM-DRY 2000/24",null,"C24-12000426","valve, silencers, packaging",null,null,null,{"$f":"VLOOKUP(D65,Árlista!$B:$F,5,0)","v":"622 000,-Ft (2)"}]
[null,"COM-DRY 2500/24",null,"C24-12000427","valve, silencers, packaging",null,null,null,{"$f":"VLOOKUP(D66,Árlista!$B:$F,5,0)","v":"632 000,-Ft (2)"}]
[null,"COM-DRY 3000/24",null,"C24-12000428","valve, silencers, packaging",null,null,null,{"$f":"VLOOKUP(D67,Árlista!$B:$F,5,0)","v":"669 000,-Ft (2)"}]
[null,"COM-DRY 3750/24",null,"C24-12000429","valve, silencers, packaging",null,null,null,{"$f":"VLOOKUP(D68,Árlista!$B:$F,5,0)","v":"757 000,-Ft (2)"}]
[null,"COM-DRY 5000/24",null,"C24-12000430","valve, silencers, packaging",null,null,null,{"$f":"VLOOKUP(D69,Árlista!$B:$F,5,0)","v":"796 000,-Ft (2)"}]
[null,"COM-DRY 6500/24",null,"C24-12000431","valve, silencers, packaging",null,null,null,{"$f":"VLOOKUP(D70,Árlista!$B:$F,5,0)","v":"989 000,-Ft (2)"}]
[null,"48 month kits"]
[null,"COM-DRY 06/48",null,"C48-12000311","valve, silencers, adsorbent, packaging",null,null,null,{"$f":"VLOOKUP(D72,Árlista!$B:$F,5,0)","v":"147 420,-Ft"}]
[null,"COM-DRY 12/48",null,"C48-12000312","valve, silencers, adsorbent, packaging",null,null,null,{"$f":"VLOOKUP(D73,Árlista!$B:$F,5,0)","v":"163 530,-Ft"}]
[null,"COM-DRY 24/48",null,"C48-12000313","valve, silencers, adsorbent, packaging",null,null,null,{"$f":"VLOOKUP(D74,Árlista!$B:$F,5,0)","v":"195 740,-Ft"}]
[null,"COM-DRY 36/48",null,"C48-12000314","valve, silencers, adsorbent, packaging",null,null,null,{"$f":"VLOOKUP(D75,Árlista!$B:$F,5,0)","v":"224 230,-Ft"}]
[null,"COM-DRY 60/48",null,"C48-12000315","valve, silencers, adsorbent, packaging",null,null,null,{"$f":"VLOOKUP(D76,Árlista!$B:$F,5,0)","v":"270 000,-Ft (2)"}]
[null,"COM-DRY 75/48",null,"C48-12000316","valve, silencers, adsorbent, packaging",null,null,null,{"$f":"VLOOKUP(D77,Árlista!$B:$F,5,0)","v":"299 000,-Ft (2)"}]
[null,"COM-DRY 110/48",null,"C48-12000403","valve, silencers, adsorbent, packaging",null,null,null,{"$f":"VLOOKUP(D78,Árlista!$B:$F,5,0)","v":"425 000,-Ft (2)"}]
[null,"COM-DRY 150/48",null,"C48-12000404","valve, silencers, adsorbent, packaging",null,null,null,{"$f":"VLOOKUP(D79,Árlista!$B:$F,5,0)","v":"455 000,-Ft (2)"}]
[null,"COM-DRY 200/48",null,"C48-12000405","valve, silencers, adsorbent, packaging",null,null,null,{"$f":"VLOOKUP(D80,Árlista!$B:$F,5,0)","v":"501 000,-Ft (2)"}]
[null,"COM-DRY 250/48",null,"C48-12000406","valve, silencers, adsorbent, packaging",null,null,null,{"$f":"VLOOKUP(D81,Árlista!$B:$F,5,0)","v":"546 000,-Ft (2)"}]
[null,"COM-DRY 300/48",null,"C48-12000407","valve, silencers, adsorbent, packaging",null,null,null,{"$f":"VLOOKUP(D82,Árlista!$B:$F,5,0)","v":"728 000,-Ft (2)"}]
[null,"COM-DRY 400/48",null,"C48-12000408","valve, silencers, adsorbent, packaging",null,null,null,{"$f":"VLOOKUP(D83,Árlista!$B:$F,5,0)","v":"794 000,-Ft (2)"}]
[null,"COM-DRY 600/48",null,"C48-12000409","valve, silencers, adsorbent, packaging",null,null,null,{"$f":"VLOOKUP(D84,Árlista!$B:$F,5,0)","v":"944 000,-Ft (2)"}]
[null,"COM-DRY 800/48",null,"C48-12000410","valve, silencers, adsorbent, packaging",null,null,null,{"$f":"VLOOKUP(D85,Árlista!$B:$F,5,0)","v":"1 097 000,-Ft (2)"}]
[null,"COM-DRY 1000/48",null,"C48-12000411","valve, silencers, adsorbent, packaging",null,null,null,{"$f":"VLOOKUP(D86,Árlista!$B:$F,5,0)","v":"1 222 000,-Ft (3)"}]
[null,"COM-DRY 1200/48",null,"C48-12000432","valve, silencers, adsorbent, packaging",null,null,null,{"$f":"VLOOKUP(D87,Árlista!$B:$F,5,0)","v":"1 435 000,-Ft (3)"}]
[null,"COM-DRY 1500/48",null,"C48-12000433","valve, silencers, adsorbent, packaging",null,null,null,{"$f":"VLOOKUP(D88,Árlista!$B:$F,5,0)","v":"1 562 000,-Ft (3)"}]
[null,"COM-DRY 2000/48",null,"C48-12000434","valve, silencers, adsorbent, packaging",null,null,null,{"$f":"VLOOKUP(D89,Árlista!$B:$F,5,0)","v":"1 982 000,-Ft (3)"}]
[null,"COM-DRY 2500/48",null,"C48-12000435","valve, silencers, adsorbent, packaging",null,null,null,{"$f":"VLOOKUP(D90,Árlista!$B:$F,5,0)","v":"2 312 000,-Ft (4)"}]
[null,"COM-DRY 3000/48",null,"C48-12000436","valve, silencers, adsorbent, packaging",null,null,null,{"$f":"VLOOKUP(D91,Árlista!$B:$F,5,0)","v":"2 507 000,-Ft (4)"}]
[null,"COM-DRY 3750/48",null,"C48-12000437","valve, silencers, adsorbent, packaging",null,null,null,{"$f":"VLOOKUP(D92,Árlista!$B:$F,5,0)","v":"3 187 000,-Ft (4)"}]
[null,"COM-DRY 5000/48",null,"C48-12000438","valve, silencers, adsorbent, packaging",null,null,null,{"$f":"VLOOKUP(D93,Árlista!$B:$F,5,0)","v":"3 639 000,-Ft (4)"}]
[null,"COM-DRY 6500/48",null,"C48-12000439","valve, silencers, adsorbent, packaging",null,null,null,{"$f":"VLOOKUP(D94,Árlista!$B:$F,5,0)","v":"5 519 000,-Ft (4)"}]
[]
[]
[null,"SILENCERS"]
[null,"SILENCER TYPE",null,"CODE","Nettó ár\n[HUF]"]
[null,"SILENCER for A-DRY 06-36   ",null,12000350,{"$f":"VLOOKUP(D99,Árlista!$B:$F,5,0)","v":"3 620,-Ft"}]
[null,"SILENCER for A-DRY 60-105",null,12000351,{"$f":"VLOOKUP(D100,Árlista!$B:$F,5,0)","v":"8 170,-Ft"}]
[null,"SILENCER for A-DRY 150-200",null,12000371,{"$f":"VLOOKUP(D101,Árlista!$B:$F,5,0)","v":"10 250,-Ft"}]
[null,"SILENCER for B-DRY 110-250  ",null,12000353,{"$f":"VLOOKUP(D102,Árlista!$B:$F,5,0)","v":"55 990,-Ft"}]
[null,"SILENCER for B-DRY 300-600  ",null,12000354,{"$f":"VLOOKUP(D103,Árlista!$B:$F,5,0)","v":"90 250,-Ft"}]
[null,"SILENCER for B-DRY 800-1000",null,12000355,{"$f":"VLOOKUP(D104,Árlista!$B:$F,5,0)","v":"105 080,-Ft"}]
[null,"SILENCER for F-Dry 1200",null,12000395,{"$f":"VLOOKUP(D105,Árlista!$B:$F,5,0)","v":"52 540,-Ft"}]
[null,"SILENCER for F-Dry 1500",null,12000396,{"$f":"VLOOKUP(D106,Árlista!$B:$F,5,0)","v":"105 080,-Ft"}]
[null,"SILENCER for F-Dry 2000",null,12000397,{"$f":"VLOOKUP(D107,Árlista!$B:$F,5,0)","v":"105 080,-Ft"}]
[null,"SILENCER for F-Dry 2500",null,12000398,{"$f":"VLOOKUP(D108,Árlista!$B:$F,5,0)","v":"152 750,-Ft"}]
[null,"SILENCER for F-DRY 3000",null,12000399,{"$f":"VLOOKUP(D109,Árlista!$B:$F,5,0)","v":"203 670,-Ft"}]
[null,"SILENCER for F-DRY 3750",null,12000440,{"$f":"VLOOKUP(D110,Árlista!$B:$F,5,0)","v":"203 670,-Ft"}]
[null,"SILENCER for F-DRY 5000",null,12000441,{"$f":"VLOOKUP(D111,Árlista!$B:$F,5,0)","v":"246 000,-Ft (2)"}]
[null,"SILENCER for F-DRY 6500",null,12000442,{"$f":"VLOOKUP(D112,Árlista!$B:$F,5,0)","v":"296 000,-Ft (2)"}]

{"sheet":"R-DRY","index":38,"n_rows":101,"n_cols":25,"rows_kept":101,"cut":false,"hidden":false,"merged":[[12,6,12,11],[15,1,17,1],[15,3,15,4],[15,5,15,7],[15,9,17,9],[15,10,17,10],[15,11,17,11],[15,12,17,12],[16,2,17,2],[16,3,17,4],[16,5,17,5],[16,6,17,6],[16,7,17,7],[16,8,17,8],[18,3,18,4],[19,3,19,4],[20,3,20,4],[20,24,20,28],[21,3,21,4],[21,24,21,28],[32,3,32,4],[22,3,22,4],[22,24,22,28],[23,3,23,4],[24,3,24,4],[25,3,25,4],[26,3,26,4],[27,3,27,4],[28,3,28,4],[29,3,29,4],[30,3,30,4],[31,3,31,4],[45,10,45,13],[33,3,33,4],[34,3,34,4],[35,3,35,4],[36,3,36,4],[37,3,37,4],[38,1,38,12],[51,4,51,7],[41,1,41,5],[42,1,42,5],[43,1,43,5],[45,1,45,3],[45,4,45,9],[47,1,47,2],[47,4,47,7],[48,1,48,8],[49,4,49,7],[50,4,50,7],[63,4,63,7],[52,4,52,7],[53,4,53,7],[54,4,54,7],[55,4,55,7],[56,4,56,7],[57,4,57,7],[58,4,58,7],[59,4,59,7],[60,4,60,7],[61,4,61,7],[62,4,62,7],[75,4,75,7],[64,4,64,7],[65,4,65,7],[66,4,66,7],[67,4,67,7],[68,4,68,7],[69,1,69,8],[70,4,70,7],[71,4,71,7],[72,4,72,7],[73,4,73,7],[74,4,74,7],[87,4,87,7],[76,4,76,7],[77,4,77,7],[78,4,78,7],[79,4,79,7],[80,4,80,7],[81,4,81,7],[82,4,82,7],[83,4,83,7],[84,4,84,7],[85,4,85,7],[86,4,86,7],[97,1,97,2],[98,1,98,2],[99,1,99,2],[100,1,100,2],[88,4,88,7],[89,4,89,7],[93,1,93,2],[94,1,94,2],[95,1,95,2],[96,1,96,2]]}
[null,"COM-DRY series"]
[]
[]
[null,null,null,null,null,null,null,null,null,null,null,null,null,null,null,"INDEX "]
[]
[]
[]
[]
[]
[]
[]
[]
[null,null,null,null,null,null,"INCLUDED\n- pre-filter* with automatic drain AOK16B and manometer MDA 60,\n- after-filter* with manual drain MCD and manometer MDA 60.\n\n*Szűrős are not mounted."]
[]
[null,"R-DRY SERIES",null,null,null,null,null,null,null,null,null,null,null,null,"OPERATING PRESSURE - KORREKCIÓS FAKTOR - COP"]
[null,"R-DRY\nMODEL","Connection","Nominal volume flow",null,"Méretek",null,null,"Tömeg","CODE","Nettó ár\nWithout insulation\n[HUF]","CODE","Nettó ár\nInsulation\n[HUF]",null,"Üzemi nyomás [bar]",2,3,4,5,6,7,8,9,10,11]
[null,null,"IN/OUT\n[DN]","Inlet¹\n[Nm³/h]",null,"A \n[mm]","B\n[mm]","C\n [mm]","kg",null,null,null,null,null,"Üzemi nyomás [psi]",29,44,58,72,87,100,115,130,145,160]
[null,null,null,null,null,null,null,null,null,null,null,null,null,null,"Korrekciós faktor",0.38,0.5,0.63,0.75,0.88,1,1.1299999999999999,1.25,1.38,1.5]
[null,"R-DRY 400","DN50",390,null,1200,1000,2250,1000,"R12000498",{"$f":"VLOOKUP(J19,Árlista!$B:$F,5,0)","v":"8 863 000,-Ft (4)"},"R3401683",{"$f":"VLOOKUP(L19,Árlista!$B:$F,5,0)","v":"828 000,-Ft (2)"}]
[null,"R-DRY 600","DN50",590,null,1300,1100,2350,1400,"R12000499",{"$f":"VLOOKUP(J20,Árlista!$B:$F,5,0)","v":"9 603 000,-Ft (4)"},"R3401684",{"$f":"VLOOKUP(L20,Árlista!$B:$F,5,0)","v":"863 000,-Ft (2)"},null,"OPERATING TEMPERATURE - KORREKCIÓS FAKTOR - COT"]
[null,"R-DRY 780","DN50",780,null,1300,1100,2350,1800,"R12000500",{"$f":"VLOOKUP(J21,Árlista!$B:$F,5,0)","v":"10 317 000,-Ft (4)"},"R3401685",{"$f":"VLOOKUP(L21,Árlista!$B:$F,5,0)","v":"889 000,-Ft (2)"},null,"Inlet temperature  [°C]",25,30,35,40,42.5,45,50]
[null,"R-DRY 1000","DN50",930,null,1450,1250,2600,1900,"R12000501",{"$f":"VLOOKUP(J22,Árlista!$B:$F,5,0)","v":"11 417 000,-Ft (4)"},"R3401686",{"$f":"VLOOKUP(L22,Árlista!$B:$F,5,0)","v":"907 000,-Ft (2)"},null,"Inlet temperature  [F]",77,86,95,104,108]
[null,"R-DRY 1200","DN80",1150,null,1450,1250,2700,2200,"R12000502",{"$f":"VLOOKUP(J23,Árlista!$B:$F,5,0)","v":"12 580 000,-Ft (4)"},"R3401687",{"$f":"VLOOKUP(L23,Árlista!$B:$F,5,0)","v":"932 000,-Ft (2)"},null,"Korrekciós faktor",1,1,1,0.7,0.52,"*","*"]
[null,"R-DRY 1600","DN80",1600,null,1550,1350,2750,2600,"R12000503",{"$f":"VLOOKUP(J24,Árlista!$B:$F,5,0)","v":"13 835 000,-Ft (4)"},"R3401688",{"$f":"VLOOKUP(L24,Árlista!$B:$F,5,0)","v":"1 127 000,-Ft (3)"}]
[null,"R-DRY 2000","DN100",1950,null,1600,1450,2800,3400,"R12000504",{"$f":"VLOOKUP(J25,Árlista!$B:$F,5,0)","v":"15 571 000,-Ft (4)"},"R3401689",{"$f":"VLOOKUP(L25,Árlista!$B:$F,5,0)","v":"1 141 000,-Ft (3)"}]
[null,"R-DRY 2500","DN100",2530,null,2050,1500,2900,3800,"R12000505",{"$f":"VLOOKUP(J26,Árlista!$B:$F,5,0)","v":"17 341 000,-Ft (4)"},"R3401690",{"$f":"VLOOKUP(L26,Árlista!$B:$F,5,0)","v":"1 157 000,-Ft (3)"}]
[null,"R-DRY 3000","DN100",2990,null,2050,1550,2950,5000,"R12000506",{"$f":"VLOOKUP(J27,Árlista!$B:$F,5,0)","v":"18 361 000,-Ft (4)"},"R3401691",{"$f":"VLOOKUP(L27,Árlista!$B:$F,5,0)","v":"1 177 000,-Ft (3)"}]
[null,"R-DRY 3600","DN100",3680,null,2150,1600,3000,5800,"R12000507",{"$f":"VLOOKUP(J28,Árlista!$B:$F,5,0)","v":"21 172 000,-Ft (4)"},"R3401692",{"$f":"VLOOKUP(L28,Árlista!$B:$F,5,0)","v":"1 195 000,-Ft (3)"}]
[null,"R-DRY 4100","DN125",4100,null,2350,1600,3250,7000,"R12000508",{"$f":"VLOOKUP(J29,Árlista!$B:$F,5,0)","v":"24 623 000,-Ft (4)"},"R3401693",{"$f":"VLOOKUP(L29,Árlista!$B:$F,5,0)","v":"1 282 000,-Ft (3)"}]
[null,"R-DRY 5000","DN125",4990,null,2500,1750,3250,8200,"R12000509",{"$f":"VLOOKUP(J30,Árlista!$B:$F,5,0)","v":"27 994 000,-Ft (4)"},"R3401694",{"$f":"VLOOKUP(L30,Árlista!$B:$F,5,0)","v":"1 322 000,-Ft (3)"}]
[null,"R-DRY 6500","DN150",6550,null,2600,2000,3500,10200,"R12000510",{"$f":"VLOOKUP(J31,Árlista!$B:$F,5,0)","v":"31 333 000,-Ft (4)"},"R3401695",{"$f":"VLOOKUP(L31,Árlista!$B:$F,5,0)","v":"1 573 000,-Ft (3)"}]
[null,"R-DRY 7700","DN150",7700,null,2900,2000,3600,12000,"R12000511",{"$f":"VLOOKUP(J32,Árlista!$B:$F,5,0)","v":"32 487 000,-Ft (4)"},"R3401696",{"$f":"VLOOKUP(L32,Árlista!$B:$F,5,0)","v":"1 600 000,-Ft (3)"}]
[null,"R-DRY 10000","DN200",10250,null,3200,2200,3600,14400,"R12000512",{"$f":"VLOOKUP(J33,Árlista!$B:$F,5,0)","v":"41 437 000,-Ft (4)"},"R3401697",{"$f":"VLOOKUP(L33,Árlista!$B:$F,5,0)","v":"1 730 000,-Ft (3)"}]
[null,"R-DRY 12000","DN200",11700,null,4200,2500,3700,16000,"R12000513",{"$f":"VLOOKUP(J34,Árlista!$B:$F,5,0)","v":"50 522 000,-Ft (4)"},"R3401698",{"$f":"VLOOKUP(L34,Árlista!$B:$F,5,0)","v":"1 762 000,-Ft (3)"}]
[null,"R-DRY 14000","DN200",14800,null,4500,2600,3750,16800,"R12000514",{"$f":"VLOOKUP(J35,Árlista!$B:$F,5,0)","v":"58 028 000,-Ft (4)"},"R3401699",{"$f":"VLOOKUP(L35,Árlista!$B:$F,5,0)","v":"2 085 000,-Ft (3)"}]
[null,"R-DRY 16000","DN250",16000,null,5500,3200,3750,18500,"R12000515",{"$f":"VLOOKUP(J36,Árlista!$B:$F,5,0)","v":"69 185 000,-Ft (4)"},"R3401700",{"$f":"VLOOKUP(L36,Árlista!$B:$F,5,0)","v":"2 134 000,-Ft (3)"}]
[null,"R-DRY 18000","DN250",18200,null,6000,3500,3750,20000,"R12000516",{"$f":"VLOOKUP(J37,Árlista!$B:$F,5,0)","v":"73 868 000,-Ft (4)"},"R3401701",{"$f":"VLOOKUP(L37,Árlista!$B:$F,5,0)","v":"2 215 000,-Ft (3)"}]
[null,"R-DRY 20000","DN250",20200,null,6000,3800,3750,23000,"R12000517",{"$f":"VLOOKUP(J38,Árlista!$B:$F,5,0)","v":"81 777 000,-Ft (4)"},"R3401702",{"$f":"VLOOKUP(L38,Árlista!$B:$F,5,0)","v":"2 201 000,-Ft (4)"}]
[null,"(¹) Refers to 1 bar(a) and 20 °C at 7 bar működési nyomás , inlet temperature 35 °C and nyomás dew point at outlet —40 °C\n* If dryer is supplied without inlet filter compressed air class 1 (ISO 8753-1) for solid particles and oil should be provided to the inlet of the dryer.\n\nMEGJEGYZÉS  A megadott nettó árak tájékoztató jellegűek, az utána feltüntett szám az adott termék árkategóriáját jelöli.\n- Standard dew point is —40 °C.\n- Dew points —25 °C and —70 °C on request.\n- Szűrő BETÉT should be changed at least once per year."]
[]
[null,"OPTIONAL EQUIPMENT"]
[null,"EQUIPMENT TYPE",null,null,null,null,"CODE","Nettó ár\n[HUF]"]
[null,"Dew point controller OS 220",null,null,null,null,2505546,{"$f":"VLOOKUP(G43,Árlista!$B:$F,5,0)","v":"311 000,-Ft (2)"}]
[null,"Dew point sensor (OS 220) calibration with certificate",null,null,null,null,4000831,{"$f":"VLOOKUP(G44,Árlista!$B:$F,5,0)","v":"137 510,-Ft"}]
[]
[null,"R-DRY Service kits\n\nService kit - 24 Monts\n- Valve set \n- Nonreturn valve \n- Silencers\n- Sealings and other spare parts\n- Packaging\n \nService kit - 48 months\n-  Service kit - 24 months\n-  Adsorbent\n-  Packaging \n \nNote:\n-  Szűrő betéts are not part of Service Kits\n-  Silencer must be changed annually"]
[null,"COM-DRY SERIES SERVICE KITS"]
[null,"SERVICE KITS TYPE",null,"CODE","SERVICE KIT INCLUDES",null,null,null,"Nettó ár\n[HUF]"]
[null,"24 month kits"]
[null,"R-DRY 400/24",null,"R12000443","valve, silencers, packaging",null,null,null,{"$f":"VLOOKUP(D50,Árlista!$B:$F,5,0)","v":"700 000,-Ft (2)"}]
[null,"R-DRY 600/24",null,"R12000444","valve, silencers, packaging",null,null,null,{"$f":"VLOOKUP(D51,Árlista!$B:$F,5,0)","v":"706 000,-Ft (2)"}]
[null,"R-DRY 780/24",null,"R12000445","valve, silencers, packaging",null,null,null,{"$f":"VLOOKUP(D52,Árlista!$B:$F,5,0)","v":"710 000,-Ft (2)"}]
[null,"R-DRY 1000/24",null,"R12000446","valve, silencers, packaging",null,null,null,{"$f":"VLOOKUP(D53,Árlista!$B:$F,5,0)","v":"977 000,-Ft (2)"}]
[null,"R-DRY 1200/24",null,"R12000447","valve, silencers, packaging",null,null,null,{"$f":"VLOOKUP(D54,Árlista!$B:$F,5,0)","v":"985 000,-Ft (2)"}]
[null,"R-DRY 1600/24",null,"R12000448","valve, silencers, packaging",null,null,null,{"$f":"VLOOKUP(D55,Árlista!$B:$F,5,0)","v":"989 000,-Ft (2)"}]
[null,"R-DRY 2000/24",null,"R12000449","valve, silencers, packaging",null,null,null,{"$f":"VLOOKUP(D56,Árlista!$B:$F,5,0)","v":"1 123 000,-Ft (2)"}]
[null,"R-DRY 2500/24",null,"R12000450","valve, silencers, packaging",null,null,null,{"$f":"VLOOKUP(D57,Árlista!$B:$F,5,0)","v":"1 143 000,-Ft (2)"}]
[null,"R-DRY 3000/24",null,"R12000451","valve, silencers, packaging",null,null,null,{"$f":"VLOOKUP(D58,Árlista!$B:$F,5,0)","v":"1 149 000,-Ft (2)"}]
[null,"R-DRY 3600/24",null,"R12000452","valve, silencers, packaging",null,null,null,{"$f":"VLOOKUP(D59,Árlista!$B:$F,5,0)","v":"1 155 000,-Ft (2)"}]
[null,"R-DRY 4100/24",null,"R12000453","valve, silencers, packaging",null,null,null,{"$f":"VLOOKUP(D60,Árlista!$B:$F,5,0)","v":"1 344 000,-Ft (3)"}]
[null,"R-DRY 5000/24",null,"R12000454","valve, silencers, packaging",null,null,null,{"$f":"VLOOKUP(D61,Árlista!$B:$F,5,0)","v":"1 350 000,-Ft (3)"}]
[null,"R-DRY 6500/24",null,"R12000455","valve, silencers, packaging",null,null,null,{"$f":"VLOOKUP(D62,Árlista!$B:$F,5,0)","v":"1 603 000,-Ft (3)"}]
[null,"R-DRY 7700/24",null,"R12000456","valve, silencers, packaging",null,null,null,{"$f":"VLOOKUP(D63,Árlista!$B:$F,5,0)","v":"1 609 000,-Ft (3)"}]
[null,"R-DRY 10000/24",null,"R12000457","valve, silencers, packaging",null,null,null,{"$f":"VLOOKUP(D64,Árlista!$B:$F,5,0)","v":"2 229 000,-Ft (3)"}]
[null,"R-DRY 12000/24",null,"R12000458","valve, silencers, packaging",null,null,null,{"$f":"VLOOKUP(D65,Árlista!$B:$F,5,0)","v":"2 231 000,-Ft (3)"}]
[null,"R-DRY 14000/24",null,"R12000459","valve, silencers, packaging",null,null,null,{"$f":"VLOOKUP(D66,Árlista!$B:$F,5,0)","v":"2 235 000,-Ft (3)"}]
[null,"R-DRY 16000/24",null,"R12000460","valve, silencers, packaging",null,null,null,{"$f":"VLOOKUP(D67,Árlista!$B:$F,5,0)","v":"3 125 000,-Ft (4)"}]
[null,"R-DRY 18000/24",null,"R12000461","valve, silencers, packaging",null,null,null,{"$f":"VLOOKUP(D68,Árlista!$B:$F,5,0)","v":"3 134 000,-Ft (4)"}]
[null,"R-DRY 20000/24",null,"R12000462","valve, silencers, packaging",null,null,null,{"$f":"VLOOKUP(D69,Árlista!$B:$F,5,0)","v":"3 146 000,-Ft (4)"}]
[null,"48 month kits"]
[null,"R-DRY 400/48",null,"R12000463","valve, silencers, adsorbent, packaging",null,null,null,{"$f":"VLOOKUP(D71,Árlista!$B:$F,5,0)","v":"1 138 000,-Ft (2)"}]
[null,"R-DRY 600/48",null,"R12000464","valve, silencers, adsorbent, packaging",null,null,null,{"$f":"VLOOKUP(D72,Árlista!$B:$F,5,0)","v":"1 314 000,-Ft (3)"}]
[null,"R-DRY 780/48",null,"R12000465","valve, silencers, adsorbent, packaging",null,null,null,{"$f":"VLOOKUP(D73,Árlista!$B:$F,5,0)","v":"1 487 000,-Ft (3)"}]
[null,"R-DRY 1000/48",null,"R12000466","valve, silencers, adsorbent, packaging",null,null,null,{"$f":"VLOOKUP(D74,Árlista!$B:$F,5,0)","v":"1 917 000,-Ft (3)"}]
[null,"R-DRY 1200/48",null,"R12000467","valve, silencers, adsorbent, packaging",null,null,null,{"$f":"VLOOKUP(D75,Árlista!$B:$F,5,0)","v":"2 206 000,-Ft (3)"}]
[null,"R-DRY 1600/48",null,"R12000468","valve, silencers, adsorbent, packaging",null,null,null,{"$f":"VLOOKUP(D76,Árlista!$B:$F,5,0)","v":"2 563 000,-Ft (4)"}]
[null,"R-DRY 2000/48",null,"R12000469","valve, silencers, adsorbent, packaging",null,null,null,{"$f":"VLOOKUP(D77,Árlista!$B:$F,5,0)","v":"3 021 000,-Ft (4)"}]
[null,"R-DRY 2500/48",null,"R12000470","valve, silencers, adsorbent, packaging",null,null,null,{"$f":"VLOOKUP(D78,Árlista!$B:$F,5,0)","v":"3 445 000,-Ft (4)"}]
[null,"R-DRY 3000/48",null,"R12000471","valve, silencers, adsorbent, packaging",null,null,null,{"$f":"VLOOKUP(D79,Árlista!$B:$F,5,0)","v":"3 888 000,-Ft (4)"}]
[null,"R-DRY 3600/48",null,"R12000472","valve, silencers, adsorbent, packaging",null,null,null,{"$f":"VLOOKUP(D80,Árlista!$B:$F,5,0)","v":"4 406 000,-Ft (4)"}]
[null,"R-DRY 4100/48",null,"R12000473","valve, silencers, adsorbent, packaging",null,null,null,{"$f":"VLOOKUP(D81,Árlista!$B:$F,5,0)","v":"5 077 000,-Ft (4)"}]
[null,"R-DRY 5000/48",null,"R12000474","valve, silencers, adsorbent, packaging",null,null,null,{"$f":"VLOOKUP(D82,Árlista!$B:$F,5,0)","v":"5 948 000,-Ft (4)"}]
[null,"R-DRY 6500/48",null,"R12000475","valve, silencers, adsorbent, packaging",null,null,null,{"$f":"VLOOKUP(D83,Árlista!$B:$F,5,0)","v":"7 684 000,-Ft (4)"}]
[null,"R-DRY 7700/48",null,"R12000476","valve, silencers, adsorbent, packaging",null,null,null,{"$f":"VLOOKUP(D84,Árlista!$B:$F,5,0)","v":"8 750 000,-Ft (4)"}]
[null,"R-DRY 10000/48",null,"R12000477","valve, silencers, adsorbent, packaging",null,null,null,{"$f":"VLOOKUP(D85,Árlista!$B:$F,5,0)","v":"11 425 000,-Ft (4)"}]
[null,"R-DRY 12000/48",null,"R12000478","valve, silencers, adsorbent, packaging",null,null,null,{"$f":"VLOOKUP(D86,Árlista!$B:$F,5,0)","v":"12 949 000,-Ft (4)"}]
[null,"R-DRY 14000/48",null,"R12000479","valve, silencers, adsorbent, packaging",null,null,null,{"$f":"VLOOKUP(D87,Árlista!$B:$F,5,0)","v":"15 954 000,-Ft (4)"}]
[null,"R-DRY 16000/48",null,"R12000480","valve, silencers, adsorbent, packaging",null,null,null,{"$f":"VLOOKUP(D88,Árlista!$B:$F,5,0)","v":"18 490 000,-Ft (4)"}]
[null,"R-DRY 18000/48",null,"R12000481","valve, silencers, adsorbent, packaging",null,null,null,{"$f":"VLOOKUP(D89,Árlista!$B:$F,5,0)","v":"20 044 000,-Ft (4)"}]
[null,"R-DRY 20000/48",null,"R12000482","valve, silencers, adsorbent, packaging",null,null,null,{"$f":"VLOOKUP(D90,Árlista!$B:$F,5,0)","v":"22 778 000,-Ft (4)"}]
[]
[]
[null,"START-UP DEVICES"]
[null,"START-UP DEVICES TYPE",null,"CODE","For device","Nettó ár\n[HUF]"]
[null,"DN50",null,12000484,"R-DRY 400-780",{"$f":"VLOOKUP(D95,Árlista!$B:$F,5,0)","v":"43 040,-Ft"}]
[null,"DN80",null,12000486,"R-DRY 1000-1600",{"$f":"VLOOKUP(D96,Árlista!$B:$F,5,0)","v":"46 770,-Ft"}]
[null,"DN100",null,12000487,"R-DRY 2000-3600",{"$f":"VLOOKUP(D97,Árlista!$B:$F,5,0)","v":"60 130,-Ft"}]
[null,"DN125",null,12000488,"R-DRY 4100-5000",{"$f":"VLOOKUP(D98,Árlista!$B:$F,5,0)","v":"67 340,-Ft"}]
[null,"DN150",null,12000489,"R-DRY 6500-7700",{"$f":"VLOOKUP(D99,Árlista!$B:$F,5,0)","v":"84 820,-Ft"}]
[null,"DN200",null,12000490,"R-DRY 10000-14000",{"$f":"VLOOKUP(D100,Árlista!$B:$F,5,0)","v":"132 540,-Ft"}]
[null,"DN250",null,12000491,"R-DRY 16000-20000",{"$f":"VLOOKUP(D101,Árlista!$B:$F,5,0)","v":"201 730,-Ft"}]

{"sheet":"HP-DRY","index":39,"n_rows":72,"n_cols":16,"rows_kept":72,"cut":false,"hidden":false,"merged":[[23,3,23,4],[12,7,12,12],[15,1,17,1],[15,3,15,4],[15,5,17,5],[15,6,17,6],[16,2,17,2],[16,3,17,4],[18,3,18,4],[19,3,19,4],[20,3,20,4],[21,3,21,4],[22,3,22,4],[24,3,24,4],[27,1,29,1],[27,3,27,4],[27,5,29,5],[27,6,29,6],[28,2,29,2],[28,3,29,4],[40,6,42,6],[41,2,42,2],[41,3,42,4],[30,3,30,4],[31,3,31,4],[32,3,32,4],[33,3,33,4],[34,3,34,4],[35,3,35,4],[36,3,36,4],[37,3,37,4],[40,1,42,1],[40,3,40,4],[40,5,42,5],[56,1,58,1],[56,3,56,4],[43,3,43,4],[44,3,44,4],[45,3,45,4],[46,3,46,4],[47,3,47,4],[48,3,48,4],[56,5,58,5],[49,3,49,4],[50,3,50,4],[51,3,51,4],[52,3,52,4],[53,3,53,4],[56,6,58,6],[57,2,58,2],[57,3,58,4],[59,3,59,4],[67,3,67,4],[60,3,60,4],[68,3,68,4],[69,3,69,4],[71,1,71,12],[61,3,61,4],[62,3,62,4],[63,3,63,4],[64,3,64,4],[65,3,65,4],[66,3,66,4]]}
[null,"HP-DRY series"]
[]
[]
[null,null,null,null,null,null,null,null,null,null,null,null,null,null,null,"INDEX "]
[]
[]
[]
[]
[]
[]
[]
[]
[]
[]
[null,"HP-DRY SERIES - 50 bar version",null,null,null,null,null,null,"OPERATING PRESSURE - KORREKCIÓS FAKTOR - COP"]
[null,"HP-DRY\nMODEL","Connection","Nominal volume flow",null,"CODE","Nettó ár\n[HUF]",null,"Üzemi nyomás [bar]",20,30,35,40,45,50]
[null,null,"IN/OUT\n[inch]","Inlet¹\n[Nm³/h]",null,null,null,null,"Korrekciós faktor",0.41,0.61,0.71,0.81,0.9,1]
[]
[null,"HP-DRY 050 PN50","G 3/8''",50,null,"H12000518",{"$f":"VLOOKUP(F19,Árlista!$B:$F,5,0)","v":"2 453 000,-Ft (4)"}]
[null,"HP-DRY 100 PN50","G 3/8''",100,null,"H12000519",{"$f":"VLOOKUP(F20,Árlista!$B:$F,5,0)","v":"2 610 000,-Ft (4)"}]
[null,"HP-DRY 150 PN50","G 3/8''",150,null,"H12000520",{"$f":"VLOOKUP(F21,Árlista!$B:$F,5,0)","v":"2 722 000,-Ft (4)"}]
[null,"HP-DRY 250 PN50","G 3/8''",250,null,"H12000521",{"$f":"VLOOKUP(F22,Árlista!$B:$F,5,0)","v":"3 349 000,-Ft (4)"}]
[null,"HP-DRY 350 PN50","G 1/2''",350,null,"H12000522",{"$f":"VLOOKUP(F23,Árlista!$B:$F,5,0)","v":"3 876 000,-Ft (4)"}]
[null,"HP-DRY 500 PN50","G 1/2''",500,null,"H12000523",{"$f":"VLOOKUP(F24,Árlista!$B:$F,5,0)","v":"4 425 000,-Ft (4)"}]
[null,"HP-DRY 650 PN50","G 1/2''",650,null,"H12000524",{"$f":"VLOOKUP(F25,Árlista!$B:$F,5,0)","v":"5 489 000,-Ft (4)"}]
[]
[null,"HP-DRY SERIES - 100 bar version",null,null,null,null,null,null,"OPERATING PRESSURE - KORREKCIÓS FAKTOR - COP"]
[null,"HP-DRY\nMODEL","Connection","Nominal volume flow",null,"CODE","Nettó ár\n[HUF]",null,"Üzemi nyomás [bar]",50,60,70,80,90,100]
[null,null,"IN/OUT\n[inch]","Inlet¹\n[Nm³/h]",null,null,null,null,"Korrekciós faktor",0.5,0.6,0.7,0.8,0.9,1]
[]
[null,"HP-DRY 050 PN100","G 3/8''",50,null,"H12000525",{"$f":"VLOOKUP(F31,Árlista!$B:$F,5,0)","v":"4 078 000,-Ft (4)"}]
[null,"HP-DRY 100 PN100","G 3/8''",100,null,"H12000526",{"$f":"VLOOKUP(F32,Árlista!$B:$F,5,0)","v":"4 313 000,-Ft (4)"}]
[null,"HP-DRY 150 PN100","G 3/8''",150,null,"H12000527",{"$f":"VLOOKUP(F33,Árlista!$B:$F,5,0)","v":"4 974 000,-Ft (4)"}]
[null,"HP-DRY 250 PN100","G 3/8''",250,null,"H12000528",{"$f":"VLOOKUP(F34,Árlista!$B:$F,5,0)","v":"5 523 000,-Ft (4)"}]
[null,"HP-DRY 350 PN100","G 1/2''",350,null,"H12000529",{"$f":"VLOOKUP(F35,Árlista!$B:$F,5,0)","v":"6 374 000,-Ft (4)"}]
[null,"HP-DRY 500 PN100","G 1/2''",500,null,"H12000530",{"$f":"VLOOKUP(F36,Árlista!$B:$F,5,0)","v":"7 013 000,-Ft (4)"}]
[null,"HP-DRY 650 PN100","G 1/2''",650,null,"H12000531",{"$f":"VLOOKUP(F37,Árlista!$B:$F,5,0)","v":"7 588 000,-Ft (4)"}]
[null,"HP-DRY 800 PN100","G 1/2''",800,null,"H12000532",{"$f":"VLOOKUP(F38,Árlista!$B:$F,5,0)","v":"8 491 000,-Ft (4)"}]
[]
[null,"HP-DRY SERIES - 250 bar version",null,null,null,null,null,null,"OPERATING PRESSURE - KORREKCIÓS FAKTOR - COP"]
[null,"HP-DRY\nMODEL","Connection","Nominal volume flow",null,"CODE","Nettó ár\n[HUF]",null,"Üzemi nyomás [bar]",110,130,160,190,220,250]
[null,null,"IN/OUT\n[inch]","Inlet¹\n[Nm³/h]",null,null,null,null,"Korrekciós faktor",0.44,0.52,0.64,0.76,0.88,1]
[]
[null,"HP-DRY 050 PN250","G 3/8''",50,null,"H12000533",{"$f":"VLOOKUP(F44,Árlista!$B:$F,5,0)","v":"4 761 000,-Ft (4)"}]
[null,"HP-DRY 100 PN250","G 3/8''",100,null,"H12000534",{"$f":"VLOOKUP(F45,Árlista!$B:$F,5,0)","v":"5 041 000,-Ft (4)"}]
[null,"HP-DRY 150 PN250","G 3/8''",150,null,"H12000535",{"$f":"VLOOKUP(F46,Árlista!$B:$F,5,0)","v":"5 243 000,-Ft (4)"}]
[null,"HP-DRY 250 PN250","G 3/8''",250,null,"H12000536",{"$f":"VLOOKUP(F47,Árlista!$B:$F,5,0)","v":"5 870 000,-Ft (4)"}]
[null,"HP-DRY 350 PN250","G 1/2''",350,null,"H12000537",{"$f":"VLOOKUP(F48,Árlista!$B:$F,5,0)","v":"6 520 000,-Ft (4)"}]
[null,"HP-DRY 500 PN250","G 1/2''",500,null,"H12000538",{"$f":"VLOOKUP(F49,Árlista!$B:$F,5,0)","v":"7 138 000,-Ft (4)"}]
[null,"HP-DRY 650 PN250","G 1/2''",650,null,"H12000539",{"$f":"VLOOKUP(F50,Árlista!$B:$F,5,0)","v":"7 877 000,-Ft (4)"}]
[null,"HP-DRY 800 PN250","G 1/2''",800,null,"H12000540",{"$f":"VLOOKUP(F51,Árlista!$B:$F,5,0)","v":"8 816 000,-Ft (4)"}]
[null,"HP-DRY 1000 PN250","G 1/2''",1000,null,"H12000541",{"$f":"VLOOKUP(F52,Árlista!$B:$F,5,0)","v":"9 334 000,-Ft (4)"}]
[null,"HP-DRY 1200 PN250","G 1/2''",1200,null,"H12000542",{"$f":"VLOOKUP(F53,Árlista!$B:$F,5,0)","v":"9 600 000,-Ft (4)"}]
[null,"HP-DRY 1400 PN250","G 1/2''",1400,null,"H12000543",{"$f":"VLOOKUP(F54,Árlista!$B:$F,5,0)","v":"9 970 000,-Ft (4)"}]
[]
[null,"HP-DRY SERIES - 400 bar version",null,null,null,null,null,null,"OPERATING PRESSURE - KORREKCIÓS FAKTOR - COP"]
[null,"HP-DRY\nMODEL","Connection","Nominal volume flow",null,"CODE","Nettó ár\n[HUF]",null,"Üzemi nyomás [bar]",250,275,300,325,350,375,400]
[null,null,"IN/OUT\n[inch]","Inlet¹\n[Nm³/h]",null,null,null,null,"Korrekciós faktor",0.63,0.69,0.75,0.81,0.88,0.94,1]
[]
[null,"HP-DRY 100 PN400","G 3/8''",100,null,"H12000544",{"$f":"VLOOKUP(F60,Árlista!$B:$F,5,0)","v":"5 332 000,-Ft (4)"}]
[null,"HP-DRY 150 PN400","G 3/8''",150,null,"H12000545",{"$f":"VLOOKUP(F61,Árlista!$B:$F,5,0)","v":"5 565 000,-Ft (4)"}]
[null,"HP-DRY 250 PN400","G 3/8''",250,null,"H12000546",{"$f":"VLOOKUP(F62,Árlista!$B:$F,5,0)","v":"6 222 000,-Ft (4)"}]
[null,"HP-DRY 350 PN400","G 1/2''",350,null,"H12000547",{"$f":"VLOOKUP(F63,Árlista!$B:$F,5,0)","v":"6 860 000,-Ft (4)"}]
[null,"HP-DRY 500 PN400","G 1/2''",500,null,"H12000548",{"$f":"VLOOKUP(F64,Árlista!$B:$F,5,0)","v":"7 539 000,-Ft (4)"}]
[null,"HP-DRY 650 PN400","G 1/2''",650,null,"H12000549",{"$f":"VLOOKUP(F65,Árlista!$B:$F,5,0)","v":"8 424 000,-Ft (4)"}]
[null,"HP-DRY 800 PN400","G 1/2''",800,null,"H12000550",{"$f":"VLOOKUP(F66,Árlista!$B:$F,5,0)","v":"9 287 000,-Ft (4)"}]
[null,"HP-DRY 1000 PN400","G 1/2''",1000,null,"H12000551",{"$f":"VLOOKUP(F67,Árlista!$B:$F,5,0)","v":"9 679 000,-Ft (4)"}]
[null,"HP-DRY 1200 PN400","G 1/2''",1200,null,"H12000552",{"$f":"VLOOKUP(F68,Árlista!$B:$F,5,0)","v":"10 135 000,-Ft (4)"}]
[null,"HP-DRY 1400 PN400","G 1/2''",1400,null,"H12000553",{"$f":"VLOOKUP(F69,Árlista!$B:$F,5,0)","v":"10 676 000,-Ft (4)"}]
[null,"HP-DRY 1600 PN400","G 1/2''",1600,null,"H12000554",{"$f":"VLOOKUP(F70,Árlista!$B:$F,5,0)","v":"11 650 000,-Ft (4)"}]
[]
[null,"(¹) Refers to 1 bar(a) and 20 °C at nominal működési nyomás , inlet temperature 35 °C and nyomás dew point at outlet —40 °C\n* If dryer is supplied without inlet filter compressed air class 1 (ISO 8753-1) for solid particles and oil should be provided to the inlet of the dryer.\n\nMEGJEGYZÉS  A megadott nettó árak tájékoztató jellegűek, az utána feltüntett szám az adott termék árkategóriáját jelöli.\n- Standard dew point is —40 °C.\n- Dew points —25 °C and —70 °C on request.\n- Szűrő BETÉT should be changed at least once per year."]

{"sheet":"OMD","index":40,"n_rows":43,"n_cols":27,"rows_kept":43,"cut":false,"hidden":false,"merged":[[10,6,10,11],[13,1,15,1],[13,4,15,4],[13,5,13,7],[13,8,15,8],[13,9,15,9],[13,10,15,10],[13,11,15,11],[13,12,15,12],[13,14,15,14],[13,15,15,15],[13,16,15,16],[14,2,15,2],[14,3,15,3],[14,5,15,5],[14,6,15,6],[14,7,15,7],[14,13,15,13],[42,1,42,13],[16,4,29,4],[17,18,17,20],[18,18,18,20],[25,18,25,21],[26,18,26,21],[30,4,41,4]]}
[null,"OMD series"]
[]
[]
[null,null,null,null,null,null,null,null,null,null,null,null,null,null,null,"INDEX "]
[]
[]
[]
[]
[]
[]
[]
[]
[null,"OMD SERIES",null,null,null,null,null,null,null,null,null,null,null,null,null,null,null,null,"CORRECTION FACTOR FOR OPERATING PRESSURE CHANGES"]
[null,"OMD\nMODEL","Air flow","Power supply","Controller","Méretek",null,null,"Air \nconnections","Condensate \ndrain","Ts \nThermal switch","PA high nyomás switch","PB  low nyomás switch","Volume","Refrigerant","CODE","Nettó ár\n[HUF]",null,"Üzemi nyomás [bar]",4,5,6,7,8,10,12,14]
[null,null,"m³/h","f/V/Hz",null,"A \n[mm]","B\n[mm]","C\n [mm]",null,null,null,null,null,"kg",null,null,null,null,"Korrekciós faktor",0.77,0.86,0.93,1,1.05,1.1399999999999999,1.21,1.27]
[]
[null,"OMD 20",19,"1/230/50-60","DMC16",310,345,435,"G 3/8” BSP-F","EMD12","","-","-","21-23","R 134a",2000335,{"$f":"VLOOKUP(P17,Árlista!$B:$F,5,0)","v":"297 000,-Ft (2)"},null,"CORRECTION FACTOR FOR AMBIENT TEMPERATURE CHANGES"]
[null,"OMD 35",33,"1/230/50-60",null,370,515,475,"G 1/2” BSP-F","EMD12","","-","-","25-27","R 134a",2000336,{"$f":"VLOOKUP(P18,Árlista!$B:$F,5,0)","v":"319 000,-Ft (2)"},null,"Inlet temperature  [°C]",null,null,"≤25",30,35,40,45]
[null,"OMD 50",52,"1/230/50-60",null,370,515,475,"G 1/2” BSP-F","EMD12","","-","-","26-28","R 134a",2000337,{"$f":"VLOOKUP(P19,Árlista!$B:$F,5,0)","v":"336 000,-Ft (2)"},null,"Korrekciós faktor",null,null,1,0.95,0.88,0.79,0.68]
[null,"OMD 65",66,"1/230/50-60",null,370,515,475,"G 1/2” BSP-F","EMD12","","-","-","28-30","R 134a",2000338,{"$f":"VLOOKUP(P20,Árlista!$B:$F,5,0)","v":"345 000,-Ft (2)"}]
[null,"OMD 100",98,"1/230/50-60",null,370,515,475,"G 1/2” BSP-F","EMD12","","-","-","32-34","R 134a",2000339,{"$f":"VLOOKUP(P21,Árlista!$B:$F,5,0)","v":"355 000,-Ft (2)"},null,"CORRECTION FACTOR FOR INLET AIR TEMPERATURE CHANGES"]
[null,"OMD 135",137,"1/230/50-60",null,345,420,740,"G 1” BSP-F","EMD12","","-","-","34-38","R 134a",2000340,{"$f":"VLOOKUP(P22,Árlista!$B:$F,5,0)","v":"410 000,-Ft (2)"},null,"Temperature [°C]",null,"≤30",35,40,45,50,55]
[null,"OMD 175",175,"1/230/50",null,345,445,740,"G 1 1/4” BSP-F","EMD12","","-","-","39-43","R 134a",2000341,{"$f":"VLOOKUP(P23,Árlista!$B:$F,5,0)","v":"482 000,-Ft (2)"},null,"Korrekciós faktor",null,1.1100000000000001,1,0.81,0.67,0.55000000000000004,0.45]
[null,"OMD 235",235,"1/230/50",null,345,445,740,"G 1 1/4” BSP-F","EMD12","","-","-","40-44","R407C",2000342,{"$f":"VLOOKUP(P24,Árlista!$B:$F,5,0)","v":"509 000,-Ft (2)"}]
[null,"OMD 280",284,"1/230/50",null,485,455,825,"G 1 1/4” BSP-F","EMD12","","-","-","41-45","R407C",2000343,{"$f":"VLOOKUP(P25,Árlista!$B:$F,5,0)","v":"585 000,-Ft (2)"},null,"CORRECTION FACTOR FOR DEW POINT CHANGES"]
[null,"OMD 330",333,"1/230/50",null,555,580,885,"G 1 1/2” BSP-F","EMD12","","-","-","54-66","R407C",2000344,{"$f":"VLOOKUP(P26,Árlista!$B:$F,5,0)","v":"691 000,-Ft (2)"},null,"Temperature [°C]",null,null,null,3,5,7,10]
[null,"OMD 410",410,"1/230/50",null,555,580,885,"G 1 1/2” BSP-F","EMD12","","-","-","56-68","R407C",2000345,{"$f":"VLOOKUP(P27,Árlista!$B:$F,5,0)","v":"832 000,-Ft (2)"},null,"Korrekciós faktor",null,null,null,1,1.099,1.2090000000000001,1.385]
[null,"OMD 570",573,"1/230/50",null,555,625,975,"G 2” BSP-F","EMD12","","","-","94-107","R407C",2000346,{"$f":"VLOOKUP(P28,Árlista!$B:$F,5,0)","v":"1 091 000,-Ft (2)"}]
[null,"OMD 710",710,"1/230/50",null,555,625,975,"G 2” BSP-F","EMD12","","","-","96-109","R407C",2000347,{"$f":"VLOOKUP(P29,Árlista!$B:$F,5,0)","v":"1 229 000,-Ft (3)"}]
[null,"OMD 920",917,"1/230/50",null,665,725,1105,"G 2 1/2” BSP-F","EMD12","","","","144-164","R407C",2000348,{"$f":"VLOOKUP(P30,Árlista!$B:$F,5,0)","v":"1 542 000,-Ft (3)"}]
[null,"OMD 1050",1037,"3/400/50","DMC24\n",645,920,1100,"G 2 1/2” BSP-F","EMD12","","","","170-190","R407C",2000349,{"$f":"VLOOKUP(P31,Árlista!$B:$F,5,0)","v":"2 169 000,-Ft (3)"}]
[null,"OMD 1200",1201,"3/400/50",null,645,920,1100,"G 2 1/2” BSP-F","EMD12","","","","172-192","R407C",2000350,{"$f":"VLOOKUP(P32,Árlista!$B:$F,5,0)","v":"2 214 000,-Ft (4)"}]
[null,"OMD 1350",1365,"3/400/50",null,790,1000,1465,"DN80 PN16","OBM32","","","","242-283","R407C",2000351,{"$f":"VLOOKUP(P33,Árlista!$B:$F,5,0)","v":"2 700 000,-Ft (4)"}]
[null,"OMD 1900",1911,"3/400/50",null,790,1000,1465,"DN80 PN16","OBM32","","","","276-317","R407C",2000352,{"$f":"VLOOKUP(P34,Árlista!$B:$F,5,0)","v":"3 114 000,-Ft (4)"}]
[null,"OMD 2200",2239,"3/400/50",null,790,1000,1465,"DN80 PN16","OBM32","","","","311-352","R407C",2000353,{"$f":"VLOOKUP(P35,Árlista!$B:$F,5,0)","v":"3 574 000,-Ft (4)"}]
[null,"OMD 2600",2621,"3/400/50",null,1135,1205,1750,"DN100 PN16","2x OBM32","","","","463-516","R407C",2000354,{"$f":"VLOOKUP(P36,Árlista!$B:$F,5,0)","v":"5 337 000,-Ft (4)"}]
[null,"OMD 3350",3385,"3/400/50",null,1135,1205,1750,"DN100 PN16","2x OBM32","","","","538-591","R407C",2000355,{"$f":"VLOOKUP(P37,Árlista!$B:$F,5,0)","v":"5 724 000,-Ft (4)"}]
[null,"OMD 4400",4423,"3/400/50",null,1135,1205,1750,"DN100 PN16","2x OBM32","","","","612-665","R407C",2000356,{"$f":"VLOOKUP(P38,Árlista!$B:$F,5,0)","v":"6 645 000,-Ft (4)"}]
[null,"OMD 5400",5400,"3/400/50",null,1300,1750,1810,"DN150 PN16","3x OBM32","","","","830-920","R407C",2000357,{"$f":"VLOOKUP(P39,Árlista!$B:$F,5,0)","v":"8 615 000,-Ft (4)"}]
[null,"OMD 6600",6624,"3/400/50",null,1300,1750,1810,"DN150 PN16","3x OBM32","","","","940-1030","R407C",2000358,{"$f":"VLOOKUP(P40,Árlista!$B:$F,5,0)","v":"10 210 000,-Ft (4)"}]
[null,"OMD 7200",7200,"3/400/50",null,1400,2260,1870,"DN200 PN16","4x OBM32","","","","1055-1145","R407C",2000359,{"$f":"VLOOKUP(P41,Árlista!$B:$F,5,0)","v":"10 721 000,-Ft (4)"}]
[null,"OMD 8800",8800,"3/400/50",null,1400,2260,1870,"DN200 PN16","4x OBM32","","","","1200-1290","R407C",2000360,{"$f":"VLOOKUP(P42,Árlista!$B:$F,5,0)","v":"14 776 000,-Ft (4)"}]
[null,"Data refer to the following nominal condition: Ambient temperature of 25 °C, with inlet air at 7 barg and 35 °C and 3 °C nyomás Dew Point (-20,5 °C atmospheric nyomás Dew Point).\nMax. working condition: Ambient temperature 45 °C, inlet air temperature 55 °C and inlet air nyomás 14 barg (16 barg for OMD 20 ... 100).\n\n A megadott nettó árak tájékoztató jellegűek, az utána feltüntett szám az adott termék árkategóriáját jelöli."]

{"sheet":"OSL","index":41,"n_rows":27,"n_cols":26,"rows_kept":27,"cut":false,"hidden":false,"merged":[[14,11,15,11],[10,7,10,13],[13,1,15,1],[13,2,13,3],[13,8,13,10],[13,12,15,12],[13,13,15,13],[14,2,15,2],[14,3,15,3],[14,4,15,4],[14,5,15,5],[14,6,15,6],[14,7,15,7],[14,8,15,8],[14,9,15,9],[14,10,15,10],[22,1,24,14],[26,15,26,18],[17,15,17,17],[18,15,18,17],[21,15,21,16],[22,15,22,16],[25,15,25,18]]}
[null,"OSL series"]
[]
[]
[null,null,null,null,null,null,null,null,null,null,null,null,null,null,null,null,"INDEX "]
[]
[]
[]
[]
[]
[]
[]
[]
[null,"OSL SERIES",null,null,null,null,null,null,null,null,null,null,null,null,null,"CORRECTION FACTOR FOR OPERATING PRESSURE CHANGES"]
[null,"OSL\nMODEL","Átáramlási képesség",null,"Connections","Power","Power supply","Max. nyomás","Méretek",null,null,"Tömeg","CODE","Nettó ár\n[HUF]",null,"Üzemi nyomás [bar]",4,5,6,7,8,10,12,14,15,16]
[null,null,"m³/h","scfm","ø","W","f/V/Hz","barg","L \n[mm]","B\n[mm]","H\n [mm]","NET/GROSS\nkg",null,null,null,"Korrekciós faktor",0.77,0.86,0.93,1,1.05,1.1399999999999999,1.21,1.27,1.3,1.33]
[]
[null,"OSL 20",19,11,"G3/8’’ BSP-F",160,"1/230/50 (60)",16,560,220,460,"21-23",2000380,{"$f":"VLOOKUP(M17,Árlista!$B:$F,5,0)","v":"297 000,-Ft (2)"},null,"CORRECTION FACTOR FOR AMBIENT TEMPERATURE CHANGES"]
[null,"OSL 42",43,25,"G1/2’’ BSP-F",190,"1/230/50 (60)",16,560,220,460,"24-27",2000381,{"$f":"VLOOKUP(M18,Árlista!$B:$F,5,0)","v":"319 000,-Ft (2)"},null,"Inlet temperature  [°C]",null,null,"≤25",30,35,40,45]
[null,"OSL 55",58,34,"G1/2’’ BSP-F",210,"1/230/50 (60)",16,560,220,460,"25-28",2000382,{"$f":"VLOOKUP(M19,Árlista!$B:$F,5,0)","v":"336 000,-Ft (2)"},null,"Korrekciós faktor",null,null,1,0.98,0.95,0.88,0.8]
[null,"OSL 80",82,48,"G1’’ BSP-F",280,"1/230/50 (60)",16,560,220,460,"27-30",2000383,{"$f":"VLOOKUP(M20,Árlista!$B:$F,5,0)","v":"345 000,-Ft (2)"}]
[null,"OSL 115",115,67,"G1’’ BSP-F",330,"1/230/50 (60)",16,560,220,460,"29-32",2000384,{"$f":"VLOOKUP(M21,Árlista!$B:$F,5,0)","v":"355 000,-Ft (2)"},null,"CORRECTION FACTOR FOR INLET AIR TEMPERATURE CHANGES"]
[null,"OSL 144",144,85,"G1’’ BSP-F",450,"1/230/50",14,560,220,580,"32-35",2000385,{"$f":"VLOOKUP(M22,Árlista!$B:$F,5,0)","v":"410 000,-Ft (2)"},null,"Temperature [°C]",null,30,35,40,45,50,55]
[null,"Data refer to the following nominal conditions: Ambient temperature of 25 °C, with inlet air at 7 barg and 35 °C and nyomás DewPoint 5 °C in accordance to ISO8573.1 class 6. \nAll models are equipped with R134a refrigerant. Max. működési condition: Ambient temperature 45 °C, Inlet air temperature 55 °C and Inlet air nyomás 16 (14) barg.\n\n A megadott nettó árak tájékoztató jellegűek, az utána feltüntett szám az adott termék árkategóriáját jelöli.",null,null,null,null,null,null,null,null,null,null,null,null,null,"Korrekciós faktor",null,1.1499999999999999,1,0.84,0.71,0.59,0.5]
[]
[null,null,null,null,null,null,null,null,null,null,null,null,null,null,null,"CORRECTION FACTOR FOR DEW POINT CHANGES"]
[null,null,null,null,null,null,null,null,null,null,null,null,null,null,null,"Temperature [°C]",null,null,null,3,5,7,10]
[null,null,null,null,null,null,null,null,null,null,null,null,null,null,null,"Korrekciós faktor",null,null,null,0.91300000000000003,1,1.0880000000000001,1.25]

{"sheet":"OMH","index":42,"n_rows":27,"n_cols":22,"rows_kept":27,"cut":false,"hidden":false,"merged":[[10,6,10,11],[13,1,15,1],[13,6,13,8],[13,10,15,10],[13,11,15,11],[14,2,15,2],[14,3,15,3],[14,4,15,4],[14,5,15,5],[14,6,15,6],[22,1,25,12],[22,13,22,17],[25,13,25,17],[26,13,26,17],[14,7,15,7],[14,8,15,8],[14,9,15,9],[17,13,17,15],[18,13,18,15],[21,13,21,17]]}
[null,"OMH series"]
[]
[]
[null,null,null,null,null,null,null,null,null,null,null,null,null,null,null,"INDEX "]
[]
[]
[]
[]
[]
[]
[]
[]
[null,"OMH SERIES",null,null,null,null,null,null,null,null,null,null,null,"CORRECTION FACTOR FOR OPERATING PRESSURE CHANGES"]
[null,"OMH\nMODEL","Air flow","Oper. nyomás","Connections","Power supply","Méretek",null,null,"Tömeg","CODE","Nettó ár\n[HUF]",null,"Üzemi nyomás [bar]",4,5,6,7,8,10,12,14]
[null,null,"m³/h","bar","ø","f/V/Hz","A \n[mm]","B\n[mm]","C\n [mm]","NET/GROSS\nkg",null,null,null,"Korrekciós faktor",0.77,0.86,0.93,1,1.05,1.1399999999999999,1.21,1.27]
[]
[null,"OMH 45",46,16,"G 1/2''","1/230/50",426,416,650,"29-33",2000422,{"$f":"VLOOKUP(K17,Árlista!$B:$F,5,0)","v":"427 000,-Ft (2)"},null,"CORRECTION FACTOR FOR AMBIENT TEMPERATURE CHANGES"]
[null,"OMH 70",68,16,"G 1/2''","1/230/50",426,416,650,"32-36",2000423,{"$f":"VLOOKUP(K18,Árlista!$B:$F,5,0)","v":"445 000,-Ft (2)"},null,"Inlet temperature  [°C]",null,null,"≤30",32,35,40,45]
[null,"OMH 100",103,16,"G 1/2''","1/230/50",426,416,650,"38-42",2000424,{"$f":"VLOOKUP(K19,Árlista!$B:$F,5,0)","v":"467 000,-Ft (2)"},null,"Korrekciós faktor",null,null,1.1299999999999999,1.08,1,0.9,0.8]
[null,"OMH 140",142,14,"G 1''","1/230/50",444,440,900,"39-43",2000425,{"$f":"VLOOKUP(K20,Árlista!$B:$F,5,0)","v":"634 000,-Ft (2)"}]
[null,"OMH 180",182,14,"G 1 1/4''","1/230/50",444,440,900,"50-57",2000426,{"$f":"VLOOKUP(K21,Árlista!$B:$F,5,0)","v":"694 000,-Ft (2)"},null,"CORRECTION FACTOR FOR INLET AIR TEMPERATURE CHANGES"]
[null,"OMH 250",256,14,"G 1 1/4''","1/230/50",469,511,900,"53-60",2000427,{"$f":"VLOOKUP(K22,Árlista!$B:$F,5,0)","v":"840 000,-Ft (2)"},null,"Temperature [°C]",null,null,null,null,"≤70",80,90]
[null,"To calculate the correct capacity of a given filter based on actual működési conditions, multiply the nominal flow capacity by the appropriate \ncorrection factor(s).\nCORRECTED CAPACITY = NOMINAL FLOW CAPACITY x COP x CAT x CIT x CDP\n A megadott nettó árak tájékoztató jellegűek, az utána feltüntett szám az adott termék árkategóriáját jelöli.\nData refer to the following nominal conditions: Ambient temperature of 35 °C, with inlet air at nyomás 7 barg and 70 °C and nyomás Dew Point 7 °C.  \nMax. működési condition: Ambient temperature 45 °C , Inlet air temperature 90 °C and Inlet air nyomás 14 barg (16 barg for OMH 45-100). ",null,null,null,null,null,null,null,null,null,null,null,"Korrekciós faktor",null,null,null,null,1,0.9,0.89]
[]
[null,null,null,null,null,null,null,null,null,null,null,null,null,"CORRECTION FACTOR FOR DEW POINT CHANGES"]
[null,null,null,null,null,null,null,null,null,null,null,null,null,"Temperature [°C]",null,null,null,null,5,7,10]
[null,null,null,null,null,null,null,null,null,null,null,null,null,"Korrekciós faktor",null,null,null,null,0.75,1,1.087]

{"sheet":"OHP","index":43,"n_rows":36,"n_cols":25,"rows_kept":36,"cut":false,"hidden":false,"merged":[[10,6,10,14],[13,1,15,1],[13,6,13,8],[13,10,15,10],[13,11,15,11],[13,12,15,12],[13,13,15,13],[13,14,15,14],[14,2,15,2],[14,3,15,3],[26,16,26,20],[14,4,15,4],[14,5,15,5],[14,6,15,6],[14,7,15,7],[14,8,15,8],[14,9,15,9],[17,16,17,18],[18,16,18,18],[21,16,21,20],[22,16,22,20],[25,16,25,20],[28,10,34,10],[28,11,34,11],[28,12,34,12],[35,1,38,15],[16,10,27,10],[16,11,27,11],[16,12,27,12]]}
[null,"OHP series"]
[]
[]
[null,null,null,null,null,null,null,null,null,null,null,null,null,null,null,null,"INDEX "]
[]
[]
[]
[]
[]
[]
[]
[]
[null,"OHP SERIES",null,null,null,null,null,null,null,null,null,null,null,null,null,null,"CORRECTION FACTOR FOR OPERATING PRESSURE CHANGES"]
[null,"OHP\nMODEL","Air flow","Max. inlet nyomás","Connections","Power supply","Méretek",null,null,"Tömeg","Zero loss drain\n(option)","CODE","Zero loss drain\nNettó ár\n[HUF]","CODE","Nettó ár\n[HUF]",null,"Üzemi nyomás [bar]",4,5,6,7,8,10,12,14]
[null,null,"m³/h","bar","ø","f/V/Hz","A \n[mm]","B\n[mm]","C\n [mm]","NET/GROSS\nkg",null,null,null,null,null,null,"Korrekciós faktor",0.77,0.86,0.93,1,1.05,1.1399999999999999,1.21,1.27]
[]
[null,"OHP 25",25,50,"G 3/8’’ BSP-F","1/230/50",370,515,475,"28-32","OBK 1/50",2000428,1200,2000361,{"$f":"VLOOKUP(N17,Árlista!$B:$F,5,0)","v":"431 000,-Ft (2)"},null,"CORRECTION FACTOR FOR AMBIENT TEMPERATURE CHANGES"]
[null,"OHP 45",45,50,"G 3/8’’ BSP-F","1/230/50",370,515,475,"29-33",null,null,null,2000362,{"$f":"VLOOKUP(N18,Árlista!$B:$F,5,0)","v":"462 000,-Ft (2)"},null,"Inlet temperature  [°C]",null,null,"≤30",32,35,40,45]
[null,"OHP 70",72,50,"G 3/8’’ BSP-F","1/230/50",370,515,475,"32-36",null,null,null,2000363,{"$f":"VLOOKUP(N19,Árlista!$B:$F,5,0)","v":"507 000,-Ft (2)"},null,"Korrekciós faktor",null,null,1.1299999999999999,1.08,1,0.9,0.8]
[null,"OHP 90",90,50,"G 3/4’’ BSP-F","1/230/50",345,420,740,"38-42",null,null,null,2000364,{"$f":"VLOOKUP(N20,Árlista!$B:$F,5,0)","v":"679 000,-Ft (2)"}]
[null,"OHP 135",135,50,"G 3/4’’ BSP-F","1/230/50-60",345,420,740,"39-43",null,null,null,2000365,{"$f":"VLOOKUP(N21,Árlista!$B:$F,5,0)","v":"780 000,-Ft (2)"},null,"CORRECTION FACTOR FOR INLET AIR TEMPERATURE CHANGES"]
[null,"OHP 180",180,50,"G 3/4’’ BSP-F","1/230/50",485,455,825,"50-57",null,null,null,2000366,{"$f":"VLOOKUP(N22,Árlista!$B:$F,5,0)","v":"861 000,-Ft (2)"},null,"Temperature [°C]",null,null,null,null,"≤70",80,90]
[null,"OHP 240",240,50,"G 3/4’’ BSP-F","1/230/50-60",485,455,825,"53-60",null,null,null,2000367,{"$f":"VLOOKUP(N23,Árlista!$B:$F,5,0)","v":"923 000,-Ft (2)"},null,"Korrekciós faktor",null,null,null,null,1,0.9,0.89]
[null,"OHP 315",315,50,"G 1’’ BSP-F","1/230/50",555,580,885,"89-101",null,null,null,2000368,{"$f":"VLOOKUP(N24,Árlista!$B:$F,5,0)","v":"1 111 000,-Ft (2)"}]
[null,"OHP 450",450,50,"G 1’’ BSP-F","1/230/50-60",555,580,885,"101-113",null,null,null,2000369,{"$f":"VLOOKUP(N25,Árlista!$B:$F,5,0)","v":"1 150 000,-Ft (3)"},null,"CORRECTION FACTOR FOR DEW POINT CHANGES"]
[null,"OHP 600",615,50,"G 1’’ BSP-F","1/230/50-60",555,580,885,"115-128",null,null,null,2000370,{"$f":"VLOOKUP(N26,Árlista!$B:$F,5,0)","v":"1 496 000,-Ft (3)"},null,"Temperature [°C]",null,null,null,null,5,7,10]
[null,"OHP 800",810,50,"G 1 1/2’’ BSP-F","1/230/50",665,725,1105,"156-176",null,null,null,2000371,{"$f":"VLOOKUP(N27,Árlista!$B:$F,5,0)","v":"1 844 000,-Ft (3)"},null,"Korrekciós faktor",null,null,null,null,0.75,1,1.087]
[null,"OHP 1000",1008,50,"G 1 1/2’’ BSP-F","1/230/50-60",665,725,1105,"190-210",null,null,null,2000372,{"$f":"VLOOKUP(N28,Árlista!$B:$F,5,0)","v":"2 085 000,-Ft (3)"}]
[null,"OHP 1250",1260,50,"G 2’’ BSP-F","3/400V/50",790,1000,1465,"252-293","OBK 2/50",2000429,1250,2000373,{"$f":"VLOOKUP(N29,Árlista!$B:$F,5,0)","v":"3 119 000,-Ft (4)"}]
[null,"OHP 1600",1620,45,"G 2’’ BSP-F","3/400V/50",790,1000,1465,"265-306",null,null,null,2000374,{"$f":"VLOOKUP(N30,Árlista!$B:$F,5,0)","v":"3 686 000,-Ft (4)"}]
[null,"OHP 2250",2280,45,"G 2’’ BSP-F","3/400V/50",790,1000,1465,"391-432",null,null,null,2000375,{"$f":"VLOOKUP(N31,Árlista!$B:$F,5,0)","v":"4 223 000,-Ft (4)"}]
[null,"OHP 2400",2430,45,"Flange ANSI 3’’","3/400V/50",1135,1205,1750,"444-497",null,null,null,2000376,{"$f":"VLOOKUP(N32,Árlista!$B:$F,5,0)","v":"4 795 000,-Ft (4)"}]
[null,"OHP 3000",3030,45,"Flange ANSI 3’’","3/400V/50",1135,1205,1750,"461-514",null,null,null,2000377,{"$f":"VLOOKUP(N33,Árlista!$B:$F,5,0)","v":"5 422 000,-Ft (4)"}]
[null,"OHP 4000",4020,45,"Flange ANSI 3’’","3/400V/50",1135,1205,1750,"486-539",null,null,null,2000378,{"$f":"VLOOKUP(N34,Árlista!$B:$F,5,0)","v":"6 217 000,-Ft (4)"}]
[null,"OHP 5000",5010,45,"Flange ANSI 3’’","3/400V/50",1135,1205,1750,"552-605",null,null,null,2000379,{"$f":"VLOOKUP(N35,Árlista!$B:$F,5,0)","v":"7 842 000,-Ft (4)"}]
[null,"To calculate the correct capacity of a given filter based on actual működési conditions, multiply the nominal flow capacity by the appropriate \ncorrection factor(s).\nCORRECTED CAPACITY = NOMINAL FLOW CAPACITY x COP x CAT x CIT x CDP\n A megadott nettó árak tájékoztató jellegűek, az utána feltüntett szám az adott termék árkategóriáját jelöli.\nData refer to the following nominal conditions: Ambient temperature of 35 °C, with inlet air at nyomás 7 barg and 70 °C and nyomás Dew Point 7 °C.  \nMax. működési condition: Ambient temperature 45 °C , Inlet air temperature 90 °C and Inlet air nyomás 14 barg (16 barg for OMH 45-100). "]

{"sheet":"SORBEO","index":44,"n_rows":73,"n_cols":13,"rows_kept":73,"cut":false,"hidden":false,"merged":[[8,5,8,7]]}
[null,"SORBEO"]
[]
[]
[null,null,null,null,null,null,null,null,null,null,null,null,"INDEX "]
[]
[]
[]
[]
[]
[]
[null,"Molecular sieve 3a  - drying of unsaturated hydrocarbons"]
[null,"MODEL","Shape","Bulk density","Package","Tömeg","CODE","Nettó ár\n[HUF]"]
[null,"SORBEO MS3-S","Granule 2,5 mm - 5,0 mm","0,7 kg/l","5,8 L container","4 kg",3701177,{"$f":"VLOOKUP(G13,Árlista!$B:$F,5,0)","v":"18 450,-Ft"}]
[null,"SORBEO MS3-M","Granule 2,5 mm - 5,0 mm","0,7 kg/l","16,6 L container","11,5 kg",3701178,{"$f":"VLOOKUP(G14,Árlista!$B:$F,5,0)","v":"47 300,-Ft"}]
[null,"SORBEO MS3-L","Granule 2,5 mm - 5,0 mm","0,7 kg/l","35,4 L container","24 kg",3701179,{"$f":"VLOOKUP(G15,Árlista!$B:$F,5,0)","v":"75 420,-Ft"}]
[null,"SORBEO MS3-XL","Granule 2,5 mm - 5,0 mm","0,7 kg/l","216,5 L barrel","150 kg",3701180,{"$f":"VLOOKUP(G16,Árlista!$B:$F,5,0)","v":"395 000,-Ft (2)"}]
[null,"SORBEO MS3-XXL","Granule 2,5 mm - 5,0 mm","0,7 kg/l","4 x barrel","600 kg",3701181,{"$f":"VLOOKUP(G17,Árlista!$B:$F,5,0)","v":"1 389 000,-Ft (3)"}]
[]
[null,"Molecular sieve 4a  - drying of compressed air and other gases"]
[null,"MODEL","Shape","Bulk density","Package","Tömeg","CODE","Nettó ár\n[HUF]"]
[null,"SORBEO MS4-S","Granule 2,5 mm - 5,0 mm","0,7 kg/l","5,8 L container","4 kg","3701133",{"$f":"VLOOKUP(G21,Árlista!$B:$F,5,0)","v":"13 180,-Ft"}]
[null,"SORBEO MS4-M","Granule 2,5 mm - 5,0 mm","0,7 kg/l","16,6 L container","11,5 kg","3701134",{"$f":"VLOOKUP(G22,Árlista!$B:$F,5,0)","v":"30 680,-Ft"}]
[null,"SORBEO MS4-L","Granule 2,5 mm - 5,0 mm","0,7 kg/l","35,4 L container","24 kg","3701135",{"$f":"VLOOKUP(G23,Árlista!$B:$F,5,0)","v":"57 780,-Ft"}]
[null,"SORBEO MS4-XL","Granule 2,5 mm - 5,0 mm","0,7 kg/l","220 L barrel","150 kg","3701136",{"$f":"VLOOKUP(G24,Árlista!$B:$F,5,0)","v":"324 000,-Ft (2)"}]
[null,"SORBEO MS4-XXL","Granule 2,5 mm - 5,0 mm","0,7 kg/l","Big bag","800 kg","3701137",{"$f":"VLOOKUP(G25,Árlista!$B:$F,5,0)","v":"1 322 000,-Ft (3)"}]
[]
[null,"Molecular sieve 10a  - drying of purification gases and liquids"]
[null,"MODEL","Shape","Bulk density","Package","Tömeg","CODE","Nettó ár\n[HUF]"]
[null,"SORBEO MS10-S","Granule 2,5 mm - 5,0 mm","0,64 kg/l","5,8 L container","3,5 kg",3701182,{"$f":"VLOOKUP(G29,Árlista!$B:$F,5,0)","v":"25 310,-Ft"}]
[null,"SORBEO MS10-M","Granule 2,5 mm - 5,0 mm","0,64 kg/l","16,6 L container","10,5 kg",3701183,{"$f":"VLOOKUP(G30,Árlista!$B:$F,5,0)","v":"62 640,-Ft"}]
[null,"SORBEO MS10-L","Granule 2,5 mm - 5,0 mm","0,64 kg/l","35,4 L container","22 kg",3701184,{"$f":"VLOOKUP(G31,Árlista!$B:$F,5,0)","v":"121 410,-Ft"}]
[null,"SORBEO MS10-XL","Granule 2,5 mm - 5,0 mm","0,64 kg/l","216,5 L barrel","130 kg",3701185,{"$f":"VLOOKUP(G32,Árlista!$B:$F,5,0)","v":"622 000,-Ft (2)"}]
[null,"SORBEO MS10-XXL","Granule 2,5 mm - 5,0 mm","0,64 kg/l","4x barrel","520 kg",3701186,{"$f":"VLOOKUP(G33,Árlista!$B:$F,5,0)","v":"2 196 000,-Ft (4)"}]
[]
[null,"Activated Alumina  - drying of compressed air"]
[null,"MODEL","Shape","Bulk density","Package","Tömeg","CODE","Nettó ár\n[HUF]"]
[null,"SORBEO AA-S","Granule 2,0 mm - 5,0 mm","0,77 kg/l","5,8 L container","4 kg",3701148,{"$f":"VLOOKUP(G37,Árlista!$B:$F,5,0)","v":"13 180,-Ft"}]
[null,"SORBEO AA-M","Granule 2,0 mm - 5,0 mm","0,77 kg/l","16,6 L container","12 kg",3701149,{"$f":"VLOOKUP(G38,Árlista!$B:$F,5,0)","v":"29 400,-Ft"}]
[null,"SORBEO AA-L","Granule 2,0 mm - 5,0 mm","0,77 kg/l","35,4 L container","27 kg",3701150,{"$f":"VLOOKUP(G39,Árlista!$B:$F,5,0)","v":"56 250,-Ft"}]
[null,"SORBEO AA-XL","Granule 2,0 mm - 5,0 mm","0,77 kg/l","220 L barrel","170 kg",3701151,{"$f":"VLOOKUP(G40,Árlista!$B:$F,5,0)","v":"312 000,-Ft (2)"}]
[null,"SORBEO AA-XXL","Granule 2,0 mm - 5,0 mm","0,77 kg/l","Big bag","907 kg",3701152,{"$f":"VLOOKUP(G41,Árlista!$B:$F,5,0)","v":"1 392 000,-Ft (3)"}]
[]
[null,"Silica Gel  SGW - drying of compressed air; water resistant"]
[null,"MODEL","Shape","Bulk density","Package","Tömeg","CODE","Nettó ár\n[HUF]"]
[null,"SORBEO SGW-S","Granule 2,0 mm - 5,0 mm","0,45 kg/l","5,8 L container","2,5 kg",3701138,{"$f":"VLOOKUP(G45,Árlista!$B:$F,5,0)","v":"15 810,-Ft"}]
[null,"SORBEO SGW-M","Granule 2,0 mm - 5,0 mm","0,45 kg/l","16,6 L container","7 kg",3701139,{"$f":"VLOOKUP(G46,Árlista!$B:$F,5,0)","v":"38 350,-Ft"}]
[null,"SORBEO SGW-L","Granule 2,0 mm - 5,0 mm","0,45 kg/l","35,4 L container","15 kg",3701140,{"$f":"VLOOKUP(G47,Árlista!$B:$F,5,0)","v":"66 480,-Ft"}]
[null,"SORBEO SGW-XL","Granule 2,0 mm - 5,0 mm","0,45 kg/l","220 L barrel","100 kg",3701141,{"$f":"VLOOKUP(G48,Árlista!$B:$F,5,0)","v":"348 000,-Ft (2)"}]
[null,"SORBEO SGW-XXL","Granule 2,0 mm - 5,0 mm","0,45 kg/l","4x barrel","400 kg",3701142,{"$f":"VLOOKUP(G49,Árlista!$B:$F,5,0)","v":"1 229 000,-Ft (3)"}]
[]
[null,"Silica Gel  SGR - drying of compressed air"]
[null,"MODEL","Shape","Bulk density","Package","Tömeg","CODE","Nettó ár\n[HUF]"]
[null,"SORBEO SGR-S","Granule 2,0 mm - 5,0 mm","0,7 kg/l","5,8 L container","4 kg",3701143,{"$f":"VLOOKUP(G53,Árlista!$B:$F,5,0)","v":"14 500,-Ft"}]
[null,"SORBEO SGR-M","Granule 2,0 mm - 5,0 mm","0,7 kg/l","16,6 L container","11,5 kg",3701144,{"$f":"VLOOKUP(G54,Árlista!$B:$F,5,0)","v":"37 070,-Ft"}]
[null,"SORBEO SGR-L","Granule 2,0 mm - 5,0 mm","0,7 kg/l","35,4 L container","24 kg",3701145,{"$f":"VLOOKUP(G55,Árlista!$B:$F,5,0)","v":"63 920,-Ft"}]
[null,"SORBEO SGR-XL","Granule 2,0 mm - 5,0 mm","0,7 kg/l","220 L barrel","150 kg",3701146,{"$f":"VLOOKUP(G56,Árlista!$B:$F,5,0)","v":"350 000,-Ft (2)"}]
[null,"SORBEO SGR-XXL","Granule 2,0 mm - 5,0 mm","0,7 kg/l","Big bag","500 kg",3701147,{"$f":"VLOOKUP(G57,Árlista!$B:$F,5,0)","v":"959 000,-Ft (2)"}]
[]
[null,"Activated Carbon - removal of oil vapours, smells, odours from compressed air"]
[null,"MODEL","Shape","Bulk density","Package","Tömeg","CODE","Nettó ár\n[HUF]"]
[null,"SORBEO AC-S","Pellet 3 mm","0,5 kg/l","5,8 L container","2,5 kg",3701128,{"$f":"VLOOKUP(G61,Árlista!$B:$F,5,0)","v":"9 230,-Ft"}]
[null,"SORBEO AC-M","Pellet 3 mm","0,5 kg/l","16,6 L container","8 kg",3701129,{"$f":"VLOOKUP(G62,Árlista!$B:$F,5,0)","v":"23 720,-Ft"}]
[null,"SORBEO AC-L","Pellet 3 mm","0,5 kg/l","35,4 L container","17 kg",3701130,{"$f":"VLOOKUP(G63,Árlista!$B:$F,5,0)","v":"42 190,-Ft"}]
[null,"SORBEO AC-XL","Pellet 3 mm","0,5 kg/l","220 L barrel","110 kg",3701131,{"$f":"VLOOKUP(G64,Árlista!$B:$F,5,0)","v":"240 330,-Ft"}]
[]
[null,"Catalyst - catalytic oxidation of CO to CO₂"]
[null,"MODEL","Shape","Bulk density","Package","Tömeg","CODE","Nettó ár\n[HUF]"]
[null,"SORBEO HC-S","Granule 3 mm","0,9 kg/l","5,8 L container","5 kg",3701153,{"$f":"VLOOKUP(G68,Árlista!$B:$F,5,0)","v":"235 380,-Ft"}]
[null,"SORBEO HC-M","Granule 3 mm","0,9 kg/l","16,6 L container","14 kg",3701154,{"$f":"VLOOKUP(G69,Árlista!$B:$F,5,0)","v":"588 000,-Ft (2)"}]
[null,"SORBEO HC-L","Granule 3 mm","0,9 kg/l","35,4 L container","31 kg",3701155,{"$f":"VLOOKUP(G70,Árlista!$B:$F,5,0)","v":"1 206 000,-Ft (3)"}]
[null,"SORBEO HC-XL","Granule 3 mm","0,9 kg/l","220 L barrel","198 kg",3701156,{"$f":"VLOOKUP(G71,Árlista!$B:$F,5,0)","v":"7 169 000,-Ft (4)"}]
[]
[null," A megadott nettó árak tájékoztató jellegűek, az utána feltüntett szám az adott termék árkategóriáját jelöli."]

{"sheet":"M-DRY","index":45,"n_rows":45,"n_cols":23,"rows_kept":45,"cut":false,"hidden":false,"merged":[[15,13,15,15],[16,13,16,15],[8,6,8,10],[11,1,13,1],[11,4,11,5],[11,6,11,9],[11,10,13,10],[11,11,13,11],[12,2,13,2],[12,3,13,3],[12,4,13,4],[12,5,13,5],[28,1,29,3],[12,6,13,6],[12,7,13,7],[12,8,13,8],[12,9,13,9],[27,1,27,11],[19,13,19,17],[20,13,20,17],[23,13,23,17],[24,13,24,17],[26,1,26,10],[39,5,39,9],[30,1,32,1],[30,2,32,2],[30,3,32,3],[30,4,32,4],[30,5,32,9],[33,5,33,9],[34,5,34,9],[35,5,35,9],[36,5,36,9],[37,5,37,9],[38,5,38,9],[40,5,40,9],[41,5,41,9],[42,5,42,9],[43,5,43,9],[44,5,44,9]]}
[null,"M-DRY series"]
[]
[]
[null,null,null,null,null,null,null,null,null,null,null,null,null,null,null,"INDEX "]
[]
[]
[]
[]
[null,null,null,null,null,null,"INCLUDED\n- pre-filter M with automatic drain AOK 16B,\n- pre-filter S with automatic drain AOK 16B.\n"]
[]
[null,"M-DRY SERIES",null,null,null,null,null,null,null,null,null,null,null,"CORRECTION FACTOR FOR OPERATING PRESSURE CHANGES"]
[null,"M-DRY\nMODEL","Cső méret","Oper. nyomás","Átáramlási képesség *",null,"Méretek",null,null,null,"CODE","Nettó ár\n[HUF]",null,"Üzemi nyomás [bar]",4,5,6,7,8,9,10,11,12]
[null,null,"inch","bar","Nm³/h","scfm","A \n[mm]","B\n[mm]","C\n [mm]","D\n [mm]",null,null,null,"Üzemi nyomás [psi]",58,72,87,100,115,130,145,160,174]
[null,null,null,null,null,null,null,null,null,null,null,null,null,"Korrekciós faktor",0.41,0.56000000000000005,0.76,1,1.22,1.48,1.76,1.86,2.2200000000000002]
[null,"M-DRY 3","1/4",12,3,1.8,224,43.7,325,123,3505369,{"$f":"VLOOKUP(K15,Árlista!$B:$F,5,0)","v":"259 000,-Ft (2)"}]
[null,"M-DRY 6","1/4",12,6,3.5,325,43.7,453,123,3505370,{"$f":"VLOOKUP(K16,Árlista!$B:$F,5,0)","v":"278 000,-Ft (2)"}]
[null,"M-DRY 9","1/4",12,9,5.3,427,43.7,555,123,3505371,{"$f":"VLOOKUP(K17,Árlista!$B:$F,5,0)","v":"305 000,-Ft (2)"}]
[null,"M-DRY 12","1/4",12,12,7.1,503,43.7,611,123,3505372,{"$f":"VLOOKUP(K18,Árlista!$B:$F,5,0)","v":"332 000,-Ft (2)"}]
[null,"M-DRY 18","1/2",12,18,10.6,312,61,476,175,3505373,{"$f":"VLOOKUP(K19,Árlista!$B:$F,5,0)","v":"374 000,-Ft (2)"}]
[null,"M-DRY 24","1/2",12,24,14.1,376,61,540,175,3505374,{"$f":"VLOOKUP(K20,Árlista!$B:$F,5,0)","v":"408 000,-Ft (2)"}]
[null,"M-DRY 32","1/2",12,32,21.2,465,61,661,208,3505375,{"$f":"VLOOKUP(K21,Árlista!$B:$F,5,0)","v":"503 000,-Ft (2)"}]
[null,"M-DRY 44","1/2",12,44,28.3,592,61,788,208,3505376,{"$f":"VLOOKUP(K22,Árlista!$B:$F,5,0)","v":"525 000,-Ft (2)"}]
[null,"M-DRY 63","1/2",12,63,21.2,465,61,661,208,3506888,{"$f":"VLOOKUP(K23,Árlista!$B:$F,5,0)","v":"580 000,-Ft (2)"}]
[null,"M-DRY 90","1/2",12,90,28.3,592,61,788,208,3506889,{"$f":"VLOOKUP(K24,Árlista!$B:$F,5,0)","v":"885 000,-Ft (2)"}]
[null,"M-DRY 123","1/2",12,123,21.2,465,61,661,208,3506890,{"$f":"VLOOKUP(K25,Árlista!$B:$F,5,0)","v":"981 000,-Ft (2)"}]
[null,"M-DRY 180","1/2",12,180,28.3,592,61,788,208,3506891,{"$f":"VLOOKUP(K26,Árlista!$B:$F,5,0)","v":"1 163 000,-Ft (2)"}]
[null,"* At 7 bar, inlet dew point 35 °C, outlet dew point 15 °C."]
[null," A megadott nettó árak tájékoztató jellegűek, az utána feltüntett szám az adott termék árkategóriáját jelöli."]
[null,"M-DRY \nMEMBRANE"]
[null,null,null,null,"MFP"]
[null,"Szűrő \nbetét \ntípus","M-DRY \nmodel","CODE","Nettó \nÁr\n[HUF]"]
[]
[]
[null,"MFP 3","M-DRY 3","3505377",{"$f":"VLOOKUP(D34,Árlista!$B:$F,5,0)","v":"213 090,-Ft"}]
[null,"MFP 6","M-DRY 6","3505378",{"$f":"VLOOKUP(D35,Árlista!$B:$F,5,0)","v":"232 230,-Ft"}]
[null,"MFP 9","M-DRY 9","3505379",{"$f":"VLOOKUP(D36,Árlista!$B:$F,5,0)","v":"252 000,-Ft (2)"}]
[null,"MFP 12","M-DRY 12","3505380",{"$f":"VLOOKUP(D37,Árlista!$B:$F,5,0)","v":"279 000,-Ft (2)"}]
[null,"MFP 18","M-DRY 18","3505381",{"$f":"VLOOKUP(D38,Árlista!$B:$F,5,0)","v":"321 000,-Ft (2)"}]
[null,"MFP 24","M-DRY 24","3505382",{"$f":"VLOOKUP(D39,Árlista!$B:$F,5,0)","v":"355 000,-Ft (2)"}]
[null,"MFP 32","M-DRY 32","3505383",{"$f":"VLOOKUP(D40,Árlista!$B:$F,5,0)","v":"450 000,-Ft (2)"}]
[null,"MFP 44","M-DRY 44","3505384",{"$f":"VLOOKUP(D41,Árlista!$B:$F,5,0)","v":"472 000,-Ft (2)"}]
[null,"MFP 63","M-DRY 63","3506892",{"$f":"VLOOKUP(D42,Árlista!$B:$F,5,0)","v":"525 000,-Ft (2)"}]
[null,"MFP 90","M-DRY 90","3506893",{"$f":"VLOOKUP(D43,Árlista!$B:$F,5,0)","v":"813 000,-Ft (2)"}]
[null,"MFP 123","M-DRY 123","3506894",{"$f":"VLOOKUP(D44,Árlista!$B:$F,5,0)","v":"910 000,-Ft (2)"}]
[null,"MFP 180","M-DRY 180","3506895",{"$f":"VLOOKUP(D45,Árlista!$B:$F,5,0)","v":"1 093 000,-Ft (2)"}]

{"sheet":"TAC","index":46,"n_rows":42,"n_cols":29,"rows_kept":42,"cut":false,"hidden":false,"merged":[[39,11,39,12],[40,11,40,12],[41,1,41,2],[41,11,41,12],[15,10,17,10],[15,11,17,11],[25,1,25,12],[28,1,28,2],[36,5,36,9],[15,1,17,1],[15,2,16,2],[15,3,16,3],[15,4,16,5],[15,6,16,8],[15,9,16,9],[45,1,45,2],[45,3,45,4],[45,5,45,6],[37,5,37,9],[39,1,40,2],[43,1,44,2],[43,3,43,4],[43,5,43,6],[44,3,44,4],[44,5,44,6]]}
[null,"TAC series"]
[]
[]
[null,null,null,null,null,null,null,null,null,null,null,null,null,null,"INDEX "]
[]
[]
[]
[]
[]
[]
[]
[]
[]
[]
[null,"TAC SERIES",null,null,null,null,null,null,null,null,null,null,null,"KORREKCIÓS FAKTOR"]
[null,"TAC \nMODEL","Cső\n méret","Oper.\n nyomás","Átáramlási képesség \nat 7 bar(g), 20 °C",null,"Méretek",null,null,"Tömeg","CODE","Nettó ár\n[HUF]",null,"Üzemi nyomás [bar]",2,3,4,5,6,7,8,9,10,11,12,13,14,15,16]
[null,null,null,null,null,null,null,null,null,null,null,null,null,"Üzemi nyomás [psi]",29,44,58,72,87,100,115,130,145,160,174,189,203,218,232]
[null,null,"inch","bar/psi","Nm³/h","scfm","A [mm]","B [mm]","C [mm]","kg",null,null,null,"Korrekciós faktor",0.38,0.5,0.63,0.75,0.88,1,1.1299999999999999,1.25,1.38,1.5,1.63,1.75,1.88,2,2.13]
[null,"TACm 6","3/8","16/232",6,3.5,404,188,100,3.5,3505435,{"$f":"VLOOKUP(K19,Árlista!$B:$F,5,0)","v":"98 750,-Ft"}]
[null,"TACm 12","3/8","16/232",12,7,638,188,100,5.3,3505436,{"$f":"VLOOKUP(K20,Árlista!$B:$F,5,0)","v":"118 510,-Ft"},null,"KORREKCIÓS FAKTOR"]
[null,"TACm 23","3/8","16/232",24,14.1,1106,188,100,6.5,3505437,{"$f":"VLOOKUP(K21,Árlista!$B:$F,5,0)","v":"155 670,-Ft"},null,"Üzemi nyomás [bar]",20,25,30,35,40,45,50,55,60]
[null,"TACm 35","3/8","16/232",36,21.1,1574,188,100,12,3505438,{"$f":"VLOOKUP(K22,Árlista!$B:$F,5,0)","v":"196 500,-Ft"},null,"Korrekciós faktor",1,0.98,0.97,0.92,0.86,0.75,0.6,"-","-"]
[null,"TACm 56","1/2","16/232",60,35.299999999999997,1106,270,148,15,3505439,{"$f":"VLOOKUP(K23,Árlista!$B:$F,5,0)","v":"290 000,-Ft (2)"}]
[null,"TACm 70","1/2","16/232",75,44.1,1340,270,148,18,3505440,{"$f":"VLOOKUP(K24,Árlista!$B:$F,5,0)","v":"331 000,-Ft (2)"}]
[null,"TACm 105","1/2","16/232",105,61.8,1808,270,148,22,3505441,{"$f":"VLOOKUP(K25,Árlista!$B:$F,5,0)","v":"413 000,-Ft (2)"}]
[null,"MEGJEGYZÉS A megadott nettó árak tájékoztató jellegűek, az utána feltüntett szám az adott termék árkategóriáját jelöli.\n*At 7 bar, inlet dew point 35 °C, outlet dew point 15 °C. "]
[]
[null,"SERVICE KITS"]
[null,"SERVICE KIT TYPE",null,"Includes","CODE","Nettó ár\n[HUF]"]
[null,"TACm 6 service kit",null,"absorber",3505985,{"$f":"VLOOKUP(E30,Árlista!$B:$F,5,0)","v":"23 080,-Ft"}]
[null,"TACm 12 service kit",null,"absorber",3505986,{"$f":"VLOOKUP(E31,Árlista!$B:$F,5,0)","v":"41 350,-Ft"}]
[null,"TACm 23 service kit",null,"absorber",3505987,{"$f":"VLOOKUP(E32,Árlista!$B:$F,5,0)","v":"78 740,-Ft"}]
[null,"TACm 35 service kit",null,"absorber",3505988,{"$f":"VLOOKUP(E33,Árlista!$B:$F,5,0)","v":"115 870,-Ft"}]
[null,"TACm 56 service kit",null,"absorber",3505989,{"$f":"VLOOKUP(E34,Árlista!$B:$F,5,0)","v":"121 670,-Ft"}]
[null,"TACm 70 service kit",null,"absorber",3505990,{"$f":"VLOOKUP(E35,Árlista!$B:$F,5,0)","v":"144 950,-Ft"}]
[null,"TACm 105 service kit",null,"absorber",3505991,{"$f":"VLOOKUP(E36,Árlista!$B:$F,5,0)","v":"202 880,-Ft"}]
[]
[]
[]
[null,"KIEGÉSZÍTŐK "]
[null,null,null,"OCI","OCI servis kit"]
[null,"Nettó ár [EUR]",null,252.35,195.7]

{"sheet":"ACA","index":47,"n_rows":34,"n_cols":18,"rows_kept":34,"cut":false,"hidden":false,"merged":[[15,8,16,10],[15,11,16,11],[15,12,17,12],[15,13,17,13],[15,1,16,1],[15,2,16,2],[15,3,16,3],[15,4,16,5],[15,6,16,6],[15,7,16,7]]}
[null,"ACA series"]
[]
[]
[null,null,null,null,null,null,null,null,null,null,null,null,null,null,null,null,null,"INDEX "]
[]
[]
[]
[]
[]
[]
[]
[]
[]
[]
[null,"ACA SERIES"]
[null,"ACA\nMODEL","Cső\n méret","Oper.\n nyomás","Átáramlási képesség ",null,"Power \nsupply","Fan","Méretek",null,null,"Tömeg","CODE","Nettó ár\n[HUF]"]
[]
[null,"fixed bundle","inch/DN","bar/psi","Nm³/h","scfm","ph/V/Hz","ø mm/ W ","A [mm]","B [mm]","C [mm]","kg"]
[null,"ACA 003","G 1''","16/232",66,39,"1/230/50","ø250-45W",850,300,715,19,3506896,{"$f":"VLOOKUP(M19,Árlista!$B:$F,5,0)","v":"144 940,-Ft"}]
[null,"ACA 007","G 1''","16/232",126,74,"1/230/50","ø250-45W",850,300,715,20,3506897,{"$f":"VLOOKUP(M20,Árlista!$B:$F,5,0)","v":"164 770,-Ft"}]
[null,"ACA 010","G 1 1/2''","16/232",222,131,"3/400/50","ø350-110W",990,310,845,27,3506898,{"$f":"VLOOKUP(M21,Árlista!$B:$F,5,0)","v":"213 080,-Ft"}]
[null,"ACA 018","G 1 1/2''","16/232",294,173,"3/400/50","ø400-130W",990,310,845,29,3506899,{"$f":"VLOOKUP(M22,Árlista!$B:$F,5,0)","v":"282 000,-Ft (2)"}]
[null,"ACA 030","G 2''","16/232",390,230,"3/400/50","ø500-750W",1175,440,980,44,3506900,{"$f":"VLOOKUP(M23,Árlista!$B:$F,5,0)","v":"309 000,-Ft (2)"}]
[null,"ACA 047","G 2''","16/232",522,307,"3/400/50","ø500-750W",1175,440,980,48,3506901,{"$f":"VLOOKUP(M24,Árlista!$B:$F,5,0)","v":"359 000,-Ft (2)"}]
[null,"ACA 070","G 2''","16/232",774,456,"3/400/50","ø600-370W",1325,490,1130,61,3506902,{"$f":"VLOOKUP(M25,Árlista!$B:$F,5,0)","v":"532 000,-Ft (2)"}]
[null,"ACA 094","G 2 1/2''","16/232",990,583,"3/400/50","ø600-370W",1325,490,1130,66,3506903,{"$f":"VLOOKUP(M26,Árlista!$B:$F,5,0)","v":"597 000,-Ft (2)"}]
[null,"ACA 150","DN100","16/232",1260,742,"3/400/50","ø800-1470W",1800,660,1590,127,3506904,{"$f":"VLOOKUP(M27,Árlista!$B:$F,5,0)","v":"859 000,-Ft (2)"}]
[null,"ACA 175","DN100","16/232",1560,918,"3/400/50","ø800-1470W",1800,660,1590,143,3506905,{"$f":"VLOOKUP(M28,Árlista!$B:$F,5,0)","v":"957 000,-Ft (2)"}]
[null,"ACA 240","DN100","16/232",1890,1112,"3/400/50","ø800-1470W",1800,790,1560,148,3506906,{"$f":"VLOOKUP(M29,Árlista!$B:$F,5,0)","v":"1 030 000,-Ft (2)"}]
[null,"ACA 300","DN100","16/232",2520,1483,"3/400/50","ø800-1470W",2000,795,1740,166,3506907,{"$f":"VLOOKUP(M30,Árlista!$B:$F,5,0)","v":"1 218 000,-Ft (3)"}]
[null,"ACA 450","DN125","16/232",3090,1819,"3/400/50","2x ø800-1470W",2090,830,1850,212,3506908,{"$f":"VLOOKUP(M31,Árlista!$B:$F,5,0)","v":"1 850 000,-Ft (3)"}]
[null,"ACA 600","DN125","16/232",4500,2649,"3/400/50","2x ø800-1470W",2300,850,2010,315,3506909,{"$f":"VLOOKUP(M32,Árlista!$B:$F,5,0)","v":"2 006 000,-Ft (3)"}]
[]
[null,"MEGJEGYZÉS A megadott nettó árak tájékoztató jellegűek, az utána feltüntett szám az adott termék árkategóriáját jelöli."]

{"sheet":"ACW","index":48,"n_rows":37,"n_cols":18,"rows_kept":37,"cut":false,"hidden":false,"merged":[[15,10,17,10],[15,1,16,1],[15,2,16,3],[15,4,16,5],[15,6,16,6],[15,7,16,8],[15,9,17,9]]}
[null,"ACW series"]
[]
[]
[null,null,null,null,null,null,null,null,null,null,null,null,null,null,null,null,null,"INDEX "]
[]
[]
[]
[]
[]
[]
[]
[]
[]
[]
[null,"ACW SERIES"]
[null,"ACW\nMODEL","Connections",null,"Flow capacity¹",null,"Üzemi nyomás","Méretek",null,"CODE","Nettó ár\n[HUF]"]
[]
[null,"fixed bundle","Air","Water","Nm³/h","scfm","bar","A [mm]","B [mm]"]
[null,"ACW 010 F","DN50","DN20",132,78,"0 - 16",806,60.3,3506910,{"$f":"VLOOKUP(J19,Árlista!$B:$F,5,0)","v":"438 000,-Ft (2)"}]
[null,"ACW 018 F","DN50","DN20",235,138,"0 - 16",816,60.3,3506911,{"$f":"VLOOKUP(J20,Árlista!$B:$F,5,0)","v":"449 000,-Ft (2)"}]
[null,"ACW 030 F","DN50","DN20",367,216,"0 - 16",816,60.3,3506912,{"$f":"VLOOKUP(J21,Árlista!$B:$F,5,0)","v":"455 000,-Ft (2)"}]
[null,"ACW 047 F","DN50","DN20",661,389,"0 - 16",870,60.3,3506913,{"$f":"VLOOKUP(J22,Árlista!$B:$F,5,0)","v":"468 000,-Ft (2)"}]
[null,"ACW 070 F","DN50","DN20",955,562,"0 - 16",870,60.3,3506914,{"$f":"VLOOKUP(J23,Árlista!$B:$F,5,0)","v":"477 000,-Ft (2)"}]
[null,"ACW 094 F","DN80","DN20",1323,779,"0 - 16",1500,88.9,3506915,{"$f":"VLOOKUP(J24,Árlista!$B:$F,5,0)","v":"670 000,-Ft (2)"}]
[null,"ACW 150 F","DN80","DN20",2205,1298,"0 - 16",1510,88.9,3506916,{"$f":"VLOOKUP(J25,Árlista!$B:$F,5,0)","v":"681 000,-Ft (2)"}]
[null,"ACW 240 F","DN125","DN32",3087,1817,"0 - 16",1300,139.69999999999999,3506917,{"$f":"VLOOKUP(J26,Árlista!$B:$F,5,0)","v":"1 148 000,-Ft (3)"}]
[null,"ACW 300 F","DN125","DN32",3969,2336,"0 - 16",1300,139.69999999999999,3506918,{"$f":"VLOOKUP(J27,Árlista!$B:$F,5,0)","v":"1 190 000,-Ft (3)"}]
[null,"ACW 450 F","DN200","DN50",7056,4153,"0 - 16",1300,219,3506919,{"$f":"VLOOKUP(J28,Árlista!$B:$F,5,0)","v":"1 357 000,-Ft (3)"}]
[null,"ACW 600 F","DN200","DN65",8967,5278,"0 - 16",1300,219,3506920,{"$f":"VLOOKUP(J29,Árlista!$B:$F,5,0)","v":"1 375 000,-Ft (3)"}]
[null,"ACW 900 F","DN250","DN80",11025,6489,"0 - 10",1300,273,3506921,{"$f":"VLOOKUP(J30,Árlista!$B:$F,5,0)","v":"2 201 000,-Ft (3)"}]
[null,"ACW 1200 F","DN300","DN80",16170,9517,"0 - 10",1300,323.89999999999998,3506922,{"$f":"VLOOKUP(J31,Árlista!$B:$F,5,0)","v":"2 756 000,-Ft (4)"}]
[null,"ACW 1500 F","DN400","DN100",22050,12978,"0 - 10",1300,406,3506923,{"$f":"VLOOKUP(J32,Árlista!$B:$F,5,0)","v":"4 447 000,-Ft (4)"}]
[null,"ACW 1800 F","DN400","DN150",26460,15574,"0 - 10",1300,406,3506924,{"$f":"VLOOKUP(J33,Árlista!$B:$F,5,0)","v":"4 579 000,-Ft (4)"}]
[null,"ACW 2500 F","DN450","DN200",33810,19900,"0 - 10",1300,457,3506925,{"$f":"VLOOKUP(J34,Árlista!$B:$F,5,0)","v":"5 713 000,-Ft (4)"}]
[null,"ACW 3000 F","DN500","DN200",45570,26821,"0 - 10",1300,508,3506926,{"$f":"VLOOKUP(J35,Árlista!$B:$F,5,0)","v":"6 441 000,-Ft (4)"}]
[]
[null,"MEGJEGYZÉS A megadott nettó árak tájékoztató jellegűek, az utána feltüntett szám az adott termék árkategóriáját jelöli."]

{"sheet":"OS","index":49,"n_rows":63,"n_cols":9,"rows_kept":63,"cut":false,"hidden":false,"merged":[[30,1,35,1],[2,1,7,1],[9,1,14,1],[16,1,21,1],[22,5,22,9],[23,1,28,1],[79,1,84,1],[37,1,42,1],[44,1,49,1],[51,1,56,1],[58,1,63,1],[65,1,70,1],[72,1,77,1]]}
[null,"OS series"]
[]
[null,"DISPLAY/\nDATA LOGGER","OS 330","OS 330 2A","OS 331","OS 331 2A"]
[null,null,null,null," \nTouch Screen"," \nTouch Screen",null,null,"INDEX "]
[]
[null,null,4000924,4000950,4000860,4000951]
[null,null,"Nettó ár:","Nettó ár:","Nettó ár:","Nettó ár:"]
[null,null,{"$f":"VLOOKUP(C6,Árlista!$B:$F,5,0)","v":"422 000,-Ft (2)"},{"$f":"VLOOKUP(D6,Árlista!$B:$F,5,0)","v":"548 000,-Ft (2)"},{"$f":"VLOOKUP(E6,Árlista!$B:$F,5,0)","v":"524 000,-Ft (2)"},{"$f":"VLOOKUP(F6,Árlista!$B:$F,5,0)","v":"650 000,-Ft (2)"}]
[]
[null,"HARMATPONT ÉS HŐMÉRSÉKLET SZENSOR","OS 215 ","OS 220","OS TS"]
[]
[]
[null,null,4000803,4000802,4000988]
[null,null,"Nettó ár:","Nettó ár:","Nettó ár:"]
[null,null,{"$f":"VLOOKUP(C13,Árlista!$B:$F,5,0)","v":"233 330,-Ft"},{"$f":"VLOOKUP(D13,Árlista!$B:$F,5,0)","v":"508 000,-Ft (2)"},{"$f":"VLOOKUP(E13,Árlista!$B:$F,5,0)","v":"185 220,-Ft"}]
[]
[null,"ECONOMIC FLOW/ \nCONSUMPTION SENSOR","OS 400","OS 420","OS 420","OS 420","OS 420"]
[null,null,null,"G 3/8”","G 1/2”","G 3/4”","G 1”"]
[]
[null,null,4000804,4000814,4000815,4000816,4000817]
[null,null,"Nettó ár:","Nettó ár:","Nettó ár:","Nettó ár:","Nettó ár:"]
[null,null,{"$f":"VLOOKUP(C20,Árlista!$B:$F,5,0)","v":"734 000,-Ft (2)"},{"$f":"VLOOKUP(D20,Árlista!$B:$F,5,0)","v":"368 000,-Ft (2)"},{"$f":"VLOOKUP(E20,Árlista!$B:$F,5,0)","v":"371 000,-Ft (2)"},{"$f":"VLOOKUP(F20,Árlista!$B:$F,5,0)","v":"375 000,-Ft (2)"},{"$f":"VLOOKUP(G20,Árlista!$B:$F,5,0)","v":"378 000,-Ft (2)"}]
[]
[null,null,"OS 420","OS 420","OS 420","OS 420","OS 400/420 Display"]
[null,null,"G 1 1/2”","G 2”","G 2 1/2”","G 3”"]
[]
[null,null,4000818,4000819,4000820,4000821,4000902]
[null,null,"Nettó ár:","Nettó ár:","Nettó ár:","Nettó ár:","Nettó ár:"]
[null,null,{"$f":"VLOOKUP(C27,Árlista!$B:$F,5,0)","v":"384 000,-Ft (2)"},{"$f":"VLOOKUP(D27,Árlista!$B:$F,5,0)","v":"394 000,-Ft (2)"},{"$f":"VLOOKUP(E27,Árlista!$B:$F,5,0)","v":"419 000,-Ft (2)"},{"$f":"VLOOKUP(F27,Árlista!$B:$F,5,0)","v":"431 000,-Ft (2)"},{"$f":"VLOOKUP(G27,Árlista!$B:$F,5,0)","v":"103 010,-Ft"}]
[]
[null,"PRESSURE SENSOR","OS 16","OS 40"]
[]
[]
[null,null,4000824,4000825]
[null,null,"Nettó ár:","Nettó ár:"]
[null,null,{"$f":"VLOOKUP(C34,Árlista!$B:$F,5,0)","v":"107 980,-Ft"},{"$f":"VLOOKUP(D34,Árlista!$B:$F,5,0)","v":"127 490,-Ft"}]
[]
[null,"PORTABLE EQUIPMENT","OS 550-P6 set \nportable data logger, sensors: flow, dew point, nyomás  ","OS 550-P6 set \nportable data logger, sensors: flow, dew point, nyomás  ","OS 551-P6 set\nportable data logger, sensors: flow, dew point, nyomás","OS 551-P6 set\nportable data logger, sensors: flow, dew point, nyomás","OS 120-P\nportable residual oil sensor"]
[null,null,"16 bar","40 bar","16 bar\nTouch Screen","16 bar\nTouch Screen"]
[]
[null,null,4000826,4000827,4000861,4000862,4000828]
[null,null,"Nettó ár:","Nettó ár:","Nettó ár:","Nettó ár:","Nettó ár:"]
[]
[]
[null,null,"OS 502 set\nportable dew point sensor","OS 530 \nportable leak detector for pressurized systems"]
[]
[]
[null,null,4000829,4000830]
[null,null,"Nettó ár:","Nettó ár:"]
[]
[]
[null,"AFTER MARKET","OS 220\nDew point sensor calibration with Certificate","OS 120-P sk R\n12 months service kit","OS 120-P sk N\n12 months service kit","OS 530 \nPE filters (5 pcs.) for measuring chamber","OS 530 \nDesiccant (5 tablets set) for measuring chamber"]
[null,null,null,"- Refurnished PID sensor\n- Activated carbon filter elem.","- New PID sensor\n- Activated carbon filter elem."]
[]
[null,null,4000831,4000832,4000833,4000834,4000835]
[null,null,"Nettó ár:","Nettó ár:","Nettó ár:","Nettó ár:","Nettó ár:"]
[]
[]
[null,null,"OS 530 \nPaper roll for Bluetooth printer (3 pcs.)","OS TC\nTransport case for cables and sensors"]
[]
[]
[null,null,4000836,4000837]
[null,null,"Nettó ár:","Nettó ár:"]

{"sheet":"TP","index":50,"n_rows":115,"n_cols":24,"rows_kept":115,"cut":false,"hidden":false,"merged":[[11,1,12,1],[11,2,12,2],[11,3,11,11],[11,12,12,14],[11,15,12,15],[12,11,13,11],[60,3,60,5],[11,17,13,17],[11,18,13,18],[12,3,13,3],[12,4,13,4],[12,5,13,5],[12,6,13,6],[12,7,13,7],[12,8,13,8],[12,9,13,9],[12,10,13,10],[11,16,12,16],[54,5,54,9],[56,1,57,1],[56,3,57,5],[58,3,58,5],[59,3,59,5],[72,3,72,5],[61,3,61,5],[62,3,62,5],[63,3,63,5],[64,3,64,5],[65,3,65,5],[66,3,66,5],[67,3,67,5],[68,3,68,5],[69,3,69,5],[70,3,70,5],[71,3,71,5],[73,3,73,5],[74,3,74,5],[75,3,75,5],[76,3,76,5],[77,1,77,2],[77,3,77,4],[77,5,77,6]]}
[null,"TP PED series"]
[]
[]
[null,null,null,null,null,null,null,null,null,null,null,null,null,null,null,null,null,null,null,null,null,null,null,"INDEX "]
[]
[]
[]
[]
[]
[]
[null,"TP PED SERIES"]
[null,"méret","Volume","Connections number and Méretek",null,null,null,null,null,null,null,null,"Méretek",null,null,"Max. \nPressure","Tömeg","CODE","Nettó ár\n[EUR]"]
[null,null,null,"1/2’’","3/4’’","1’’","6/4’’","2’’","DN50","DN80","DN100","DN150"]
[null,"fixed bundle","l",null,null,null,null,null,null,null,null,null,"H [mm]","D [mm]","L [mm]","bar","kg"]
[null,"VERTICAL PRESSURE VESSELS"]
[null,"50","47","7","-","-","-","-","-","-","-","-",920,300,"-",13,25,"3200106","on request"]
[null,"100","101","6","-","-","-","1","-","-","-","-",1375,350,"-",13,45,"3200352","on request"]
[null,"150","136","6","-","-","-","1","-","-","-","-",1395,400,"-",13,55,"3200108","on request"]
[null,"200","199","3","-","4","-","-","-","-","-","-",1430,480,"-",13,85,"3200435","on request"]
[null,"300","287","1","2","4","-","-","-","-","-","-",1930,480,"-",13,115,"3200110","on request"]
[null,"500","496","1","2","4","-","-","-","-","-","-",2025,622,"-",13,135,"3200111","on request"]
[null,"750","739",1,2,4,"-","-","-","-","-","-",2090,750,"-",13,170,"3200112","on request"]
[null,"1000","975",1,"-",2,4,"-","-","-","-","-",2140,850,"-",13,260,"3200279","on request"]
[null,"1500","1368",1,"-",2,"-",4,"-","-","-","-",2295,1000,"-",13,310,"3200271","on request"]
[null,"2000","1853",1,"-",2,"-",4,"-","-","-","-",2370,1150,"-",13,460,"3200278","on request"]
[null,"3000","2825",1,"-",2,"-",4,"-","-","-","-",2905,1250,"-",13,630,"3200277","on request"]
[null,"4000","4028",1,"-",2,"-","-","-",4,"-","-",3915,1250,"-",13,810,"3200294","on request"]
[null,"5000","5121",1,"-",2,"-","-","-",4,"-","-",3915,1400,"-",13,1350,"3200117","on request"]
[null,"6000","5801",1,"-",2,"-","-","-","-",4,"-",3510,1600,"-",13,1750,"3200118","on request"]
[null,"8000","7707",1,"-",2,"-","-","-","-",4,"-",4105,1700,"-",13,2190,"3200433","on request"]
[null,"10000","9953",1,"-",2,"-","-","-","-",4,"-",5200,1700,"-",10,2500,"3200011","on request"]
[null,"15000","15498",1,"-",1,"-","-",1,"-","-",4,4860,2200,"-",10,3750,"3200144","on request"]
[null,"20000","21073",1,"-",1,"-","-",1,"-","-",4,6360,2200,"-",10,4710,"3200454","on request"]
[null,"25000","24790",1,"-",1,"-","-",1,"-","-",4,7360,2200,"-",10,5360,"3200455","on request"]
[null,"HORIZONTAL PRESSURE VESSELS"]
[null,50,47,6,"-","-","-","-","-","-","-","-",400,300,775,13,25,"3200120","on request"]
[null,100,101,5,"-","-","-",1,"-","-","-","-",505,350,1205,13,45,"3200121","on request"]
[null,150,136,5,"-","-","-",1,"-","-","-","-",550,400,1220,13,55,"3200122 ","on request"]
[null,200,199,3,"-",3,"-","-","-","-","-","-",635,480,1265,13,85,"3200123","on request"]
[null,300,287,1,2,3,"-","-","-","-","-","-",625,480,1770,13,115,"3200546","on request"]
[null,500,496,1,2,"-",3,"-","-","-","-","-",820,622,1835,13,135,"3200125","on request"]
[null,750,739,1,2,"-",3,"-","-","-","-","-",1025,750,1890,13,170,"3200364","on request"]
[null,1000,975,1,"-",2,3,"-","-","-","-","-",1130,850,1935,13,260,"3200363","on request"]
[null,1500,1368,1,"-",2,"-",3,"-","-","-","-",1275,1000,2000,13,310,"3200733","on request"]
[null,2000,1853,1,"-",2,"-",3,"-","-","-","-",1500,1150,2100,13,460,"3200734","on request"]
[null,3000,2825,1,"-",2,"-","-","-",3,"-","-",1600,1250,3100,13,630,"3200735","on request"]
[null,4000,4028,1,"-",2,"-","-","-",3,"-","-",1600,1250,3600,13,810,"3200736","on request"]
[null,5000,5121,1,"-",2,"-","-","-",3,"-","-",1750,1400,3665,13,1350,"3200737","on request"]
[null,6000,5801,1,"-",2,"-","-","-","-",3,"-",1950,1600,3250,13,1750,"3200738","on request"]
[null,8000,7707,1,"-",2,"-","-","-","-",3,"-",2050,1700,3810,13,2190,"3200442","on request"]
[null,10000,9953,1,"-",2,"-","-","-","-",3,"-",2050,1700,4810,10,2500,"3200739","on request"]
[null,15000,15498,1,"-",1,"-","-",1,"-","-",3,2550,2200,4600,10,3750,"3200740","on request"]
[null,20000,21073,1,"-",1,"-","-",1,"-","-",3,2550,2200,6100,10,4710,"3200741","on request"]
[null,25000,24790,1,"-",1,"-","-",1,"-","-",3,2550,2200,7100,10,5360,"3200742","on request"]
[]
[null,"EQUIPMENT FOR PRESSURE VESSELS"]
[null,"méret","Volume","Nettó ár\n[EUR]"]
[null,null,"l"]
[null,50,25,"on request"]
[null,100,45,"on request"]
[null,150,55,"on request"]
[null,200,85,"on request"]
[null,300,115,"on request"]
[null,500,135,"on request"]
[null,750,170,"on request"]
[null,1000,260,"on request"]
[null,1500,310,"on request"]
[null,2000,460,"on request"]
[null,3000,630,"on request"]
[null,4000,810,"on request"]
[null,5000,1350,"on request"]
[null,6000,1750,"on request"]
[null,8000,2190,"on request"]
[null,10000,2500,"on request"]
[null,15000,3750,"on request"]
[null,20000,4710,"on request"]
[null,25000,5360,"on request"]
[]
[]
[]
[]
[null,"TP ASME series"]
[]
[]
[]
[]
[]
[]
[]
[]
[]
[]
[]
[]
[]
[]
[]
[]
[]
[]
[]
[]
[]
[]
[]
[]
[]
[]
[]
[]
[]
[]
[]
[]
[null,"TP series"]

{"sheet":"PP","index":51,"n_rows":41,"n_cols":39,"rows_kept":41,"cut":false,"hidden":false,"merged":[[14,8,16,8],[14,9,16,9],[36,7,38,7],[14,16,16,16],[14,17,16,17],[29,1,29,18],[31,1,33,3],[34,4,35,5],[34,7,35,7],[14,10,16,10],[14,11,16,11],[14,12,16,12],[14,13,16,13],[14,14,16,14],[14,15,16,15],[14,1,16,1],[14,2,15,2],[14,3,15,4],[14,5,15,7],[36,1,38,1],[36,2,37,2],[36,3,38,3],[36,4,38,6]]}
[null,"PP series"]
[]
[]
[null,null,null,null,null,null,null,null,null,null,null,null,null,null,null,null,null,null,null,"INDEX "]
[]
[]
[]
[]
[]
[]
[]
[]
[]
[null,"PP SERIES"]
[null,"Szűrő \nház\nméret","Cső\n méret","Átáramlási képesség \nat 7 bar(g), 20 °C",null,"Méretek",null,null,"Separator \nCKL-PP ","Microfilter\nM  0,1 µm ","Microfilter\nS  0,01 µm","Active carbon\nA","Sterile filter with \nactive carbon SFA","Adsorption dryer \nA-DRY 105","Pressure \nregulator","Quick \ncoupling No.","CODE","Nettó ár\n[HUF]"]
[]
[null,null,"inch","Nm³/h","scfm","A [mm]","B [mm]","C [mm]"]
[null,"PP-107","1/2’’",78,46,270,135,276,"",null,null,null,null,null,"",2,3700450,{"$f":"VLOOKUP(Q18,Árlista!$B:$F,5,0)","v":"117 770,-Ft"},null,null,null,null,null,"KORREKCIÓS FAKTOR"]
[null,"PP-110","1/2’’",120,71,270,135,345,"",null,null,null,null,null,"",2,3700451,{"$f":"VLOOKUP(Q19,Árlista!$B:$F,5,0)","v":"121 880,-Ft"},null,null,null,null,null,"Üzemi nyomás [bar]",2,3,4,5,6,7,8,9,10,11,12,13,14,15,16]
[null,"PP-207","1/2’’",78,46,380,135,276,"","",null,null,null,null,"",2,3700452,{"$f":"VLOOKUP(Q20,Árlista!$B:$F,5,0)","v":"160 570,-Ft"},null,null,null,null,null,"Üzemi nyomás [psi]",29,44,58,72,87,100,115,130,145,160,174,189,203,218,232]
[null,"PP-210","1/2’’",120,71,380,135,345,"","",null,null,null,null,"",2,3700453,{"$f":"VLOOKUP(Q21,Árlista!$B:$F,5,0)","v":"165 880,-Ft"},null,null,null,null,null,"Korrekciós faktor",0.38,0.5,0.63,0.75,0.88,1,1.1299999999999999,1.25,1.38,1.5,1.63,1.75,1.88,2,2.13]
[null,"PP-307","1/2’’",78,46,490,135,276,"","","",null,null,null,"",2,3700454,{"$f":"VLOOKUP(Q22,Árlista!$B:$F,5,0)","v":"208 350,-Ft"}]
[null,"PP-310","1/2’’",120,71,490,135,345,"","","",null,null,null,"",2,3700455,{"$f":"VLOOKUP(Q23,Árlista!$B:$F,5,0)","v":"213 660,-Ft"}]
[null,"PP-407","1/2’’",78,46,580,135,276,null,"","","",null,null,"",4,3700456,{"$f":"VLOOKUP(Q24,Árlista!$B:$F,5,0)","v":"226 930,-Ft"}]
[null,"PP-410","1/2’’",120,71,580,135,345,null,"","","",null,null,"",4,3700457,{"$f":"VLOOKUP(Q25,Árlista!$B:$F,5,0)","v":"228 250,-Ft"}]
[null,"PP-507","1/2’’",78,46,612,135,370,null,"","",null,"",null,"",4,3700458,{"$f":"VLOOKUP(Q26,Árlista!$B:$F,5,0)","v":"694 000,-Ft (2)"}]
[null,"PP-510","1/2’’",120,71,612,135,440,null,"","",null,"",null,"",4,3700459,{"$f":"VLOOKUP(Q27,Árlista!$B:$F,5,0)","v":"695 000,-Ft (2)"}]
[null,"PP-607","1/2’’",78,46,1150,335,917,null,"","",null,"","","",4,3700460,{"$f":"VLOOKUP(Q28,Árlista!$B:$F,5,0)","v":"2 522 000,-Ft (4)"}]
[null,"PP-610","1/2’’",120,71,1150,335,917,null,"","",null,"","","",4,3700461,{"$f":"VLOOKUP(Q29,Árlista!$B:$F,5,0)","v":"2 524 000,-Ft (4)"}]
[null,"MEGJEGYZÉS A megadott nettó árak tájékoztató jellegűek, az utána feltüntett szám az adott termék árkategóriáját jelöli."]
[]
[null,"SZŰRŐ BETÉT",null,null,"0,1 µm","0,01 µm","0,01 µm"]
[null,null,null,null,"M","S","A","CKL-PP"]
[null,null,null,null,"mikroszűrő","finomszűrő","act. carbon","szeparátor"]
[null,null,null,null,"borosilicate micro fibres",null,"bor. micro fib.","stainless steel, PA"]
[null,null,null,null,null,null,"activ. carbon"]
[null,"Szűrő \nbetét \ntípus","Átáramlási képesség","Corresponding\nház","Nettó \nÁr\n[HUF]",null,null,"Nettó \nÁr\n[HUF]"]
[]
[null,null,"[Nm³/h]"]
[null,7050,78,"PP-07",{"$f":"VLOOKUP($B40&E$33,Árlista!$B:$F,5,0)","v":"6 780,-Ft"},{"$f":"VLOOKUP($B40&F$33,Árlista!$B:$F,5,0)","v":"6 780,-Ft"},{"$f":"VLOOKUP($B40&G$33,Árlista!$B:$F,5,0)","v":"6 780,-Ft"},{"$f":"VLOOKUP($B40&H$33,Árlista!$B:$F,5,0)","v":"24 000,-Ft"}]
[null,14050,120,"PP-10",{"$f":"VLOOKUP($B41&E$33,Árlista!$B:$F,5,0)","v":"8 720,-Ft"},{"$f":"VLOOKUP($B41&F$33,Árlista!$B:$F,5,0)","v":"8 720,-Ft"},{"$f":"VLOOKUP($B41&G$33,Árlista!$B:$F,5,0)","v":"8 720,-Ft"},{"$f":"VLOOKUP($B41&H$33,Árlista!$B:$F,5,0)","v":"27 390,-Ft"}]

{"sheet":"B-AIR","index":52,"n_rows":45,"n_cols":34,"rows_kept":45,"cut":false,"hidden":false,"merged":[[14,11,16,11],[14,12,16,12],[23,1,23,12],[25,1,27,3],[28,4,29,5],[28,7,29,7],[14,1,16,1],[14,2,15,2],[14,3,15,4],[14,5,15,8],[14,9,15,9],[14,10,16,10],[30,7,32,7],[40,1,40,2],[41,1,41,2],[43,1,43,2],[44,1,44,2],[30,1,32,1],[30,2,31,2],[30,3,32,3],[30,4,32,4],[30,5,32,5],[30,6,32,6]]}
[null,"B-AIR series"]
[]
[]
[null,null,null,null,null,null,null,null,null,null,null,null,null,null,null,null,null,"INDEX "]
[]
[]
[]
[]
[]
[]
[]
[]
[]
[null,"B-AIR SERIES",null,null,null,null,null,null,null,null,null,null,null,null,null,null,null,null,"KORREKCIÓS FAKTOR"]
[null,"B-AIR \nSERIES","Cső\n méret","Átáramlási képesség \nat 7 bar(g), 20 °C",null,"Méretek",null,null,null,"Tömeg","Szűrő \nbetét\ntípus","CODE","Nettó ár\n[HUF]",null,null,null,null,null,"Üzemi nyomás [bar]",2,3,4,5,6,7,8,9,10,11,12,13,14,15,16]
[null,null,null,null,null,null,null,null,null,null,null,null,null,null,null,null,null,null,"Üzemi nyomás [psi]",29,44,58,72,87,100,115,130,145,160,174,189,203,218,232]
[null,null,"inch","Nm³/h","scfm","A [mm]","B [mm]","C [mm]","D [mm]","kg",null,null,null,null,null,null,null,null,"Korrekciós faktor",0.38,0.5,0.63,0.75,0.88,1,1.1299999999999999,1.25,1.38,1.5,1.63,1.75,1.88,2,2.13]
[null,"B-AIR 0076","1/2''",78,46,187,88,20,60,"3x0,47","07050","3504422",{"$f":"VLOOKUP(L18,Árlista!$B:$F,5,0)","v":"123 250,-Ft"}]
[null,"B-AIR 0106","3/4''",120,70,257,88,20,80,"3x0,6","14050","3504423",{"$f":"VLOOKUP(L19,Árlista!$B:$F,5,0)","v":"125 050,-Ft"}]
[null,"B-AIR 0186","1''",198,116,263,125,32,100,"3x1,57","12075","3504424",{"$f":"VLOOKUP(L20,Árlista!$B:$F,5,0)","v":"183 740,-Ft"}]
[null,"B-AIR 0306","1''",335,197,363,125,32,120,"3x2,2","22075","3504425",{"$f":"VLOOKUP(L21,Árlista!$B:$F,5,0)","v":"211 820,-Ft"}]
[null,"B-AIR 0476","1 1/2''",510,300,461,125,32,140,"3x2,8","32075","3504426",{"$f":"VLOOKUP(L22,Árlista!$B:$F,5,0)","v":"245 000,-Ft (2)"}]
[null,"B-AIR 0706","1 1/2''",780,459,640,125,32,160,"3x3,9","50075","3504427",{"$f":"VLOOKUP(L23,Árlista!$B:$F,5,0)","v":"319 000,-Ft (2)"}]
[null,"MEGJEGYZÉS A megadott nettó árak tájékoztató jellegűek, az utána feltüntett szám az adott termék árkategóriáját jelöli.\n- Árs are for complete set.\n- Set includes 3 filter házs, 3 filter betéts, 2 AOK16B condensate drains, 1 MCD drain and 1 PDI 16 differential nyomás indicator."]
[]
[null,"SZŰRŐ BETÉT",null,null,"0,01 µm"]
[null,null,null,null,"S","H²","A²"]
[null,null,null,null,"finomszűrő","catalyst","adsorption"]
[null,null,null,null,"borosilicate micro fibres",null,"bor. micro fib."]
[null,null,null,null,null,null,"activ. carbon"]
[null,"Szűrő \nbetét \ntípus","Átáramlási képesség","Corresponding\nház","Nettó \nÁr\n[HUF]","Nettó \nÁr\n[HUF]","Nettó \nÁr\n[HUF]"]
[]
[null,null,"[Nm³/h]"]
[null,7050,78,"B-AIR 0076",{"$f":"VLOOKUP($B34&E$27,Árlista!$B:$F,5,0)","v":"6 780,-Ft"},{"$f":"VLOOKUP($B34&F$27,Árlista!$B:$F,5,0)","v":"22 560,-Ft"},{"$f":"VLOOKUP($B34&G$27,Árlista!$B:$F,5,0)","v":"19 620,-Ft"}]
[null,14050,120,"B-AIR 0106",{"$f":"VLOOKUP($B35&E$27,Árlista!$B:$F,5,0)","v":"8 720,-Ft"},{"$f":"VLOOKUP($B35&F$27,Árlista!$B:$F,5,0)","v":"28 890,-Ft"},{"$f":"VLOOKUP($B35&G$27,Árlista!$B:$F,5,0)","v":"21 680,-Ft"}]
[null,12075,198,"B-AIR 0186",{"$f":"VLOOKUP($B36&E$27,Árlista!$B:$F,5,0)","v":"10 980,-Ft"},{"$f":"VLOOKUP($B36&F$27,Árlista!$B:$F,5,0)","v":"35 550,-Ft"},{"$f":"VLOOKUP($B36&G$27,Árlista!$B:$F,5,0)","v":"26 590,-Ft"}]
[null,22075,335,"B-AIR 0306",{"$f":"VLOOKUP($B37&E$27,Árlista!$B:$F,5,0)","v":"15 500,-Ft"},{"$f":"VLOOKUP($B37&F$27,Árlista!$B:$F,5,0)","v":"56 360,-Ft"},{"$f":"VLOOKUP($B37&G$27,Árlista!$B:$F,5,0)","v":"29 910,-Ft"}]
[null,32075,510,"B-AIR 0476",{"$f":"VLOOKUP($B38&E$27,Árlista!$B:$F,5,0)","v":"18 750,-Ft"},{"$f":"VLOOKUP($B38&F$27,Árlista!$B:$F,5,0)","v":"78 060,-Ft"},{"$f":"VLOOKUP($B38&G$27,Árlista!$B:$F,5,0)","v":"32 700,-Ft"}]
[null,50075,780,"B-AIR 0706",{"$f":"VLOOKUP($B39&E$27,Árlista!$B:$F,5,0)","v":"23 910,-Ft"},{"$f":"VLOOKUP($B39&F$27,Árlista!$B:$F,5,0)","v":"120 760,-Ft"},{"$f":"VLOOKUP($B39&G$27,Árlista!$B:$F,5,0)","v":"36 840,-Ft"}]
[]
[null,"KONDENZÁTUM \nLEERESZTŐ",null,"MCD","AOK16B"]
[null,"Nettó ár [HUF]",null,{"$f":"VLOOKUP(D41,Árlista!$B:$F,5,0)","v":"2 430,-Ft"},{"$f":"VLOOKUP(E41,Árlista!$B:$F,5,0)","v":"6 550,-Ft"}]
[]
[null,"DIFFERENTIAL \nPRESSURE INDICATORS",null,"PDI 16"]
[null,"Nettó ár [HUF]",null,{"$f":"VLOOKUP(D44,Árlista!$B:$F,5,0)","v":"4 210,-Ft"}]

{"sheet":"B-AIR plus","index":53,"n_rows":40,"n_cols":27,"rows_kept":40,"cut":false,"hidden":false,"merged":[[14,8,16,8],[14,9,16,9],[18,1,18,9],[20,1,22,3],[23,4,24,5],[23,8,24,8],[14,1,16,1],[14,2,15,2],[14,3,15,4],[14,5,15,5],[14,6,16,6],[14,7,16,7],[25,8,27,8],[35,1,35,2],[36,1,36,2],[38,1,38,2],[39,1,39,2],[25,1,27,1],[25,2,26,2],[25,3,27,3],[25,4,27,4],[25,5,27,5],[25,6,27,6]]}
[null,"B-AIR plus series"]
[]
[]
[null,null,null,null,null,null,null,null,null,null,null,null,null,null,"INDEX "]
[]
[]
[]
[]
[]
[]
[]
[]
[]
[null,"B-AIR plus SERIES",null,null,null,null,null,null,null,null,null,"KORREKCIÓS FAKTOR"]
[null,"B-AIR plus SERIES","Cső\n méret","Átáramlási képesség \nat 7 bar(g), 20 °C",null,"Tömeg","Szűrő \nbetét\ntípus","CODE","Nettó ár\n[HUF]",null,null,"Üzemi nyomás [bar]",2,3,4,5,6,7,8,9,10,11,12,13,14,15,16]
[null,null,null,null,null,null,null,null,null,null,null,"Üzemi nyomás [psi]",29,44,58,72,87,100,115,130,145,160,174,189,203,218,232]
[null,null,"inch","Nm³/h","scfm","kg",null,null,null,null,null,"Korrekciós faktor",0.38,0.5,0.63,0.75,0.88,1,1.1299999999999999,1.25,1.38,1.5,1.63,1.75,1.88,2,2.13]
[null,"B-AIR 0076","1/2''",120,71,12,"07050","3505307",{"$f":"VLOOKUP(H18,Árlista!$B:$F,5,0)","v":"1 422 000,-Ft (3)"}]
[null,"MEGJEGYZÉS A megadott nettó árak tájékoztató jellegűek, az utána feltüntett szám az adott termék árkategóriáját jelöli.\n - Ár is for the complete set."]
[]
[null,"SZŰRŐ BETÉT",null,null,"0,01 µm"]
[null,null,null,null,"S","H²","A²"]
[null,null,null,null,"finomszűrő","catalyst","adsorption"]
[null,null,null,null,"borosilicate micro fibres",null,"bor. micro fib."]
[null,null,null,null,null,null,"activ. carbon"]
[null,"Szűrő \nbetét \ntípus","Átáramlási képesség","Corresponding\nház","Nettó \nÁr\n[HUF]","Nettó \nÁr\n[HUF]","Nettó \nÁr\n[HUF]"]
[]
[null,null,"[Nm³/h]"]
[null,7050,78,"B-AIR 0076",{"$f":"VLOOKUP($B29&E$22,Árlista!$B:$F,5,0)","v":"6 780,-Ft"},{"$f":"VLOOKUP($B29&F$22,Árlista!$B:$F,5,0)","v":"22 560,-Ft"},{"$f":"VLOOKUP($B29&G$22,Árlista!$B:$F,5,0)","v":"19 620,-Ft"}]
[null,14050,120,"B-AIR 0106",{"$f":"VLOOKUP($B30&E$22,Árlista!$B:$F,5,0)","v":"8 720,-Ft"},{"$f":"VLOOKUP($B30&F$22,Árlista!$B:$F,5,0)","v":"28 890,-Ft"},{"$f":"VLOOKUP($B30&G$22,Árlista!$B:$F,5,0)","v":"21 680,-Ft"}]
[null,12075,198,"B-AIR 0186",{"$f":"VLOOKUP($B31&E$22,Árlista!$B:$F,5,0)","v":"10 980,-Ft"},{"$f":"VLOOKUP($B31&F$22,Árlista!$B:$F,5,0)","v":"35 550,-Ft"},{"$f":"VLOOKUP($B31&G$22,Árlista!$B:$F,5,0)","v":"26 590,-Ft"}]
[null,22075,335,"B-AIR 0306",{"$f":"VLOOKUP($B32&E$22,Árlista!$B:$F,5,0)","v":"15 500,-Ft"},{"$f":"VLOOKUP($B32&F$22,Árlista!$B:$F,5,0)","v":"56 360,-Ft"},{"$f":"VLOOKUP($B32&G$22,Árlista!$B:$F,5,0)","v":"29 910,-Ft"}]
[null,32075,510,"B-AIR 0476",{"$f":"VLOOKUP($B33&E$22,Árlista!$B:$F,5,0)","v":"18 750,-Ft"},{"$f":"VLOOKUP($B33&F$22,Árlista!$B:$F,5,0)","v":"78 060,-Ft"},{"$f":"VLOOKUP($B33&G$22,Árlista!$B:$F,5,0)","v":"32 700,-Ft"}]
[null,50075,780,"B-AIR 0706",{"$f":"VLOOKUP($B34&E$22,Árlista!$B:$F,5,0)","v":"23 910,-Ft"},{"$f":"VLOOKUP($B34&F$22,Árlista!$B:$F,5,0)","v":"120 760,-Ft"},{"$f":"VLOOKUP($B34&G$22,Árlista!$B:$F,5,0)","v":"36 840,-Ft"}]
[]
[null,"KONDENZÁTUM \nLEERESZTŐ",null,"MCD","AOK16B"]
[null,"Nettó ár [HUF]",null,{"$f":"VLOOKUP(D$36,Árlista!$B:$F,5,0)","v":"2 430,-Ft"},{"$f":"VLOOKUP(E36,Árlista!$B:$F,5,0)","v":"6 550,-Ft"}]
[]
[null,"DIFFERENTIAL \nPRESSURE INDICATORS",null,"PDI 16"]
[null,"Nettó ár [HUF]",null,{"$f":"VLOOKUP(D39,Árlista!$B:$F,5,0)","v":"4 210,-Ft"}]

{"sheet":"AIRWATT","index":54,"n_rows":38,"n_cols":17,"rows_kept":38,"cut":false,"hidden":false,"merged":[[14,9,15,9],[14,10,16,10],[14,11,16,11],[21,1,21,12],[24,1,24,3],[24,4,24,5],[14,1,16,1],[14,2,15,2],[14,3,15,3],[14,4,15,4],[14,5,15,5],[14,6,15,8],[25,1,25,3],[25,4,25,5],[26,1,26,3],[26,4,26,5],[27,1,27,3],[27,4,27,5],[28,1,28,3],[28,4,28,5],[29,1,29,3],[29,4,29,5],[30,1,30,3],[30,4,30,5],[33,2,33,5],[34,2,34,5],[35,2,35,5],[36,2,36,5],[37,2,37,5]]}
[null,"AIRWATT series"]
[]
[]
[null,null,null,null,null,null,null,null,null,null,null,null,null,null,null,null,"INDEX "]
[]
[]
[]
[]
[]
[]
[]
[]
[]
[null,"AIRWATT - heat recovery unit"]
[null,"B-AIR \nSERIES","Motor power","Heat \ncapacity","Oil \nconnection","Water \nconnection","Méretek",null,null,"Tömeg","CODE","Nettó ár\n[HUF]"]
[]
[null,null,"kW","kW","G","G","A [mm]","B [mm]","C [mm]","kg"]
[null,"AirWATT 22","15-22","12-17,6","1 1/4’’","1’’",360,500,760,33,3506206,{"$f":"VLOOKUP(K18,Árlista!$B:$F,5,0)","v":"875 000,-Ft (2)"}]
[null,"AirWATT 37","26-37","20,8-29,6","1 1/4’’","1’’",360,500,760,35,3506207,{"$f":"VLOOKUP(K19,Árlista!$B:$F,5,0)","v":"957 000,-Ft (2)"}]
[null,"AirWATT 75","45-75","36-60","1 1/4’’","1’’",360,500,760,42,3506208,{"$f":"VLOOKUP(K20,Árlista!$B:$F,5,0)","v":"1 241 000,-Ft (3)"}]
[null,"AirWATT 100","90-132","72-100","2’’","2’’",450,600,860,58,3506428,{"$f":"VLOOKUP(K21,Árlista!$B:$F,5,0)","v":"2 215 000,-Ft (3)"}]
[null,"MEGJEGYZÉS A megadott nettó árak tájékoztató jellegűek, az utána feltüntett szám az adott termék árkategóriáját jelöli."]
[]
[null,"TECHNICAL SPECIFICATIONS"]
[null,"Üzemi nyomás (oil)",null,null,"1 – 16 bar"]
[null,"Maximum water nyomás",null,null,"10 bar"]
[null,"Üzemi temperature",null,null,"5 °C – 120 °C"]
[null,"Max. outlet water temperature",null,null,"70 °C"]
[null,"Pressure drop (oil)",null,null,"~ 100 mbar"]
[null,"Ambient temperature",null,null,"5 °C – 45 °C"]
[null,"Water temperature indicator",null,null,"Analog mechanical"]
[]
[]
[null,"Type","Classification according to Pressure Equipment \nDirective PED 97/23 / CE (fluid group 2)"]
[null,"AirWATT 22","not necessary"]
[null,"AirWATT 37","not necessary"]
[null,"AirWATT 75","not necessary"]
[null,"AirWATT 100","not necessary"]

{"sheet":"PETROL STATION EQUIPMENT","index":55,"n_rows":7,"n_cols":10,"rows_kept":7,"cut":false,"hidden":false,"merged":[[30,1,35,1],[2,1,7,1],[16,1,21,1],[22,5,22,9],[23,1,28,1],[29,5,29,9],[79,1,84,1],[36,5,36,9],[37,1,42,1],[51,1,56,1],[58,1,63,1],[65,1,70,1],[72,1,77,1]]}
[null,"PETROL STATION EQUIPMENT"]
[]
[null,"PETROL STATION EQUIPMENT","BS 12-3,5","AWS","AWS","PETRO-PACK","BS TOWER"]
[null,null,null,"Painted","Inox",null,null,null,null,"INDEX "]
[]
[null,null,"Code: 10001134","Code: 10001143","Code: 10001144","Code: 10001133","Code: 10001135"]
[null,null,"Nettó ár:","Nettó ár:","Nettó ár:","Nettó ár:","Nettó ár:"]

{"sheet":"NG","index":56,"n_rows":42,"n_cols":17,"rows_kept":42,"cut":false,"hidden":false,"merged":[[26,1,26,12],[15,1,17,1],[15,2,17,2],[15,3,17,3],[15,4,17,4],[15,5,17,5],[15,6,17,6],[15,7,16,8],[15,9,16,11],[15,12,16,12],[15,18,16,23],[15,24,16,24],[51,1,51,4],[29,7,30,8],[29,9,30,11],[29,12,30,12],[40,1,40,12],[43,1,45,4],[43,5,45,5],[43,6,45,6],[29,1,31,1],[29,2,31,2],[29,3,31,3],[29,4,31,4],[29,5,31,5],[29,6,31,6],[46,1,46,4],[47,1,47,4],[48,1,48,4],[49,1,49,4],[50,1,50,4],[63,1,63,4],[52,1,52,4],[53,1,53,4],[54,1,54,4],[55,1,55,4],[56,1,56,4],[57,1,57,4],[58,1,58,4],[59,1,59,4],[60,1,60,4],[61,1,61,4],[62,1,62,4],[71,1,71,3],[71,12,71,13],[72,1,72,7],[64,1,64,4],[65,1,65,4],[66,1,66,4],[67,1,67,7],[69,1,70,3],[69,12,69,13],[70,12,70,13]]}
[null,"N-GEN series"]
[]
[]
[null,null,null,null,null,null,null,null,null,null,null,null,null,null,null,null,"INDEX "]
[]
[]
[]
[]
[]
[]
[]
[]
[]
[]
[]
[]
[]
[]
[]
[]
[]
[]
[]
[]
[]
[]
[]
[]
[]
[]
[]
[]
[]
[]
[]
[]
[]
[]
[]
[]
[]
[null,"*Bruttó lista ár"]

{"sheet":"MNG","index":57,"n_rows":46,"n_cols":20,"rows_kept":46,"cut":false,"hidden":false,"merged":[[33,1,33,3],[34,1,34,3],[35,1,35,3],[15,15,16,19],[26,1,26,9],[27,1,27,9],[30,1,32,3],[30,4,32,4],[30,5,32,5],[15,1,17,1],[15,2,16,3],[15,4,16,6],[15,7,16,7],[15,8,17,8],[15,9,17,9],[36,1,36,3],[37,1,37,3],[45,1,45,3],[39,1,39,3],[40,1,40,3],[41,1,41,3],[42,1,42,3],[43,1,43,3],[44,1,44,3],[38,1,38,3]]}
[null,"MNG series"]
[]
[]
[null,null,null,null,null,null,null,null,null,null,null,null,null,null,null,null,null,null,"INDEX "]
[]
[]
[]
[]
[]
[]
[]
[]
[]
[]
[null,"NITROGEN GENERATORS",null,null,null,null,null,null,null,null,null,null,null,null,"PURITY RANGE"]
[null,"Standard Purity Range Type Units","Connection",null,"Méretek",null,null,"Tömeg","CODE","Nettó ár\n[HUF]",null,null,null,null,null,"NG units\nStandard Purity Range"]
[]
[null,null,"In","Out","L [mm]","B [mm]","H [mm]","kg",null,null,null,null,null,null,"Residual Oxygen [vol. %]","5","3","2","1","0,5"]
[null,"MNG 09","1 1/2''","1 1/2''",1200,700,2000,315,3506947,{"$f":"VLOOKUP(I19,Árlista!$B:$F,5,0)","v":"9 623 000,-Ft (4)"},null,null,null,null,"Residual Nitrogen [vol. %]",null,"96,00","96,97","97,87","98,17"]
[null,"MNG 18","1 1/2''","1 1/2''",1200,700,2000,330,3506948,{"$f":"VLOOKUP(I20,Árlista!$B:$F,5,0)","v":"12 715 000,-Ft (4)"},null,null,null,null,"Residual Argon [vol. %]",null,"1,00","1,03","1,13","1,33"]
[null,"MNG 27","1 1/2''","1 1/2''",1200,700,2000,380,3506949,{"$f":"VLOOKUP(I21,Árlista!$B:$F,5,0)","v":"16 479 000,-Ft (4)"},null,null,null,null,"Total inert gas purity [vol. %]","95","97","98","99","99,5"]
[null,"MNG 36","1 1/2''","1 1/2''",1200,700,2000,395,3506950,{"$f":"VLOOKUP(I22,Árlista!$B:$F,5,0)","v":"19 604 000,-Ft (4)"}]
[null,"MNG 45","1 1/2''","1 1/2''",1700,700,2000,500,3506951,{"$f":"VLOOKUP(I23,Árlista!$B:$F,5,0)","v":"24 981 000,-Ft (4)"}]
[null,"MNG 54","1 1/2''","1 1/2''",1700,700,2000,515,3506952,{"$f":"VLOOKUP(I24,Árlista!$B:$F,5,0)","v":"28 006 000,-Ft (4)"}]
[null,"MNG 63","1 1/2''","1 1/2''",1700,700,2000,565,3506953,{"$f":"VLOOKUP(I25,Árlista!$B:$F,5,0)","v":"31 926 000,-Ft (4)"}]
[null,"MNG 72","1 1/2''","1 1/2''",1700,700,2000,580,3506954,{"$f":"VLOOKUP(I26,Árlista!$B:$F,5,0)","v":"34 839 000,-Ft (4)"}]
[null,"* female"]
[null,"MEGJEGYZÉS A megadott nettó árak tájékoztató jellegűek, az utána feltüntett szám az adott termék árkategóriáját jelöli.\n- az ár tartalmazza:  \n                   generator, \n                   pre- and after filter (S, R),\n                   packing (Wooden Rack),\n                   Pressure Transmitter - Feed Air,\n                   Pressure Transmitter - Nitrogen,\n                   PLC Siemens S7-1200,\n                   Touch Panael Siemens Simatic KTP-700,\n                   Modbus TCP/IP,\n                   Digital input/output signals.\nExtra:  packing wooden crate for sea shipping: 700 €/net."]
[]
[null,"ADDITIONAL EQUIPMENT"]
[null,"Type",null,null,"CODE","Nettó ár\n[HUF]"]
[]
[]
[null,"Profibus DP",null,null,2300458,{"$f":"VLOOKUP(E34,Árlista!$B:$F,5,0)","v":"311 000,-Ft (2)"}]
[null,"Modbus RTU",null,null,2300459,{"$f":"VLOOKUP(E35,Árlista!$B:$F,5,0)","v":"124 000,-Ft"}]
[null,"OPC Software License",null,null,2300460,{"$f":"VLOOKUP(E36,Árlista!$B:$F,5,0)","v":"462 000,-Ft (2)"}]
[null,"WiFi Module",null,null,2300461,{"$f":"VLOOKUP(E37,Árlista!$B:$F,5,0)","v":"180 870,-Ft"}]
[null,"GSM Module",null,null,2300462,{"$f":"VLOOKUP(E38,Árlista!$B:$F,5,0)","v":"588 000,-Ft (2)"}]
[null,"Analog Output Signals (4-20 mA)",null,null,2300463,{"$f":"VLOOKUP(E39,Árlista!$B:$F,5,0)","v":"550 000,-Ft (2)"}]
[null,"Moisture Transmitter - Feed Air",null,null,2300464,{"$f":"VLOOKUP(E40,Árlista!$B:$F,5,0)","v":"1 283 000,-Ft (3)"}]
[null,"Moisture Transmitter - Nitrogen",null,null,2300465,{"$f":"VLOOKUP(E41,Árlista!$B:$F,5,0)","v":"1 283 000,-Ft (3)"}]
[null,"Flow Meter NM S - 100 m³/h",null,null,2300466,{"$f":"VLOOKUP(E42,Árlista!$B:$F,5,0)","v":"718 000,-Ft (2)"}]
[null,"Flow Meter NM M - 200 m³/h",null,null,2300467,{"$f":"VLOOKUP(E43,Árlista!$B:$F,5,0)","v":"895 000,-Ft (2)"}]
[null,"Flow Meter NM L - 300  m³/h",null,null,2300468,{"$f":"VLOOKUP(E44,Árlista!$B:$F,5,0)","v":"1 589 000,-Ft (3)"}]
[null,"Flow Meter NM XL 400 m³/h",null,null,2300469,{"$f":"VLOOKUP(E45,Árlista!$B:$F,5,0)","v":"1 589 000,-Ft (3)"}]
[null,"Temperature Transmitter - Feed Air",null,null,2300470,{"$f":"VLOOKUP(E46,Árlista!$B:$F,5,0)","v":"179 630,-Ft"}]

{"sheet":"OG","index":58,"n_rows":45,"n_cols":14,"rows_kept":45,"cut":false,"hidden":false,"merged":[[15,18,16,23],[15,24,16,24],[27,7,28,8],[27,9,28,11],[27,12,28,12],[24,1,24,12],[15,1,17,1],[15,2,17,2],[15,3,17,3],[15,4,17,4],[15,5,17,5],[15,6,17,6],[15,7,16,8],[15,9,16,11],[15,12,16,12],[36,1,36,12],[39,5,41,5],[39,6,41,6],[27,1,29,1],[27,2,29,2],[27,3,29,3],[27,4,29,4],[27,5,29,5],[27,6,29,6],[64,1,64,7],[59,1,59,7],[61,1,62,3],[61,12,61,13],[62,12,62,13],[63,1,63,3],[63,12,63,13]]}
[null,"O-GEN series"]
[]
[]
[null,null,null,null,null,null,null,null,null,null,null,null,null,"INDEX "]
[]
[]
[]
[]
[]
[]
[]
[]
[]
[]
[]
[]
[]
[]
[]
[]
[]
[]
[]
[]
[]
[]
[null,null,"*Bruttó lista ár"]
[]
[]
[]
[]
[]
[]
[]
[]
[]
[]
[]
[]
[]
[]
[]
[]
[]
[null,null,"*Bruttó lista ár"]

{"sheet":"Árlista","index":59,"n_rows":2242,"n_cols":14,"rows_kept":2242,"cut":false,"hidden":false,"merged":[]}
[0,null,null,null,null,null,1,null,1,null,null,-1,1,325]
[null,"Cikkszám","Termék megnevezése",null,"Típusa","Termék fajtája",null,"KAT","2018 Listaár HUF","Akciós ár\nHUF",null,"KOSÁR"]
[{"$f":"IF(L3=FALSE,0,1)","v":0},"AF 0056","Alumínium AF szűrőház -3/8’’","3/8’’","Szűrőház",{"$f":"TEXT(I3,\"# ###,-Ft\")","v":"12 930,-Ft"},50.531800000000004,null,{"$f":"ROUND(IF(G$1=1,IF(G3>10000,(G3*N$1*0.85),IF(G3>5000,(G3*N$1*0.88),IF(G3>1000,(G3*N$1*0.91),IF(G3>500,(G3*N$1*0.94),IF(G3>100,(G3*N$1*0.97),(G3*N$1))))))/1.27,G3*N$1/1.27),L$1)","v":12930}]
[{"$f":"IF(L4=FALSE,0,COUNTIF(A$3:A3,\">0\")+1)","v":0},"AF 0076","Alumínium AF szűrőház -1/2’’","1/2’’","Szűrőház",{"$f":"TEXT(I4,\"# ###,-Ft\")","v":"14 540,-Ft"},56.825100000000006,null,{"$f":"ROUND(IF(G$1=1,IF(G4>10000,(G4*N$1*0.85),IF(G4>5000,(G4*N$1*0.88),IF(G4>1000,(G4*N$1*0.91),IF(G4>500,(G4*N$1*0.94),IF(G4>100,(G4*N$1*0.97),(G4*N$1))))))/1.27,G4*N$1/1.27),L$1)","v":14540}]
[{"$f":"IF(L5=FALSE,0,COUNTIF(A$3:A4,\">0\")+1)","v":0},"AF 0106","Alumínium AF szűrőház -3/4’’","3/4’’","Szűrőház","17 140,-Ft",66.970600000000005,null,17140]
[{"$f":"IF(L6=FALSE,0,COUNTIF(A$3:A5,\">0\")+1)","v":0},"AF 0186","Alumínium AF szűrőház -1’’","1’’","Szűrőház","24 560,-Ft",95.985699999999994,null,24560]
[{"$f":"IF(L7=FALSE,0,COUNTIF(A$3:A6,\">0\")+1)","v":0},"AF 0306","Alumínium AF szűrőház -1’’","1’’","Szűrőház","26 020,-Ft",104.81280000000001,null,26020]
[{"$f":"IF(L8=FALSE,0,COUNTIF(A$3:A7,\">0\")+1)","v":0},"AF 0476","Alumínium AF szűrőház -1 1/2’’","1 1/2’’","Szűrőház","30 730,-Ft",123.7957,null,30730]
[{"$f":"IF(L9=FALSE,0,COUNTIF(A$3:A8,\">0\")+1)","v":0},"AF 0706","Alumínium AF szűrőház -1 1/2’’","1 1/2’’","Szűrőház","36 670,-Ft",147.7432,null,36670]
[{"$f":"IF(L10=FALSE,0,COUNTIF(A$3:A9,\">0\")+1)","v":0},"AF 0946","Alumínium AF szűrőház -2’’","2’’","Szűrőház","63 020,-Ft",253.87440000000001,null,63020]
[{"$f":"IF(L11=FALSE,0,COUNTIF(A$3:A10,\">0\")+1)","v":0},"AF 1506","Alumínium AF szűrőház -2’’","2’’","Szűrőház","76 490,-Ft",308.15540000000004,null,76490]
[{"$f":"IF(L12=FALSE,0,COUNTIF(A$3:A11,\">0\")+1)","v":0},"AF 1756","Alumínium AF szűrőház -2 1/2’’","2 1/2’’","Szűrőház","125 480,-Ft",521.65380000000005,null,125480]
[{"$f":"IF(L13=FALSE,0,COUNTIF(A$3:A12,\">0\")+1)","v":0},"AF 2006","Alumínium AF szűrőház -3",3,"Szűrőház","151 310,-Ft",629.01070000000004,null,151310]
[{"$f":"IF(L14=FALSE,0,COUNTIF(A$3:A13,\">0\")+1)","v":0},"AF 2406","Alumínium AF szűrőház -3",3,"Szűrőház","186 870,-Ft",776.8569,null,186870]
[{"$f":"IF(L15=FALSE,0,COUNTIF(A$3:A14,\">0\")+1)","v":0},"6050B","Szűrőbetét B -AF 0056","AF 0056","Szűrőbetét","6 300,-Ft",24.6067,null,6300]
[{"$f":"IF(L16=FALSE,0,COUNTIF(A$3:A15,\">0\")+1)","v":0},"7050B","Szűrőbetét B -AF 0076","AF 0076","Szűrőbetét","7 790,-Ft",30.4468,null,7790]
[{"$f":"IF(L17=FALSE,0,COUNTIF(A$3:A16,\">0\")+1)","v":0},"14050B","Szűrőbetét B -AF 0106","AF 0106","Szűrőbetét","10 050,-Ft",39.273900000000005,null,10050]
[{"$f":"IF(L18=FALSE,0,COUNTIF(A$3:A17,\">0\")+1)","v":0},"12075B","Szűrőbetét B -AF 0186","AF 0186","Szűrőbetét","13 190,-Ft",51.530900000000003,null,13190]
[{"$f":"IF(L19=FALSE,0,COUNTIF(A$3:A18,\">0\")+1)","v":0},"22075B","Szűrőbetét B -AF 0306","AF 0306","Szűrőbetét","18 610,-Ft",72.717999999999989,null,18610]
[{"$f":"IF(L20=FALSE,0,COUNTIF(A$3:A19,\">0\")+1)","v":0},"32075B","Szűrőbetét B -AF 0476","AF 0476","Szűrőbetét","22 500,-Ft",87.941400000000002,null,22500]
[{"$f":"IF(L21=FALSE,0,COUNTIF(A$3:A20,\">0\")+1)","v":0},"50075B","Szűrőbetét B -AF 0706","AF 0706","Szűrőbetét","26 680,-Ft",107.47020000000001,null,26680]
[{"$f":"IF(L22=FALSE,0,COUNTIF(A$3:A21,\">0\")+1)","v":0},"51090B","Szűrőbetét B -AF 0946","AF 0946","Szűrőbetét","38 230,-Ft",154.02619999999999,null,38230]
[{"$f":"IF(L23=FALSE,0,COUNTIF(A$3:A22,\">0\")+1)","v":0},"76090B","Szűrőbetét B -AF 1506","AF 1506","Szűrőbetét","46 530,-Ft",187.46,null,46530]
[{"$f":"IF(L24=FALSE,0,COUNTIF(A$3:A23,\">0\")+1)","v":0},"76090B","Szűrőbetét B -AF 1756","AF 1756","Szűrőbetét","46 530,-Ft",187.46,null,46530]
[{"$f":"IF(L25=FALSE,0,COUNTIF(A$3:A24,\">0\")+1)","v":0},"51140B","Szűrőbetét B -AF 2006","AF 2006","Szűrőbetét","56 560,-Ft",227.83599999999998,null,56560]
[{"$f":"IF(L26=FALSE,0,COUNTIF(A$3:A25,\">0\")+1)","v":0},"75140B","Szűrőbetét B -AF 2406","AF 2406","Szűrőbetét","65 540,-Ft",264.03019999999998,null,65540]
[{"$f":"IF(L27=FALSE,0,COUNTIF(A$3:A26,\">0\")+1)","v":0},"6050P","Szűrőbetét P -AF 0056","AF 0056","Szűrőbetét","5 480,-Ft",21.413699999999999,null,5480]
[{"$f":"IF(L28=FALSE,0,COUNTIF(A$3:A27,\">0\")+1)","v":0},"7050P","Szűrőbetét P -AF 0076","AF 0076","Szűrőbetét","6 780,-Ft",26.481300000000001,null,6780]
[{"$f":"IF(L29=FALSE,0,COUNTIF(A$3:A28,\">0\")+1)","v":0},"14050P","Szűrőbetét P -AF 0106","AF 0106","Szűrőbetét","8 720,-Ft",34.093000000000004,null,8720]
[{"$f":"IF(L30=FALSE,0,COUNTIF(A$3:A29,\">0\")+1)","v":0},"12075P","Szűrőbetét P -AF 0186","AF 0186","Szűrőbetét","10 980,-Ft",42.920100000000005,null,10980]
[{"$f":"IF(L31=FALSE,0,COUNTIF(A$3:A30,\">0\")+1)","v":0},"22075P","Szűrőbetét P -AF 0306","AF 0306","Szűrőbetét","15 500,-Ft",60.574300000000001,null,15500]
[{"$f":"IF(L32=FALSE,0,COUNTIF(A$3:A31,\">0\")+1)","v":0},"32075P","Szűrőbetét P -AF 0476","AF 0476","Szűrőbetét","18 750,-Ft",73.263899999999992,null,18750]
[{"$f":"IF(L33=FALSE,0,COUNTIF(A$3:A32,\">0\")+1)","v":0},"50075P","Szűrőbetét P -AF 0706","AF 0706","Szűrőbetét","23 910,-Ft",93.451900000000009,null,23910]
[{"$f":"IF(L34=FALSE,0,COUNTIF(A$3:A33,\">0\")+1)","v":0},"51090P","Szűrőbetét P -AF 0946","AF 0946","Szűrőbetét","33 220,-Ft",133.8279,null,33220]
[{"$f":"IF(L35=FALSE,0,COUNTIF(A$3:A34,\">0\")+1)","v":0},"76090P","Szűrőbetét P -AF 1506","AF 1506","Szűrőbetét","40 450,-Ft",162.9666,null,40450]
[{"$f":"IF(L36=FALSE,0,COUNTIF(A$3:A35,\">0\")+1)","v":0},"76090P","Szűrőbetét P -AF 1756","AF 1756","Szűrőbetét","40 450,-Ft",162.9666,null,40450]
[{"$f":"IF(L37=FALSE,0,COUNTIF(A$3:A36,\">0\")+1)","v":0},"51140P","Szűrőbetét P -AF 2006","AF 2006","Szűrőbetét","51 410,-Ft",207.10210000000001,null,51410]
[{"$f":"IF(L38=FALSE,0,COUNTIF(A$3:A37,\">0\")+1)","v":0},"75140P","Szűrőbetét P -AF 2406","AF 2406","Szűrőbetét","59 570,-Ft",239.97970000000001,null,59570]
[{"$f":"IF(L39=FALSE,0,COUNTIF(A$3:A38,\">0\")+1)","v":0},"6050R","Szűrőbetét R -AF 0056","AF 0056","Szűrőbetét","5 480,-Ft",21.413699999999999,null,5480]
[{"$f":"IF(L40=FALSE,0,COUNTIF(A$3:A39,\">0\")+1)","v":0},"7050R","Szűrőbetét R -AF 0076","AF 0076","Szűrőbetét","6 780,-Ft",26.481300000000001,null,6780]
[{"$f":"IF(L41=FALSE,0,COUNTIF(A$3:A40,\">0\")+1)","v":0},"14050R","Szűrőbetét R -AF 0106","AF 0106","Szűrőbetét","8 720,-Ft",34.093000000000004,null,8720]
[{"$f":"IF(L42=FALSE,0,COUNTIF(A$3:A41,\">0\")+1)","v":0},"12075R","Szűrőbetét R -AF 0186","AF 0186","Szűrőbetét","10 980,-Ft",42.920100000000005,null,10980]
[{"$f":"IF(L43=FALSE,0,COUNTIF(A$3:A42,\">0\")+1)","v":0},"22075R","Szűrőbetét R -AF 0306","AF 0306","Szűrőbetét","15 500,-Ft",60.574300000000001,null,15500]
[{"$f":"IF(L44=FALSE,0,COUNTIF(A$3:A43,\">0\")+1)","v":0},"32075R","Szűrőbetét R -AF 0476","AF 0476","Szűrőbetét","18 750,-Ft",73.263899999999992,null,18750]
[{"$f":"IF(L45=FALSE,0,COUNTIF(A$3:A44,\">0\")+1)","v":0},"50075R","Szűrőbetét R -AF 0706","AF 0706","Szűrőbetét","23 910,-Ft",93.451900000000009,null,23910]
[{"$f":"IF(L46=FALSE,0,COUNTIF(A$3:A45,\">0\")+1)","v":0},"51090R","Szűrőbetét R -AF 0946","AF 0946","Szűrőbetét","33 220,-Ft",133.8279,null,33220]
[{"$f":"IF(L47=FALSE,0,COUNTIF(A$3:A46,\">0\")+1)","v":0},"76090R","Szűrőbetét R -AF 1506","AF 1506","Szűrőbetét","40 450,-Ft",162.9666,null,40450]
[{"$f":"IF(L48=FALSE,0,COUNTIF(A$3:A47,\">0\")+1)","v":0},"76090R","Szűrőbetét R -AF 1756","AF 1756","Szűrőbetét","40 450,-Ft",162.9666,null,40450]
[{"$f":"IF(L49=FALSE,0,COUNTIF(A$3:A48,\">0\")+1)","v":0},"51140R","Szűrőbetét R -AF 2006","AF 2006","Szűrőbetét","51 410,-Ft",207.10210000000001,null,51410]
[{"$f":"IF(L50=FALSE,0,COUNTIF(A$3:A49,\">0\")+1)","v":0},"75140R","Szűrőbetét R -AF 2406","AF 2406","Szűrőbetét","59 570,-Ft",239.97970000000001,null,59570]
[{"$f":"IF(L51=FALSE,0,COUNTIF(A$3:A50,\">0\")+1)","v":0},"6050M","Szűrőbetét M -AF 0056","AF 0056","Szűrőbetét","5 480,-Ft",21.413699999999999,null,5480]
[{"$f":"IF(L52=FALSE,0,COUNTIF(A$3:A51,\">0\")+1)","v":0},"7050M","Szűrőbetét M -AF 0076","AF 0076","Szűrőbetét","6 780,-Ft",26.481300000000001,null,6780]
[{"$f":"IF(L53=FALSE,0,COUNTIF(A$3:A52,\">0\")+1)","v":0},"14050M","Szűrőbetét M -AF 0106","AF 0106","Szűrőbetét","8 720,-Ft",34.093000000000004,null,8720]
[{"$f":"IF(L54=FALSE,0,COUNTIF(A$3:A53,\">0\")+1)","v":0},"12075M","Szűrőbetét M -AF 0186","AF 0186","Szűrőbetét","10 980,-Ft",42.920100000000005,null,10980]
[{"$f":"IF(L55=FALSE,0,COUNTIF(A$3:A54,\">0\")+1)","v":0},"22075M","Szűrőbetét M -AF 0306","AF 0306","Szűrőbetét","15 500,-Ft",60.574300000000001,null,15500]
[{"$f":"IF(L56=FALSE,0,COUNTIF(A$3:A55,\">0\")+1)","v":0},"32075M","Szűrőbetét M -AF 0476","AF 0476","Szűrőbetét","18 750,-Ft",73.263899999999992,null,18750]
[{"$f":"IF(L57=FALSE,0,COUNTIF(A$3:A56,\">0\")+1)","v":0},"50075M","Szűrőbetét M -AF 0706","AF 0706","Szűrőbetét","23 910,-Ft",93.451900000000009,null,23910]
[{"$f":"IF(L58=FALSE,0,COUNTIF(A$3:A57,\">0\")+1)","v":0},"51090M","Szűrőbetét M -AF 0946","AF 0946","Szűrőbetét","33 220,-Ft",133.8279,null,33220]
[{"$f":"IF(L59=FALSE,0,COUNTIF(A$3:A58,\">0\")+1)","v":0},"76090M","Szűrőbetét M -AF 1506","AF 1506","Szűrőbetét","40 450,-Ft",162.9666,null,40450]
[{"$f":"IF(L60=FALSE,0,COUNTIF(A$3:A59,\">0\")+1)","v":0},"76090M","Szűrőbetét M -AF 1756","AF 1756","Szűrőbetét","40 450,-Ft",162.9666,null,40450]
[{"$f":"IF(L61=FALSE,0,COUNTIF(A$3:A60,\">0\")+1)","v":0},"51140M","Szűrőbetét M -AF 2006","AF 2006","Szűrőbetét","51 410,-Ft",207.10210000000001,null,51410]
[{"$f":"IF(L62=FALSE,0,COUNTIF(A$3:A61,\">0\")+1)","v":0},"75140M","Szűrőbetét M -AF 2406","AF 2406","Szűrőbetét","59 570,-Ft",239.97970000000001,null,59570]
[{"$f":"IF(L63=FALSE,0,COUNTIF(A$3:A62,\">0\")+1)","v":0},"6050S","Szűrőbetét S -AF 0056","AF 0056","Szűrőbetét","5 480,-Ft",21.413699999999999,null,5480]
[{"$f":"IF(L64=FALSE,0,COUNTIF(A$3:A63,\">0\")+1)","v":0},"7050S","Szűrőbetét S -AF 0076","AF 0076","Szűrőbetét","6 780,-Ft",26.481300000000001,null,6780]
[{"$f":"IF(L65=FALSE,0,COUNTIF(A$3:A64,\">0\")+1)","v":0},"14050S","Szűrőbetét S -AF 0106","AF 0106","Szűrőbetét","8 720,-Ft",34.093000000000004,null,8720]
[{"$f":"IF(L66=FALSE,0,COUNTIF(A$3:A65,\">0\")+1)","v":0},"12075S","Szűrőbetét S -AF 0186","AF 0186","Szűrőbetét","10 980,-Ft",42.920100000000005,null,10980]
[{"$f":"IF(L67=FALSE,0,COUNTIF(A$3:A66,\">0\")+1)","v":0},"22075S","Szűrőbetét S -AF 0306","AF 0306","Szűrőbetét","15 500,-Ft",60.574300000000001,null,15500]
[{"$f":"IF(L68=FALSE,0,COUNTIF(A$3:A67,\">0\")+1)","v":0},"32075S","Szűrőbetét S -AF 0476","AF 0476","Szűrőbetét",{"$f":"TEXT(I68,\"# ###,-Ft\")","v":"18 750,-Ft"},73.263899999999992,null,{"$f":"ROUND(IF(G$1=1,IF(G68>10000,(G68*N$1*0.85),IF(G68>5000,(G68*N$1*0.88),IF(G68>1000,(G68*N$1*0.91),IF(G68>500,(G68*N$1*0.94),IF(G68>100,(G68*N$1*0.97),(G68*N$1))))))/1.27,G68*N$1/1.27),L$1)","v":18750}]
[{"$f":"IF(L69=FALSE,0,COUNTIF(A$3:A68,\">0\")+1)","v":0},"50075S","Szűrőbetét S -AF 0706","AF 0706","Szűrőbetét","23 910,-Ft",93.451900000000009,null,23910]
[{"$f":"IF(L70=FALSE,0,COUNTIF(A$3:A69,\">0\")+1)","v":0},"51090S","Szűrőbetét S -AF 0946","AF 0946","Szűrőbetét","33 220,-Ft",133.8279,null,33220]
[{"$f":"IF(L71=FALSE,0,COUNTIF(A$3:A70,\">0\")+1)","v":0},"76090S","Szűrőbetét S -AF 1506","AF 1506","Szűrőbetét","40 450,-Ft",162.9666,null,40450]
[{"$f":"IF(L72=FALSE,0,COUNTIF(A$3:A71,\">0\")+1)","v":0},"76090S","Szűrőbetét S -AF 1756","AF 1756","Szűrőbetét","40 450,-Ft",162.9666,null,40450]
[{"$f":"IF(L73=FALSE,0,COUNTIF(A$3:A72,\">0\")+1)","v":0},"51140S","Szűrőbetét S -AF 2006","AF 2006","Szűrőbetét","51 410,-Ft",207.10210000000001,null,51410]
[{"$f":"IF(L74=FALSE,0,COUNTIF(A$3:A73,\">0\")+1)","v":0},"75140S","Szűrőbetét S -AF 2406","AF 2406","Szűrőbetét","59 570,-Ft",239.97970000000001,null,59570]
[{"$f":"IF(L75=FALSE,0,COUNTIF(A$3:A74,\">0\")+1)","v":0},"6050A","Szűrőbetét A -AF 0056","AF 0056","Szűrőbetét","5 480,-Ft",21.413699999999999,null,5480]
[{"$f":"IF(L76=FALSE,0,COUNTIF(A$3:A75,\">0\")+1)","v":0},"7050A","Szűrőbetét A -AF 0076","AF 0076","Szűrőbetét","6 780,-Ft",26.481300000000001,null,6780]
[{"$f":"IF(L77=FALSE,0,COUNTIF(A$3:A76,\">0\")+1)","v":0},"14050A","Szűrőbetét A -AF 0106","AF 0106","Szűrőbetét","8 720,-Ft",34.093000000000004,null,8720]
[{"$f":"IF(L78=FALSE,0,COUNTIF(A$3:A77,\">0\")+1)","v":0},"12075A","Szűrőbetét A -AF 0186","AF 0186","Szűrőbetét","10 980,-Ft",42.920100000000005,null,10980]
[{"$f":"IF(L79=FALSE,0,COUNTIF(A$3:A78,\">0\")+1)","v":0},"22075A","Szűrőbetét A -AF 0306","AF 0306","Szűrőbetét","15 500,-Ft",60.574300000000001,null,15500]
[{"$f":"IF(L80=FALSE,0,COUNTIF(A$3:A79,\">0\")+1)","v":0},"32075A","Szűrőbetét A -AF 0476","AF 0476","Szűrőbetét","18 750,-Ft",73.263899999999992,null,18750]
[{"$f":"IF(L81=FALSE,0,COUNTIF(A$3:A80,\">0\")+1)","v":0},"50075A","Szűrőbetét A -AF 0706","AF 0706","Szűrőbetét","23 910,-Ft",93.451900000000009,null,23910]
[{"$f":"IF(L82=FALSE,0,COUNTIF(A$3:A81,\">0\")+1)","v":0},"51090A","Szűrőbetét A -AF 0946","AF 0946","Szűrőbetét","33 220,-Ft",133.8279,null,33220]
[{"$f":"IF(L83=FALSE,0,COUNTIF(A$3:A82,\">0\")+1)","v":0},"76090A","Szűrőbetét A -AF 1506","AF 1506","Szűrőbetét","40 450,-Ft",162.9666,null,40450]
[{"$f":"IF(L84=FALSE,0,COUNTIF(A$3:A83,\">0\")+1)","v":0},"76090A","Szűrőbetét A -AF 1756","AF 1756","Szűrőbetét","40 450,-Ft",162.9666,null,40450]
[{"$f":"IF(L85=FALSE,0,COUNTIF(A$3:A84,\">0\")+1)","v":0},"51140A","Szűrőbetét A -AF 2006","AF 2006","Szűrőbetét","51 410,-Ft",207.10210000000001,null,51410]
[{"$f":"IF(L86=FALSE,0,COUNTIF(A$3:A85,\">0\")+1)","v":0},"75140A","Szűrőbetét A -AF 2406","AF 2406","Szűrőbetét","59 570,-Ft",239.97970000000001,null,59570]
[{"$f":"IF(L87=FALSE,0,COUNTIF(A$3:A86,\">0\")+1)","v":0},"7050A²","Szűrőbetét A2 -AF 0076","AF 0076","Szűrőbetét","19 620,-Ft",76.683500000000009,null,19620]
[{"$f":"IF(L88=FALSE,0,COUNTIF(A$3:A87,\">0\")+1)","v":0},"14050A²","Szűrőbetét A2 -AF 0106","AF 0106","Szűrőbetét","21 680,-Ft",84.738100000000003,null,21680]
[{"$f":"IF(L89=FALSE,0,COUNTIF(A$3:A88,\">0\")+1)","v":0},"12075A²","Szűrőbetét A2 -AF 0186","AF 0186","Szűrőbetét","26 590,-Ft",107.13030000000001,null,26590]
[{"$f":"IF(L90=FALSE,0,COUNTIF(A$3:A89,\">0\")+1)","v":0},"22075A²","Szűrőbetét A2 -AF 0306","AF 0306","Szűrőbetét","29 910,-Ft",120.4894,null,29910]
[{"$f":"IF(L91=FALSE,0,COUNTIF(A$3:A90,\">0\")+1)","v":0},"32075A²","Szűrőbetét A2 -AF 0476","AF 0476","Szűrőbetét","32 700,-Ft",131.7473,null,32700]
[{"$f":"IF(L92=FALSE,0,COUNTIF(A$3:A91,\">0\")+1)","v":0},"50075A²","Szűrőbetét A2 -AF 0706","AF 0706","Szűrőbetét","36 840,-Ft",148.40240000000003,null,36840]
[{"$f":"IF(L93=FALSE,0,COUNTIF(A$3:A92,\">0\")+1)","v":0},"7050H²","Szűrőbetét H2 -AF 0076","AF 0076","Szűrőbetét","22 560,-Ft",88.157700000000006,null,22560]
[{"$f":"IF(L94=FALSE,0,COUNTIF(A$3:A93,\">0\")+1)","v":0},"14050H²","Szűrőbetét H2 -AF 0106","AF 0106","Szűrőbetét","28 890,-Ft",116.4003,null,28890]
[{"$f":"IF(L95=FALSE,0,COUNTIF(A$3:A94,\">0\")+1)","v":0},"12075H²","Szűrőbetét H2 -AF 0186","AF 0186","Szűrőbetét","35 550,-Ft",143.21119999999999,null,35550]
[{"$f":"IF(L96=FALSE,0,COUNTIF(A$3:A95,\">0\")+1)","v":0},"22075H²","Szűrőbetét H2 -AF 0306","AF 0306","Szűrőbetét","56 360,-Ft",227.0635,null,56360]
[{"$f":"IF(L97=FALSE,0,COUNTIF(A$3:A96,\">0\")+1)","v":0},"32075H²","Szűrőbetét H2 -AF 0476","AF 0476","Szűrőbetét","78 060,-Ft",314.44870000000003,null,78060]
[{"$f":"IF(L98=FALSE,0,COUNTIF(A$3:A97,\">0\")+1)","v":0},"50075H²","Szűrőbetét H2 -AF 0706","AF 0706","Szűrőbetét","120 760,-Ft",502.02199999999999,null,120760]
[{"$f":"IF(L99=FALSE,0,COUNTIF(A$3:A98,\">0\")+1)","v":0},"7050MS²","Szűrőbetét MS2 -AF 0076","AF 0076","Szűrőbetét","20 480,-Ft",80.020700000000005,null,20480]
[{"$f":"IF(L100=FALSE,0,COUNTIF(A$3:A99,\">0\")+1)","v":0},"14050MS²","Szűrőbetét MS2 -AF 0106","AF 0106","Szűrőbetét","25 260,-Ft",98.725499999999997,null,25260]
[{"$f":"IF(L101=FALSE,0,COUNTIF(A$3:A100,\">0\")+1)","v":0},"12075MS²","Szűrőbetét MS2 -AF 0186","AF 0186","Szűrőbetét","30 980,-Ft",124.81540000000001,null,30980]
[{"$f":"IF(L102=FALSE,0,COUNTIF(A$3:A101,\">0\")+1)","v":0},"22075MS²","Szűrőbetét MS2 -AF 0306","AF 0306","Szűrőbetét","34 840,-Ft",140.36840000000001,null,34840]
[{"$f":"IF(L103=FALSE,0,COUNTIF(A$3:A102,\">0\")+1)","v":0},"32075MS²","Szűrőbetét MS2 -AF 0476","AF 0476","Szűrőbetét","38 100,-Ft",153.4906,null,38100]
[{"$f":"IF(L104=FALSE,0,COUNTIF(A$3:A103,\">0\")+1)","v":0},"50075MS²","Szűrőbetét MS2 -AF 0706","AF 0706","Szűrőbetét","42 920,-Ft",172.89580000000001,null,42920]
[{"$f":"IF(L105=FALSE,0,COUNTIF(A$3:A104,\">0\")+1)","v":0},"AF HT 0056","Alumínium AF HT szűrőház -3/8’’",null,null,"13 550,-Ft",52.95,null,13550]
[{"$f":"IF(L106=FALSE,0,COUNTIF(A$3:A105,\">0\")+1)","v":0},"AF HT 0076","Alumínium AF HT szűrőház -1/2’’",null,null,"15 230,-Ft",59.5,null,15230]
[{"$f":"IF(L107=FALSE,0,COUNTIF(A$3:A106,\">0\")+1)","v":0},"AF HT 0106","Alumínium AF HT szűrőház -3/4’’",null,null,"17 990,-Ft",70.3,null,17990]
[{"$f":"IF(L108=FALSE,0,COUNTIF(A$3:A107,\">0\")+1)","v":0},"AF HT 0186","Alumínium AF HT szűrőház -1’’",null,null,"24 970,-Ft",100.6,null,24970]
[{"$f":"IF(L109=FALSE,0,COUNTIF(A$3:A108,\">0\")+1)","v":0},"AF HT 0306","Alumínium AF HT szűrőház -1’’",null,null,"27 280,-Ft",109.9,null,27280]
[{"$f":"IF(L110=FALSE,0,COUNTIF(A$3:A109,\">0\")+1)","v":0},"AF HT 0476","Alumínium AF HT szűrőház -1 1/2’’",null,null,"32 220,-Ft",129.80000000000001,null,32220]
[{"$f":"IF(L111=FALSE,0,COUNTIF(A$3:A110,\">0\")+1)","v":0},"AF HT 0706","Alumínium AF HT szűrőház -1 1/2’’",null,null,"38 450,-Ft",154.9,null,38450]
[{"$f":"IF(L112=FALSE,0,COUNTIF(A$3:A111,\">0\")+1)","v":0},"AF HT 0946","Alumínium AF HT szűrőház -2’’",null,null,"66 080,-Ft",266.2,null,66080]
[{"$f":"IF(L113=FALSE,0,COUNTIF(A$3:A112,\">0\")+1)","v":0},"AF HT 1506","Alumínium AF HT szűrőház -2’’",null,null,"80 180,-Ft",323,null,80180]
[{"$f":"IF(L114=FALSE,0,COUNTIF(A$3:A113,\">0\")+1)","v":0},"AF HT 1756","Alumínium AF HT szűrőház -2 1/2’’",null,null,"131 560,-Ft",546.9,null,131560]
[{"$f":"IF(L115=FALSE,0,COUNTIF(A$3:A114,\">0\")+1)","v":0},"AF HT 2006","Alumínium AF HT szűrőház -3",null,null,"158 640,-Ft",659.5,null,158640]
[{"$f":"IF(L116=FALSE,0,COUNTIF(A$3:A115,\">0\")+1)","v":0},"AF HT 2406","Alumínium AF HT szűrőház -3",null,null,"196 050,-Ft",815,null,196050]
[{"$f":"IF(L117=FALSE,0,COUNTIF(A$3:A116,\">0\")+1)","v":0},"6050BHT","Szűrőbetét B -AF HT 0056",null,null,"16 050,-Ft",62.7,null,16050]
[{"$f":"IF(L118=FALSE,0,COUNTIF(A$3:A117,\">0\")+1)","v":0},"7050BHT","Szűrőbetét B -AF HT 0076",null,null,"17 350,-Ft",67.8,null,17350]
[{"$f":"IF(L119=FALSE,0,COUNTIF(A$3:A118,\">0\")+1)","v":0},"14050BHT","Szűrőbetét B -AF HT 0106",null,null,"19 940,-Ft",77.900000000000006,null,19940]
[{"$f":"IF(L120=FALSE,0,COUNTIF(A$3:A119,\">0\")+1)","v":0},"12075BHT","Szűrőbetét B -AF HT 0186",null,null,"22 830,-Ft",89.2,null,22830]
[{"$f":"IF(L121=FALSE,0,COUNTIF(A$3:A120,\">0\")+1)","v":0},"22075BHT","Szűrőbetét B -AF HT 0306",null,null,"26 190,-Ft",105.5,null,26190]
[{"$f":"IF(L122=FALSE,0,COUNTIF(A$3:A121,\">0\")+1)","v":0},"32075BHT","Szűrőbetét B -AF HT 0476",null,null,"28 890,-Ft",116.4,null,28890]
[{"$f":"IF(L123=FALSE,0,COUNTIF(A$3:A122,\">0\")+1)","v":0},"50075BHT","Szűrőbetét B -AF HT 0706",null,null,"38 950,-Ft",156.9,null,38950]
[{"$f":"IF(L124=FALSE,0,COUNTIF(A$3:A123,\">0\")+1)","v":0},"51090BHT","Szűrőbetét B -AF HT 0946",null,null,"50 190,-Ft",202.2,null,50190]
[{"$f":"IF(L125=FALSE,0,COUNTIF(A$3:A124,\">0\")+1)","v":0},"76090BHT","Szűrőbetét B -AF HT 1506",null,null,"59 380,-Ft",239.2,null,59380]
[{"$f":"IF(L126=FALSE,0,COUNTIF(A$3:A125,\">0\")+1)","v":0},"76090BHT","Szűrőbetét B -AF HT 1756",null,null,"59 380,-Ft",239.2,null,59380]
[{"$f":"IF(L127=FALSE,0,COUNTIF(A$3:A126,\">0\")+1)","v":0},"51140BHT","Szűrőbetét B -AF HT 2006",null,null,"85 510,-Ft",344.5,null,85510]
[{"$f":"IF(L128=FALSE,0,COUNTIF(A$3:A127,\">0\")+1)","v":0},"75140BHT","Szűrőbetét B -AF HT 2406",null,null,"88 120,-Ft",355,null,88120]
[{"$f":"IF(L129=FALSE,0,COUNTIF(A$3:A128,\">0\")+1)","v":0},"6050N25HT","Szűrőbetét N25 -AF HT 0056",null,null,"20 450,-Ft",79.900000000000006,null,20450]
[{"$f":"IF(L130=FALSE,0,COUNTIF(A$3:A129,\">0\")+1)","v":0},"7050N25HT","Szűrőbetét N25 -AF HT 0076",null,null,"22 550,-Ft",88.1,null,22550]
[{"$f":"IF(L131=FALSE,0,COUNTIF(A$3:A130,\">0\")+1)","v":0},"14050N25HT","Szűrőbetét N25 -AF HT 0106",null,null,"25 150,-Ft",101.3,null,25150]
[{"$f":"IF(L132=FALSE,0,COUNTIF(A$3:A131,\">0\")+1)","v":0},"12075N25HT","Szűrőbetét N25 -AF HT 0186",null,null,{"$f":"TEXT(I132,\"# ###,-Ft\")","v":"28 770,-Ft"},115.9,null,{"$f":"ROUND(IF(G$1=1,IF(G132>10000,(G132*N$1*0.85),IF(G132>5000,(G132*N$1*0.88),IF(G132>1000,(G132*N$1*0.91),IF(G132>500,(G132*N$1*0.94),IF(G132>100,(G132*N$1*0.97),(G132*N$1))))))/1.27,G132*N$1/1.27),L$1)","v":28770}]
[{"$f":"IF(L133=FALSE,0,COUNTIF(A$3:A132,\">0\")+1)","v":0},"22075N25HT","Szűrőbetét N25 -AF HT 0306",null,null,"34 040,-Ft",137.15,null,34040]
[{"$f":"IF(L134=FALSE,0,COUNTIF(A$3:A133,\">0\")+1)","v":0},"32075N25HT","Szűrőbetét N25 -AF HT 0476",null,null,"40 440,-Ft",162.9,null,40440]
[{"$f":"IF(L135=FALSE,0,COUNTIF(A$3:A134,\">0\")+1)","v":0},"50075N25HT","Szűrőbetét N25 -AF HT 0706",null,null,"54 410,-Ft",219.2,null,54410]
[{"$f":"IF(L136=FALSE,0,COUNTIF(A$3:A135,\">0\")+1)","v":0},"51090N25HT","Szűrőbetét N25 -AF HT 0946",null,null,"70 120,-Ft",282.5,null,70120]
[{"$f":"IF(L137=FALSE,0,COUNTIF(A$3:A136,\">0\")+1)","v":0},"76090N25HT","Szűrőbetét N25 -AF HT 1506",null,null,"83 110,-Ft",334.8,null,83110]
[{"$f":"IF(L138=FALSE,0,COUNTIF(A$3:A137,\">0\")+1)","v":0},"76090N25HT","Szűrőbetét N25 -AF HT 1756",null,null,"83 110,-Ft",334.8,null,83110]
[{"$f":"IF(L139=FALSE,0,COUNTIF(A$3:A138,\">0\")+1)","v":0},"51140N25HT","Szűrőbetét N25 -AF HT 2006",null,null,"119 720,-Ft",482.3,null,119720]
[{"$f":"IF(L140=FALSE,0,COUNTIF(A$3:A139,\">0\")+1)","v":0},"75140N25HT","Szűrőbetét N25 -AF HT 2406",null,null,"123 490,-Ft",497.5,null,123490]
[{"$f":"IF(L141=FALSE,0,COUNTIF(A$3:A140,\">0\")+1)","v":0},"6050N5HT","Szűrőbetét N5 -AF HT 0056",null,null,"20 450,-Ft",79.900000000000006,null,20450]
[{"$f":"IF(L142=FALSE,0,COUNTIF(A$3:A141,\">0\")+1)","v":0},"7050N5HT","Szűrőbetét N5 -AF HT 0076",null,null,"22 550,-Ft",88.1,null,22550]
[{"$f":"IF(L143=FALSE,0,COUNTIF(A$3:A142,\">0\")+1)","v":0},"14050N5HT","Szűrőbetét N5 -AF HT 0106",null,null,"25 150,-Ft",101.3,null,25150]
[{"$f":"IF(L144=FALSE,0,COUNTIF(A$3:A143,\">0\")+1)","v":0},"12075N5HT","Szűrőbetét N5 -AF HT 0186",null,null,"28 770,-Ft",115.9,null,28770]
[{"$f":"IF(L145=FALSE,0,COUNTIF(A$3:A144,\">0\")+1)","v":0},"22075N5HT","Szűrőbetét N5 -AF HT 0306",null,null,"34 040,-Ft",137.15,null,34040]
[{"$f":"IF(L146=FALSE,0,COUNTIF(A$3:A145,\">0\")+1)","v":0},"32075N5HT","Szűrőbetét N5 -AF HT 0476",null,null,"40 440,-Ft",162.9,null,40440]
[{"$f":"IF(L147=FALSE,0,COUNTIF(A$3:A146,\">0\")+1)","v":0},"50075N5HT","Szűrőbetét N5 -AF HT 0706",null,null,"54 410,-Ft",219.2,null,54410]
[{"$f":"IF(L148=FALSE,0,COUNTIF(A$3:A147,\">0\")+1)","v":0},"51090N5HT","Szűrőbetét N5 -AF HT 0946",null,null,"70 120,-Ft",282.5,null,70120]
[{"$f":"IF(L149=FALSE,0,COUNTIF(A$3:A148,\">0\")+1)","v":0},"76090N5HT","Szűrőbetét N5 -AF HT 1506",null,null,"83 110,-Ft",334.8,null,83110]
[{"$f":"IF(L150=FALSE,0,COUNTIF(A$3:A149,\">0\")+1)","v":0},"76090N5HT","Szűrőbetét N5 -AF HT 1756",null,null,"83 110,-Ft",334.8,null,83110]
[{"$f":"IF(L151=FALSE,0,COUNTIF(A$3:A150,\">0\")+1)","v":0},"51140N5HT","Szűrőbetét N5 -AF HT 2006",null,null,"119 720,-Ft",482.3,null,119720]
[{"$f":"IF(L152=FALSE,0,COUNTIF(A$3:A151,\">0\")+1)","v":0},"75140N5HT","Szűrőbetét N5 -AF HT 2406",null,null,"123 490,-Ft",497.5,null,123490]
[{"$f":"IF(L153=FALSE,0,COUNTIF(A$3:A152,\">0\")+1)","v":0},"6050RHT","Szűrőbetét R -AF HT 0056",null,null,"12 330,-Ft",48.2,null,12330]
[{"$f":"IF(L154=FALSE,0,COUNTIF(A$3:A153,\">0\")+1)","v":0},"7050RHT","Szűrőbetét R -AF HT 0076",null,null,"13 280,-Ft",51.9,null,13280]
[{"$f":"IF(L155=FALSE,0,COUNTIF(A$3:A154,\">0\")+1)","v":0},"14050RHT","Szűrőbetét R -AF HT 0106",null,null,"15 330,-Ft",59.9,null,15330]
[{"$f":"IF(L156=FALSE,0,COUNTIF(A$3:A155,\">0\")+1)","v":0},"12075RHT","Szűrőbetét R -AF HT 0186",null,null,"17 560,-Ft",68.599999999999994,null,17560]
[{"$f":"IF(L157=FALSE,0,COUNTIF(A$3:A156,\">0\")+1)","v":0},"22075RHT","Szűrőbetét R -AF HT 0306",null,null,"21 370,-Ft",83.5,null,21370]
[{"$f":"IF(L158=FALSE,0,COUNTIF(A$3:A157,\">0\")+1)","v":0},"32075RHT","Szűrőbetét R -AF HT 0476",null,null,"22 900,-Ft",89.5,null,22900]
[{"$f":"IF(L159=FALSE,0,COUNTIF(A$3:A158,\">0\")+1)","v":0},"50075RHT","Szűrőbetét R -AF HT 0706",null,null,"29 950,-Ft",120.65,null,29950]
[{"$f":"IF(L160=FALSE,0,COUNTIF(A$3:A159,\">0\")+1)","v":0},"51090RHT","Szűrőbetét R -AF HT 0946",null,null,"38 500,-Ft",155.1,null,38500]
[{"$f":"IF(L161=FALSE,0,COUNTIF(A$3:A160,\">0\")+1)","v":0},"76090RHT","Szűrőbetét R -AF HT 1506",null,null,"45 670,-Ft",184,null,45670]
[{"$f":"IF(L162=FALSE,0,COUNTIF(A$3:A161,\">0\")+1)","v":0},"76090RHT","Szűrőbetét R -AF HT 1756",null,null,"45 670,-Ft",184,null,45670]
[{"$f":"IF(L163=FALSE,0,COUNTIF(A$3:A162,\">0\")+1)","v":0},"51140RHT","Szűrőbetét R -AF HT 2006",null,null,"65 780,-Ft",265,null,65780]
[{"$f":"IF(L164=FALSE,0,COUNTIF(A$3:A163,\">0\")+1)","v":0},"75140RHT","Szűrőbetét R -AF HT 2406",null,null,"67 020,-Ft",270,null,67020]
[{"$f":"IF(L165=FALSE,0,COUNTIF(A$3:A164,\">0\")+1)","v":0},"6050MHT","Szűrőbetét M -AF HT 0056",null,null,"12 330,-Ft",48.2,null,12330]
[{"$f":"IF(L166=FALSE,0,COUNTIF(A$3:A165,\">0\")+1)","v":0},"7050MHT","Szűrőbetét M -AF HT 0076",null,null,"13 280,-Ft",51.9,null,13280]
[{"$f":"IF(L167=FALSE,0,COUNTIF(A$3:A166,\">0\")+1)","v":0},"14050MHT","Szűrőbetét M -AF HT 0106",null,null,"15 330,-Ft",59.9,null,15330]
[{"$f":"IF(L168=FALSE,0,COUNTIF(A$3:A167,\">0\")+1)","v":0},"12075MHT","Szűrőbetét M -AF HT 0186",null,null,"17 560,-Ft",68.599999999999994,null,17560]
[{"$f":"IF(L169=FALSE,0,COUNTIF(A$3:A168,\">0\")+1)","v":0},"22075MHT","Szűrőbetét M -AF HT 0306",null,null,"21 370,-Ft",83.5,null,21370]
[{"$f":"IF(L170=FALSE,0,COUNTIF(A$3:A169,\">0\")+1)","v":0},"32075MHT","Szűrőbetét M -AF HT 0476",null,null,"22 900,-Ft",89.5,null,22900]
[{"$f":"IF(L171=FALSE,0,COUNTIF(A$3:A170,\">0\")+1)","v":0},"50075MHT","Szűrőbetét M -AF HT 0706",null,null,"29 950,-Ft",120.65,null,29950]
[{"$f":"IF(L172=FALSE,0,COUNTIF(A$3:A171,\">0\")+1)","v":0},"51090MHT","Szűrőbetét M -AF HT 0946",null,null,"38 500,-Ft",155.1,null,38500]
[{"$f":"IF(L173=FALSE,0,COUNTIF(A$3:A172,\">0\")+1)","v":0},"76090MHT","Szűrőbetét M -AF HT 1506",null,null,"45 670,-Ft",184,null,45670]
[{"$f":"IF(L174=FALSE,0,COUNTIF(A$3:A173,\">0\")+1)","v":0},"76090MHT","Szűrőbetét M -AF HT 1756",null,null,"45 670,-Ft",184,null,45670]
[{"$f":"IF(L175=FALSE,0,COUNTIF(A$3:A174,\">0\")+1)","v":0},"51140MHT","Szűrőbetét M -AF HT 2006",null,null,"65 780,-Ft",265,null,65780]
[{"$f":"IF(L176=FALSE,0,COUNTIF(A$3:A175,\">0\")+1)","v":0},"75140MHT","Szűrőbetét M -AF HT 2406",null,null,"67 020,-Ft",270,null,67020]
[{"$f":"IF(L177=FALSE,0,COUNTIF(A$3:A176,\">0\")+1)","v":0},"6050SHT","Szűrőbetét S -AF HT 0056",null,null,"12 330,-Ft",48.2,null,12330]
[{"$f":"IF(L178=FALSE,0,COUNTIF(A$3:A177,\">0\")+1)","v":0},"7050SHT","Szűrőbetét S -AF HT 0076",null,null,"13 280,-Ft",51.9,null,13280]
[{"$f":"IF(L179=FALSE,0,COUNTIF(A$3:A178,\">0\")+1)","v":0},"14050SHT","Szűrőbetét S -AF HT 0106",null,null,"15 330,-Ft",59.9,null,15330]
[{"$f":"IF(L180=FALSE,0,COUNTIF(A$3:A179,\">0\")+1)","v":0},"12075SHT","Szűrőbetét S -AF HT 0186",null,null,"17 560,-Ft",68.599999999999994,null,17560]
[{"$f":"IF(L181=FALSE,0,COUNTIF(A$3:A180,\">0\")+1)","v":0},"22075SHT","Szűrőbetét S -AF HT 0306",null,null,"21 370,-Ft",83.5,null,21370]
[{"$f":"IF(L182=FALSE,0,COUNTIF(A$3:A181,\">0\")+1)","v":0},"32075SHT","Szűrőbetét S -AF HT 0476",null,null,"22 900,-Ft",89.5,null,22900]
[{"$f":"IF(L183=FALSE,0,COUNTIF(A$3:A182,\">0\")+1)","v":0},"50075SHT","Szűrőbetét S -AF HT 0706",null,null,"29 950,-Ft",120.65,null,29950]
[{"$f":"IF(L184=FALSE,0,COUNTIF(A$3:A183,\">0\")+1)","v":0},"51090SHT","Szűrőbetét S -AF HT 0946",null,null,"38 500,-Ft",155.1,null,38500]
[{"$f":"IF(L185=FALSE,0,COUNTIF(A$3:A184,\">0\")+1)","v":0},"76090SHT","Szűrőbetét S -AF HT 1506",null,null,"45 670,-Ft",184,null,45670]
[{"$f":"IF(L186=FALSE,0,COUNTIF(A$3:A185,\">0\")+1)","v":0},"76090SHT","Szűrőbetét S -AF HT 1756",null,null,"45 670,-Ft",184,null,45670]
[{"$f":"IF(L187=FALSE,0,COUNTIF(A$3:A186,\">0\")+1)","v":0},"51140SHT","Szűrőbetét S -AF HT 2006",null,null,"65 780,-Ft",265,null,65780]
[{"$f":"IF(L188=FALSE,0,COUNTIF(A$3:A187,\">0\")+1)","v":0},"75140SHT","Szűrőbetét S -AF HT 2406",null,null,"67 020,-Ft",270,null,67020]
[{"$f":"IF(L189=FALSE,0,COUNTIF(A$3:A188,\">0\")+1)","v":0},"6050CKL-B HT","Szűrőbetét CKL-B HT -AF HT 0056",null,null,"12 330,-Ft",48.2,null,12330]
[{"$f":"IF(L190=FALSE,0,COUNTIF(A$3:A189,\">0\")+1)","v":0},"7050CKL-B HT","Szűrőbetét CKL-B HT -AF HT 0076",null,null,"13 280,-Ft",51.9,null,13280]
[{"$f":"IF(L191=FALSE,0,COUNTIF(A$3:A190,\">0\")+1)","v":0},"14050CKL-B HT","Szűrőbetét CKL-B HT -AF HT 0106",null,null,"15 330,-Ft",59.9,null,15330]
[{"$f":"IF(L192=FALSE,0,COUNTIF(A$3:A191,\">0\")+1)","v":0},"12075CKL-B HT","Szűrőbetét CKL-B HT -AF HT 0186",null,null,"23 850,-Ft",93.19,null,23850]
[{"$f":"IF(L193=FALSE,0,COUNTIF(A$3:A192,\">0\")+1)","v":0},"22075CKL-B HT","Szűrőbetét CKL-B HT -AF HT 0306",null,null,",-Ft",null,null,0]
[{"$f":"IF(L194=FALSE,0,COUNTIF(A$3:A193,\">0\")+1)","v":0},"32075CKL-B HT","Szűrőbetét CKL-B HT -AF HT 0476",null,null,"29 830,-Ft",120.19,null,29830]
[{"$f":"IF(L195=FALSE,0,COUNTIF(A$3:A194,\">0\")+1)","v":0},"50075CKL-B HT","Szűrőbetét CKL-B HT -AF HT 0706",null,null,",-Ft",null,null,0]
[{"$f":"IF(L196=FALSE,0,COUNTIF(A$3:A195,\">0\")+1)","v":0},"51090CKL-B HT","Szűrőbetét CKL-B HT -AF HT 0946",null,null,{"$f":"TEXT(I196,\"# ###,-Ft\")","v":"38 500,-Ft"},155.1,null,{"$f":"ROUND(IF(G$1=1,IF(G196>10000,(G196*N$1*0.85),IF(G196>5000,(G196*N$1*0.88),IF(G196>1000,(G196*N$1*0.91),IF(G196>500,(G196*N$1*0.94),IF(G196>100,(G196*N$1*0.97),(G196*N$1))))))/1.27,G196*N$1/1.27),L$1)","v":38500}]
[{"$f":"IF(L197=FALSE,0,COUNTIF(A$3:A196,\">0\")+1)","v":0},"76090CKL-B HT","Szűrőbetét CKL-B HT -AF HT 1506",null,null,"45 670,-Ft",184,null,45670]
[{"$f":"IF(L198=FALSE,0,COUNTIF(A$3:A197,\">0\")+1)","v":0},"76090CKL-B HT","Szűrőbetét CKL-B HT -AF HT 1756",null,null,",-Ft",null,null,0]
[{"$f":"IF(L199=FALSE,0,COUNTIF(A$3:A198,\">0\")+1)","v":0},"51140CKL-B HT","Szűrőbetét CKL-B HT -AF HT 2006",null,null,"146 900,-Ft",610.69000000000005,null,146900]
[{"$f":"IF(L200=FALSE,0,COUNTIF(A$3:A199,\">0\")+1)","v":0},"75140CKL-B HT","Szűrőbetét CKL-B HT -AF HT 2406",null,null,",-Ft",null,null,0]
[{"$f":"IF(L201=FALSE,0,COUNTIF(A$3:A200,\">0\")+1)","v":0},"AAF 0016","Alumínium AFF szűrőház -1/8''","1/8''","Szűrőház","14 090,-Ft",55.063800000000001,null,14090]
[{"$f":"IF(L202=FALSE,0,COUNTIF(A$3:A201,\">0\")+1)","v":0},"AAF 0026","Alumínium AFF szűrőház -1/4''","1/4''","Szűrőház","15 370,-Ft",60.048999999999999,null,15370]
[{"$f":"IF(L203=FALSE,0,COUNTIF(A$3:A202,\">0\")+1)","v":0},"AAF 0036","Alumínium AFF szűrőház -3/8''","3/8''","Szűrőház","16 150,-Ft",63.128700000000002,null,16150]
[{"$f":"IF(L204=FALSE,0,COUNTIF(A$3:A203,\">0\")+1)","v":0},"AAF 0046","Alumínium AFF szűrőház -1/4''","1/4''","Szűrőház","18 080,-Ft",70.658000000000001,null,18080]
[{"$f":"IF(L205=FALSE,0,COUNTIF(A$3:A204,\">0\")+1)","v":0},"AAF 0056","Alumínium AFF szűrőház -3/8''","3/8''","Szűrőház","18 980,-Ft",74.16,null,18980]
[{"$f":"IF(L206=FALSE,0,COUNTIF(A$3:A205,\">0\")+1)","v":0},"AAF 0076","Alumínium AFF szűrőház -1/2''","1/2''","Szűrőház","20 230,-Ft",79.042199999999994,null,20230]
[{"$f":"IF(L207=FALSE,0,COUNTIF(A$3:A206,\">0\")+1)","v":0},"AAF 0106","Alumínium AFF szűrőház -3/4''","3/4''","Szűrőház","21 690,-Ft",84.769000000000005,null,21690]
[{"$f":"IF(L208=FALSE,0,COUNTIF(A$3:A207,\">0\")+1)","v":0},"3528AA-P","Szűrőbetét P -AAF 0016","AAF 0016","Szűrőbetét","5 130,-Ft",20.054099999999998,null,5130]
[{"$f":"IF(L209=FALSE,0,COUNTIF(A$3:A208,\">0\")+1)","v":0},"3844AA-P","Szűrőbetét P -AAF 0026","AAF 0026","Szűrőbetét","5 300,-Ft",20.692700000000002,null,5300]
[{"$f":"IF(L210=FALSE,0,COUNTIF(A$3:A209,\">0\")+1)","v":0},"3844AA-P","Szűrőbetét P -AAF 0036","AAF 0036","Szűrőbetét","5 300,-Ft",20.692700000000002,null,5300]
[{"$f":"IF(L211=FALSE,0,COUNTIF(A$3:A210,\">0\")+1)","v":0},"6050AA-P","Szűrőbetét P -AAF 0046","AAF 0046","Szűrőbetét","5 480,-Ft",21.413699999999999,null,5480]
[{"$f":"IF(L212=FALSE,0,COUNTIF(A$3:A211,\">0\")+1)","v":0},"6050AA-P","Szűrőbetét P -AAF 0056","AAF 0056","Szűrőbetét","5 480,-Ft",21.413699999999999,null,5480]
[{"$f":"IF(L213=FALSE,0,COUNTIF(A$3:A212,\">0\")+1)","v":0},"7050AA-P","Szűrőbetét P -AAF 0076","AAF 0076","Szűrőbetét","6 780,-Ft",26.481300000000001,null,6780]
[{"$f":"IF(L214=FALSE,0,COUNTIF(A$3:A213,\">0\")+1)","v":0},"14050AA-P","Szűrőbetét P -AAF 0106","AAF 0106","Szűrőbetét","8 720,-Ft",34.093000000000004,null,8720]
[{"$f":"IF(L215=FALSE,0,COUNTIF(A$3:A214,\">0\")+1)","v":0},"3528AA-R","Szűrőbetét R -AAF 0016","AAF 0016","Szűrőbetét","5 130,-Ft",20.054099999999998,null,5130]
[{"$f":"IF(L216=FALSE,0,COUNTIF(A$3:A215,\">0\")+1)","v":0},"3844AA-R","Szűrőbetét R -AAF 0026","AAF 0026","Szűrőbetét","5 300,-Ft",20.692700000000002,null,5300]
[{"$f":"IF(L217=FALSE,0,COUNTIF(A$3:A216,\">0\")+1)","v":0},"3844AA-R","Szűrőbetét R -AAF 0036","AAF 0036","Szűrőbetét","5 300,-Ft",20.692700000000002,null,5300]
[{"$f":"IF(L218=FALSE,0,COUNTIF(A$3:A217,\">0\")+1)","v":0},"6050AA-R","Szűrőbetét R -AAF 0046","AAF 0046","Szűrőbetét","5 480,-Ft",21.413699999999999,null,5480]
[{"$f":"IF(L219=FALSE,0,COUNTIF(A$3:A218,\">0\")+1)","v":0},"6050AA-R","Szűrőbetét R -AAF 0056","AAF 0056","Szűrőbetét","5 480,-Ft",21.413699999999999,null,5480]
[{"$f":"IF(L220=FALSE,0,COUNTIF(A$3:A219,\">0\")+1)","v":0},"7050AA-R","Szűrőbetét R -AAF 0076","AAF 0076","Szűrőbetét","6 780,-Ft",26.481300000000001,null,6780]
[{"$f":"IF(L221=FALSE,0,COUNTIF(A$3:A220,\">0\")+1)","v":0},"14050AA-R","Szűrőbetét R -AAF 0106","AAF 0106","Szűrőbetét","8 720,-Ft",34.093000000000004,null,8720]
[{"$f":"IF(L222=FALSE,0,COUNTIF(A$3:A221,\">0\")+1)","v":0},"3528AA-M","Szűrőbetét M -AAF 0016","AAF 0016","Szűrőbetét","5 130,-Ft",20.054099999999998,null,5130]
[{"$f":"IF(L223=FALSE,0,COUNTIF(A$3:A222,\">0\")+1)","v":0},"3844AA-M","Szűrőbetét M -AAF 0026","AAF 0026","Szűrőbetét","5 300,-Ft",20.692700000000002,null,5300]
[{"$f":"IF(L224=FALSE,0,COUNTIF(A$3:A223,\">0\")+1)","v":0},"3844AA-M","Szűrőbetét M -AAF 0036","AAF 0036","Szűrőbetét","5 300,-Ft",20.692700000000002,null,5300]
[{"$f":"IF(L225=FALSE,0,COUNTIF(A$3:A224,\">0\")+1)","v":0},"6050AA-M","Szűrőbetét M -AAF 0046","AAF 0046","Szűrőbetét","5 480,-Ft",21.413699999999999,null,5480]
[{"$f":"IF(L226=FALSE,0,COUNTIF(A$3:A225,\">0\")+1)","v":0},"6050AA-M","Szűrőbetét M -AAF 0056","AAF 0056","Szűrőbetét","5 480,-Ft",21.413699999999999,null,5480]
[{"$f":"IF(L227=FALSE,0,COUNTIF(A$3:A226,\">0\")+1)","v":0},"7050AA-M","Szűrőbetét M -AAF 0076","AAF 0076","Szűrőbetét","6 780,-Ft",26.481300000000001,null,6780]
[{"$f":"IF(L228=FALSE,0,COUNTIF(A$3:A227,\">0\")+1)","v":0},"14050AA-M","Szűrőbetét M -AAF 0106","AAF 0106","Szűrőbetét","8 720,-Ft",34.093000000000004,null,8720]
[{"$f":"IF(L229=FALSE,0,COUNTIF(A$3:A228,\">0\")+1)","v":0},"3528AA-S","Szűrőbetét S -AAF 0016","AAF 0016","Szűrőbetét","5 130,-Ft",20.054099999999998,null,5130]
[{"$f":"IF(L230=FALSE,0,COUNTIF(A$3:A229,\">0\")+1)","v":0},"3844AA-S","Szűrőbetét S -AAF 0026","AAF 0026","Szűrőbetét","5 300,-Ft",20.692700000000002,null,5300]
[{"$f":"IF(L231=FALSE,0,COUNTIF(A$3:A230,\">0\")+1)","v":0},"3844AA-S","Szűrőbetét S -AAF 0036","AAF 0036","Szűrőbetét","5 300,-Ft",20.692700000000002,null,5300]
[{"$f":"IF(L232=FALSE,0,COUNTIF(A$3:A231,\">0\")+1)","v":0},"6050AA-S","Szűrőbetét S -AAF 0046","AAF 0046","Szűrőbetét","5 480,-Ft",21.413699999999999,null,5480]
[{"$f":"IF(L233=FALSE,0,COUNTIF(A$3:A232,\">0\")+1)","v":0},"6050AA-S","Szűrőbetét S -AAF 0056","AAF 0056","Szűrőbetét","5 480,-Ft",21.413699999999999,null,5480]
[{"$f":"IF(L234=FALSE,0,COUNTIF(A$3:A233,\">0\")+1)","v":0},"7050AA-S","Szűrőbetét S -AAF 0076","AAF 0076","Szűrőbetét","6 780,-Ft",26.481300000000001,null,6780]
[{"$f":"IF(L235=FALSE,0,COUNTIF(A$3:A234,\">0\")+1)","v":0},"14050AA-S","Szűrőbetét S -AAF 0106","AAF 0106","Szűrőbetét","8 720,-Ft",34.093000000000004,null,8720]
[{"$f":"IF(L236=FALSE,0,COUNTIF(A$3:A235,\">0\")+1)","v":0},"3528AA-A","Szűrőbetét A -AAF 0016","AAF 0016","Szűrőbetét","5 130,-Ft",20.054099999999998,null,5130]
[{"$f":"IF(L237=FALSE,0,COUNTIF(A$3:A236,\">0\")+1)","v":0},"3844AA-A","Szűrőbetét A -AAF 0026","AAF 0026","Szűrőbetét","5 300,-Ft",20.692700000000002,null,5300]
[{"$f":"IF(L238=FALSE,0,COUNTIF(A$3:A237,\">0\")+1)","v":0},"3844AA-A","Szűrőbetét A -AAF 0036","AAF 0036","Szűrőbetét","5 300,-Ft",20.692700000000002,null,5300]
[{"$f":"IF(L239=FALSE,0,COUNTIF(A$3:A238,\">0\")+1)","v":0},"6050AA-A","Szűrőbetét A -AAF 0046","AAF 0046","Szűrőbetét","5 480,-Ft",21.413699999999999,null,5480]
[{"$f":"IF(L240=FALSE,0,COUNTIF(A$3:A239,\">0\")+1)","v":0},"6050AA-A","Szűrőbetét A -AAF 0056","AAF 0056","Szűrőbetét","5 480,-Ft",21.413699999999999,null,5480]
[{"$f":"IF(L241=FALSE,0,COUNTIF(A$3:A240,\">0\")+1)","v":0},"7050AA-A","Szűrőbetét A -AAF 0076","AAF 0076","Szűrőbetét","6 780,-Ft",26.481300000000001,null,6780]
[{"$f":"IF(L242=FALSE,0,COUNTIF(A$3:A241,\">0\")+1)","v":0},"14050AA-A","Szűrőbetét A -AAF 0106","AAF 0106","Szűrőbetét","8 720,-Ft",34.093000000000004,null,8720]
[{"$f":"IF(L243=FALSE,0,COUNTIF(A$3:A242,\">0\")+1)","v":0},"3528CKL-AAF","Szűrőbetét CKL-AAF -AAF 0016","AAF 0016","Szűrőbetét","5 050,-Ft",19.7348,null,5050]
[{"$f":"IF(L244=FALSE,0,COUNTIF(A$3:A243,\">0\")+1)","v":0},"3844CKL-AAF","Szűrőbetét CKL-AAF -AAF 0026","AAF 0026","Szűrőbetét","5 180,-Ft",20.260100000000001,null,5180]
[{"$f":"IF(L245=FALSE,0,COUNTIF(A$3:A244,\">0\")+1)","v":0},"3844CKL-AAF","Szűrőbetét CKL-AAF -AAF 0036","AAF 0036","Szűrőbetét","5 180,-Ft",20.260100000000001,null,5180]
[{"$f":"IF(L246=FALSE,0,COUNTIF(A$3:A245,\">0\")+1)","v":0},"6050CKL-AAF","Szűrőbetét CKL-AAF -AAF 0046","AAF 0046","Szűrőbetét","5 310,-Ft",20.744200000000003,null,5310]
[{"$f":"IF(L247=FALSE,0,COUNTIF(A$3:A246,\">0\")+1)","v":0},"6050CKL-AAF","Szűrőbetét CKL-AAF -AAF 0056","AAF 0056","Szűrőbetét","5 310,-Ft",20.744200000000003,null,5310]
[{"$f":"IF(L248=FALSE,0,COUNTIF(A$3:A247,\">0\")+1)","v":0},"7050CKL-AAF","Szűrőbetét CKL-AAF -AAF 0076","AAF 0076","Szűrőbetét","5 310,-Ft",20.744200000000003,null,5310]
[{"$f":"IF(L249=FALSE,0,COUNTIF(A$3:A248,\">0\")+1)","v":0},"14050CKL-AAF","Szűrőbetét CKL-AAF -AAF 0106","AAF 0106","Szűrőbetét","6 560,-Ft",25.616100000000003,null,6560]
[{"$f":"IF(L250=FALSE,0,COUNTIF(A$3:A249,\">0\")+1)","v":0},"AAF 0016AAR","AAR 0016",null,"Reduktor","29 180,-Ft",117.55,null,29180]
[{"$f":"IF(L251=FALSE,0,COUNTIF(A$3:A250,\">0\")+1)","v":0},"AAF 0026AAR","AAR 0026",null,"Reduktor","29 180,-Ft",117.55,null,29180]
[{"$f":"IF(L252=FALSE,0,COUNTIF(A$3:A251,\">0\")+1)","v":0},"AAF 0036AAR","AAR 0036",null,"Reduktor","31 210,-Ft",125.75,null,31210]
[{"$f":"IF(L253=FALSE,0,COUNTIF(A$3:A252,\">0\")+1)","v":0},"AAF 0046AAR","AAR 0046",null,"Reduktor","31 210,-Ft",125.75,null,31210]
[{"$f":"IF(L254=FALSE,0,COUNTIF(A$3:A253,\">0\")+1)","v":0},"AAF 0016AAL","AAL 0016",null,"Olajzó","19 820,-Ft",77.45,null,19820]
[{"$f":"IF(L255=FALSE,0,COUNTIF(A$3:A254,\">0\")+1)","v":0},"AAF 0026AAL","AAL 0026",null,"Olajzó","19 820,-Ft",77.45,null,19820]
[{"$f":"IF(L256=FALSE,0,COUNTIF(A$3:A255,\">0\")+1)","v":0},"AAF 0036AAL","AAL 0036",null,"Olajzó","22 690,-Ft",88.65,null,22690]
[{"$f":"IF(L257=FALSE,0,COUNTIF(A$3:A256,\">0\")+1)","v":0},"AAF 0046AAL","AAL 0046",null,"Olajzó","22 690,-Ft",88.65,null,22690]
[{"$f":"IF(L258=FALSE,0,COUNTIF(A$3:A257,\">0\")+1)","v":0},"MCD-B","Kond. leeresztő manuális  0-16bar",null,"Leeresztő","1 870,-Ft",7.3233000000000006,null,1870]
[{"$f":"IF(L259=FALSE,0,COUNTIF(A$3:A258,\">0\")+1)","v":0},"MCD","Kond. leeresztő manuális 0-20bar",null,"Leeresztő","2 430,-Ft",9.4863000000000017,null,2430]
[{"$f":"IF(L260=FALSE,0,COUNTIF(A$3:A259,\">0\")+1)","v":0},"AOK16B","Belső Kond. leeresztő automata  0-16bar",null,"Leeresztő",{"$f":"TEXT(I260,\"# ###,-Ft\")","v":"6 550,-Ft"},25.595500000000001,null,{"$f":"ROUND(IF(G$1=1,IF(G260>10000,(G260*N$1*0.85),IF(G260>5000,(G260*N$1*0.88),IF(G260>1000,(G260*N$1*0.91),IF(G260>500,(G260*N$1*0.94),IF(G260>100,(G260*N$1*0.97),(G260*N$1))))))/1.27,G260*N$1/1.27),L$1)","v":6550}]
[{"$f":"IF(L261=FALSE,0,COUNTIF(A$3:A260,\">0\")+1)","v":0},"AOK 20B","Kond. leeresztő automata gömb  0-20bar",null,"Leeresztő","10 330,-Ft",40.376000000000005,null,10330]
[{"$f":"IF(L262=FALSE,0,COUNTIF(A$3:A261,\">0\")+1)","v":0},"TD 16M","Idővezérelt mágnesszelep leürítő",null,"Leeresztő","19 620,-Ft",76.683500000000009,null,19620]
[{"$f":"IF(L263=FALSE,0,COUNTIF(A$3:A262,\">0\")+1)","v":0},"TD 25M","Idővezérelt mágnesszelep leürítő 25 bar",null,"Leeresztő","27 060,-Ft",109.00490000000001,null,27060]
[{"$f":"IF(L264=FALSE,0,COUNTIF(A$3:A263,\">0\")+1)","v":0},"TD 16Mcr","Idővezérelt mágnesszelep leürítő",null,"Leeresztő","33 880,-Ft",136.47499999999999,null,33880]
[{"$f":"IF(L265=FALSE,0,COUNTIF(A$3:A264,\">0\")+1)","v":0},"IED","Idővezérelt mágnesszelep leürítő",null,"Leeresztő","22 380,-Ft",87.447000000000003,null,22380]
[{"$f":"IF(L266=FALSE,0,COUNTIF(A$3:A265,\">0\")+1)","v":0},"CDI 16B","Kondenzátum leeresztő",null,"Leeresztő","36 670,-Ft",147.7432,null,36670]
[{"$f":"IF(L267=FALSE,0,COUNTIF(A$3:A266,\">0\")+1)","v":0},"EMD 15B","Elektronikus kondenzátum leeresztő",null,"Leeresztő","42 840,-Ft",172.56620000000001,null,42840]
[{"$f":"IF(L268=FALSE,0,COUNTIF(A$3:A267,\">0\")+1)","v":0},"EMD 40B","Elektronikus kondenzátum leeresztő",null,"Leeresztő","43 710,-Ft",176.08880000000002,null,43710]
[{"$f":"IF(L269=FALSE,0,COUNTIF(A$3:A268,\">0\")+1)","v":0},"EMD 90B","Elektronikus kondenzátum leeresztő",null,"Leeresztő","36 670,-Ft",147.7432,null,36670]
[{"$f":"IF(L270=FALSE,0,COUNTIF(A$3:A269,\">0\")+1)","v":0},"ECD 150B","Elektronikus kondenzátum leeresztő",null,"Leeresztő","54 010,-Ft",217.5772,null,54010]
[{"$f":"IF(L271=FALSE,0,COUNTIF(A$3:A270,\">0\")+1)","v":0},"EMD 12","Elektronikus kondenzátum leeresztő 24/115/230V",null,"Leeresztő","31 210,-Ft",125.7218,null,31210]
[{"$f":"IF(L272=FALSE,0,COUNTIF(A$3:A271,\">0\")+1)","v":0},"EMD 12A","Elektronikus kondenzátum leeresztő 115/230V",null,"Leeresztő","33 680,-Ft",135.69220000000001,null,33680]
[{"$f":"IF(L273=FALSE,0,COUNTIF(A$3:A272,\">0\")+1)","v":0},"EMD 12C","Elektronikus kondenzátum leeresztő 115/230V",null,"Leeresztő","36 630,-Ft",147.56810000000002,null,36630]
[{"$f":"IF(L274=FALSE,0,COUNTIF(A$3:A273,\">0\")+1)","v":0},"EMD 25","Elektronikus kondenzátum leeresztő 115/230V",null,"Leeresztő","38 910,-Ft",156.76599999999999,null,38910]
[{"$f":"IF(L275=FALSE,0,COUNTIF(A$3:A274,\">0\")+1)","v":0},"EMD 75","Elektronikus kondenzátum leeresztő 115/230V",null,"Leeresztő","40 010,-Ft",161.19499999999999,null,40010]
[{"$f":"IF(L276=FALSE,0,COUNTIF(A$3:A275,\">0\")+1)","v":0},"EMD 12SK","Elektronikus kond. leer. szerviz kit",null,"Leeresztő","22 110,-Ft",86.417000000000002,null,22110]
[{"$f":"IF(L277=FALSE,0,COUNTIF(A$3:A276,\">0\")+1)","v":0},"EMD 25SK","Elektronikus kond. leer. szerviz kit",null,"Leeresztő","22 110,-Ft",86.417000000000002,null,22110]
[{"$f":"IF(L278=FALSE,0,COUNTIF(A$3:A277,\">0\")+1)","v":0},"EMD 75SK","Elektronikus kond. leer. szerviz kit",null,"Leeresztő","22 110,-Ft",86.417000000000002,null,22110]
[{"$f":"IF(L279=FALSE,0,COUNTIF(A$3:A278,\">0\")+1)","v":0},"EMD 12 Vac","Elektronikus kondenzátum leeresztő 24 Vac",null,"Leeresztő","37 640,-Ft",151.61599999999999,null,37640]
[{"$f":"IF(L280=FALSE,0,COUNTIF(A$3:A279,\">0\")+1)","v":0},"EMD 12A Vac","Elektronikus kondenzátum leeresztő 24 Vac",null,"Leeresztő","43 390,-Ft",174.791,null,43390]
[{"$f":"IF(L281=FALSE,0,COUNTIF(A$3:A280,\">0\")+1)","v":0},"EMD 12A Vdc","Elektronikus kondenzátum leeresztő 24 Vcd",null,"Leeresztő","40 680,-Ft",163.87299999999999,null,40680]
[{"$f":"IF(L282=FALSE,0,COUNTIF(A$3:A281,\">0\")+1)","v":0},"ECD 15B","Elektronikus kondenzátum leeresztő 115/230V",null,"Leeresztő","42 840,-Ft",172.56620000000001,null,42840]
[{"$f":"IF(L283=FALSE,0,COUNTIF(A$3:A282,\">0\")+1)","v":0},"ECD 40B","Elektronikus kondenzátum leeresztő 115/230V",null,"Leeresztő","43 710,-Ft",176.08880000000002,null,43710]
[{"$f":"IF(L284=FALSE,0,COUNTIF(A$3:A283,\">0\")+1)","v":0},"ECD 90B","Elektronikus kondenzátum leeresztő 115/230V",null,"Leeresztő","44 290,-Ft",178.41660000000002,null,44290]
[{"$f":"IF(L285=FALSE,0,COUNTIF(A$3:A284,\">0\")+1)","v":0},"ECD 150B","Elektronikus kondenzátum leeresztő 115/230V",null,"Leeresztő","54 010,-Ft",217.5772,null,54010]
[{"$f":"IF(L286=FALSE,0,COUNTIF(A$3:A285,\">0\")+1)","v":0},"ECD 15B, 40B \nservice kit 1","Szerviz KIT",null,{"$f":"COUNTIF(B$3:B$2226,B286)","v":1},"3 910,-Ft",15.274900000000001,null,3910]
[{"$f":"IF(L287=FALSE,0,COUNTIF(A$3:A286,\">0\")+1)","v":0},"ECD 90B \nservice kit 1","Szerviz KIT",null,1,"4 290,-Ft",16.758099999999999,null,4290]
[{"$f":"IF(L288=FALSE,0,COUNTIF(A$3:A287,\">0\")+1)","v":0},"ECD 150B \nservice kit 1","Szerviz KIT",null,1,"4 850,-Ft",18.951999999999998,null,4850]
[{"$f":"IF(L289=FALSE,0,COUNTIF(A$3:A288,\">0\")+1)","v":0},"ECD 15B, 40B \nservice kit 2","Szerviz KIT",null,1,"18 130,-Ft",70.864000000000004,null,18130]
[{"$f":"IF(L290=FALSE,0,COUNTIF(A$3:A289,\">0\")+1)","v":0},"ECD 90B \nservice kit 2","Szerviz KIT",null,1,"18 710,-Ft",73.13,null,18710]
[{"$f":"IF(L291=FALSE,0,COUNTIF(A$3:A290,\">0\")+1)","v":0},"ECD 150B \nservice kit 2","Szerviz KIT",null,1,"19 740,-Ft",77.147000000000006,null,19740]
[{"$f":"IF(L292=FALSE,0,COUNTIF(A$3:A291,\">0\")+1)","v":0},"TD 50M",null,null,"Leeresztő","35 550,-Ft",143.21119999999999,null,35550]
[{"$f":"IF(L293=FALSE,0,COUNTIF(A$3:A292,\">0\")+1)","v":0},"EMD HP","Elektronikus kondenzátum leeresztő 115/230V",null,"Leeresztő","212 830,-Ft",884.77,null,212830]
[{"$f":"IF(L294=FALSE,0,COUNTIF(A$3:A293,\">0\")+1)","v":0},"EMD HP A","Elektronikus kondenzátum leeresztő 115/230V",null,"Leeresztő","216 360,-Ft",899.44749999999999,null,216360]
[{"$f":"IF(L295=FALSE,0,COUNTIF(A$3:A294,\">0\")+1)","v":0},"EMD HP C",null,null,"Leeresztő","221 210,-Ft",919.58399999999995,null,221210]
[{"$f":"IF(L296=FALSE,0,COUNTIF(A$3:A295,\">0\")+1)","v":0},"EMD HP","Elektronikus kondenzátum leeresztő 115/230V",null,"Leeresztő","224 630,-Ft",933.798,null,224630]
[{"$f":"IF(L297=FALSE,0,COUNTIF(A$3:A296,\">0\")+1)","v":0},"EMD HP A","Elektronikus kondenzátum leeresztő 115/230V Vac",null,"Leeresztő","234 090,-Ft",973.14400000000001,null,234090]
[{"$f":"IF(L298=FALSE,0,COUNTIF(A$3:A297,\">0\")+1)","v":0},"EMD HP A","Elektronikus kondenzátum leeresztő 115/230V Acd",null,"Leeresztő","230 500,-Ft",958.20899999999995,null,230500]
[{"$f":"IF(L299=FALSE,0,COUNTIF(A$3:A298,\">0\")+1)","v":0},"EMD HP SK","Szerviz KIT",null,"Leeresztő","30 250,-Ft",121.849,null,30250]
[{"$f":"IF(L300=FALSE,0,COUNTIF(A$3:A299,\">0\")+1)","v":0},"AOK 50B","Nagy nyomású automata leeresztő",null,"Leeresztő","100 990,-Ft",406.85,null,100990]
[{"$f":"IF(L301=FALSE,0,COUNTIF(A$3:A300,\">0\")+1)","v":0},"AOK 50SS","Nagy nyomású automata leeresztő saválló",null,"Leeresztő","146 800,-Ft",610.27499999999998,null,146800]
[{"$f":"IF(L302=FALSE,0,COUNTIF(A$3:A301,\">0\")+1)","v":0},"AOK 20SS","Automata leeresztő saválló",null,"Leeresztő","127 600,-Ft",530.45000000000005,null,127600]
[{"$f":"IF(L303=FALSE,0,COUNTIF(A$3:A302,\">0\")+1)","v":0},"AOK 16B","Belő uszós autómata leürítő",null,"Leeresztő","6 550,-Ft",25.595500000000001,null,6550]
[{"$f":"IF(L304=FALSE,0,COUNTIF(A$3:A303,\">0\")+1)","v":0},"AOK 16F","Belő uszós autómata leürítő 16F",null,"Leeresztő","9 640,-Ft",37.667099999999998,null,9640]
[{"$f":"IF(L305=FALSE,0,COUNTIF(A$3:A304,\">0\")+1)","v":0},"IED","Kompakt elektronikus lürítő",null,"Leeresztő","22 380,-Ft",87.447000000000003,null,22380]
[{"$f":"IF(L306=FALSE,0,COUNTIF(A$3:A305,\">0\")+1)","v":0},"PDI 16","Nyomáskülönbség jelző indikátor",null,"Indikátor","4 210,-Ft",16.449100000000001,null,4210]
[{"$f":"IF(L307=FALSE,0,COUNTIF(A$3:A306,\">0\")+1)","v":0},"MDM 60","Nyomáskülönbség jelző 16bar",null,"Indikátor","9 710,-Ft",37.955500000000001,null,9710]
[{"$f":"IF(L308=FALSE,0,COUNTIF(A$3:A307,\">0\")+1)","v":0},"MDM 60C","Nyomáskülönbség jelző 16bar Jeladós",null,"Indikátor","13 580,-Ft",53.065600000000003,null,13580]
[{"$f":"IF(L309=FALSE,0,COUNTIF(A$3:A308,\">0\")+1)","v":0},"MDM 60E","Nyomáskülönbség jelző 16bar LED",null,"Indikátor","17 140,-Ft",66.970600000000005,null,17140]
[{"$f":"IF(L310=FALSE,0,COUNTIF(A$3:A309,\">0\")+1)","v":0},"MDA60","Nyomáskülönbség jelző 60bar",null,"Indikátor","13 240,-Ft",51.747200000000007,null,13240]
[{"$f":"IF(L311=FALSE,0,COUNTIF(A$3:A310,\">0\")+1)","v":0},"MDM 40","Nyomáskülönbség jelző 20bar",null,"Indikátor","9 340,-Ft",36.492899999999999,null,9340]
[{"$f":"IF(L312=FALSE,0,COUNTIF(A$3:A311,\">0\")+1)","v":0},"MDM 40C","Nyomáskülönbség jelző 20bar Jeladós",null,"Indikátor","13 040,-Ft",50.964399999999998,null,13040]
[{"$f":"IF(L313=FALSE,0,COUNTIF(A$3:A312,\">0\")+1)","v":0},"EPG 60","Nyomás és nykülönbség jelző 16bar digit",null,"Indikátor","35 450,-Ft",142.79919999999998,null,35450]
[{"$f":"IF(L314=FALSE,0,COUNTIF(A$3:A313,\">0\")+1)","v":0},"EPG 60SN","Nyomás és nykülönbség jelző 16bar digit",null,"Indikátor","48 560,-Ft",195.62790000000001,null,48560]
[{"$f":"IF(L315=FALSE,0,COUNTIF(A$3:A314,\">0\")+1)","v":0},"MDA 60","Nyomáskülönbség jelző 20bar",null,"Indikátor","13 240,-Ft",51.747200000000007,null,13240]
[{"$f":"IF(L316=FALSE,0,COUNTIF(A$3:A315,\">0\")+1)","v":0},"MDH 50","Nyomáskülönbség jelző 50bar",null,"Indikátor","131 380,-Ft",546.1472,null,131380]
[{"$f":"IF(L317=FALSE,0,COUNTIF(A$3:A316,\">0\")+1)","v":0},"SG","Szintjelző",null,"Tartozék","4 180,-Ft",16.325500000000002,null,4180]
[{"$f":"IF(L318=FALSE,0,COUNTIF(A$3:A317,\">0\")+1)","v":0},"WS","Fali tartó",null,"Tartozék","10 330,-Ft",40.376000000000005,null,10330]
[{"$f":"IF(L319=FALSE,0,COUNTIF(A$3:A318,\">0\")+1)","v":0},"WM","Fali tartó",null,"Tartozék","12 930,-Ft",50.531800000000004,null,12930]
[{"$f":"IF(L320=FALSE,0,COUNTIF(A$3:A319,\">0\")+1)","v":0},"2S","Soroló elem 2 szűrőhöz kicsi",null,"Tartozék","2 740,-Ft",10.701700000000001,null,2740]
[{"$f":"IF(L321=FALSE,0,COUNTIF(A$3:A320,\">0\")+1)","v":0},"3S","Soroló elem 3 szűrőhöz kicsi",null,"Tartozék","3 560,-Ft",13.8947,null,3560]
[{"$f":"IF(L322=FALSE,0,COUNTIF(A$3:A321,\">0\")+1)","v":0},"2M","Soroló elem 2 szűrőhöz közepes",null,"Tartozék","4 210,-Ft",16.449100000000001,null,4210]
[{"$f":"IF(L323=FALSE,0,COUNTIF(A$3:A322,\">0\")+1)","v":0},"3M","Soroló elem 3 szűrőhöz közepes",null,"Tartozék","5 200,-Ft",20.301300000000001,null,5200]
[{"$f":"IF(L324=FALSE,0,COUNTIF(A$3:A323,\">0\")+1)","v":0},"AK-3/4","Tartó KIT 3/4\"-ig",null,"Tartozék",{"$f":"TEXT(I324,\"# ###,-Ft\")","v":"20 550,-Ft"},80.319400000000002,null,{"$f":"ROUND(IF(G$1=1,IF(G324>10000,(G324*N$1*0.85),IF(G324>5000,(G324*N$1*0.88),IF(G324>1000,(G324*N$1*0.91),IF(G324>500,(G324*N$1*0.94),IF(G324>100,(G324*N$1*0.97),(G324*N$1))))))/1.27,G324*N$1/1.27),L$1)","v":20550}]
[{"$f":"IF(L325=FALSE,0,COUNTIF(A$3:A324,\">0\")+1)","v":0},"AK-1 1/2","Tartó KIT 1 1/2\"-g",null,"Tartozék","23 890,-Ft",93.338600000000014,null,23890]
[{"$f":"IF(L326=FALSE,0,COUNTIF(A$3:A325,\">0\")+1)","v":0},"AK-3","Tartó KIT 3\"-ig",null,"Tartozék","60 080,-Ft",242.05,null,60080]
[{"$f":"IF(L327=FALSE,0,COUNTIF(A$3:A326,\">0\")+1)","v":0},"AK 3/8\"","Tartó KIT",null,"Tartozék","20 550,-Ft",80.319400000000002,null,20550]
[{"$f":"IF(L328=FALSE,0,COUNTIF(A$3:A327,\">0\")+1)","v":0},"AK 1/2\"","Tartó KIT",null,"Tartozék","20 550,-Ft",80.319400000000002,null,20550]
[{"$f":"IF(L329=FALSE,0,COUNTIF(A$3:A328,\">0\")+1)","v":0},"AK 3/4\"","Tartó KIT",null,"Tartozék","20 550,-Ft",80.319400000000002,null,20550]
[{"$f":"IF(L330=FALSE,0,COUNTIF(A$3:A329,\">0\")+1)","v":0},"AK 1\"","Tartó KIT",null,"Tartozék","23 890,-Ft",93.338600000000014,null,23890]
[{"$f":"IF(L331=FALSE,0,COUNTIF(A$3:A330,\">0\")+1)","v":0},"AK 1 1/2\"","Tartó KIT",null,"Tartozék","23 890,-Ft",93.338600000000014,null,23890]
[{"$f":"IF(L332=FALSE,0,COUNTIF(A$3:A331,\">0\")+1)","v":0},"AK 2\"","Tartó KIT",null,"Tartozék","60 080,-Ft",242.05,null,60080]
[{"$f":"IF(L333=FALSE,0,COUNTIF(A$3:A332,\">0\")+1)","v":0},"AK 2 1/2\"","Tartó KIT",null,"Tartozék","60 080,-Ft",242.05,null,60080]
[{"$f":"IF(L334=FALSE,0,COUNTIF(A$3:A333,\">0\")+1)","v":0},"AK 3\"","Tartó KIT",null,"Tartozék","60 080,-Ft",242.05,null,60080]
[{"$f":"IF(L335=FALSE,0,COUNTIF(A$3:A334,\">0\")+1)","v":0},"AK-3/8”, AK-½”, AK-3/4” ","Tartó KIT",null,"Tartozék","20 550,-Ft",80.319400000000002,null,20550]
[{"$f":"IF(L336=FALSE,0,COUNTIF(A$3:A335,\">0\")+1)","v":0},"AK-1”, AK-1½”","Tartó KIT",null,"Tartozék","23 890,-Ft",93.338600000000014,null,23890]
[{"$f":"IF(L337=FALSE,0,COUNTIF(A$3:A336,\">0\")+1)","v":0},"AK-2”, AK-2½”, AK-3” ","Tartó KIT",null,"Tartozék","60 080,-Ft",242.05,null,60080]
[{"$f":"IF(L338=FALSE,0,COUNTIF(A$3:A337,\">0\")+1)","v":0},"SG - Sight glass","Szintjelző űveg",null,"Tartozék","4 180,-Ft",16.325500000000002,null,4180]
[{"$f":"IF(L339=FALSE,0,COUNTIF(A$3:A338,\">0\")+1)","v":0},"NIPPLE","Közcsavar",null,"Tartozék","4 460,-Ft",17.427600000000002,null,4460]
[{"$f":"IF(L340=FALSE,0,COUNTIF(A$3:A339,\">0\")+1)","v":0},"NIPPLE 20SS","Közcsavar",null,"Tartozék","18 320,-Ft",71.585000000000008,null,18320]
[{"$f":"IF(L341=FALSE,0,COUNTIF(A$3:A340,\">0\")+1)","v":0},"NIPPLE 50SS","Közcsavar",null,"Tartozék","20 270,-Ft",79.207000000000008,null,20270]
[{"$f":"IF(L342=FALSE,0,COUNTIF(A$3:A341,\">0\")+1)","v":0},"NIPPLE HP","Közcsavar",null,"Tartozék","4 920,-Ft",19.209499999999998,null,4920]
[{"$f":"IF(L343=FALSE,0,COUNTIF(A$3:A342,\">0\")+1)","v":0},"ball valve","Golyóscsap",null,"Tartozék","2 850,-Ft",11.144600000000001,null,2850]
[{"$f":"IF(L344=FALSE,0,COUNTIF(A$3:A343,\">0\")+1)","v":0},"Drain valve","Kondenzátum leeresztő csap 1/2\"",null,"Tartozék","31 960,-Ft",128.75,null,31960]
[{"$f":"IF(L345=FALSE,0,COUNTIF(A$3:A344,\">0\")+1)","v":0},"Drain valve 1\"","Kondenzátum leeresztő csap 1\"",null,"Tartozék","32 980,-Ft",132.87,null,32980]
[{"$f":"IF(L346=FALSE,0,COUNTIF(A$3:A345,\">0\")+1)","v":0},"Drain valve 1/4\"","Kondenzátum leeresztő csap 1/4\"",null,"Tartozék","19 770,-Ft",77.25,null,19770]
[{"$f":"IF(L347=FALSE,0,COUNTIF(A$3:A346,\">0\")+1)","v":0},"Drain valve 1/8\"","Kondenzátum leeresztő csap 1/8\"",null,"Tartozék","16 340,-Ft",63.86,null,16340]
[{"$f":"IF(L348=FALSE,0,COUNTIF(A$3:A347,\">0\")+1)","v":0},"Drain valve 400","Kondenzátum leeresztő csap 1/2\" 400bar",null,"Tartozék","54 970,-Ft",221.45000000000002,null,54970]
[{"$f":"IF(L349=FALSE,0,COUNTIF(A$3:A348,\">0\")+1)","v":0},"MCDi","Kondenzátum leeresztő INOX",null,"Tartozék","6 430,-Ft",25.131999999999998,null,6430]
[{"$f":"IF(L350=FALSE,0,COUNTIF(A$3:A349,\">0\")+1)","v":0},"WSm","Tartó elem",null,"Tartozék","9 010,-Ft",35.226000000000006,null,9010]
[{"$f":"IF(L351=FALSE,0,COUNTIF(A$3:A350,\">0\")+1)","v":0},"WMm","Tartó elem",null,"Tartozék","9 800,-Ft",38.295400000000001,null,9800]
[{"$f":"IF(L352=FALSE,0,COUNTIF(A$3:A351,\">0\")+1)","v":0},"WLm","Tartó elem",null,"Tartozék","10 730,-Ft",41.910699999999999,null,10730]
[{"$f":"IF(L353=FALSE,0,COUNTIF(A$3:A352,\">0\")+1)","v":0},"AKSm 2","Közösítő",null,"Tartozék","2 770,-Ft",10.8253,null,2770]
[{"$f":"IF(L354=FALSE,0,COUNTIF(A$3:A353,\">0\")+1)","v":0},"AKMm 2","Közösítő",null,"Tartozék","3 090,-Ft",12.0922,null,3090]
[{"$f":"IF(L355=FALSE,0,COUNTIF(A$3:A354,\">0\")+1)","v":0},"AKLm 2","Közösítő",null,"Tartozék","3 310,-Ft",12.947100000000001,null,3310]
[{"$f":"IF(L356=FALSE,0,COUNTIF(A$3:A355,\">0\")+1)","v":0},"AKSm 3","Közösítő",null,"Tartozék","3 720,-Ft",14.533300000000001,null,3720]
[{"$f":"IF(L357=FALSE,0,COUNTIF(A$3:A356,\">0\")+1)","v":0},"AKMm 3","Közösítő",null,"Tartozék","4 130,-Ft",16.129799999999999,null,4130]
[{"$f":"IF(L358=FALSE,0,COUNTIF(A$3:A357,\">0\")+1)","v":0},"AKLm 3","Közösítő",null,"Tartozék","4 430,-Ft",17.293700000000001,null,4430]
[{"$f":"IF(L359=FALSE,0,COUNTIF(A$3:A358,\">0\")+1)","v":0},"DGFSK 10",null,null,"Tartozék","4 380,-Ft",17.098000000000003,null,4380]
[{"$f":"IF(L360=FALSE,0,COUNTIF(A$3:A359,\">0\")+1)","v":0},"DGFSK 25",null,null,"Tartozék","4 880,-Ft",19.085900000000002,null,4880]
[{"$f":"IF(L361=FALSE,0,COUNTIF(A$3:A360,\">0\")+1)","v":0},"DGFSK 50",null,null,"Tartozék","5 620,-Ft",21.959600000000002,null,5620]
[{"$f":"IF(L362=FALSE,0,COUNTIF(A$3:A361,\">0\")+1)","v":0},"Set 10",null,null,"Tartozék","11 470,-Ft",44.805,null,11470]
[{"$f":"IF(L363=FALSE,0,COUNTIF(A$3:A362,\">0\")+1)","v":0},"Set 25",null,null,"Tartozék","12 360,-Ft",48.307000000000002,null,12360]
[{"$f":"IF(L364=FALSE,0,COUNTIF(A$3:A363,\">0\")+1)","v":0},"Set 50",null,null,"Tartozék","13 570,-Ft",53.045000000000002,null,13570]
[{"$f":"IF(L365=FALSE,0,COUNTIF(A$3:A364,\">0\")+1)","v":0},"CF 20","Alumínium CF szűrőház -3/8’’","3/8’’","Szűrőház","13 840,-Ft",54.064700000000002,null,13840]
[{"$f":"IF(L366=FALSE,0,COUNTIF(A$3:A365,\">0\")+1)","v":0},"CF 21","Alumínium CF szűrőház -1/2’’","1/2’’","Szűrőház","15 560,-Ft",60.790600000000005,null,15560]
[{"$f":"IF(L367=FALSE,0,COUNTIF(A$3:A366,\">0\")+1)","v":0},"CF 30","Alumínium CF szűrőház -1/2’’","1/2’’","Szűrőház","17 050,-Ft",66.641000000000005,null,17050]
[{"$f":"IF(L368=FALSE,0,COUNTIF(A$3:A367,\">0\")+1)","v":0},"CF 31","Alumínium CF szűrőház -3/4’’","3/4’’","Szűrőház","18 330,-Ft",71.615899999999996,null,18330]
[{"$f":"IF(L369=FALSE,0,COUNTIF(A$3:A368,\">0\")+1)","v":0},"CF 40","Alumínium CF szűrőház -1’’","1’’","Szűrőház","25 500,-Ft",102.7116,null,25500]
[{"$f":"IF(L370=FALSE,0,COUNTIF(A$3:A369,\">0\")+1)","v":0},"CF 41","Alumínium CF szűrőház -1’’","1’’","Szűrőház","27 850,-Ft",112.20820000000001,null,27850]
[{"$f":"IF(L371=FALSE,0,COUNTIF(A$3:A370,\">0\")+1)","v":0},"CF 42","Alumínium CF szűrőház -1 1/4 ’’\n","1 1/4 ’’\n","Szűrőház","30 700,-Ft",123.6824,null,30700]
[{"$f":"IF(L372=FALSE,0,COUNTIF(A$3:A371,\">0\")+1)","v":0},"CF 43","Alumínium CF szűrőház -1 1/2 ’’\n2","1 1/2 ’’\n2","Szűrőház","32 890,-Ft",132.5095,null,32890]
[{"$f":"IF(L373=FALSE,0,COUNTIF(A$3:A372,\">0\")+1)","v":0},"CF 44","Alumínium CF szűrőház -1 1/2’’\n","1 1/2’’\n","Szűrőház","39 250,-Ft",158.10500000000002,null,39250]
[{"$f":"IF(L374=FALSE,0,COUNTIF(A$3:A373,\">0\")+1)","v":0},"CF 50","Alumínium CF szűrőház -2’’","2’’","Szűrőház","67 430,-Ft",271.64190000000002,null,67430]
[{"$f":"IF(L375=FALSE,0,COUNTIF(A$3:A374,\">0\")+1)","v":0},"CF 51","Alumínium CF szűrőház -2’’","2’’","Szűrőház","84 680,-Ft",341.15660000000003,null,84680]
[{"$f":"IF(L376=FALSE,0,COUNTIF(A$3:A375,\">0\")+1)","v":0},"CF 52","Alumínium CF szűrőház -2 1/2 ’’\n","2 1/2 ’’\n","Szűrőház","134 270,-Ft",558.17759999999998,null,134270]
[{"$f":"IF(L377=FALSE,0,COUNTIF(A$3:A376,\">0\")+1)","v":0},"CF 60","Alumínium CF szűrőház -3’’","3’’","Szűrőház","161 930,-Ft",673.14620000000002,null,161930]
[{"$f":"IF(L378=FALSE,0,COUNTIF(A$3:A377,\">0\")+1)","v":0},"CF 61","Alumínium CF szűrőház -3’’","3’’","Szűrőház","199 960,-Ft",831.26149999999996,null,199960]
[{"$f":"IF(L379=FALSE,0,COUNTIF(A$3:A378,\">0\")+1)","v":0},"C 20B","Szűrőbetét B -CF 20","CF 20","Szűrőbetét","6 340,-Ft",24.761199999999999,null,6340]
[{"$f":"IF(L380=FALSE,0,COUNTIF(A$3:A379,\">0\")+1)","v":0},"C 21B","Szűrőbetét B -CF 21","CF 21","Szűrőbetét","7 830,-Ft",30.580700000000004,null,7830]
[{"$f":"IF(L381=FALSE,0,COUNTIF(A$3:A380,\">0\")+1)","v":0},"C 30B","Szűrőbetét B -CF 30","CF 30","Szűrőbetét","9 530,-Ft",37.255100000000006,null,9530]
[{"$f":"IF(L382=FALSE,0,COUNTIF(A$3:A381,\">0\")+1)","v":0},"C 31B","Szűrőbetét B -CF 31","CF 31","Szűrőbetét","10 060,-Ft",39.325400000000002,null,10060]
[{"$f":"IF(L383=FALSE,0,COUNTIF(A$3:A382,\">0\")+1)","v":0},"C 40B","Szűrőbetét B -CF 40","CF 40","Szűrőbetét","12 700,-Ft",49.6357,null,12700]
[{"$f":"IF(L384=FALSE,0,COUNTIF(A$3:A383,\">0\")+1)","v":0},"C 41B","Szűrőbetét B -CF 41","CF 41","Szűrőbetét","17 920,-Ft",70.029699999999991,null,17920]
[{"$f":"IF(L385=FALSE,0,COUNTIF(A$3:A384,\">0\")+1)","v":0},"C 42B","Szűrőbetét B -CF 42","CF 42","Szűrőbetét","20 530,-Ft",80.226700000000008,null,20530]
[{"$f":"IF(L386=FALSE,0,COUNTIF(A$3:A385,\">0\")+1)","v":0},"C 43B","Szűrőbetét B -CF 43","CF 43","Szűrőbetét","21 650,-Ft",84.593899999999991,null,21650]
[{"$f":"IF(L387=FALSE,0,COUNTIF(A$3:A386,\">0\")+1)","v":0},"C 44B","Szűrőbetét B -CF 44","CF 44","Szűrőbetét","26 780,-Ft",107.8925,null,26780]
[{"$f":"IF(L388=FALSE,0,COUNTIF(A$3:A387,\">0\")+1)","v":0},"C 50B","Szűrőbetét B -CF 50","CF 50","Szűrőbetét",{"$f":"TEXT(I388,\"# ###,-Ft\")","v":"38 500,-Ft"},155.10769999999999,null,{"$f":"ROUND(IF(G$1=1,IF(G388>10000,(G388*N$1*0.85),IF(G388>5000,(G388*N$1*0.88),IF(G388>1000,(G388*N$1*0.91),IF(G388>500,(G388*N$1*0.94),IF(G388>100,(G388*N$1*0.97),(G388*N$1))))))/1.27,G388*N$1/1.27),L$1)","v":38500}]
[{"$f":"IF(L389=FALSE,0,COUNTIF(A$3:A388,\">0\")+1)","v":0},"C 51B","Szűrőbetét B -CF 51","CF 51","Szűrőbetét","46 720,-Ft",188.23250000000002,null,46720]
[{"$f":"IF(L390=FALSE,0,COUNTIF(A$3:A389,\">0\")+1)","v":0},"C 52B","Szűrőbetét B -CF 52","CF 52","Szűrőbetét","46 720,-Ft",188.23250000000002,null,46720]
[{"$f":"IF(L391=FALSE,0,COUNTIF(A$3:A390,\">0\")+1)","v":0},"C 60B","Szűrőbetét B -CF 60","CF 60","Szűrőbetét","59 380,-Ft",239.20720000000003,null,59380]
[{"$f":"IF(L392=FALSE,0,COUNTIF(A$3:A391,\">0\")+1)","v":0},"C 61B","Szűrőbetét B -CF 61","CF 61","Szűrőbetét","68 810,-Ft",277.20389999999998,null,68810]
[{"$f":"IF(L393=FALSE,0,COUNTIF(A$3:A392,\">0\")+1)","v":0},"C 20P","Szűrőbetét P -CF 20","CF 20","Szűrőbetét","5 760,-Ft",22.515799999999999,null,5760]
[{"$f":"IF(L394=FALSE,0,COUNTIF(A$3:A393,\">0\")+1)","v":0},"C 21P","Szűrőbetét P -CF 21","CF 21","Szűrőbetét","7 120,-Ft",27.810000000000002,null,7120]
[{"$f":"IF(L395=FALSE,0,COUNTIF(A$3:A394,\">0\")+1)","v":0},"C 30P","Szűrőbetét P -CF 30","CF 30","Szűrőbetét","8 670,-Ft",33.8767,null,8670]
[{"$f":"IF(L396=FALSE,0,COUNTIF(A$3:A395,\">0\")+1)","v":0},"C 31P","Szűrőbetét P -CF 31","CF 31","Szűrőbetét","9 150,-Ft",35.751300000000001,null,9150]
[{"$f":"IF(L397=FALSE,0,COUNTIF(A$3:A396,\">0\")+1)","v":0},"C 40P","Szűrőbetét P -CF 40","CF 40","Szűrőbetét","11 550,-Ft",45.134599999999999,null,11550]
[{"$f":"IF(L398=FALSE,0,COUNTIF(A$3:A397,\">0\")+1)","v":0},"C 41P","Szűrőbetét P -CF 41","CF 41","Szűrőbetét","16 290,-Ft",63.664300000000004,null,16290]
[{"$f":"IF(L399=FALSE,0,COUNTIF(A$3:A398,\">0\")+1)","v":0},"C 42P","Szűrőbetét P -CF 42","CF 42","Szűrőbetét","18 660,-Ft",72.923999999999992,null,18660]
[{"$f":"IF(L400=FALSE,0,COUNTIF(A$3:A399,\">0\")+1)","v":0},"C 43P","Szűrőbetét P -CF 43","CF 43","Szűrőbetét","19 680,-Ft",76.899799999999999,null,19680]
[{"$f":"IF(L401=FALSE,0,COUNTIF(A$3:A400,\">0\")+1)","v":0},"C 44P","Szűrőbetét P -CF 44","CF 44","Szűrőbetét","25 100,-Ft",98.0869,null,25100]
[{"$f":"IF(L402=FALSE,0,COUNTIF(A$3:A401,\">0\")+1)","v":0},"C 50P","Szűrőbetét P -CF 50","CF 50","Szűrőbetét","35 000,-Ft",141.00700000000001,null,35000]
[{"$f":"IF(L403=FALSE,0,COUNTIF(A$3:A402,\">0\")+1)","v":0},"C 51P","Szűrőbetét P -CF 51","CF 51","Szűrőbetét","42 480,-Ft",171.1242,null,42480]
[{"$f":"IF(L404=FALSE,0,COUNTIF(A$3:A403,\">0\")+1)","v":0},"C 52P","Szűrőbetét P -CF 52","CF 52","Szűrőbetét","42 480,-Ft",171.1242,null,42480]
[{"$f":"IF(L405=FALSE,0,COUNTIF(A$3:A404,\">0\")+1)","v":0},"C 60P","Szűrőbetét P -CF 60","CF 60","Szűrőbetét","53 980,-Ft",217.4639,null,53980]
[{"$f":"IF(L406=FALSE,0,COUNTIF(A$3:A405,\">0\")+1)","v":0},"C 61P","Szűrőbetét P -CF 61","CF 61","Szűrőbetét","62 560,-Ft",252.01009999999999,null,62560]
[{"$f":"IF(L407=FALSE,0,COUNTIF(A$3:A406,\">0\")+1)","v":0},"C 20R","Szűrőbetét R -CF 20","CF 20","Szűrőbetét","5 760,-Ft",22.515799999999999,null,5760]
[{"$f":"IF(L408=FALSE,0,COUNTIF(A$3:A407,\">0\")+1)","v":0},"C 21R","Szűrőbetét R -CF 21","CF 21","Szűrőbetét","7 120,-Ft",27.810000000000002,null,7120]
[{"$f":"IF(L409=FALSE,0,COUNTIF(A$3:A408,\">0\")+1)","v":0},"C 30R","Szűrőbetét R -CF 30","CF 30","Szűrőbetét","8 670,-Ft",33.8767,null,8670]
[{"$f":"IF(L410=FALSE,0,COUNTIF(A$3:A409,\">0\")+1)","v":0},"C 31R","Szűrőbetét R -CF 31","CF 31","Szűrőbetét","9 150,-Ft",35.751300000000001,null,9150]
[{"$f":"IF(L411=FALSE,0,COUNTIF(A$3:A410,\">0\")+1)","v":0},"C 40R","Szűrőbetét R -CF 40","CF 40","Szűrőbetét","11 550,-Ft",45.134599999999999,null,11550]
[{"$f":"IF(L412=FALSE,0,COUNTIF(A$3:A411,\">0\")+1)","v":0},"C 41R","Szűrőbetét R -CF 41","CF 41","Szűrőbetét","16 290,-Ft",63.664300000000004,null,16290]
[{"$f":"IF(L413=FALSE,0,COUNTIF(A$3:A412,\">0\")+1)","v":0},"C 42R","Szűrőbetét R -CF 42","CF 42","Szűrőbetét","18 660,-Ft",72.923999999999992,null,18660]
[{"$f":"IF(L414=FALSE,0,COUNTIF(A$3:A413,\">0\")+1)","v":0},"C 43R","Szűrőbetét R -CF 43","CF 43","Szűrőbetét","19 680,-Ft",76.899799999999999,null,19680]
[{"$f":"IF(L415=FALSE,0,COUNTIF(A$3:A414,\">0\")+1)","v":0},"C 44R","Szűrőbetét R -CF 44","CF 44","Szűrőbetét","25 100,-Ft",98.0869,null,25100]
[{"$f":"IF(L416=FALSE,0,COUNTIF(A$3:A415,\">0\")+1)","v":0},"C 50R","Szűrőbetét R -CF 50","CF 50","Szűrőbetét","35 000,-Ft",141.00700000000001,null,35000]
[{"$f":"IF(L417=FALSE,0,COUNTIF(A$3:A416,\">0\")+1)","v":0},"C 51R","Szűrőbetét R -CF 51","CF 51","Szűrőbetét","42 480,-Ft",171.1242,null,42480]
[{"$f":"IF(L418=FALSE,0,COUNTIF(A$3:A417,\">0\")+1)","v":0},"C 52R","Szűrőbetét R -CF 52","CF 52","Szűrőbetét","42 480,-Ft",171.1242,null,42480]
[{"$f":"IF(L419=FALSE,0,COUNTIF(A$3:A418,\">0\")+1)","v":0},"C 60R","Szűrőbetét R -CF 60","CF 60","Szűrőbetét","53 980,-Ft",217.4639,null,53980]
[{"$f":"IF(L420=FALSE,0,COUNTIF(A$3:A419,\">0\")+1)","v":0},"C 61R","Szűrőbetét R -CF 61","CF 61","Szűrőbetét","62 560,-Ft",252.01009999999999,null,62560]
[{"$f":"IF(L421=FALSE,0,COUNTIF(A$3:A420,\">0\")+1)","v":0},"C 20M","Szűrőbetét M -CF 20","CF 20","Szűrőbetét","5 760,-Ft",22.515799999999999,null,5760]
[{"$f":"IF(L422=FALSE,0,COUNTIF(A$3:A421,\">0\")+1)","v":0},"C 21M","Szűrőbetét M -CF 21","CF 21","Szűrőbetét","7 120,-Ft",27.810000000000002,null,7120]
[{"$f":"IF(L423=FALSE,0,COUNTIF(A$3:A422,\">0\")+1)","v":0},"C 30M","Szűrőbetét M -CF 30","CF 30","Szűrőbetét","8 670,-Ft",33.8767,null,8670]
[{"$f":"IF(L424=FALSE,0,COUNTIF(A$3:A423,\">0\")+1)","v":0},"C 31M","Szűrőbetét M -CF 31","CF 31","Szűrőbetét","9 150,-Ft",35.751300000000001,null,9150]
[{"$f":"IF(L425=FALSE,0,COUNTIF(A$3:A424,\">0\")+1)","v":0},"C 40M","Szűrőbetét M -CF 40","CF 40","Szűrőbetét","11 550,-Ft",45.134599999999999,null,11550]
[{"$f":"IF(L426=FALSE,0,COUNTIF(A$3:A425,\">0\")+1)","v":0},"C 41M","Szűrőbetét M -CF 41","CF 41","Szűrőbetét","16 290,-Ft",63.664300000000004,null,16290]
[{"$f":"IF(L427=FALSE,0,COUNTIF(A$3:A426,\">0\")+1)","v":0},"C 42M","Szűrőbetét M -CF 42","CF 42","Szűrőbetét","18 660,-Ft",72.923999999999992,null,18660]
[{"$f":"IF(L428=FALSE,0,COUNTIF(A$3:A427,\">0\")+1)","v":0},"C 43M","Szűrőbetét M -CF 43","CF 43","Szűrőbetét","19 680,-Ft",76.899799999999999,null,19680]
[{"$f":"IF(L429=FALSE,0,COUNTIF(A$3:A428,\">0\")+1)","v":0},"C 44M","Szűrőbetét M -CF 44","CF 44","Szűrőbetét","25 100,-Ft",98.0869,null,25100]
[{"$f":"IF(L430=FALSE,0,COUNTIF(A$3:A429,\">0\")+1)","v":0},"C 50M","Szűrőbetét M -CF 50","CF 50","Szűrőbetét","35 000,-Ft",141.00700000000001,null,35000]
[{"$f":"IF(L431=FALSE,0,COUNTIF(A$3:A430,\">0\")+1)","v":0},"C 51M","Szűrőbetét M -CF 51","CF 51","Szűrőbetét","42 480,-Ft",171.1242,null,42480]
[{"$f":"IF(L432=FALSE,0,COUNTIF(A$3:A431,\">0\")+1)","v":0},"C 52M","Szűrőbetét M -CF 52","CF 52","Szűrőbetét","42 480,-Ft",171.1242,null,42480]
[{"$f":"IF(L433=FALSE,0,COUNTIF(A$3:A432,\">0\")+1)","v":0},"C 60M","Szűrőbetét M -CF 60","CF 60","Szűrőbetét","53 980,-Ft",217.4639,null,53980]
[{"$f":"IF(L434=FALSE,0,COUNTIF(A$3:A433,\">0\")+1)","v":0},"C 61M","Szűrőbetét M -CF 61","CF 61","Szűrőbetét","62 560,-Ft",252.01009999999999,null,62560]
[{"$f":"IF(L435=FALSE,0,COUNTIF(A$3:A434,\">0\")+1)","v":0},"C 20S","Szűrőbetét S -CF 20","CF 20","Szűrőbetét","5 760,-Ft",22.515799999999999,null,5760]
[{"$f":"IF(L436=FALSE,0,COUNTIF(A$3:A435,\">0\")+1)","v":0},"C 21S","Szűrőbetét S -CF 21","CF 21","Szűrőbetét","7 120,-Ft",27.810000000000002,null,7120]
[{"$f":"IF(L437=FALSE,0,COUNTIF(A$3:A436,\">0\")+1)","v":0},"C 30S","Szűrőbetét S -CF 30","CF 30","Szűrőbetét","8 670,-Ft",33.8767,null,8670]
[{"$f":"IF(L438=FALSE,0,COUNTIF(A$3:A437,\">0\")+1)","v":0},"C 31S","Szűrőbetét S -CF 31","CF 31","Szűrőbetét","9 150,-Ft",35.751300000000001,null,9150]
[{"$f":"IF(L439=FALSE,0,COUNTIF(A$3:A438,\">0\")+1)","v":0},"C 40S","Szűrőbetét S -CF 40","CF 40","Szűrőbetét","11 550,-Ft",45.134599999999999,null,11550]
[{"$f":"IF(L440=FALSE,0,COUNTIF(A$3:A439,\">0\")+1)","v":0},"C 41S","Szűrőbetét S -CF 41","CF 41","Szűrőbetét","16 290,-Ft",63.664300000000004,null,16290]
[{"$f":"IF(L441=FALSE,0,COUNTIF(A$3:A440,\">0\")+1)","v":0},"C 42S","Szűrőbetét S -CF 42","CF 42","Szűrőbetét","18 660,-Ft",72.923999999999992,null,18660]
[{"$f":"IF(L442=FALSE,0,COUNTIF(A$3:A441,\">0\")+1)","v":0},"C 43S","Szűrőbetét S -CF 43","CF 43","Szűrőbetét","19 680,-Ft",76.899799999999999,null,19680]
[{"$f":"IF(L443=FALSE,0,COUNTIF(A$3:A442,\">0\")+1)","v":0},"C 44S","Szűrőbetét S -CF 44","CF 44","Szűrőbetét","25 100,-Ft",98.0869,null,25100]
[{"$f":"IF(L444=FALSE,0,COUNTIF(A$3:A443,\">0\")+1)","v":0},"C 50S","Szűrőbetét S -CF 50","CF 50","Szűrőbetét","35 000,-Ft",141.00700000000001,null,35000]
[{"$f":"IF(L445=FALSE,0,COUNTIF(A$3:A444,\">0\")+1)","v":0},"C 51S","Szűrőbetét S -CF 51","CF 51","Szűrőbetét","42 480,-Ft",171.1242,null,42480]
[{"$f":"IF(L446=FALSE,0,COUNTIF(A$3:A445,\">0\")+1)","v":0},"C 52S","Szűrőbetét S -CF 52","CF 52","Szűrőbetét","42 480,-Ft",171.1242,null,42480]
[{"$f":"IF(L447=FALSE,0,COUNTIF(A$3:A446,\">0\")+1)","v":0},"C 60S","Szűrőbetét S -CF 60","CF 60","Szűrőbetét","53 980,-Ft",217.4639,null,53980]
[{"$f":"IF(L448=FALSE,0,COUNTIF(A$3:A447,\">0\")+1)","v":0},"C 61S","Szűrőbetét S -CF 61","CF 61","Szűrőbetét","62 560,-Ft",252.01009999999999,null,62560]
[{"$f":"IF(L449=FALSE,0,COUNTIF(A$3:A448,\">0\")+1)","v":0},"C 20A","Szűrőbetét A -CF 20","CF 20","Szűrőbetét","5 760,-Ft",22.515799999999999,null,5760]
[{"$f":"IF(L450=FALSE,0,COUNTIF(A$3:A449,\">0\")+1)","v":0},"C 21A","Szűrőbetét A -CF 21","CF 21","Szűrőbetét","7 120,-Ft",27.810000000000002,null,7120]
[{"$f":"IF(L451=FALSE,0,COUNTIF(A$3:A450,\">0\")+1)","v":0},"C 30A","Szűrőbetét A -CF 30","CF 30","Szűrőbetét","8 670,-Ft",33.8767,null,8670]
[{"$f":"IF(L452=FALSE,0,COUNTIF(A$3:A451,\">0\")+1)","v":0},"C 31A","Szűrőbetét A -CF 31","CF 31","Szűrőbetét",{"$f":"TEXT(I452,\"# ###,-Ft\")","v":"9 150,-Ft"},35.751300000000001,null,{"$f":"ROUND(IF(G$1=1,IF(G452>10000,(G452*N$1*0.85),IF(G452>5000,(G452*N$1*0.88),IF(G452>1000,(G452*N$1*0.91),IF(G452>500,(G452*N$1*0.94),IF(G452>100,(G452*N$1*0.97),(G452*N$1))))))/1.27,G452*N$1/1.27),L$1)","v":9150}]
[{"$f":"IF(L453=FALSE,0,COUNTIF(A$3:A452,\">0\")+1)","v":0},"C 40A","Szűrőbetét A -CF 40","CF 40","Szűrőbetét","11 550,-Ft",45.134599999999999,null,11550]
[{"$f":"IF(L454=FALSE,0,COUNTIF(A$3:A453,\">0\")+1)","v":0},"C 41A","Szűrőbetét A -CF 41","CF 41","Szűrőbetét","16 290,-Ft",63.664300000000004,null,16290]
[{"$f":"IF(L455=FALSE,0,COUNTIF(A$3:A454,\">0\")+1)","v":0},"C 42A","Szűrőbetét A -CF 42","CF 42","Szűrőbetét","18 660,-Ft",72.923999999999992,null,18660]
[{"$f":"IF(L456=FALSE,0,COUNTIF(A$3:A455,\">0\")+1)","v":0},"C 43A","Szűrőbetét A -CF 43","CF 43","Szűrőbetét","19 680,-Ft",76.899799999999999,null,19680]
[{"$f":"IF(L457=FALSE,0,COUNTIF(A$3:A456,\">0\")+1)","v":0},"C 44A","Szűrőbetét A -CF 44","CF 44","Szűrőbetét","25 100,-Ft",98.0869,null,25100]
[{"$f":"IF(L458=FALSE,0,COUNTIF(A$3:A457,\">0\")+1)","v":0},"C 50A","Szűrőbetét A -CF 50","CF 50","Szűrőbetét","35 000,-Ft",141.00700000000001,null,35000]
[{"$f":"IF(L459=FALSE,0,COUNTIF(A$3:A458,\">0\")+1)","v":0},"C 51A","Szűrőbetét A -CF 51","CF 51","Szűrőbetét","42 480,-Ft",171.1242,null,42480]
[{"$f":"IF(L460=FALSE,0,COUNTIF(A$3:A459,\">0\")+1)","v":0},"C 52A","Szűrőbetét A -CF 52","CF 52","Szűrőbetét","42 480,-Ft",171.1242,null,42480]
[{"$f":"IF(L461=FALSE,0,COUNTIF(A$3:A460,\">0\")+1)","v":0},"C 60A","Szűrőbetét A -CF 60","CF 60","Szűrőbetét","53 980,-Ft",217.4639,null,53980]
[{"$f":"IF(L462=FALSE,0,COUNTIF(A$3:A461,\">0\")+1)","v":0},"C 61A","Szűrőbetét A -CF 61","CF 61","Szűrőbetét","62 560,-Ft",252.01009999999999,null,62560]
[{"$f":"IF(L463=FALSE,0,COUNTIF(A$3:A462,\">0\")+1)","v":0},"WFIT 005","Saválló szűrőház WFIT -1/4’’","1/4’’","Szűrőház","181 620,-Ft",755,null,181620]
[{"$f":"IF(L464=FALSE,0,COUNTIF(A$3:A463,\">0\")+1)","v":0},"WFIT 007","Saválló szűrőház WFIT -3/8’’","3/8’’","Szűrőház","186 430,-Ft",775,null,186430]
[{"$f":"IF(L465=FALSE,0,COUNTIF(A$3:A464,\">0\")+1)","v":0},"WFIT 010","Saválló szűrőház WFIT -1/2’’","1/2’’","Szűrőház","196 050,-Ft",815,null,196050]
[{"$f":"IF(L466=FALSE,0,COUNTIF(A$3:A465,\">0\")+1)","v":0},"WFIT 018","Saválló szűrőház WFIT -3/4’’","3/4’’","Szűrőház","206 850,-Ft",859.9,null,206850]
[{"$f":"IF(L467=FALSE,0,COUNTIF(A$3:A466,\">0\")+1)","v":0},"WFIT 030","Saválló szűrőház WFIT -1’’","1’’","Szűrőház",{"$f":"TEXT(I467,\"# ###,-Ft (2)\")","v":"240 000,-Ft (2)"},1030,2,{"$f":"ROUND(IF(G$1=1,IF(G467>10000,(G467*N$1*0.85),IF(G467>5000,(G467*N$1*0.88),IF(G467>1000,(G467*N$1*0.91),IF(G467>500,(G467*N$1*0.94),IF(G467>100,(G467*N$1*0.97),(G467*N$1))))))/1.27,G467*N$1/1.27),-3)","v":240000}]
[{"$f":"IF(L468=FALSE,0,COUNTIF(A$3:A467,\">0\")+1)","v":0},"WFIT 047","Saválló szűrőház WFIT -1 1/4 ’’","1 1/4 ’’","Szűrőház",{"$f":"TEXT(I468,\"# ###,-Ft (2)\")","v":"260 000,-Ft (2)"},1115.5,2,{"$f":"ROUND(IF(G$1=1,IF(G468>10000,(G468*N$1*0.85),IF(G468>5000,(G468*N$1*0.88),IF(G468>1000,(G468*N$1*0.91),IF(G468>500,(G468*N$1*0.94),IF(G468>100,(G468*N$1*0.97),(G468*N$1))))))/1.27,G468*N$1/1.27),-3)","v":260000}]
[{"$f":"IF(L469=FALSE,0,COUNTIF(A$3:A468,\">0\")+1)","v":0},"WFIT 070","Saválló szűrőház WFIT -1 1/2 ’’","1 1/2 ’’","Szűrőház","327 000,-Ft (2)",1405,2,327000]
[{"$f":"IF(L470=FALSE,0,COUNTIF(A$3:A469,\">0\")+1)","v":0},"WFIT 094","Saválló szűrőház WFIT -2’’","2’’","Szűrőház","384 000,-Ft (2)",1650.5,2,384000]
[{"$f":"IF(L471=FALSE,0,COUNTIF(A$3:A470,\">0\")+1)","v":0},"WFIT 150","Saválló szűrőház WFIT -2’’","2’’","Szűrőház","408 000,-Ft (2)",1750.2,2,408000]
[{"$f":"IF(L472=FALSE,0,COUNTIF(A$3:A471,\">0\")+1)","v":0},"WFIT 175","Saválló szűrőház WFIT -2 1/ 2’’","2 1/ 2’’","Szűrőház","535 000,-Ft (2)",2299,2,535000]
[{"$f":"IF(L473=FALSE,0,COUNTIF(A$3:A472,\">0\")+1)","v":0},"WFIT 200","Saválló szűrőház WFIT -3’’","3’’","Szűrőház","564 000,-Ft (2)",2422,2,564000]
[{"$f":"IF(L474=FALSE,0,COUNTIF(A$3:A473,\">0\")+1)","v":0},"WFIT 240","Saválló szűrőház WFIT -3’’","3’’","Szűrőház","723 000,-Ft (2)",3105,2,723000]
[{"$f":"IF(L475=FALSE,0,COUNTIF(A$3:A474,\">0\")+1)","v":0},"WFIT 005F","Saválló szűrőház WFIT 14404 -1/4’’","1/4’’","Szűrőház","150 570,-Ft",625.93100000000004,null,150570]
[{"$f":"IF(L476=FALSE,0,COUNTIF(A$3:A475,\">0\")+1)","v":0},"WFIT 007F","Saválló szűrőház WFIT 14404 -3/8’’","3/8’’","Szűrőház","167 160,-Ft",694.8895,null,167160]
[{"$f":"IF(L477=FALSE,0,COUNTIF(A$3:A476,\">0\")+1)","v":0},"WFIT 010F","Saválló szűrőház WFIT 14404 -1/2’’","1/2’’","Szűrőház","195 230,-Ft",811.58850000000007,null,195230]
[{"$f":"IF(L478=FALSE,0,COUNTIF(A$3:A477,\">0\")+1)","v":0},"WFIT 018F","Saválló szűrőház WFIT 14404 -3/4’’","3/4’’","Szűrőház","211 820,-Ft",880.54700000000003,null,211820]
[{"$f":"IF(L479=FALSE,0,COUNTIF(A$3:A478,\">0\")+1)","v":0},"WFIT 030F","Saválló szűrőház WFIT 14404 -1’’","1’’","Szűrőház",{"$f":"TEXT(I479,\"# ###,-Ft (2)\")","v":"252 000,-Ft (2)"},1082.1179999999999,2,{"$f":"ROUND(IF(G$1=1,IF(G479>10000,(G479*N$1*0.85),IF(G479>5000,(G479*N$1*0.88),IF(G479>1000,(G479*N$1*0.91),IF(G479>500,(G479*N$1*0.94),IF(G479>100,(G479*N$1*0.97),(G479*N$1))))))/1.27,G479*N$1/1.27),-3)","v":252000}]
[{"$f":"IF(L480=FALSE,0,COUNTIF(A$3:A479,\">0\")+1)","v":0},"WFIT 047F","Saválló szűrőház WFIT 14404 -1 1/4 ’’","1 1/4 ’’","Szűrőház","274 000,-Ft (2)",1177.5989999999999,2,274000]
[{"$f":"IF(L481=FALSE,0,COUNTIF(A$3:A480,\">0\")+1)","v":0},"WFIT 070F","Saválló szűrőház WFIT 14404 -1 1/2 ’’","1 1/2 ’’","Szűrőház","329 000,-Ft (2)",1410.9970000000001,2,329000]
[{"$f":"IF(L482=FALSE,0,COUNTIF(A$3:A481,\">0\")+1)","v":0},"WFIT 094F","Saválló szűrőház WFIT 14404 -2’’","2’’","Szűrőház","416 000,-Ft (2)",1787.6165000000001,2,416000]
[{"$f":"IF(L483=FALSE,0,COUNTIF(A$3:A482,\">0\")+1)","v":0},"WFIT 150F","Saválló szűrőház WFIT 14404 -2’’","2’’","Szűrőház","442 000,-Ft (2)",1899.0110000000002,2,442000]
[{"$f":"IF(L484=FALSE,0,COUNTIF(A$3:A483,\">0\")+1)","v":0},"WFIT 175F","Saválló szűrőház WFIT 14404 -2 1/ 2’’","2 1/ 2’’","Szűrőház","557 000,-Ft (2)",2392.3295000000003,2,557000]
[{"$f":"IF(L485=FALSE,0,COUNTIF(A$3:A484,\">0\")+1)","v":0},"WFIT 200F","Saválló szűrőház WFIT 14404 -3’’","3’’","Szűrőház","590 000,-Ft (2)",2535.5509999999999,2,590000]
[{"$f":"IF(L486=FALSE,0,COUNTIF(A$3:A485,\">0\")+1)","v":0},"WFIT 240F","Saválló szűrőház WFIT 14404 -3’’","3’’","Szűrőház","747 000,-Ft (2)",3209.2225000000003,2,747000]
[{"$f":"IF(L487=FALSE,0,COUNTIF(A$3:A486,\">0\")+1)","v":0},"0310PN","Szűrőbetét PN -WFIT 005","WFIT 005","Szűrőbetét","27 560,-Ft",111.03,null,27560]
[{"$f":"IF(L488=FALSE,0,COUNTIF(A$3:A487,\">0\")+1)","v":0},"0410PN","Szűrőbetét PN -WFIT 007","WFIT 007","Szűrőbetét","32 340,-Ft",130.30000000000001,null,32340]
[{"$f":"IF(L489=FALSE,0,COUNTIF(A$3:A488,\">0\")+1)","v":0},"0420PN","Szűrőbetét PN -WFIT 010","WFIT 010","Szűrőbetét","35 160,-Ft",141.63,null,35160]
[{"$f":"IF(L490=FALSE,0,COUNTIF(A$3:A489,\">0\")+1)","v":0},"0520PN","Szűrőbetét PN -WFIT 018","WFIT 018","Szűrőbetét","43 590,-Ft",175.62,null,43590]
[{"$f":"IF(L491=FALSE,0,COUNTIF(A$3:A490,\">0\")+1)","v":0},"0525PN","Szűrőbetét PN -WFIT 030","WFIT 030","Szűrőbetét","52 030,-Ft",209.61,null,52030]
[{"$f":"IF(L492=FALSE,0,COUNTIF(A$3:A491,\">0\")+1)","v":0},"0725PN","Szűrőbetét PN -WFIT 047","WFIT 047","Szűrőbetét","61 870,-Ft",249.26,null,61870]
[{"$f":"IF(L493=FALSE,0,COUNTIF(A$3:A492,\">0\")+1)","v":0},"0730PN","Szűrőbetét PN -WFIT 070","WFIT 070","Szűrőbetét","77 340,-Ft",311.58,null,77340]
[{"$f":"IF(L494=FALSE,0,COUNTIF(A$3:A493,\">0\")+1)","v":0},"1030PN","Szűrőbetét PN -WFIT 094","WFIT 094","Szűrőbetét","94 220,-Ft",379.56,null,94220]
[{"$f":"IF(L495=FALSE,0,COUNTIF(A$3:A494,\">0\")+1)","v":0},"1530PN","Szűrőbetét PN -WFIT 150","WFIT 150","Szűrőbetét","112 500,-Ft",453.2,null,112500]
[{"$f":"IF(L496=FALSE,0,COUNTIF(A$3:A495,\">0\")+1)","v":0},"2030PN","Szűrőbetét PN -WFIT 175","WFIT 175","Szűrőbetét","134 910,-Ft",560.84,null,134910]
[{"$f":"IF(L497=FALSE,0,COUNTIF(A$3:A496,\">0\")+1)","v":0},"3030PN","Szűrőbetét PN -WFIT 200","WFIT 200","Szűrőbetét","162 170,-Ft",674.14,null,162170]
[{"$f":"IF(L498=FALSE,0,COUNTIF(A$3:A497,\">0\")+1)","v":0},"3050PN","Szűrőbetét PN -WFIT 240","WFIT 240","Szűrőbetét",{"$f":"TEXT(I498,\"# ###,-Ft (2)\")","v":"380 000,-Ft (2)"},1630,2,{"$f":"ROUND(IF(G$1=1,IF(G498>10000,(G498*N$1*0.85),IF(G498>5000,(G498*N$1*0.88),IF(G498>1000,(G498*N$1*0.91),IF(G498>500,(G498*N$1*0.94),IF(G498>100,(G498*N$1*0.97),(G498*N$1))))))/1.27,G498*N$1/1.27),-3)","v":380000}]
[{"$f":"IF(L499=FALSE,0,COUNTIF(A$3:A498,\">0\")+1)","v":0},"0310PI","Szűrőbetét PI -WFIT 005","WFIT 005","Szűrőbetét","27 560,-Ft",111.03,null,27560]
[{"$f":"IF(L500=FALSE,0,COUNTIF(A$3:A499,\">0\")+1)","v":0},"0410PI","Szűrőbetét PI -WFIT 007","WFIT 007","Szűrőbetét","32 340,-Ft",130.30000000000001,null,32340]
[{"$f":"IF(L501=FALSE,0,COUNTIF(A$3:A500,\">0\")+1)","v":0},"0420PI","Szűrőbetét PI -WFIT 010","WFIT 010","Szűrőbetét","35 160,-Ft",141.63,null,35160]
[{"$f":"IF(L502=FALSE,0,COUNTIF(A$3:A501,\">0\")+1)","v":0},"0520PI","Szűrőbetét PI -WFIT 018","WFIT 018","Szűrőbetét","43 590,-Ft",175.62,null,43590]
[{"$f":"IF(L503=FALSE,0,COUNTIF(A$3:A502,\">0\")+1)","v":0},"0525PI","Szűrőbetét PI -WFIT 030","WFIT 030","Szűrőbetét","52 030,-Ft",209.61,null,52030]
[{"$f":"IF(L504=FALSE,0,COUNTIF(A$3:A503,\">0\")+1)","v":0},"0725PI","Szűrőbetét PI -WFIT 047","WFIT 047","Szűrőbetét","61 870,-Ft",249.26,null,61870]
[{"$f":"IF(L505=FALSE,0,COUNTIF(A$3:A504,\">0\")+1)","v":0},"0730PI","Szűrőbetét PI -WFIT 070","WFIT 070","Szűrőbetét","77 340,-Ft",311.58,null,77340]
[{"$f":"IF(L506=FALSE,0,COUNTIF(A$3:A505,\">0\")+1)","v":0},"1030PI","Szűrőbetét PI -WFIT 094","WFIT 094","Szűrőbetét","94 220,-Ft",379.56,null,94220]
[{"$f":"IF(L507=FALSE,0,COUNTIF(A$3:A506,\">0\")+1)","v":0},"1530PI","Szűrőbetét PI -WFIT 150","WFIT 150","Szűrőbetét","112 500,-Ft",453.2,null,112500]
[{"$f":"IF(L508=FALSE,0,COUNTIF(A$3:A507,\">0\")+1)","v":0},"2030PI","Szűrőbetét PI -WFIT 175","WFIT 175","Szűrőbetét","134 910,-Ft",560.84,null,134910]
[{"$f":"IF(L509=FALSE,0,COUNTIF(A$3:A508,\">0\")+1)","v":0},"3030PI","Szűrőbetét PI -WFIT 200","WFIT 200","Szűrőbetét","162 170,-Ft",674.14,null,162170]
[{"$f":"IF(L510=FALSE,0,COUNTIF(A$3:A509,\">0\")+1)","v":0},"3050PI","Szűrőbetét PI -WFIT 240","WFIT 240","Szűrőbetét",{"$f":"TEXT(I510,\"# ###,-Ft (2)\")","v":"380 000,-Ft (2)"},1630,2,{"$f":"ROUND(IF(G$1=1,IF(G510>10000,(G510*N$1*0.85),IF(G510>5000,(G510*N$1*0.88),IF(G510>1000,(G510*N$1*0.91),IF(G510>500,(G510*N$1*0.94),IF(G510>100,(G510*N$1*0.97),(G510*N$1))))))/1.27,G510*N$1/1.27),-3)","v":380000}]
[{"$f":"IF(L511=FALSE,0,COUNTIF(A$3:A510,\">0\")+1)","v":0},"0310PIW","Szűrőbetét PIW -WFIT 005","WFIT 005","Szűrőbetét","27 560,-Ft",111.03,null,27560]
[{"$f":"IF(L512=FALSE,0,COUNTIF(A$3:A511,\">0\")+1)","v":0},"0410PIW","Szűrőbetét PIW -WFIT 007","WFIT 007","Szűrőbetét","32 340,-Ft",130.30000000000001,null,32340]
[{"$f":"IF(L513=FALSE,0,COUNTIF(A$3:A512,\">0\")+1)","v":0},"0420PIW","Szűrőbetét PIW -WFIT 010","WFIT 010","Szűrőbetét","35 160,-Ft",141.63,null,35160]
[{"$f":"IF(L514=FALSE,0,COUNTIF(A$3:A513,\">0\")+1)","v":0},"0520PIW","Szűrőbetét PIW -WFIT 018","WFIT 018","Szűrőbetét","43 590,-Ft",175.62,null,43590]
[{"$f":"IF(L515=FALSE,0,COUNTIF(A$3:A514,\">0\")+1)","v":0},"0525PIW","Szűrőbetét PIW -WFIT 030","WFIT 030","Szűrőbetét","52 030,-Ft",209.61,null,52030]
[{"$f":"IF(L516=FALSE,0,COUNTIF(A$3:A515,\">0\")+1)","v":0},"0725PIW","Szűrőbetét PIW -WFIT 047","WFIT 047","Szűrőbetét",{"$f":"TEXT(I516,\"# ###,-Ft\")","v":"61 870,-Ft"},249.26,null,{"$f":"ROUND(IF(G$1=1,IF(G516>10000,(G516*N$1*0.85),IF(G516>5000,(G516*N$1*0.88),IF(G516>1000,(G516*N$1*0.91),IF(G516>500,(G516*N$1*0.94),IF(G516>100,(G516*N$1*0.97),(G516*N$1))))))/1.27,G516*N$1/1.27),L$1)","v":61870}]
[{"$f":"IF(L517=FALSE,0,COUNTIF(A$3:A516,\">0\")+1)","v":0},"0730PIW","Szűrőbetét PIW -WFIT 070","WFIT 070","Szűrőbetét","77 340,-Ft",311.58,null,77340]
[{"$f":"IF(L518=FALSE,0,COUNTIF(A$3:A517,\">0\")+1)","v":0},"1030PIW","Szűrőbetét PIW -WFIT 094","WFIT 094","Szűrőbetét","94 220,-Ft",379.56,null,94220]
[{"$f":"IF(L519=FALSE,0,COUNTIF(A$3:A518,\">0\")+1)","v":0},"1530PIW","Szűrőbetét PIW -WFIT 150","WFIT 150","Szűrőbetét","112 500,-Ft",453.2,null,112500]
[{"$f":"IF(L520=FALSE,0,COUNTIF(A$3:A519,\">0\")+1)","v":0},"2030PIW","Szűrőbetét PIW -WFIT 175","WFIT 175","Szűrőbetét","134 910,-Ft",560.84,null,134910]
[{"$f":"IF(L521=FALSE,0,COUNTIF(A$3:A520,\">0\")+1)","v":0},"3030PIW","Szűrőbetét PIW -WFIT 200","WFIT 200","Szűrőbetét","162 170,-Ft",674.14,null,162170]
[{"$f":"IF(L522=FALSE,0,COUNTIF(A$3:A521,\">0\")+1)","v":0},"3050PIW","Szűrőbetét PIW -WFIT 240","WFIT 240","Szűrőbetét",{"$f":"TEXT(I522,\"# ###,-Ft (2)\")","v":"380 000,-Ft (2)"},1630,2,{"$f":"ROUND(IF(G$1=1,IF(G522>10000,(G522*N$1*0.85),IF(G522>5000,(G522*N$1*0.88),IF(G522>1000,(G522*N$1*0.91),IF(G522>500,(G522*N$1*0.94),IF(G522>100,(G522*N$1*0.97),(G522*N$1))))))/1.27,G522*N$1/1.27),-3)","v":380000}]
[{"$f":"IF(L523=FALSE,0,COUNTIF(A$3:A522,\">0\")+1)","v":0},"0310PP","Szűrőbetét PP -WFIT 005","WFIT 005","Szűrőbetét","24 000,-Ft",93.781499999999994,null,24000]
[{"$f":"IF(L524=FALSE,0,COUNTIF(A$3:A523,\">0\")+1)","v":0},"0410PP","Szűrőbetét PP -WFIT 007","WFIT 007","Szűrőbetét","27 390,-Ft",110.3336,null,27390]
[{"$f":"IF(L525=FALSE,0,COUNTIF(A$3:A524,\">0\")+1)","v":0},"0420PP","Szűrőbetét PP -WFIT 010","WFIT 010","Szűrőbetét","30 020,-Ft",120.9426,null,30020]
[{"$f":"IF(L526=FALSE,0,COUNTIF(A$3:A525,\">0\")+1)","v":0},"0520PP","Szűrőbetét PP -WFIT 018","WFIT 018","Szűrőbetét","36 970,-Ft",148.94830000000002,null,36970]
[{"$f":"IF(L527=FALSE,0,COUNTIF(A$3:A526,\">0\")+1)","v":0},"0525PP","Szűrőbetét PP -WFIT 030","WFIT 030","Szűrőbetét","43 820,-Ft",176.5317,null,43820]
[{"$f":"IF(L528=FALSE,0,COUNTIF(A$3:A527,\">0\")+1)","v":0},"0725PP","Szűrőbetét PP -WFIT 047","WFIT 047","Szűrőbetét","52 040,-Ft",209.63590000000002,null,52040]
[{"$f":"IF(L529=FALSE,0,COUNTIF(A$3:A528,\">0\")+1)","v":0},"0730PP","Szűrőbetét PP -WFIT 070","WFIT 070","Szűrőbetét","65 730,-Ft",264.80269999999996,null,65730]
[{"$f":"IF(L530=FALSE,0,COUNTIF(A$3:A529,\">0\")+1)","v":0},"1030PP","Szűrőbetét PP -WFIT 094","WFIT 094","Szűrőbetét","79 430,-Ft",319.96949999999998,null,79430]
[{"$f":"IF(L531=FALSE,0,COUNTIF(A$3:A530,\">0\")+1)","v":0},"1530PP","Szűrőbetét PP -WFIT 150","WFIT 150","Szűrőbetét","95 860,-Ft",386.16760000000005,null,95860]
[{"$f":"IF(L532=FALSE,0,COUNTIF(A$3:A531,\">0\")+1)","v":0},"2030PP","Szűrőbetét PP -WFIT 175","WFIT 175","Szűrőbetét","117 770,-Ft",474.43860000000001,null,117770]
[{"$f":"IF(L533=FALSE,0,COUNTIF(A$3:A532,\">0\")+1)","v":0},"3030PP","Szűrőbetét PP -WFIT 200","WFIT 200","Szűrőbetét","138 010,-Ft",573.73059999999998,null,138010]
[{"$f":"IF(L534=FALSE,0,COUNTIF(A$3:A533,\">0\")+1)","v":0},"3050PP","Szűrőbetét PP -WFIT 240","WFIT 240","Szűrőbetét","167 210,-Ft",695.10580000000004,null,167210]
[{"$f":"IF(L535=FALSE,0,COUNTIF(A$3:A534,\">0\")+1)","v":0},"0310PR","Szűrőbetét PR -WFIT 005","WFIT 005","Szűrőbetét","24 000,-Ft",93.781499999999994,null,24000]
[{"$f":"IF(L536=FALSE,0,COUNTIF(A$3:A535,\">0\")+1)","v":0},"0410PR","Szűrőbetét PR -WFIT 007","WFIT 007","Szűrőbetét","27 390,-Ft",110.3336,null,27390]
[{"$f":"IF(L537=FALSE,0,COUNTIF(A$3:A536,\">0\")+1)","v":0},"0420PR","Szűrőbetét PR -WFIT 010","WFIT 010","Szűrőbetét","30 020,-Ft",120.9426,null,30020]
[{"$f":"IF(L538=FALSE,0,COUNTIF(A$3:A537,\">0\")+1)","v":0},"0520PR","Szűrőbetét PR -WFIT 018","WFIT 018","Szűrőbetét","36 970,-Ft",148.94830000000002,null,36970]
[{"$f":"IF(L539=FALSE,0,COUNTIF(A$3:A538,\">0\")+1)","v":0},"0525PR","Szűrőbetét PR -WFIT 030","WFIT 030","Szűrőbetét","43 820,-Ft",176.5317,null,43820]
[{"$f":"IF(L540=FALSE,0,COUNTIF(A$3:A539,\">0\")+1)","v":0},"0725PR","Szűrőbetét PR -WFIT 047","WFIT 047","Szűrőbetét","52 040,-Ft",209.63590000000002,null,52040]
[{"$f":"IF(L541=FALSE,0,COUNTIF(A$3:A540,\">0\")+1)","v":0},"0730PR","Szűrőbetét PR -WFIT 070","WFIT 070","Szűrőbetét","65 730,-Ft",264.80269999999996,null,65730]
[{"$f":"IF(L542=FALSE,0,COUNTIF(A$3:A541,\">0\")+1)","v":0},"1030PR","Szűrőbetét PR -WFIT 094","WFIT 094","Szűrőbetét","79 430,-Ft",319.96949999999998,null,79430]
[{"$f":"IF(L543=FALSE,0,COUNTIF(A$3:A542,\">0\")+1)","v":0},"1530PR","Szűrőbetét PR -WFIT 150","WFIT 150","Szűrőbetét","95 860,-Ft",386.16760000000005,null,95860]
[{"$f":"IF(L544=FALSE,0,COUNTIF(A$3:A543,\">0\")+1)","v":0},"2030PR","Szűrőbetét PR -WFIT 175","WFIT 175","Szűrőbetét","117 770,-Ft",474.43860000000001,null,117770]
[{"$f":"IF(L545=FALSE,0,COUNTIF(A$3:A544,\">0\")+1)","v":0},"3030PR","Szűrőbetét PR -WFIT 200","WFIT 200","Szűrőbetét","138 010,-Ft",573.73059999999998,null,138010]
[{"$f":"IF(L546=FALSE,0,COUNTIF(A$3:A545,\">0\")+1)","v":0},"3050PR","Szűrőbetét PR -WFIT 240","WFIT 240","Szűrőbetét","167 210,-Ft",695.10580000000004,null,167210]
[{"$f":"IF(L547=FALSE,0,COUNTIF(A$3:A546,\">0\")+1)","v":0},"0310PM","Szűrőbetét PM -WFIT 005","WFIT 005","Szűrőbetét","24 000,-Ft",93.781499999999994,null,24000]
[{"$f":"IF(L548=FALSE,0,COUNTIF(A$3:A547,\">0\")+1)","v":0},"0410PM","Szűrőbetét PM -WFIT 007","WFIT 007","Szűrőbetét","27 390,-Ft",110.3336,null,27390]
[{"$f":"IF(L549=FALSE,0,COUNTIF(A$3:A548,\">0\")+1)","v":0},"0420PM","Szűrőbetét PM -WFIT 010","WFIT 010","Szűrőbetét","30 020,-Ft",120.9426,null,30020]
[{"$f":"IF(L550=FALSE,0,COUNTIF(A$3:A549,\">0\")+1)","v":0},"0520PM","Szűrőbetét PM -WFIT 018","WFIT 018","Szűrőbetét","36 970,-Ft",148.94830000000002,null,36970]
[{"$f":"IF(L551=FALSE,0,COUNTIF(A$3:A550,\">0\")+1)","v":0},"0525PM","Szűrőbetét PM -WFIT 030","WFIT 030","Szűrőbetét","43 820,-Ft",176.5317,null,43820]
[{"$f":"IF(L552=FALSE,0,COUNTIF(A$3:A551,\">0\")+1)","v":0},"0725PM","Szűrőbetét PM -WFIT 047","WFIT 047","Szűrőbetét","52 040,-Ft",209.63590000000002,null,52040]
[{"$f":"IF(L553=FALSE,0,COUNTIF(A$3:A552,\">0\")+1)","v":0},"0730PM","Szűrőbetét PM -WFIT 070","WFIT 070","Szűrőbetét","65 730,-Ft",264.80269999999996,null,65730]
[{"$f":"IF(L554=FALSE,0,COUNTIF(A$3:A553,\">0\")+1)","v":0},"1030PM","Szűrőbetét PM -WFIT 094","WFIT 094","Szűrőbetét","79 430,-Ft",319.96949999999998,null,79430]
[{"$f":"IF(L555=FALSE,0,COUNTIF(A$3:A554,\">0\")+1)","v":0},"1530PM","Szűrőbetét PM -WFIT 150","WFIT 150","Szűrőbetét","95 860,-Ft",386.16760000000005,null,95860]
[{"$f":"IF(L556=FALSE,0,COUNTIF(A$3:A555,\">0\")+1)","v":0},"2030PM","Szűrőbetét PM -WFIT 175","WFIT 175","Szűrőbetét","117 770,-Ft",474.43860000000001,null,117770]
[{"$f":"IF(L557=FALSE,0,COUNTIF(A$3:A556,\">0\")+1)","v":0},"3030PM","Szűrőbetét PM -WFIT 200","WFIT 200","Szűrőbetét","138 010,-Ft",573.73059999999998,null,138010]
[{"$f":"IF(L558=FALSE,0,COUNTIF(A$3:A557,\">0\")+1)","v":0},"3050PM","Szűrőbetét PM -WFIT 240","WFIT 240","Szűrőbetét","167 210,-Ft",695.10580000000004,null,167210]
[{"$f":"IF(L559=FALSE,0,COUNTIF(A$3:A558,\">0\")+1)","v":0},"0310PS","Szűrőbetét PS -WFIT 005","WFIT 005","Szűrőbetét","24 000,-Ft",93.781499999999994,null,24000]
[{"$f":"IF(L560=FALSE,0,COUNTIF(A$3:A559,\">0\")+1)","v":0},"0410PS","Szűrőbetét PS -WFIT 007","WFIT 007","Szűrőbetét","27 390,-Ft",110.3336,null,27390]
[{"$f":"IF(L561=FALSE,0,COUNTIF(A$3:A560,\">0\")+1)","v":0},"0420PS","Szűrőbetét PS -WFIT 010","WFIT 010","Szűrőbetét","30 020,-Ft",120.9426,null,30020]
[{"$f":"IF(L562=FALSE,0,COUNTIF(A$3:A561,\">0\")+1)","v":0},"0520PS","Szűrőbetét PS -WFIT 018","WFIT 018","Szűrőbetét","36 970,-Ft",148.94830000000002,null,36970]
[{"$f":"IF(L563=FALSE,0,COUNTIF(A$3:A562,\">0\")+1)","v":0},"0525PS","Szűrőbetét PS -WFIT 030","WFIT 030","Szűrőbetét","43 820,-Ft",176.5317,null,43820]
[{"$f":"IF(L564=FALSE,0,COUNTIF(A$3:A563,\">0\")+1)","v":0},"0725PS","Szűrőbetét PS -WFIT 047","WFIT 047","Szűrőbetét","52 040,-Ft",209.63590000000002,null,52040]
[{"$f":"IF(L565=FALSE,0,COUNTIF(A$3:A564,\">0\")+1)","v":0},"0730PS","Szűrőbetét PS -WFIT 070","WFIT 070","Szűrőbetét","65 730,-Ft",264.80269999999996,null,65730]
[{"$f":"IF(L566=FALSE,0,COUNTIF(A$3:A565,\">0\")+1)","v":0},"1030PS","Szűrőbetét PS -WFIT 094","WFIT 094","Szűrőbetét","79 430,-Ft",319.96949999999998,null,79430]
[{"$f":"IF(L567=FALSE,0,COUNTIF(A$3:A566,\">0\")+1)","v":0},"1530PS","Szűrőbetét PS -WFIT 150","WFIT 150","Szűrőbetét","95 860,-Ft",386.16760000000005,null,95860]
[{"$f":"IF(L568=FALSE,0,COUNTIF(A$3:A567,\">0\")+1)","v":0},"2030PS","Szűrőbetét PS -WFIT 175","WFIT 175","Szűrőbetét","117 770,-Ft",474.43860000000001,null,117770]
[{"$f":"IF(L569=FALSE,0,COUNTIF(A$3:A568,\">0\")+1)","v":0},"3030PS","Szűrőbetét PS -WFIT 200","WFIT 200","Szűrőbetét","138 010,-Ft",573.73059999999998,null,138010]
[{"$f":"IF(L570=FALSE,0,COUNTIF(A$3:A569,\">0\")+1)","v":0},"3050PS","Szűrőbetét PS -WFIT 240","WFIT 240","Szűrőbetét","167 210,-Ft",695.10580000000004,null,167210]
[{"$f":"IF(L571=FALSE,0,COUNTIF(A$3:A570,\">0\")+1)","v":0},"0310PA","Szűrőbetét PA -WFIT 005","WFIT 005","Szűrőbetét","24 000,-Ft",93.781499999999994,null,24000]
[{"$f":"IF(L572=FALSE,0,COUNTIF(A$3:A571,\">0\")+1)","v":0},"0410PA","Szűrőbetét PA -WFIT 007","WFIT 007","Szűrőbetét","27 390,-Ft",110.3336,null,27390]
[{"$f":"IF(L573=FALSE,0,COUNTIF(A$3:A572,\">0\")+1)","v":0},"0420PA","Szűrőbetét PA -WFIT 010","WFIT 010","Szűrőbetét","30 020,-Ft",120.9426,null,30020]
[{"$f":"IF(L574=FALSE,0,COUNTIF(A$3:A573,\">0\")+1)","v":0},"0520PA","Szűrőbetét PA -WFIT 018","WFIT 018","Szűrőbetét","36 970,-Ft",148.94830000000002,null,36970]
[{"$f":"IF(L575=FALSE,0,COUNTIF(A$3:A574,\">0\")+1)","v":0},"0525PA","Szűrőbetét PA -WFIT 030","WFIT 030","Szűrőbetét","43 820,-Ft",176.5317,null,43820]
[{"$f":"IF(L576=FALSE,0,COUNTIF(A$3:A575,\">0\")+1)","v":0},"0725PA","Szűrőbetét PA -WFIT 047","WFIT 047","Szűrőbetét","52 040,-Ft",209.63590000000002,null,52040]
[{"$f":"IF(L577=FALSE,0,COUNTIF(A$3:A576,\">0\")+1)","v":0},"0730PA","Szűrőbetét PA -WFIT 070","WFIT 070","Szűrőbetét","65 730,-Ft",264.80269999999996,null,65730]
[{"$f":"IF(L578=FALSE,0,COUNTIF(A$3:A577,\">0\")+1)","v":0},"1030PA","Szűrőbetét PA -WFIT 094","WFIT 094","Szűrőbetét","79 430,-Ft",319.96949999999998,null,79430]
[{"$f":"IF(L579=FALSE,0,COUNTIF(A$3:A578,\">0\")+1)","v":0},"1530PA","Szűrőbetét PA -WFIT 150","WFIT 150","Szűrőbetét","95 860,-Ft",386.16760000000005,null,95860]
[{"$f":"IF(L580=FALSE,0,COUNTIF(A$3:A579,\">0\")+1)","v":0},"2030PA","Szűrőbetét PA -WFIT 175","WFIT 175","Szűrőbetét",{"$f":"TEXT(I580,\"# ###,-Ft\")","v":"117 770,-Ft"},474.43860000000001,null,{"$f":"ROUND(IF(G$1=1,IF(G580>10000,(G580*N$1*0.85),IF(G580>5000,(G580*N$1*0.88),IF(G580>1000,(G580*N$1*0.91),IF(G580>500,(G580*N$1*0.94),IF(G580>100,(G580*N$1*0.97),(G580*N$1))))))/1.27,G580*N$1/1.27),L$1)","v":117770}]
[{"$f":"IF(L581=FALSE,0,COUNTIF(A$3:A580,\">0\")+1)","v":0},"3030PA","Szűrőbetét PA -WFIT 200","WFIT 200","Szűrőbetét","138 010,-Ft",573.73059999999998,null,138010]
[{"$f":"IF(L582=FALSE,0,COUNTIF(A$3:A581,\">0\")+1)","v":0},"3050PA","Szűrőbetét PA -WFIT 240","WFIT 240","Szűrőbetét","167 210,-Ft",695.10580000000004,null,167210]
[{"$f":"IF(L583=FALSE,0,COUNTIF(A$3:A582,\">0\")+1)","v":0},"0310P","Szűrőbetét P -WFIT 005","WFIT 005","Szűrőbetét","24 000,-Ft",93.781499999999994,null,24000]
[{"$f":"IF(L584=FALSE,0,COUNTIF(A$3:A583,\">0\")+1)","v":0},"0410P","Szűrőbetét P -WFIT 007","WFIT 007","Szűrőbetét","27 390,-Ft",110.3336,null,27390]
[{"$f":"IF(L585=FALSE,0,COUNTIF(A$3:A584,\">0\")+1)","v":0},"0420P","Szűrőbetét P -WFIT 010","WFIT 010","Szűrőbetét","30 020,-Ft",120.9426,null,30020]
[{"$f":"IF(L586=FALSE,0,COUNTIF(A$3:A585,\">0\")+1)","v":0},"0520P","Szűrőbetét P -WFIT 018","WFIT 018","Szűrőbetét","36 970,-Ft",148.94830000000002,null,36970]
[{"$f":"IF(L587=FALSE,0,COUNTIF(A$3:A586,\">0\")+1)","v":0},"0525P","Szűrőbetét P -WFIT 030","WFIT 030","Szűrőbetét","43 820,-Ft",176.5317,null,43820]
[{"$f":"IF(L588=FALSE,0,COUNTIF(A$3:A587,\">0\")+1)","v":0},"0725P","Szűrőbetét P -WFIT 047","WFIT 047","Szűrőbetét","52 040,-Ft",209.63590000000002,null,52040]
[{"$f":"IF(L589=FALSE,0,COUNTIF(A$3:A588,\">0\")+1)","v":0},"0730P","Szűrőbetét P -WFIT 070","WFIT 070","Szűrőbetét","65 730,-Ft",264.80269999999996,null,65730]
[{"$f":"IF(L590=FALSE,0,COUNTIF(A$3:A589,\">0\")+1)","v":0},"1030P","Szűrőbetét P -WFIT 094","WFIT 094","Szűrőbetét","79 430,-Ft",319.96949999999998,null,79430]
[{"$f":"IF(L591=FALSE,0,COUNTIF(A$3:A590,\">0\")+1)","v":0},"1530P","Szűrőbetét P -WFIT 150","WFIT 150","Szűrőbetét","95 860,-Ft",386.16760000000005,null,95860]
[{"$f":"IF(L592=FALSE,0,COUNTIF(A$3:A591,\">0\")+1)","v":0},"2030P","Szűrőbetét P -WFIT 175","WFIT 175","Szűrőbetét","117 770,-Ft",474.43860000000001,null,117770]
[{"$f":"IF(L593=FALSE,0,COUNTIF(A$3:A592,\">0\")+1)","v":0},"3030P","Szűrőbetét P -WFIT 200","WFIT 200","Szűrőbetét","138 010,-Ft",573.73059999999998,null,138010]
[{"$f":"IF(L594=FALSE,0,COUNTIF(A$3:A593,\">0\")+1)","v":0},"3050P","Szűrőbetét P -WFIT 240","WFIT 240","Szűrőbetét","167 210,-Ft",695.10580000000004,null,167210]
[{"$f":"IF(L595=FALSE,0,COUNTIF(A$3:A594,\">0\")+1)","v":0},"0310R","Szűrőbetét R -WFIT 005","WFIT 005","Szűrőbetét","24 000,-Ft",93.781499999999994,null,24000]
[{"$f":"IF(L596=FALSE,0,COUNTIF(A$3:A595,\">0\")+1)","v":0},"0410R","Szűrőbetét R -WFIT 007","WFIT 007","Szűrőbetét","27 390,-Ft",110.3336,null,27390]
[{"$f":"IF(L597=FALSE,0,COUNTIF(A$3:A596,\">0\")+1)","v":0},"0420R","Szűrőbetét R -WFIT 010","WFIT 010","Szűrőbetét","30 020,-Ft",120.9426,null,30020]
[{"$f":"IF(L598=FALSE,0,COUNTIF(A$3:A597,\">0\")+1)","v":0},"0520R","Szűrőbetét R -WFIT 018","WFIT 018","Szűrőbetét","36 970,-Ft",148.94830000000002,null,36970]
[{"$f":"IF(L599=FALSE,0,COUNTIF(A$3:A598,\">0\")+1)","v":0},"0525R","Szűrőbetét R -WFIT 030","WFIT 030","Szűrőbetét","43 820,-Ft",176.5317,null,43820]
[{"$f":"IF(L600=FALSE,0,COUNTIF(A$3:A599,\">0\")+1)","v":0},"0725R","Szűrőbetét R -WFIT 047","WFIT 047","Szűrőbetét","52 040,-Ft",209.63590000000002,null,52040]
[{"$f":"IF(L601=FALSE,0,COUNTIF(A$3:A600,\">0\")+1)","v":0},"0730R","Szűrőbetét R -WFIT 070","WFIT 070","Szűrőbetét","65 730,-Ft",264.80269999999996,null,65730]
[{"$f":"IF(L602=FALSE,0,COUNTIF(A$3:A601,\">0\")+1)","v":0},"1030R","Szűrőbetét R -WFIT 094","WFIT 094","Szűrőbetét","79 430,-Ft",319.96949999999998,null,79430]
[{"$f":"IF(L603=FALSE,0,COUNTIF(A$3:A602,\">0\")+1)","v":0},"1530R","Szűrőbetét R -WFIT 150","WFIT 150","Szűrőbetét","95 860,-Ft",386.16760000000005,null,95860]
[{"$f":"IF(L604=FALSE,0,COUNTIF(A$3:A603,\">0\")+1)","v":0},"2030R","Szűrőbetét R -WFIT 175","WFIT 175","Szűrőbetét","117 770,-Ft",474.43860000000001,null,117770]
[{"$f":"IF(L605=FALSE,0,COUNTIF(A$3:A604,\">0\")+1)","v":0},"3030R","Szűrőbetét R -WFIT 200","WFIT 200","Szűrőbetét","138 010,-Ft",573.73059999999998,null,138010]
[{"$f":"IF(L606=FALSE,0,COUNTIF(A$3:A605,\">0\")+1)","v":0},"3050R","Szűrőbetét R -WFIT 240","WFIT 240","Szűrőbetét","167 210,-Ft",695.10580000000004,null,167210]
[{"$f":"IF(L607=FALSE,0,COUNTIF(A$3:A606,\">0\")+1)","v":0},"0310M","Szűrőbetét M -WFIT 005","WFIT 005","Szűrőbetét","24 000,-Ft",93.781499999999994,null,24000]
[{"$f":"IF(L608=FALSE,0,COUNTIF(A$3:A607,\">0\")+1)","v":0},"0410M","Szűrőbetét M -WFIT 007","WFIT 007","Szűrőbetét","27 390,-Ft",110.3336,null,27390]
[{"$f":"IF(L609=FALSE,0,COUNTIF(A$3:A608,\">0\")+1)","v":0},"0420M","Szűrőbetét M -WFIT 010","WFIT 010","Szűrőbetét","30 020,-Ft",120.9426,null,30020]
[{"$f":"IF(L610=FALSE,0,COUNTIF(A$3:A609,\">0\")+1)","v":0},"0520M","Szűrőbetét M -WFIT 018","WFIT 018","Szűrőbetét","36 970,-Ft",148.94830000000002,null,36970]
[{"$f":"IF(L611=FALSE,0,COUNTIF(A$3:A610,\">0\")+1)","v":0},"0525M","Szűrőbetét M -WFIT 030","WFIT 030","Szűrőbetét","43 820,-Ft",176.5317,null,43820]
[{"$f":"IF(L612=FALSE,0,COUNTIF(A$3:A611,\">0\")+1)","v":0},"0725M","Szűrőbetét M -WFIT 047","WFIT 047","Szűrőbetét","52 040,-Ft",209.63590000000002,null,52040]
[{"$f":"IF(L613=FALSE,0,COUNTIF(A$3:A612,\">0\")+1)","v":0},"0730M","Szűrőbetét M -WFIT 070","WFIT 070","Szűrőbetét","65 730,-Ft",264.80269999999996,null,65730]
[{"$f":"IF(L614=FALSE,0,COUNTIF(A$3:A613,\">0\")+1)","v":0},"1030M","Szűrőbetét M -WFIT 094","WFIT 094","Szűrőbetét","79 430,-Ft",319.96949999999998,null,79430]
[{"$f":"IF(L615=FALSE,0,COUNTIF(A$3:A614,\">0\")+1)","v":0},"1530M","Szűrőbetét M -WFIT 150","WFIT 150","Szűrőbetét","95 860,-Ft",386.16760000000005,null,95860]
[{"$f":"IF(L616=FALSE,0,COUNTIF(A$3:A615,\">0\")+1)","v":0},"2030M","Szűrőbetét M -WFIT 175","WFIT 175","Szűrőbetét","117 770,-Ft",474.43860000000001,null,117770]
[{"$f":"IF(L617=FALSE,0,COUNTIF(A$3:A616,\">0\")+1)","v":0},"3030M","Szűrőbetét M -WFIT 200","WFIT 200","Szűrőbetét","138 010,-Ft",573.73059999999998,null,138010]
[{"$f":"IF(L618=FALSE,0,COUNTIF(A$3:A617,\">0\")+1)","v":0},"3050M","Szűrőbetét M -WFIT 240","WFIT 240","Szűrőbetét","167 210,-Ft",695.10580000000004,null,167210]
[{"$f":"IF(L619=FALSE,0,COUNTIF(A$3:A618,\">0\")+1)","v":0},"0310S","Szűrőbetét S -WFIT 005","WFIT 005","Szűrőbetét","24 000,-Ft",93.781499999999994,null,24000]
[{"$f":"IF(L620=FALSE,0,COUNTIF(A$3:A619,\">0\")+1)","v":0},"0410S","Szűrőbetét S -WFIT 007","WFIT 007","Szűrőbetét","27 390,-Ft",110.3336,null,27390]
[{"$f":"IF(L621=FALSE,0,COUNTIF(A$3:A620,\">0\")+1)","v":0},"0420S","Szűrőbetét S -WFIT 010","WFIT 010","Szűrőbetét","30 020,-Ft",120.9426,null,30020]
[{"$f":"IF(L622=FALSE,0,COUNTIF(A$3:A621,\">0\")+1)","v":0},"0520S","Szűrőbetét S -WFIT 018","WFIT 018","Szűrőbetét","36 970,-Ft",148.94830000000002,null,36970]
[{"$f":"IF(L623=FALSE,0,COUNTIF(A$3:A622,\">0\")+1)","v":0},"0525S","Szűrőbetét S -WFIT 030","WFIT 030","Szűrőbetét","43 820,-Ft",176.5317,null,43820]
[{"$f":"IF(L624=FALSE,0,COUNTIF(A$3:A623,\">0\")+1)","v":0},"0725S","Szűrőbetét S -WFIT 047","WFIT 047","Szűrőbetét","52 040,-Ft",209.63590000000002,null,52040]
[{"$f":"IF(L625=FALSE,0,COUNTIF(A$3:A624,\">0\")+1)","v":0},"0730S","Szűrőbetét S -WFIT 070","WFIT 070","Szűrőbetét","65 730,-Ft",264.80269999999996,null,65730]
[{"$f":"IF(L626=FALSE,0,COUNTIF(A$3:A625,\">0\")+1)","v":0},"1030S","Szűrőbetét S -WFIT 094","WFIT 094","Szűrőbetét","79 430,-Ft",319.96949999999998,null,79430]
[{"$f":"IF(L627=FALSE,0,COUNTIF(A$3:A626,\">0\")+1)","v":0},"1530S","Szűrőbetét S -WFIT 150","WFIT 150","Szűrőbetét","95 860,-Ft",386.16760000000005,null,95860]
[{"$f":"IF(L628=FALSE,0,COUNTIF(A$3:A627,\">0\")+1)","v":0},"2030S","Szűrőbetét S -WFIT 175","WFIT 175","Szűrőbetét","117 770,-Ft",474.43860000000001,null,117770]
[{"$f":"IF(L629=FALSE,0,COUNTIF(A$3:A628,\">0\")+1)","v":0},"3030S","Szűrőbetét S -WFIT 200","WFIT 200","Szűrőbetét","138 010,-Ft",573.73059999999998,null,138010]
[{"$f":"IF(L630=FALSE,0,COUNTIF(A$3:A629,\">0\")+1)","v":0},"3050S","Szűrőbetét S -WFIT 240","WFIT 240","Szűrőbetét","167 210,-Ft",695.10580000000004,null,167210]
[{"$f":"IF(L631=FALSE,0,COUNTIF(A$3:A630,\">0\")+1)","v":0},"0310A","Szűrőbetét A -WFIT 005","WFIT 005","Szűrőbetét","24 000,-Ft",93.781499999999994,null,24000]
[{"$f":"IF(L632=FALSE,0,COUNTIF(A$3:A631,\">0\")+1)","v":0},"0410A","Szűrőbetét A -WFIT 007","WFIT 007","Szűrőbetét","27 390,-Ft",110.3336,null,27390]
[{"$f":"IF(L633=FALSE,0,COUNTIF(A$3:A632,\">0\")+1)","v":0},"0420A","Szűrőbetét A -WFIT 010","WFIT 010","Szűrőbetét","30 020,-Ft",120.9426,null,30020]
[{"$f":"IF(L634=FALSE,0,COUNTIF(A$3:A633,\">0\")+1)","v":0},"0520A","Szűrőbetét A -WFIT 018","WFIT 018","Szűrőbetét","36 970,-Ft",148.94830000000002,null,36970]
[{"$f":"IF(L635=FALSE,0,COUNTIF(A$3:A634,\">0\")+1)","v":0},"0525A","Szűrőbetét A -WFIT 030","WFIT 030","Szűrőbetét","43 820,-Ft",176.5317,null,43820]
[{"$f":"IF(L636=FALSE,0,COUNTIF(A$3:A635,\">0\")+1)","v":0},"0725A","Szűrőbetét A -WFIT 047","WFIT 047","Szűrőbetét","52 040,-Ft",209.63590000000002,null,52040]
[{"$f":"IF(L637=FALSE,0,COUNTIF(A$3:A636,\">0\")+1)","v":0},"0730A","Szűrőbetét A -WFIT 070","WFIT 070","Szűrőbetét","65 730,-Ft",264.80269999999996,null,65730]
[{"$f":"IF(L638=FALSE,0,COUNTIF(A$3:A637,\">0\")+1)","v":0},"1030A","Szűrőbetét A -WFIT 094","WFIT 094","Szűrőbetét","79 430,-Ft",319.96949999999998,null,79430]
[{"$f":"IF(L639=FALSE,0,COUNTIF(A$3:A638,\">0\")+1)","v":0},"1530A","Szűrőbetét A -WFIT 150","WFIT 150","Szűrőbetét","95 860,-Ft",386.16760000000005,null,95860]
[{"$f":"IF(L640=FALSE,0,COUNTIF(A$3:A639,\">0\")+1)","v":0},"2030A","Szűrőbetét A -WFIT 175","WFIT 175","Szűrőbetét","117 770,-Ft",474.43860000000001,null,117770]
[{"$f":"IF(L641=FALSE,0,COUNTIF(A$3:A640,\">0\")+1)","v":0},"3030A","Szűrőbetét A -WFIT 200","WFIT 200","Szűrőbetét","138 010,-Ft",573.73059999999998,null,138010]
[{"$f":"IF(L642=FALSE,0,COUNTIF(A$3:A641,\">0\")+1)","v":0},"3050A","Szűrőbetét A -WFIT 240","WFIT 240","Szűrőbetét","167 210,-Ft",695.10580000000004,null,167210]
[{"$f":"IF(L643=FALSE,0,COUNTIF(A$3:A642,\">0\")+1)","v":0},"0310CKL-P","Szűrőbetét CKL-P -WFIT 005","WFIT 005","Szűrőbetét","24 000,-Ft",93.781499999999994,null,24000]
[{"$f":"IF(L644=FALSE,0,COUNTIF(A$3:A643,\">0\")+1)","v":0},"0410CKL-P","Szűrőbetét CKL-P -WFIT 007","WFIT 007","Szűrőbetét",{"$f":"TEXT(I644,\"# ###,-Ft\")","v":"27 390,-Ft"},110.3336,null,{"$f":"ROUND(IF(G$1=1,IF(G644>10000,(G644*N$1*0.85),IF(G644>5000,(G644*N$1*0.88),IF(G644>1000,(G644*N$1*0.91),IF(G644>500,(G644*N$1*0.94),IF(G644>100,(G644*N$1*0.97),(G644*N$1))))))/1.27,G644*N$1/1.27),L$1)","v":27390}]
[{"$f":"IF(L645=FALSE,0,COUNTIF(A$3:A644,\">0\")+1)","v":0},"0420CKL-P","Szűrőbetét CKL-P -WFIT 010","WFIT 010","Szűrőbetét","30 020,-Ft",120.9426,null,30020]
[{"$f":"IF(L646=FALSE,0,COUNTIF(A$3:A645,\">0\")+1)","v":0},"0520CKL-P","Szűrőbetét CKL-P -WFIT 018","WFIT 018","Szűrőbetét","36 970,-Ft",148.94830000000002,null,36970]
[{"$f":"IF(L647=FALSE,0,COUNTIF(A$3:A646,\">0\")+1)","v":0},"0525CKL-P","Szűrőbetét CKL-P -WFIT 030","WFIT 030","Szűrőbetét","43 820,-Ft",176.5317,null,43820]
[{"$f":"IF(L648=FALSE,0,COUNTIF(A$3:A647,\">0\")+1)","v":0},"0725CKL-P","Szűrőbetét CKL-P -WFIT 047","WFIT 047","Szűrőbetét","52 040,-Ft",209.63590000000002,null,52040]
[{"$f":"IF(L649=FALSE,0,COUNTIF(A$3:A648,\">0\")+1)","v":0},"0730CKL-P","Szűrőbetét CKL-P -WFIT 070","WFIT 070","Szűrőbetét","65 730,-Ft",264.80269999999996,null,65730]
[{"$f":"IF(L650=FALSE,0,COUNTIF(A$3:A649,\">0\")+1)","v":0},"1030CKL-P","Szűrőbetét CKL-P -WFIT 094","WFIT 094","Szűrőbetét","79 430,-Ft",319.96949999999998,null,79430]
[{"$f":"IF(L651=FALSE,0,COUNTIF(A$3:A650,\">0\")+1)","v":0},"1530CKL-P","Szűrőbetét CKL-P -WFIT 150","WFIT 150","Szűrőbetét","95 860,-Ft",386.16760000000005,null,95860]
[{"$f":"IF(L652=FALSE,0,COUNTIF(A$3:A651,\">0\")+1)","v":0},"2030CKL-P","Szűrőbetét CKL-P -WFIT 175","WFIT 175","Szűrőbetét","117 770,-Ft",474.43860000000001,null,117770]
[{"$f":"IF(L653=FALSE,0,COUNTIF(A$3:A652,\">0\")+1)","v":0},"3030CKL-P","Szűrőbetét CKL-P -WFIT 200","WFIT 200","Szűrőbetét","138 010,-Ft",573.73059999999998,null,138010]
[{"$f":"IF(L654=FALSE,0,COUNTIF(A$3:A653,\">0\")+1)","v":0},"3050CKL-P","Szűrőbetét CKL-P -WFIT 240","WFIT 240","Szűrőbetét","167 210,-Ft",695.10580000000004,null,167210]
[{"$f":"IF(L655=FALSE,0,COUNTIF(A$3:A654,\">0\")+1)","v":0},"BF 0240","Szénacél hegesztett szűrőház BF -76090",76090,"Szűrőház",{"$f":"TEXT(I655,\"# ###,-Ft (2)\")","v":"577 000,-Ft (2)"},2477.2118,2,{"$f":"ROUND(IF(G$1=1,IF(G655>10000,(G655*N$1*0.85),IF(G655>5000,(G655*N$1*0.88),IF(G655>1000,(G655*N$1*0.91),IF(G655>500,(G655*N$1*0.94),IF(G655>100,(G655*N$1*0.97),(G655*N$1))))))/1.27,G655*N$1/1.27),-3)","v":577000}]
[{"$f":"IF(L656=FALSE,0,COUNTIF(A$3:A655,\">0\")+1)","v":0},"BF 0300","Szénacél hegesztett szűrőház BF -76090",76090,"Szűrőház","1 045 000,-Ft (2)",4485.6088,2,1045000]
[{"$f":"IF(L657=FALSE,0,COUNTIF(A$3:A656,\">0\")+1)","v":0},"BF 0450","Szénacél hegesztett szűrőház BF -76090",76090,"Szűrőház",{"$f":"TEXT(I657,\"# ###,-Ft (3)\")","v":"1 217 000,-Ft (3)"},5404.0289000000002,4,1217000]
[{"$f":"IF(L658=FALSE,0,COUNTIF(A$3:A657,\">0\")+1)","v":0},"BF 0600","Szénacél hegesztett szűrőház BF -76090",76090,"Szűrőház",{"$f":"TEXT(I658,\"# ###,-Ft (3)\")","v":"1 289 000,-Ft (3)"},5725.7596999999996,4,1289000]
[{"$f":"IF(L659=FALSE,0,COUNTIF(A$3:A658,\">0\")+1)","v":0},"BF 0900","Szénacél hegesztett szűrőház BF -76090",76090,"Szűrőház","1 844 000,-Ft (3)",8188.0777000000007,4,1844000]
[{"$f":"IF(L660=FALSE,0,COUNTIF(A$3:A659,\">0\")+1)","v":0},"BF 1200","Szénacél hegesztett szűrőház BF -76090",76090,"Szűrőház",{"$f":"TEXT(I660,\"# ###,-Ft (4)\")","v":"2 191 000,-Ft (4)"},10072.802600000001,6,2191000]
[{"$f":"IF(L661=FALSE,0,COUNTIF(A$3:A660,\">0\")+1)","v":0},"BF 1500","Szénacél hegesztett szűrőház BF -76090",76090,"Szűrőház","2 563 000,-Ft (4)",11784.508100000001,6,2563000]
[{"$f":"IF(L662=FALSE,0,COUNTIF(A$3:A661,\">0\")+1)","v":0},"BF 1800","Szénacél hegesztett szűrőház BF -76090",76090,"Szűrőház","3 070 000,-Ft (4)",14112.545,6,3070000]
[{"$f":"IF(L663=FALSE,0,COUNTIF(A$3:A662,\">0\")+1)","v":0},"BF 2500","Szénacél hegesztett szűrőház BF -76090",76090,"Szűrőház","3 712 000,-Ft (4)",17064.741299999998,6,3712000]
[{"$f":"IF(L664=FALSE,0,COUNTIF(A$3:A663,\">0\")+1)","v":0},"BF 3000","Szénacél hegesztett szűrőház BF -76090",76090,"Szűrőház","4 586 000,-Ft (4)",21081.658900000002,6,4586000]
[{"$f":"IF(L665=FALSE,0,COUNTIF(A$3:A664,\">0\")+1)","v":0},"76090BF-B","Szűrőbetét B -BF","BF","Szűrőbetét","73 950,-Ft",297.89660000000003,null,73950]
[{"$f":"IF(L666=FALSE,0,COUNTIF(A$3:A665,\">0\")+1)","v":0},"76090BF-P","Szűrőbetét P -BF","BF","Szűrőbetét","55 680,-Ft",224.30310000000003,null,55680]
[{"$f":"IF(L667=FALSE,0,COUNTIF(A$3:A666,\">0\")+1)","v":0},"76090BF-R","Szűrőbetét R -BF","BF","Szűrőbetét","55 680,-Ft",224.30310000000003,null,55680]
[{"$f":"IF(L668=FALSE,0,COUNTIF(A$3:A667,\">0\")+1)","v":0},"76090BF-M","Szűrőbetét M -BF","BF","Szűrőbetét","55 680,-Ft",224.30310000000003,null,55680]
[{"$f":"IF(L669=FALSE,0,COUNTIF(A$3:A668,\">0\")+1)","v":0},"76090BF-S","Szűrőbetét S -BF","BF","Szűrőbetét","55 680,-Ft",224.30310000000003,null,55680]
[{"$f":"IF(L670=FALSE,0,COUNTIF(A$3:A669,\">0\")+1)","v":0},"76090BF-A","Szűrőbetét A -BF","BF","Szűrőbetét","55 680,-Ft",224.30310000000003,null,55680]
[{"$f":"IF(L671=FALSE,0,COUNTIF(A$3:A670,\">0\")+1)","v":0},"WHFIT 010","Saválló szűrőház WHFIT -1/2’’","1/2’’","Szűrőház","232 130,-Ft",965,null,232130]
[{"$f":"IF(L672=FALSE,0,COUNTIF(A$3:A671,\">0\")+1)","v":0},"WHFIT 018","Saválló szűrőház WHFIT -3/4’’","3/4’’","Szűrőház",{"$f":"TEXT(I672,\"# ###,-Ft (2)\")","v":"236 000,-Ft (2)"},1015.2,2,{"$f":"ROUND(IF(G$1=1,IF(G672>10000,(G672*N$1*0.85),IF(G672>5000,(G672*N$1*0.88),IF(G672>1000,(G672*N$1*0.91),IF(G672>500,(G672*N$1*0.94),IF(G672>100,(G672*N$1*0.97),(G672*N$1))))))/1.27,G672*N$1/1.27),-3)","v":236000}]
[{"$f":"IF(L673=FALSE,0,COUNTIF(A$3:A672,\">0\")+1)","v":0},"WHFIT 030","Saválló szűrőház WHFIT -1’’","1’’","Szűrőház","302 000,-Ft (2)",1295.8,2,302000]
[{"$f":"IF(L674=FALSE,0,COUNTIF(A$3:A673,\">0\")+1)","v":0},"WHFIT 047","Saválló szűrőház WHFIT -1 1/ 4’’","1 1/ 4’’","Szűrőház","319 000,-Ft (2)",1369.9,2,319000]
[{"$f":"IF(L675=FALSE,0,COUNTIF(A$3:A674,\">0\")+1)","v":0},"WHFIT 070","Saválló szűrőház WHFIT -1 1/ 2’’","1 1/ 2’’","Szűrőház","401 000,-Ft (2)",1720.9,2,401000]
[{"$f":"IF(L676=FALSE,0,COUNTIF(A$3:A675,\">0\")+1)","v":0},"WHFIT 094","Saválló szűrőház WHFIT -2’’","2’’","Szűrőház","479 000,-Ft (2)",2055,2,479000]
[{"$f":"IF(L677=FALSE,0,COUNTIF(A$3:A676,\">0\")+1)","v":0},"WHFIT 150","Saválló szűrőház WHFIT -2’’","2’’","Szűrőház","498 000,-Ft (2)",2140.4,2,498000]
[{"$f":"IF(L678=FALSE,0,COUNTIF(A$3:A677,\">0\")+1)","v":0},"WHFIT 200","Saválló szűrőház WHFIT -3’’","3’’","Szűrőház","674 000,-Ft (2)",2895.2,2,674000]
[{"$f":"IF(L679=FALSE,0,COUNTIF(A$3:A678,\">0\")+1)","v":0},"WFIF 010","Saválló szűrőház WFIF -DN15","DN15","Szűrőház","217 610,-Ft",904.65,null,217610]
[{"$f":"IF(L680=FALSE,0,COUNTIF(A$3:A679,\">0\")+1)","v":0},"WFIF 018","Saválló szűrőház WFIF -DN20","DN20","Szűrőház","229 600,-Ft",954.49,null,229600]
[{"$f":"IF(L681=FALSE,0,COUNTIF(A$3:A680,\">0\")+1)","v":0},"WFIF 030","Saválló szűrőház WFIF -DN25","DN25","Szűrőház",{"$f":"TEXT(I681,\"# ###,-Ft (2)\")","v":"266 000,-Ft (2)"},1143.3,2,{"$f":"ROUND(IF(G$1=1,IF(G681>10000,(G681*N$1*0.85),IF(G681>5000,(G681*N$1*0.88),IF(G681>1000,(G681*N$1*0.91),IF(G681>500,(G681*N$1*0.94),IF(G681>100,(G681*N$1*0.97),(G681*N$1))))))/1.27,G681*N$1/1.27),-3)","v":266000}]
[{"$f":"IF(L682=FALSE,0,COUNTIF(A$3:A681,\">0\")+1)","v":0},"WFIF 047","Saválló szűrőház WFIF -DN32","DN32","Szűrőház","288 000,-Ft (2)",1238.21,2,288000]
[{"$f":"IF(L683=FALSE,0,COUNTIF(A$3:A682,\">0\")+1)","v":0},"WFIF 070","Saválló szűrőház WFIF -DN40","DN40","Szűrőház","363 000,-Ft (2)",1559.55,2,363000]
[{"$f":"IF(L684=FALSE,0,COUNTIF(A$3:A683,\">0\")+1)","v":0},"WFIF 094","Saválló szűrőház WFIF -DN50","DN50","Szűrőház","427 000,-Ft (2)",1832.06,2,427000]
[{"$f":"IF(L685=FALSE,0,COUNTIF(A$3:A684,\">0\")+1)","v":0},"WFIF 150","Saválló szűrőház WFIF -DN50","DN50","Szűrőház","452 000,-Ft (2)",1942.72,2,452000]
[{"$f":"IF(L686=FALSE,0,COUNTIF(A$3:A685,\">0\")+1)","v":0},"WFIF 175","Saválló szűrőház WFIF -DN65","DN65","Szűrőház","594 000,-Ft (2)",2551.89,2,594000]
[{"$f":"IF(L687=FALSE,0,COUNTIF(A$3:A686,\">0\")+1)","v":0},"WFIF 200","Saválló szűrőház WFIF -DN80","DN80","Szűrőház","626 000,-Ft (2)",2688.42,2,626000]
[{"$f":"IF(L688=FALSE,0,COUNTIF(A$3:A687,\">0\")+1)","v":0},"WFIF 240","Saválló szűrőház WFIF -DN80","DN80","Szűrőház","803 000,-Ft (2)",3446.55,2,803000]
[{"$f":"IF(L689=FALSE,0,COUNTIF(A$3:A688,\">0\")+1)","v":0},"WFIF 450","Saválló szűrőház WFIF -DN100","DN100","Szűrőház",{"$f":"TEXT(I689,\"# ###,-Ft (3)\")","v":"1 391 000,-Ft (3)"},6177.15,4,1391000]
[{"$f":"IF(L690=FALSE,0,COUNTIF(A$3:A689,\">0\")+1)","v":0},"WFIF 600","Saválló szűrőház WFIF -DN100","DN100","Szűrőház","1 629 000,-Ft (3)",7232.21,4,1629000]
[{"$f":"IF(L691=FALSE,0,COUNTIF(A$3:A690,\">0\")+1)","v":0},"WFIF 900","Saválló szűrőház WFIF -DN150","DN150","Szűrőház","1 997 000,-Ft (3)",8869.9,4,1997000]
[{"$f":"IF(L692=FALSE,0,COUNTIF(A$3:A691,\">0\")+1)","v":0},"WFIF 1200","Saválló szűrőház WFIF -DN150","DN150","Szűrőház","2 121 000,-Ft (3)",9418.35,4,2121000]
[{"$f":"IF(L693=FALSE,0,COUNTIF(A$3:A692,\">0\")+1)","v":0},"WFIF 1800","Saválló szűrőház WFIF -DN200","DN200","Szűrőház",{"$f":"TEXT(I693,\"# ###,-Ft (4)\")","v":"2 893 000,-Ft (4)"},13297.8,6,2893000]
[{"$f":"IF(L694=FALSE,0,COUNTIF(A$3:A693,\">0\")+1)","v":0},"WFIF 2000","Saválló szűrőház WFIF -DN200","DN200","Szűrőház","3 084 000,-Ft (4)",14180.25,6,3084000]
[{"$f":"IF(L695=FALSE,0,COUNTIF(A$3:A694,\">0\")+1)","v":0},"WFIF 010F","Saválló szűrőház WFIF -DN15","DN15","Szűrőház","188 850,-Ft",785.06600000000003,null,188850]
[{"$f":"IF(L696=FALSE,0,COUNTIF(A$3:A695,\">0\")+1)","v":0},"WFIF 018F","Saválló szűrőház WFIF -DN20","DN20","Szűrőház","205 440,-Ft",854.02449999999999,null,205440]
[{"$f":"IF(L697=FALSE,0,COUNTIF(A$3:A696,\">0\")+1)","v":0},"WFIF 030F","Saválló szűrőház WFIF -DN25","DN25","Szűrőház",{"$f":"TEXT(I697,\"# ###,-Ft (2)\")","v":"245 000,-Ft (2)"},1050.8266000000001,2,{"$f":"ROUND(IF(G$1=1,IF(G697>10000,(G697*N$1*0.85),IF(G697>5000,(G697*N$1*0.88),IF(G697>1000,(G697*N$1*0.91),IF(G697>500,(G697*N$1*0.94),IF(G697>100,(G697*N$1*0.97),(G697*N$1))))))/1.27,G697*N$1/1.27),-3)","v":245000}]
[{"$f":"IF(L698=FALSE,0,COUNTIF(A$3:A697,\">0\")+1)","v":0},"WFIF 047F","Saválló szűrőház WFIF -DN32","DN32","Szűrőház","266 000,-Ft (2)",1140.4675,2,266000]
[{"$f":"IF(L699=FALSE,0,COUNTIF(A$3:A698,\">0\")+1)","v":0},"WFIF 070F","Saválló szűrőház WFIF -DN40","DN40","Szűrőház","319 000,-Ft (2)",1371.7437,2,319000]
[{"$f":"IF(L700=FALSE,0,COUNTIF(A$3:A699,\">0\")+1)","v":0},"WFIF 094F","Saválló szűrőház WFIF -DN50","DN50","Szűrőház","403 000,-Ft (2)",1729.2670000000001,2,403000]
[{"$f":"IF(L701=FALSE,0,COUNTIF(A$3:A700,\">0\")+1)","v":0},"WFIF 150F","Saválló szűrőház WFIF -DN50","DN50","Szűrőház","429 000,-Ft (2)",1840.6614999999999,2,429000]
[{"$f":"IF(L702=FALSE,0,COUNTIF(A$3:A701,\">0\")+1)","v":0},"WFIF 175F","Saválló szűrőház WFIF -DN65","DN65","Szűrőház","540 000,-Ft (2)",2318.0665000000004,2,540000]
[{"$f":"IF(L703=FALSE,0,COUNTIF(A$3:A702,\">0\")+1)","v":0},"WFIF 200F","Saválló szűrőház WFIF -DN80","DN80","Szűrőház","572 000,-Ft (2)",2455.9834999999998,2,572000]
[{"$f":"IF(L704=FALSE,0,COUNTIF(A$3:A703,\">0\")+1)","v":0},"WFIF 240F","Saválló szűrőház WFIF -DN80","DN80","Szűrőház","739 000,-Ft (2)",3172.0909999999999,2,739000]
[{"$f":"IF(L705=FALSE,0,COUNTIF(A$3:A704,\">0\")+1)","v":0},"WFIF 450F","Saválló szűrőház WFIF -DN100","DN100","Szűrőház",{"$f":"TEXT(I705,\"# ###,-Ft (3)\")","v":"1 183 000,-Ft (3)"},5251.4549999999999,4,1183000]
[{"$f":"IF(L706=FALSE,0,COUNTIF(A$3:A705,\">0\")+1)","v":0},"WFIF 600F","Saválló szűrőház WFIF -DN100","DN100","Szűrőház","1 261 000,-Ft (3)",5601.5519999999997,4,1261000]
[{"$f":"IF(L707=FALSE,0,COUNTIF(A$3:A706,\">0\")+1)","v":0},"WFIF 900F","Saválló szűrőház WFIF -DN150","DN150","Szűrőház","1 668 000,-Ft (3)",7405.0819999999994,4,1668000]
[{"$f":"IF(L708=FALSE,0,COUNTIF(A$3:A707,\">0\")+1)","v":0},"WFIF 1200F","Saválló szűrőház WFIF -DN150","DN150","Szűrőház","1 897 000,-Ft (3)",8423.5460000000003,4,1897000]
[{"$f":"IF(L709=FALSE,0,COUNTIF(A$3:A708,\">0\")+1)","v":0},"WFIF 1800F","Saválló szűrőház WFIF -DN200","DN200","Szűrőház",{"$f":"TEXT(I709,\"# ###,-Ft (4)\")","v":"2 575 000,-Ft (4)"},11839.644,6,2575000]
[{"$f":"IF(L710=FALSE,0,COUNTIF(A$3:A709,\">0\")+1)","v":0},"WFIF 2000F","Saválló szűrőház WFIF -DN200","DN200","Szűrőház","2 767 000,-Ft (4)",12720.191000000001,6,2767000]
[{"$f":"IF(L711=FALSE,0,COUNTIF(A$3:A710,\">0\")+1)","v":0},"WFIF 010A","Saválló szűrőház WFIF -DN15","DN15","Szűrőház",{"$f":"TEXT(I711,\"# ###,-Ft (2)\")","v":"242 000,-Ft (2)"},1040.3499999999999,2,242000]
[{"$f":"IF(L712=FALSE,0,COUNTIF(A$3:A711,\">0\")+1)","v":0},"WFIF 018A","Saválló szűrőház WFIF -DN20","DN20","Szűrőház","256 000,-Ft (2)",1097.6600000000001,2,256000]
[{"$f":"IF(L713=FALSE,0,COUNTIF(A$3:A712,\">0\")+1)","v":0},"WFIF 030A","Saválló szűrőház WFIF -DN25","DN25","Szűrőház","306 000,-Ft (2)",1314.8,2,306000]
[{"$f":"IF(L714=FALSE,0,COUNTIF(A$3:A713,\">0\")+1)","v":0},"WFIF 047A","Saválló szűrőház WFIF -DN32","DN32","Szűrőház","332 000,-Ft (2)",1423.94,2,332000]
[{"$f":"IF(L715=FALSE,0,COUNTIF(A$3:A714,\">0\")+1)","v":0},"WFIF 070A","Saválló szűrőház WFIF -DN40","DN40","Szűrőház","418 000,-Ft (2)",1793.48,2,418000]
[{"$f":"IF(L716=FALSE,0,COUNTIF(A$3:A715,\">0\")+1)","v":0},"WFIF 094A","Saválló szűrőház WFIF -DN50","DN50","Szűrőház","491 000,-Ft (2)",2106.86,2,491000]
[{"$f":"IF(L717=FALSE,0,COUNTIF(A$3:A716,\">0\")+1)","v":0},"WFIF 150A","Saválló szűrőház WFIF -DN50","DN50","Szűrőház","520 000,-Ft (2)",2234.13,2,520000]
[{"$f":"IF(L718=FALSE,0,COUNTIF(A$3:A717,\">0\")+1)","v":0},"WFIF 175A","Saválló szűrőház WFIF -DN65","DN65","Szűrőház","683 000,-Ft (2)",2934.13,2,683000]
[{"$f":"IF(L719=FALSE,0,COUNTIF(A$3:A718,\">0\")+1)","v":0},"WFIF 200A","Saválló szűrőház WFIF -DN80","DN80","Szűrőház","683 000,-Ft (2)",2934.67,2,683000]
[{"$f":"IF(L720=FALSE,0,COUNTIF(A$3:A719,\">0\")+1)","v":0},"WFIF 240A","Saválló szűrőház WFIF -DN80","DN80","Szűrőház","720 000,-Ft (2)",3091.68,2,720000]
[{"$f":"IF(L721=FALSE,0,COUNTIF(A$3:A720,\">0\")+1)","v":0},"WFIF 010AF","Saválló szűrőház WFIF -DN15","DN15","Szűrőház","236 000,-Ft (2)",1013.1595,2,236000]
[{"$f":"IF(L722=FALSE,0,COUNTIF(A$3:A721,\">0\")+1)","v":0},"WFIF 018AF","Saválló szűrőház WFIF -DN20","DN20","Szűrőház","258 000,-Ft (2)",1108.6405,2,258000]
[{"$f":"IF(L723=FALSE,0,COUNTIF(A$3:A722,\">0\")+1)","v":0},"WFIF 030AF","Saválló szűrőház WFIF -DN25","DN25","Szűrőház","317 000,-Ft (2)",1363.2565,2,317000]
[{"$f":"IF(L724=FALSE,0,COUNTIF(A$3:A723,\">0\")+1)","v":0},"WFIF 047AF","Saválló szűrőház WFIF -DN32","DN32","Szűrőház","345 000,-Ft (2)",1479.9555,2,345000]
[{"$f":"IF(L725=FALSE,0,COUNTIF(A$3:A724,\">0\")+1)","v":0},"WFIF 070AF","Saválló szűrőház WFIF -DN40","DN40","Szűrőház","416 000,-Ft (2)",1787.6165000000001,2,416000]
[{"$f":"IF(L726=FALSE,0,COUNTIF(A$3:A725,\">0\")+1)","v":0},"WFIF 094AF","Saválló szűrőház WFIF -DN50","DN50","Szűrőház","526 000,-Ft (2)",2259.7170000000001,2,526000]
[{"$f":"IF(L727=FALSE,0,COUNTIF(A$3:A726,\">0\")+1)","v":0},"WFIF 150AF","Saválló szűrőház WFIF -DN50","DN50","Szűrőház","558 000,-Ft (2)",2397.6340000000005,2,558000]
[{"$f":"IF(L728=FALSE,0,COUNTIF(A$3:A727,\">0\")+1)","v":0},"WFIF 175AF","Saválló szűrőház WFIF -DN65","DN65","Szűrőház","773 000,-Ft (2)",3320.6170000000002,2,773000]
[{"$f":"IF(L729=FALSE,0,COUNTIF(A$3:A728,\">0\")+1)","v":0},"WFIF 200AF","Saválló szűrőház WFIF -DN80","DN80","Szűrőház","747 000,-Ft (2)",3209.2225000000003,2,747000]
[{"$f":"IF(L730=FALSE,0,COUNTIF(A$3:A729,\">0\")+1)","v":0},"WFIF 240AF","Saválló szűrőház WFIF -DN80","DN80","Szűrőház","970 000,-Ft (2)",4164.0325000000003,2,970000]
[{"$f":"IF(L731=FALSE,0,COUNTIF(A$3:A730,\">0\")+1)","v":0},"P-VAC 0056","Alumínium P-VAC szűrőház  3/8’’","3/8’’","Szűrőház",{"$f":"TEXT(I731,\"# ###,-Ft\")","v":"19 620,-Ft"},76.683500000000009,null,{"$f":"ROUND(IF(G$1=1,IF(G731>10000,(G731*N$1*0.85),IF(G731>5000,(G731*N$1*0.88),IF(G731>1000,(G731*N$1*0.91),IF(G731>500,(G731*N$1*0.94),IF(G731>100,(G731*N$1*0.97),(G731*N$1))))))/1.27,G731*N$1/1.27),L$1)","v":19620}]
[{"$f":"IF(L732=FALSE,0,COUNTIF(A$3:A731,\">0\")+1)","v":0},"P-VAC 0076","Alumínium P-VAC szűrőház  1/2’’","1/2’’","Szűrőház","20 810,-Ft",81.3185,null,20810]
[{"$f":"IF(L733=FALSE,0,COUNTIF(A$3:A732,\">0\")+1)","v":0},"P-VAC 0106","Alumínium P-VAC szűrőház  3/4’’","3/4’’","Szűrőház","22 450,-Ft",87.714799999999997,null,22450]
[{"$f":"IF(L734=FALSE,0,COUNTIF(A$3:A733,\">0\")+1)","v":0},"P-VAC 0186","Alumínium P-VAC szűrőház  1’’","1’’","Szűrőház","32 730,-Ft",131.8503,null,32730]
[{"$f":"IF(L735=FALSE,0,COUNTIF(A$3:A734,\">0\")+1)","v":0},"P-VAC 0306","Alumínium P-VAC szűrőház  1’’","1’’","Szűrőház","35 280,-Ft",142.10910000000001,null,35280]
[{"$f":"IF(L736=FALSE,0,COUNTIF(A$3:A735,\">0\")+1)","v":0},"P-VAC 0476","Alumínium P-VAC szűrőház  1 1/2’’","1 1/2’’","Szűrőház","40 810,-Ft",164.39830000000001,null,40810]
[{"$f":"IF(L737=FALSE,0,COUNTIF(A$3:A736,\">0\")+1)","v":0},"P-VAC 0706","Alumínium P-VAC szűrőház  1 1/2’’","1 1/2’’","Szűrőház","49 850,-Ft",200.80880000000002,null,49850]
[{"$f":"IF(L738=FALSE,0,COUNTIF(A$3:A737,\">0\")+1)","v":0},"P-VAC 0946","Alumínium P-VAC szűrőház  2’’","2’’","Szűrőház","80 930,-Ft",326.03620000000001,null,80930]
[{"$f":"IF(L739=FALSE,0,COUNTIF(A$3:A738,\">0\")+1)","v":0},"P-VAC 1506","Alumínium P-VAC szűrőház  2’’","2’’","Szűrőház","110 980,-Ft",447.07150000000001,null,110980]
[{"$f":"IF(L740=FALSE,0,COUNTIF(A$3:A739,\">0\")+1)","v":0},"P-VAC 1756","Alumínium P-VAC szűrőház  2 1/2’’","2 1/2’’","Szűrőház","151 570,-Ft",630.11279999999999,null,151570]
[{"$f":"IF(L741=FALSE,0,COUNTIF(A$3:A740,\">0\")+1)","v":0},"P-VAC 2006","Alumínium P-VAC szűrőház  3’’","3’’","Szűrőház","180 450,-Ft",750.15929999999992,null,180450]
[{"$f":"IF(L742=FALSE,0,COUNTIF(A$3:A741,\">0\")+1)","v":0},"P-VAC 2406","Alumínium P-VAC szűrőház  3’’","3’’","Szűrőház","197 860,-Ft",822.53740000000005,null,197860]
[{"$f":"IF(L743=FALSE,0,COUNTIF(A$3:A742,\">0\")+1)","v":0},"6050P-VAC P","Szűrőbetét P-VAC 6050P-VAC P",null,"Szűrőbetét","6 010,-Ft",23.494299999999999,null,6010]
[{"$f":"IF(L744=FALSE,0,COUNTIF(A$3:A743,\">0\")+1)","v":0},"7050P-VAC P","Szűrőbetét P-VAC 7050P-VAC P",null,"Szűrőbetét","7 450,-Ft",29.128400000000003,null,7450]
[{"$f":"IF(L745=FALSE,0,COUNTIF(A$3:A744,\">0\")+1)","v":0},"14050P-VAC P","Szűrőbetét P-VAC 14050P-VAC P",null,"Szűrőbetét","9 570,-Ft",37.409600000000005,null,9570]
[{"$f":"IF(L746=FALSE,0,COUNTIF(A$3:A745,\">0\")+1)","v":0},"12075P-VAC P","Szűrőbetét P-VAC 12075P-VAC P",null,"Szűrőbetét","12 090,-Ft",47.225500000000004,null,12090]
[{"$f":"IF(L747=FALSE,0,COUNTIF(A$3:A746,\">0\")+1)","v":0},"22075P-VAC P","Szűrőbetét P-VAC 22075P-VAC P",null,"Szűrőbetét","17 050,-Ft",66.641000000000005,null,17050]
[{"$f":"IF(L748=FALSE,0,COUNTIF(A$3:A747,\">0\")+1)","v":0},"32075P-VAC P","Szűrőbetét P-VAC 32075P-VAC P",null,"Szűrőbetét","20 610,-Ft",80.546000000000006,null,20610]
[{"$f":"IF(L749=FALSE,0,COUNTIF(A$3:A748,\">0\")+1)","v":0},"50075P-VAC P","Szűrőbetét P-VAC 50075P-VAC P",null,"Szűrőbetét","25 530,-Ft",102.8352,null,25530]
[{"$f":"IF(L750=FALSE,0,COUNTIF(A$3:A749,\">0\")+1)","v":0},"51090P-VAC P","Szűrőbetét P-VAC 51090P-VAC P",null,"Szűrőbetét","36 560,-Ft",147.30029999999999,null,36560]
[{"$f":"IF(L751=FALSE,0,COUNTIF(A$3:A750,\">0\")+1)","v":0},"76090P-VAC P","Szűrőbetét P-VAC 76090P-VAC P",null,"Szűrőbetét","44 450,-Ft",179.06549999999999,null,44450]
[{"$f":"IF(L752=FALSE,0,COUNTIF(A$3:A751,\">0\")+1)","v":0},"76090P-VAC P","Szűrőbetét P-VAC 76090P-VAC P",null,"Szűrőbetét","44 450,-Ft",179.06549999999999,null,44450]
[{"$f":"IF(L753=FALSE,0,COUNTIF(A$3:A752,\">0\")+1)","v":0},"51140P-VAC P","Szűrőbetét P-VAC 51140P-VAC P",null,"Szűrőbetét","56 560,-Ft",227.83599999999998,null,56560]
[{"$f":"IF(L754=FALSE,0,COUNTIF(A$3:A753,\">0\")+1)","v":0},"75140P-VAC P","Szűrőbetét P-VAC 75140P-VAC P",null,"Szűrőbetét","65 540,-Ft",264.03019999999998,null,65540]
[{"$f":"IF(L755=FALSE,0,COUNTIF(A$3:A754,\">0\")+1)","v":0},"6050P-VAC M","Szűrőbetét P-VAC 6050P-VAC M",null,"Szűrőbetét","6 010,-Ft",23.494299999999999,null,6010]
[{"$f":"IF(L756=FALSE,0,COUNTIF(A$3:A755,\">0\")+1)","v":0},"7050P-VAC M","Szűrőbetét P-VAC 7050P-VAC M",null,"Szűrőbetét","7 450,-Ft",29.128400000000003,null,7450]
[{"$f":"IF(L757=FALSE,0,COUNTIF(A$3:A756,\">0\")+1)","v":0},"14050P-VAC M","Szűrőbetét P-VAC 14050P-VAC M",null,"Szűrőbetét","9 570,-Ft",37.409600000000005,null,9570]
[{"$f":"IF(L758=FALSE,0,COUNTIF(A$3:A757,\">0\")+1)","v":0},"12075P-VAC M","Szűrőbetét P-VAC 12075P-VAC M",null,"Szűrőbetét","12 090,-Ft",47.225500000000004,null,12090]
[{"$f":"IF(L759=FALSE,0,COUNTIF(A$3:A758,\">0\")+1)","v":0},"22075P-VAC M","Szűrőbetét P-VAC 22075P-VAC M",null,"Szűrőbetét","17 050,-Ft",66.641000000000005,null,17050]
[{"$f":"IF(L760=FALSE,0,COUNTIF(A$3:A759,\">0\")+1)","v":0},"32075P-VAC M","Szűrőbetét P-VAC 32075P-VAC M",null,"Szűrőbetét","20 610,-Ft",80.546000000000006,null,20610]
[{"$f":"IF(L761=FALSE,0,COUNTIF(A$3:A760,\">0\")+1)","v":0},"50075P-VAC M","Szűrőbetét P-VAC 50075P-VAC M",null,"Szűrőbetét","25 530,-Ft",102.8352,null,25530]
[{"$f":"IF(L762=FALSE,0,COUNTIF(A$3:A761,\">0\")+1)","v":0},"51090P-VAC M","Szűrőbetét P-VAC 51090P-VAC M",null,"Szűrőbetét","36 560,-Ft",147.30029999999999,null,36560]
[{"$f":"IF(L763=FALSE,0,COUNTIF(A$3:A762,\">0\")+1)","v":0},"76090P-VAC M","Szűrőbetét P-VAC 76090P-VAC M",null,"Szűrőbetét","44 450,-Ft",179.06549999999999,null,44450]
[{"$f":"IF(L764=FALSE,0,COUNTIF(A$3:A763,\">0\")+1)","v":0},"76090P-VAC M","Szűrőbetét P-VAC 76090P-VAC M",null,"Szűrőbetét","44 450,-Ft",179.06549999999999,null,44450]
[{"$f":"IF(L765=FALSE,0,COUNTIF(A$3:A764,\">0\")+1)","v":0},"51140P-VAC M","Szűrőbetét P-VAC 51140P-VAC M",null,"Szűrőbetét","56 560,-Ft",227.83599999999998,null,56560]
[{"$f":"IF(L766=FALSE,0,COUNTIF(A$3:A765,\">0\")+1)","v":0},"75140P-VAC M","Szűrőbetét P-VAC 75140P-VAC M",null,"Szűrőbetét","65 540,-Ft",264.03019999999998,null,65540]
[{"$f":"IF(L767=FALSE,0,COUNTIF(A$3:A766,\">0\")+1)","v":0},"M-VAC 0056","Alumínium M-VAC szűrőház  3/8’’","3/8’’","Szűrőház","21 570,-Ft",84.295200000000008,null,21570]
[{"$f":"IF(L768=FALSE,0,COUNTIF(A$3:A767,\">0\")+1)","v":0},"M-VAC 0076","Alumínium M-VAC szűrőház  1/2’’","1/2’’","Szűrőház","22 900,-Ft",89.476100000000002,null,22900]
[{"$f":"IF(L769=FALSE,0,COUNTIF(A$3:A768,\">0\")+1)","v":0},"M-VAC 0106","Alumínium M-VAC szűrőház  3/4’’","3/4’’","Szűrőház","24 680,-Ft",96.438900000000004,null,24680]
[{"$f":"IF(L770=FALSE,0,COUNTIF(A$3:A769,\">0\")+1)","v":0},"M-VAC 0186","Alumínium M-VAC szűrőház  1’’","1’’","Szűrőház","35 990,-Ft",144.9828,null,35990]
[{"$f":"IF(L771=FALSE,0,COUNTIF(A$3:A770,\">0\")+1)","v":0},"M-VAC 0306","Alumínium M-VAC szűrőház  1’’","1’’","Szűrőház","38 810,-Ft",156.34369999999998,null,38810]
[{"$f":"IF(L772=FALSE,0,COUNTIF(A$3:A771,\">0\")+1)","v":0},"M-VAC 0476","Alumínium M-VAC szűrőház  1 1/2’’","1 1/2’’","Szűrőház",{"$f":"TEXT(I772,\"# ###,-Ft\")","v":"44 890,-Ft"},180.83709999999999,null,{"$f":"ROUND(IF(G$1=1,IF(G772>10000,(G772*N$1*0.85),IF(G772>5000,(G772*N$1*0.88),IF(G772>1000,(G772*N$1*0.91),IF(G772>500,(G772*N$1*0.94),IF(G772>100,(G772*N$1*0.97),(G772*N$1))))))/1.27,G772*N$1/1.27),L$1)","v":44890}]
[{"$f":"IF(L773=FALSE,0,COUNTIF(A$3:A772,\">0\")+1)","v":0},"M-VAC 0706","Alumínium M-VAC szűrőház  1 1/2’’","1 1/2’’","Szűrőház","54 750,-Ft",220.5642,null,54750]
[{"$f":"IF(L774=FALSE,0,COUNTIF(A$3:A773,\">0\")+1)","v":0},"M-VAC 0946","Alumínium M-VAC szűrőház  2’’","2’’","Szűrőház","89 010,-Ft",358.58420000000001,null,89010]
[{"$f":"IF(L775=FALSE,0,COUNTIF(A$3:A774,\">0\")+1)","v":0},"M-VAC 1506","Alumínium M-VAC szűrőház  2’’","2’’","Szűrőház","122 070,-Ft",491.76319999999998,null,122070]
[{"$f":"IF(L776=FALSE,0,COUNTIF(A$3:A775,\">0\")+1)","v":0},"M-VAC 1756","Alumínium M-VAC szűrőház  2 1/2’’","2 1/2’’","Szűrőház","166 700,-Ft",693.0046000000001,null,166700]
[{"$f":"IF(L777=FALSE,0,COUNTIF(A$3:A776,\">0\")+1)","v":0},"M-VAC 2006","Alumínium M-VAC szűrőház  3’’","3’’","Szűrőház","198 470,-Ft",825.07119999999998,null,198470]
[{"$f":"IF(L778=FALSE,0,COUNTIF(A$3:A777,\">0\")+1)","v":0},"M-VAC 2406","Alumínium M-VAC szűrőház  3’’","3’’","Szűrőház","217 530,-Ft",904.28850000000011,null,217530]
[{"$f":"IF(L779=FALSE,0,COUNTIF(A$3:A778,\">0\")+1)","v":0},"M-VAC B240","Alumínium M-VAC szűrőház  DN80","DN80","Szűrőház",{"$f":"TEXT(I779,\"# ###,-Ft (2)\")","v":"691 000,-Ft (2)"},2967.9759000000004,2,{"$f":"ROUND(IF(G$1=1,IF(G779>10000,(G779*N$1*0.85),IF(G779>5000,(G779*N$1*0.88),IF(G779>1000,(G779*N$1*0.91),IF(G779>500,(G779*N$1*0.94),IF(G779>100,(G779*N$1*0.97),(G779*N$1))))))/1.27,G779*N$1/1.27),-3)","v":691000}]
[{"$f":"IF(L780=FALSE,0,COUNTIF(A$3:A779,\">0\")+1)","v":0},"M-VAC B300","Alumínium M-VAC szűrőház  DN100","DN100","Szűrőház",{"$f":"TEXT(I780,\"# ###,-Ft (3)\")","v":"1 213 000,-Ft (3)"},5384.2838000000002,4,1213000]
[{"$f":"IF(L781=FALSE,0,COUNTIF(A$3:A780,\">0\")+1)","v":0},"M-VAC B450","Alumínium M-VAC szűrőház  DN125","DN125","Szűrőház","1 459 000,-Ft (3)",6476.5781999999999,4,1459000]
[{"$f":"IF(L782=FALSE,0,COUNTIF(A$3:A781,\">0\")+1)","v":0},"M-VAC B600","Alumínium M-VAC szűrőház  DN150","DN150","Szűrőház","1 547 000,-Ft (3)",6870.4708000000001,4,1547000]
[{"$f":"IF(L783=FALSE,0,COUNTIF(A$3:A782,\">0\")+1)","v":0},"6050VAC","Szűrőbetét P-VAC 6050VAC",null,"Szűrőbetét","6 010,-Ft",23.494299999999999,null,6010]
[{"$f":"IF(L784=FALSE,0,COUNTIF(A$3:A783,\">0\")+1)","v":0},"7050VAC","Szűrőbetét P-VAC 7050VAC",null,"Szűrőbetét","7 450,-Ft",29.128400000000003,null,7450]
[{"$f":"IF(L785=FALSE,0,COUNTIF(A$3:A784,\">0\")+1)","v":0},"14050VAC","Szűrőbetét P-VAC 14050VAC",null,"Szűrőbetét","9 570,-Ft",37.409600000000005,null,9570]
[{"$f":"IF(L786=FALSE,0,COUNTIF(A$3:A785,\">0\")+1)","v":0},"12075VAC","Szűrőbetét P-VAC 12075VAC",null,"Szűrőbetét","12 090,-Ft",47.225500000000004,null,12090]
[{"$f":"IF(L787=FALSE,0,COUNTIF(A$3:A786,\">0\")+1)","v":0},"22075VAC","Szűrőbetét P-VAC 22075VAC",null,"Szűrőbetét","17 050,-Ft",66.641000000000005,null,17050]
[{"$f":"IF(L788=FALSE,0,COUNTIF(A$3:A787,\">0\")+1)","v":0},"32075VAC","Szűrőbetét P-VAC 32075VAC",null,"Szűrőbetét","20 610,-Ft",80.546000000000006,null,20610]
[{"$f":"IF(L789=FALSE,0,COUNTIF(A$3:A788,\">0\")+1)","v":0},"50075VAC","Szűrőbetét P-VAC 50075VAC",null,"Szűrőbetét","25 530,-Ft",102.8352,null,25530]
[{"$f":"IF(L790=FALSE,0,COUNTIF(A$3:A789,\">0\")+1)","v":0},"51090VAC","Szűrőbetét P-VAC 51090VAC",null,"Szűrőbetét","36 560,-Ft",147.30029999999999,null,36560]
[{"$f":"IF(L791=FALSE,0,COUNTIF(A$3:A790,\">0\")+1)","v":0},"76090VAC","Szűrőbetét P-VAC 76090VAC",null,"Szűrőbetét","44 450,-Ft",179.06549999999999,null,44450]
[{"$f":"IF(L792=FALSE,0,COUNTIF(A$3:A791,\">0\")+1)","v":0},"76090VAC","Szűrőbetét P-VAC 76090VAC",null,"Szűrőbetét","44 450,-Ft",179.06549999999999,null,44450]
[{"$f":"IF(L793=FALSE,0,COUNTIF(A$3:A792,\">0\")+1)","v":0},"51140VAC","Szűrőbetét P-VAC 51140VAC",null,"Szűrőbetét","56 560,-Ft",227.83599999999998,null,56560]
[{"$f":"IF(L794=FALSE,0,COUNTIF(A$3:A793,\">0\")+1)","v":0},"75140VAC","Szűrőbetét P-VAC 75140VAC",null,"Szűrőbetét","65 540,-Ft",264.03019999999998,null,65540]
[{"$f":"IF(L795=FALSE,0,COUNTIF(A$3:A794,\">0\")+1)","v":0},"AFs 0056","Alumínium Afs szlikonmentes szűrőház  3/8","3/8","Szűrőház","21 570,-Ft",84.295200000000008,null,21570]
[{"$f":"IF(L796=FALSE,0,COUNTIF(A$3:A795,\">0\")+1)","v":0},"AFs 0076","Alumínium Afs szlikonmentes szűrőház  1/2","1/2","Szűrőház","22 900,-Ft",89.476100000000002,null,22900]
[{"$f":"IF(L797=FALSE,0,COUNTIF(A$3:A796,\">0\")+1)","v":0},"AFs 0106","Alumínium Afs szlikonmentes szűrőház  3/4","3/4","Szűrőház","24 680,-Ft",96.438900000000004,null,24680]
[{"$f":"IF(L798=FALSE,0,COUNTIF(A$3:A797,\">0\")+1)","v":0},"AFs 0186","Alumínium Afs szlikonmentes szűrőház  1","1","Szűrőház","35 990,-Ft",144.9828,null,35990]
[{"$f":"IF(L799=FALSE,0,COUNTIF(A$3:A798,\">0\")+1)","v":0},"AFs 0306","Alumínium Afs szlikonmentes szűrőház  1","1","Szűrőház","38 810,-Ft",156.34369999999998,null,38810]
[{"$f":"IF(L800=FALSE,0,COUNTIF(A$3:A799,\">0\")+1)","v":0},"AFs 0476","Alumínium Afs szlikonmentes szűrőház  1 1/2","1 1/2","Szűrőház","44 890,-Ft",180.83709999999999,null,44890]
[{"$f":"IF(L801=FALSE,0,COUNTIF(A$3:A800,\">0\")+1)","v":0},"AFs 0706","Alumínium Afs szlikonmentes szűrőház  1 1/2","1 1/2","Szűrőház","54 750,-Ft",220.5642,null,54750]
[{"$f":"IF(L802=FALSE,0,COUNTIF(A$3:A801,\">0\")+1)","v":0},"AFs 0946","Alumínium Afs szlikonmentes szűrőház  2","2","Szűrőház","89 010,-Ft",358.58420000000001,null,89010]
[{"$f":"IF(L803=FALSE,0,COUNTIF(A$3:A802,\">0\")+1)","v":0},"AFs 1506","Alumínium Afs szlikonmentes szűrőház  2","2","Szűrőház","122 070,-Ft",491.76319999999998,null,122070]
[{"$f":"IF(L804=FALSE,0,COUNTIF(A$3:A803,\">0\")+1)","v":0},"AFs 1756","Alumínium Afs szlikonmentes szűrőház  2 1/2","2 1/2","Szűrőház","166 700,-Ft",693.0046000000001,null,166700]
[{"$f":"IF(L805=FALSE,0,COUNTIF(A$3:A804,\">0\")+1)","v":0},"AFs 2006","Alumínium Afs szlikonmentes szűrőház  3","3","Szűrőház","198 470,-Ft",825.07119999999998,null,198470]
[{"$f":"IF(L806=FALSE,0,COUNTIF(A$3:A805,\">0\")+1)","v":0},"AFs 2406","Alumínium Afs szlikonmentes szűrőház  3","3","Szűrőház","217 530,-Ft",904.28850000000011,null,217530]
[{"$f":"IF(L807=FALSE,0,COUNTIF(A$3:A806,\">0\")+1)","v":0},"6050Ms","Szűrőbetét AFs 6050Ms",null,"Szűrőbetét","6 300,-Ft",24.6067,null,6300]
[{"$f":"IF(L808=FALSE,0,COUNTIF(A$3:A807,\">0\")+1)","v":0},"7050Ms","Szűrőbetét AFs 7050Ms",null,"Szűrőbetét","7 790,-Ft",30.4468,null,7790]
[{"$f":"IF(L809=FALSE,0,COUNTIF(A$3:A808,\">0\")+1)","v":0},"14050Ms","Szűrőbetét AFs 14050Ms",null,"Szűrőbetét","10 020,-Ft",39.170900000000003,null,10020]
[{"$f":"IF(L810=FALSE,0,COUNTIF(A$3:A809,\">0\")+1)","v":0},"12075Ms","Szűrőbetét AFs 12075Ms",null,"Szűrőbetét","12 620,-Ft",49.316400000000002,null,12620]
[{"$f":"IF(L811=FALSE,0,COUNTIF(A$3:A810,\">0\")+1)","v":0},"22075Ms","Szűrőbetét AFs 22075Ms",null,"Szűrőbetét","17 820,-Ft",69.617699999999999,null,17820]
[{"$f":"IF(L812=FALSE,0,COUNTIF(A$3:A811,\">0\")+1)","v":0},"32075Ms","Szűrőbetét AFs 32075Ms",null,"Szűrőbetét","21 540,-Ft",84.181900000000013,null,21540]
[{"$f":"IF(L813=FALSE,0,COUNTIF(A$3:A812,\">0\")+1)","v":0},"50075Ms","Szűrőbetét AFs 50075Ms",null,"Szűrőbetét","26 680,-Ft",107.47020000000001,null,26680]
[{"$f":"IF(L814=FALSE,0,COUNTIF(A$3:A813,\">0\")+1)","v":0},"51090Ms","Szűrőbetét AFs 51090Ms",null,"Szűrőbetét","38 210,-Ft",153.91290000000001,null,38210]
[{"$f":"IF(L815=FALSE,0,COUNTIF(A$3:A814,\">0\")+1)","v":0},"76090Ms","Szűrőbetét AFs 76090Ms",null,"Szűrőbetét","46 530,-Ft",187.46,null,46530]
[{"$f":"IF(L816=FALSE,0,COUNTIF(A$3:A815,\">0\")+1)","v":0},"76090Ms","Szűrőbetét AFs 76090Ms",null,"Szűrőbetét","46 530,-Ft",187.46,null,46530]
[{"$f":"IF(L817=FALSE,0,COUNTIF(A$3:A816,\">0\")+1)","v":0},"51140Ms","Szűrőbetét AFs 51140Ms",null,"Szűrőbetét","59 100,-Ft",238.09479999999999,null,59100]
[{"$f":"IF(L818=FALSE,0,COUNTIF(A$3:A817,\">0\")+1)","v":0},"75140Ms","Szűrőbetét AFs 75140Ms",null,"Szűrőbetét","68 390,-Ft",275.50440000000003,null,68390]
[{"$f":"IF(L819=FALSE,0,COUNTIF(A$3:A818,\">0\")+1)","v":0},"6050Ss","Szűrőbetét AFs 6050Ss",null,"Szűrőbetét","6 300,-Ft",24.6067,null,6300]
[{"$f":"IF(L820=FALSE,0,COUNTIF(A$3:A819,\">0\")+1)","v":0},"7050Ss","Szűrőbetét AFs 7050Ss",null,"Szűrőbetét","7 790,-Ft",30.4468,null,7790]
[{"$f":"IF(L821=FALSE,0,COUNTIF(A$3:A820,\">0\")+1)","v":0},"14050Ss","Szűrőbetét AFs 14050Ss",null,"Szűrőbetét","10 020,-Ft",39.170900000000003,null,10020]
[{"$f":"IF(L822=FALSE,0,COUNTIF(A$3:A821,\">0\")+1)","v":0},"12075Ss","Szűrőbetét AFs 12075Ss",null,"Szűrőbetét","12 620,-Ft",49.316400000000002,null,12620]
[{"$f":"IF(L823=FALSE,0,COUNTIF(A$3:A822,\">0\")+1)","v":0},"22075Ss","Szűrőbetét AFs 22075Ss",null,"Szűrőbetét","17 820,-Ft",69.617699999999999,null,17820]
[{"$f":"IF(L824=FALSE,0,COUNTIF(A$3:A823,\">0\")+1)","v":0},"32075Ss","Szűrőbetét AFs 32075Ss",null,"Szűrőbetét","21 540,-Ft",84.181900000000013,null,21540]
[{"$f":"IF(L825=FALSE,0,COUNTIF(A$3:A824,\">0\")+1)","v":0},"50075Ss","Szűrőbetét AFs 50075Ss",null,"Szűrőbetét","26 680,-Ft",107.47020000000001,null,26680]
[{"$f":"IF(L826=FALSE,0,COUNTIF(A$3:A825,\">0\")+1)","v":0},"51090Ss","Szűrőbetét AFs 51090Ss",null,"Szűrőbetét","38 210,-Ft",153.91290000000001,null,38210]
[{"$f":"IF(L827=FALSE,0,COUNTIF(A$3:A826,\">0\")+1)","v":0},"76090Ss","Szűrőbetét AFs 76090Ss",null,"Szűrőbetét","46 530,-Ft",187.46,null,46530]
[{"$f":"IF(L828=FALSE,0,COUNTIF(A$3:A827,\">0\")+1)","v":0},"76090Ss","Szűrőbetét AFs 76090Ss",null,"Szűrőbetét","46 530,-Ft",187.46,null,46530]
[{"$f":"IF(L829=FALSE,0,COUNTIF(A$3:A828,\">0\")+1)","v":0},"51140Ss","Szűrőbetét AFs 51140Ss",null,"Szűrőbetét","59 100,-Ft",238.09479999999999,null,59100]
[{"$f":"IF(L830=FALSE,0,COUNTIF(A$3:A829,\">0\")+1)","v":0},"75140Ss","Szűrőbetét AFs 75140Ss",null,"Szűrőbetét","68 390,-Ft",275.50440000000003,null,68390]
[{"$f":"IF(L831=FALSE,0,COUNTIF(A$3:A830,\">0\")+1)","v":0},"HF 007","50 bar alumínium HF szűrőház  1/2''","1/2''","Szűrőház","53 410,-Ft",215.1464,null,53410]
[{"$f":"IF(L832=FALSE,0,COUNTIF(A$3:A831,\">0\")+1)","v":0},"HF 010","50 bar alumínium HF szűrőház  3/4''","3/4''","Szűrőház","65 730,-Ft",264.80269999999996,null,65730]
[{"$f":"IF(L833=FALSE,0,COUNTIF(A$3:A832,\">0\")+1)","v":0},"HF 018","50 bar alumínium HF szűrőház  1''","1''","Szűrőház","75 000,-Ft",302.14019999999999,null,75000]
[{"$f":"IF(L834=FALSE,0,COUNTIF(A$3:A833,\">0\")+1)","v":0},"HF 047","50 bar alumínium HF szűrőház  1 1/2''","1 1/2''","Szűrőház","116 400,-Ft",468.9178,null,116400]
[{"$f":"IF(L835=FALSE,0,COUNTIF(A$3:A834,\">0\")+1)","v":0},"HF 070","50 bar alumínium HF szűrőház  1 1/2''","1 1/2''","Szűrőház","123 170,-Ft",512.01300000000003,null,123170]
[{"$f":"IF(L836=FALSE,0,COUNTIF(A$3:A835,\">0\")+1)","v":0},"HF 094","50 bar alumínium HF szűrőház  2''","2''","Szűrőház",{"$f":"TEXT(I836,\"# ###,-Ft\")","v":"145 970,-Ft"},606.83479999999997,null,{"$f":"ROUND(IF(G$1=1,IF(G836>10000,(G836*N$1*0.85),IF(G836>5000,(G836*N$1*0.88),IF(G836>1000,(G836*N$1*0.91),IF(G836>500,(G836*N$1*0.94),IF(G836>100,(G836*N$1*0.97),(G836*N$1))))))/1.27,G836*N$1/1.27),L$1)","v":145970}]
[{"$f":"IF(L837=FALSE,0,COUNTIF(A$3:A836,\">0\")+1)","v":0},"HF 150","50 bar alumínium HF szűrőház  2''","2''","Szűrőház","164 340,-Ft",683.19899999999996,null,164340]
[{"$f":"IF(L838=FALSE,0,COUNTIF(A$3:A837,\">0\")+1)","v":0},"HF 200","50 bar alumínium HF szűrőház  3''","3''","Szűrőház",{"$f":"TEXT(I838,\"# ###,-Ft (2)\")","v":"390 000,-Ft (2)"},1676.7576000000001,2,{"$f":"ROUND(IF(G$1=1,IF(G838>10000,(G838*N$1*0.85),IF(G838>5000,(G838*N$1*0.88),IF(G838>1000,(G838*N$1*0.91),IF(G838>500,(G838*N$1*0.94),IF(G838>100,(G838*N$1*0.97),(G838*N$1))))))/1.27,G838*N$1/1.27),-3)","v":390000}]
[{"$f":"IF(L839=FALSE,0,COUNTIF(A$3:A838,\">0\")+1)","v":0},"HF 240","50 bar alumínium HF szűrőház  3''","3''","Szűrőház","423 000,-Ft (2)",1818.2796000000001,2,423000]
[{"$f":"IF(L840=FALSE,0,COUNTIF(A$3:A839,\">0\")+1)","v":0},"6060HF-B","Szűrőbetét HF 6060HF-B","1/2''","Szűrőbetét","20 190,-Ft",78.887700000000009,null,20190]
[{"$f":"IF(L841=FALSE,0,COUNTIF(A$3:A840,\">0\")+1)","v":0},"7060HF-B","Szűrőbetét HF 7060HF-B","3/4''","Szűrőbetét","24 850,-Ft",97.098100000000002,null,24850]
[{"$f":"IF(L842=FALSE,0,COUNTIF(A$3:A841,\">0\")+1)","v":0},"12060HF-B","Szűrőbetét HF 12060HF-B","1''","Szűrőbetét","27 110,-Ft",109.2315,null,27110]
[{"$f":"IF(L843=FALSE,0,COUNTIF(A$3:A842,\">0\")+1)","v":0},"22090HF-B","Szűrőbetét HF 22090HF-B","1 1/2''","Szűrőbetét","33 140,-Ft",133.5086,null,33140]
[{"$f":"IF(L844=FALSE,0,COUNTIF(A$3:A843,\">0\")+1)","v":0},"32090HF-B","Szűrőbetét HF 32090HF-B","1 1/2''","Szűrőbetét","40 670,-Ft",163.84209999999999,null,40670]
[{"$f":"IF(L845=FALSE,0,COUNTIF(A$3:A844,\">0\")+1)","v":0},"50090HF-B","Szűrőbetét HF 50090HF-B","2''","Szűrőbetét","46 700,-Ft",188.11919999999998,null,46700]
[{"$f":"IF(L846=FALSE,0,COUNTIF(A$3:A845,\">0\")+1)","v":0},"51090HF-B","Szűrőbetét HF 51090HF-B","2''","Szűrőbetét","51 210,-Ft",206.3193,null,51210]
[{"$f":"IF(L847=FALSE,0,COUNTIF(A$3:A846,\">0\")+1)","v":0},"51140HF-B","Szűrőbetét HF 51140HF-B","3''","Szűrőbetét","77 850,-Ft",313.60410000000002,null,77850]
[{"$f":"IF(L848=FALSE,0,COUNTIF(A$3:A847,\">0\")+1)","v":0},"75140HF-B","Szűrőbetét HF 75140HF-B","3''","Szűrőbetét","105 020,-Ft",423.08280000000002,null,105020]
[{"$f":"IF(L849=FALSE,0,COUNTIF(A$3:A848,\">0\")+1)","v":0},"6060HF-P","Szűrőbetét HF 6060HF-P","1/2''","Szűrőbetét","18 350,-Ft",71.718899999999991,null,18350]
[{"$f":"IF(L850=FALSE,0,COUNTIF(A$3:A849,\">0\")+1)","v":0},"7060HF-P","Szűrőbetét HF 7060HF-P","3/4''","Szűrőbetét","22 590,-Ft",88.271000000000001,null,22590]
[{"$f":"IF(L851=FALSE,0,COUNTIF(A$3:A850,\">0\")+1)","v":0},"12060HF-P","Szűrőbetét HF 12060HF-P","1''","Szűrőbetét","25 410,-Ft",99.302300000000002,null,25410]
[{"$f":"IF(L852=FALSE,0,COUNTIF(A$3:A851,\">0\")+1)","v":0},"22090HF-P","Szűrőbetét HF 22090HF-P","1 1/2''","Szűrőbetét","30 130,-Ft",121.36490000000001,null,30130]
[{"$f":"IF(L853=FALSE,0,COUNTIF(A$3:A852,\">0\")+1)","v":0},"32090HF-P","Szűrőbetét HF 32090HF-P","1 1/2''","Szűrőbetét","36 970,-Ft",148.94830000000002,null,36970]
[{"$f":"IF(L854=FALSE,0,COUNTIF(A$3:A853,\">0\")+1)","v":0},"50090HF-P","Szűrőbetét HF 50090HF-P","2''","Szűrőbetét","42 450,-Ft",171.02119999999999,null,42450]
[{"$f":"IF(L855=FALSE,0,COUNTIF(A$3:A854,\">0\")+1)","v":0},"51090HF-P","Szűrőbetét HF 51090HF-P","2''","Szűrőbetét","46 560,-Ft",187.56299999999999,null,46560]
[{"$f":"IF(L856=FALSE,0,COUNTIF(A$3:A855,\">0\")+1)","v":0},"51140HF-P","Szűrőbetét HF 51140HF-P","3''","Szűrőbetét","61 150,-Ft",246.3451,null,61150]
[{"$f":"IF(L857=FALSE,0,COUNTIF(A$3:A856,\">0\")+1)","v":0},"75140HF-P","Szűrőbetét HF 75140HF-P","3''","Szűrőbetét","84 930,-Ft",342.1454,null,84930]
[{"$f":"IF(L858=FALSE,0,COUNTIF(A$3:A857,\">0\")+1)","v":0},"6060HF-R","Szűrőbetét HF 6060HF-R","1/2''","Szűrőbetét","18 350,-Ft",71.718899999999991,null,18350]
[{"$f":"IF(L859=FALSE,0,COUNTIF(A$3:A858,\">0\")+1)","v":0},"7060HF-R","Szűrőbetét HF 7060HF-R","3/4''","Szűrőbetét","22 590,-Ft",88.271000000000001,null,22590]
[{"$f":"IF(L860=FALSE,0,COUNTIF(A$3:A859,\">0\")+1)","v":0},"12060HF-R","Szűrőbetét HF 12060HF-R","1''","Szűrőbetét","25 410,-Ft",99.302300000000002,null,25410]
[{"$f":"IF(L861=FALSE,0,COUNTIF(A$3:A860,\">0\")+1)","v":0},"22090HF-R","Szűrőbetét HF 22090HF-R","1 1/2''","Szűrőbetét","30 130,-Ft",121.36490000000001,null,30130]
[{"$f":"IF(L862=FALSE,0,COUNTIF(A$3:A861,\">0\")+1)","v":0},"32090HF-R","Szűrőbetét HF 32090HF-R","1 1/2''","Szűrőbetét","36 970,-Ft",148.94830000000002,null,36970]
[{"$f":"IF(L863=FALSE,0,COUNTIF(A$3:A862,\">0\")+1)","v":0},"50090HF-R","Szűrőbetét HF 50090HF-R","2''","Szűrőbetét","42 450,-Ft",171.02119999999999,null,42450]
[{"$f":"IF(L864=FALSE,0,COUNTIF(A$3:A863,\">0\")+1)","v":0},"51090HF-R","Szűrőbetét HF 51090HF-R","2''","Szűrőbetét","46 560,-Ft",187.56299999999999,null,46560]
[{"$f":"IF(L865=FALSE,0,COUNTIF(A$3:A864,\">0\")+1)","v":0},"51140HF-R","Szűrőbetét HF 51140HF-R","3''","Szűrőbetét","61 150,-Ft",246.3451,null,61150]
[{"$f":"IF(L866=FALSE,0,COUNTIF(A$3:A865,\">0\")+1)","v":0},"75140HF-R","Szűrőbetét HF 75140HF-R","3''","Szűrőbetét","84 930,-Ft",342.1454,null,84930]
[{"$f":"IF(L867=FALSE,0,COUNTIF(A$3:A866,\">0\")+1)","v":0},"6060HF-M","Szűrőbetét HF 6060HF-M","1/2''","Szűrőbetét","18 350,-Ft",71.718899999999991,null,18350]
[{"$f":"IF(L868=FALSE,0,COUNTIF(A$3:A867,\">0\")+1)","v":0},"7060HF-M","Szűrőbetét HF 7060HF-M","3/4''","Szűrőbetét","22 590,-Ft",88.271000000000001,null,22590]
[{"$f":"IF(L869=FALSE,0,COUNTIF(A$3:A868,\">0\")+1)","v":0},"12060HF-M","Szűrőbetét HF 12060HF-M","1''","Szűrőbetét","25 410,-Ft",99.302300000000002,null,25410]
[{"$f":"IF(L870=FALSE,0,COUNTIF(A$3:A869,\">0\")+1)","v":0},"22090HF-M","Szűrőbetét HF 22090HF-M","1 1/2''","Szűrőbetét","30 130,-Ft",121.36490000000001,null,30130]
[{"$f":"IF(L871=FALSE,0,COUNTIF(A$3:A870,\">0\")+1)","v":0},"32090HF-M","Szűrőbetét HF 32090HF-M","1 1/2''","Szűrőbetét","36 970,-Ft",148.94830000000002,null,36970]
[{"$f":"IF(L872=FALSE,0,COUNTIF(A$3:A871,\">0\")+1)","v":0},"50090HF-M","Szűrőbetét HF 50090HF-M","2''","Szűrőbetét","42 450,-Ft",171.02119999999999,null,42450]
[{"$f":"IF(L873=FALSE,0,COUNTIF(A$3:A872,\">0\")+1)","v":0},"51090HF-M","Szűrőbetét HF 51090HF-M","2''","Szűrőbetét","46 560,-Ft",187.56299999999999,null,46560]
[{"$f":"IF(L874=FALSE,0,COUNTIF(A$3:A873,\">0\")+1)","v":0},"51140HF-M","Szűrőbetét HF 51140HF-M","3''","Szűrőbetét","61 150,-Ft",246.3451,null,61150]
[{"$f":"IF(L875=FALSE,0,COUNTIF(A$3:A874,\">0\")+1)","v":0},"75140HF-M","Szűrőbetét HF 75140HF-M","3''","Szűrőbetét","84 930,-Ft",342.1454,null,84930]
[{"$f":"IF(L876=FALSE,0,COUNTIF(A$3:A875,\">0\")+1)","v":0},"6060HF-S","Szűrőbetét HF 6060HF-S","1/2''","Szűrőbetét","18 350,-Ft",71.718899999999991,null,18350]
[{"$f":"IF(L877=FALSE,0,COUNTIF(A$3:A876,\">0\")+1)","v":0},"7060HF-S","Szűrőbetét HF 7060HF-S","3/4''","Szűrőbetét","22 590,-Ft",88.271000000000001,null,22590]
[{"$f":"IF(L878=FALSE,0,COUNTIF(A$3:A877,\">0\")+1)","v":0},"12060HF-S","Szűrőbetét HF 12060HF-S","1''","Szűrőbetét","25 410,-Ft",99.302300000000002,null,25410]
[{"$f":"IF(L879=FALSE,0,COUNTIF(A$3:A878,\">0\")+1)","v":0},"22090HF-S","Szűrőbetét HF 22090HF-S","1 1/2''","Szűrőbetét","30 130,-Ft",121.36490000000001,null,30130]
[{"$f":"IF(L880=FALSE,0,COUNTIF(A$3:A879,\">0\")+1)","v":0},"32090HF-S","Szűrőbetét HF 32090HF-S","1 1/2''","Szűrőbetét","36 970,-Ft",148.94830000000002,null,36970]
[{"$f":"IF(L881=FALSE,0,COUNTIF(A$3:A880,\">0\")+1)","v":0},"50090HF-S","Szűrőbetét HF 50090HF-S","2''","Szűrőbetét","42 450,-Ft",171.02119999999999,null,42450]
[{"$f":"IF(L882=FALSE,0,COUNTIF(A$3:A881,\">0\")+1)","v":0},"51090HF-S","Szűrőbetét HF 51090HF-S","2''","Szűrőbetét","46 560,-Ft",187.56299999999999,null,46560]
[{"$f":"IF(L883=FALSE,0,COUNTIF(A$3:A882,\">0\")+1)","v":0},"51140HF-S","Szűrőbetét HF 51140HF-S","3''","Szűrőbetét","61 150,-Ft",246.3451,null,61150]
[{"$f":"IF(L884=FALSE,0,COUNTIF(A$3:A883,\">0\")+1)","v":0},"75140HF-S","Szűrőbetét HF 75140HF-S","3''","Szűrőbetét","84 930,-Ft",342.1454,null,84930]
[{"$f":"IF(L885=FALSE,0,COUNTIF(A$3:A884,\">0\")+1)","v":0},"6060HF-A","Szűrőbetét HF 6060HF-A","1/2''","Szűrőbetét","18 350,-Ft",71.718899999999991,null,18350]
[{"$f":"IF(L886=FALSE,0,COUNTIF(A$3:A885,\">0\")+1)","v":0},"7060HF-A","Szűrőbetét HF 7060HF-A","3/4''","Szűrőbetét","22 590,-Ft",88.271000000000001,null,22590]
[{"$f":"IF(L887=FALSE,0,COUNTIF(A$3:A886,\">0\")+1)","v":0},"12060HF-A","Szűrőbetét HF 12060HF-A","1''","Szűrőbetét","25 410,-Ft",99.302300000000002,null,25410]
[{"$f":"IF(L888=FALSE,0,COUNTIF(A$3:A887,\">0\")+1)","v":0},"22090HF-A","Szűrőbetét HF 22090HF-A","1 1/2''","Szűrőbetét","30 130,-Ft",121.36490000000001,null,30130]
[{"$f":"IF(L889=FALSE,0,COUNTIF(A$3:A888,\">0\")+1)","v":0},"32090HF-A","Szűrőbetét HF 32090HF-A","1 1/2''","Szűrőbetét","36 970,-Ft",148.94830000000002,null,36970]
[{"$f":"IF(L890=FALSE,0,COUNTIF(A$3:A889,\">0\")+1)","v":0},"50090HF-A","Szűrőbetét HF 50090HF-A","2''","Szűrőbetét","42 450,-Ft",171.02119999999999,null,42450]
[{"$f":"IF(L891=FALSE,0,COUNTIF(A$3:A890,\">0\")+1)","v":0},"51090HF-A","Szűrőbetét HF 51090HF-A","2''","Szűrőbetét","46 560,-Ft",187.56299999999999,null,46560]
[{"$f":"IF(L892=FALSE,0,COUNTIF(A$3:A891,\">0\")+1)","v":0},"51140HF-A","Szűrőbetét HF 51140HF-A","3''","Szűrőbetét","61 150,-Ft",246.3451,null,61150]
[{"$f":"IF(L893=FALSE,0,COUNTIF(A$3:A892,\">0\")+1)","v":0},"75140HF-A","Szűrőbetét HF 75140HF-A","3''","Szűrőbetét","84 930,-Ft",342.1454,null,84930]
[{"$f":"IF(L894=FALSE,0,COUNTIF(A$3:A893,\">0\")+1)","v":0},"AHP 005","64 bar alumínium AHP szűrőház ",null,"Szűrőház","53 410,-Ft",215.1464,null,53410]
[{"$f":"IF(L895=FALSE,0,COUNTIF(A$3:A894,\">0\")+1)","v":0},"AHP 007","64 bar alumínium AHP szűrőház ",null,"Szűrőház","65 730,-Ft",264.80269999999996,null,65730]
[{"$f":"IF(L896=FALSE,0,COUNTIF(A$3:A895,\">0\")+1)","v":0},"AHP 010","64 bar alumínium AHP szűrőház ",null,"Szűrőház","75 000,-Ft",302.14019999999999,null,75000]
[{"$f":"IF(L897=FALSE,0,COUNTIF(A$3:A896,\">0\")+1)","v":0},"AHP 018","64 bar alumínium AHP szűrőház ",null,"Szűrőház","116 400,-Ft",468.9178,null,116400]
[{"$f":"IF(L898=FALSE,0,COUNTIF(A$3:A897,\">0\")+1)","v":0},"AHP 030","64 bar alumínium AHP szűrőház ",null,"Szűrőház","123 170,-Ft",512.01300000000003,null,123170]
[{"$f":"IF(L899=FALSE,0,COUNTIF(A$3:A898,\">0\")+1)","v":0},"AHP 047","64 bar alumínium AHP szűrőház ",null,"Szűrőház","145 970,-Ft",606.83479999999997,null,145970]
[{"$f":"IF(L900=FALSE,0,COUNTIF(A$3:A899,\">0\")+1)","v":0},"AHP 094","64 bar alumínium AHP szűrőház ",null,"Szűrőház",{"$f":"TEXT(I900,\"# ###,-Ft\")","v":"164 340,-Ft"},683.19899999999996,null,{"$f":"ROUND(IF(G$1=1,IF(G900>10000,(G900*N$1*0.85),IF(G900>5000,(G900*N$1*0.88),IF(G900>1000,(G900*N$1*0.91),IF(G900>500,(G900*N$1*0.94),IF(G900>100,(G900*N$1*0.97),(G900*N$1))))))/1.27,G900*N$1/1.27),L$1)","v":164340}]
[{"$f":"IF(L901=FALSE,0,COUNTIF(A$3:A900,\">0\")+1)","v":0},"6050AHP-B","Szűrőbetét AHP 6050AHP-B",null,"Szűrőbetét","25 610,-Ft",103.1648,null,25610]
[{"$f":"IF(L902=FALSE,0,COUNTIF(A$3:A901,\">0\")+1)","v":0},"7050AHP-B","Szűrőbetét AHP 7050AHP-B",null,"Szűrőbetét","36 150,-Ft",145.642,null,36150]
[{"$f":"IF(L903=FALSE,0,COUNTIF(A$3:A902,\">0\")+1)","v":0},"14050AHP-B","Szűrőbetét AHP 14050AHP-B",null,"Szűrőbetét","42 180,-Ft",169.90880000000001,null,42180]
[{"$f":"IF(L904=FALSE,0,COUNTIF(A$3:A903,\">0\")+1)","v":0},"12075AHP-B","Szűrőbetét AHP 12075AHP-B",null,"Szűrőbetét","54 230,-Ft",218.46299999999999,null,54230]
[{"$f":"IF(L905=FALSE,0,COUNTIF(A$3:A904,\">0\")+1)","v":0},"22075AHP-B","Szűrőbetét AHP 22075AHP-B",null,"Szűrőbetét","66 280,-Ft",267.00690000000003,null,66280]
[{"$f":"IF(L906=FALSE,0,COUNTIF(A$3:A905,\">0\")+1)","v":0},"32075AHP-B","Szűrőbetét AHP 32075AHP-B",null,"Szűrőbetét","78 330,-Ft",315.55080000000004,null,78330]
[{"$f":"IF(L907=FALSE,0,COUNTIF(A$3:A906,\">0\")+1)","v":0},"51090AHP-B","Szűrőbetét AHP 51090AHP-B",null,"Szűrőbetét","87 370,-Ft",351.96129999999999,null,87370]
[{"$f":"IF(L908=FALSE,0,COUNTIF(A$3:A907,\">0\")+1)","v":0},"6050AHP-P","Szűrőbetét AHP 6050AHP-P",null,"Szűrőbetét","20 420,-Ft",79.783799999999999,null,20420]
[{"$f":"IF(L909=FALSE,0,COUNTIF(A$3:A908,\">0\")+1)","v":0},"7050AHP-P","Szűrőbetét AHP 7050AHP-P",null,"Szűrőbetét","27 940,-Ft",112.55840000000001,null,27940]
[{"$f":"IF(L910=FALSE,0,COUNTIF(A$3:A909,\">0\")+1)","v":0},"14050AHP-P","Szűrőbetét AHP 14050AHP-P",null,"Szűrőbetét","32 600,-Ft",131.33530000000002,null,32600]
[{"$f":"IF(L911=FALSE,0,COUNTIF(A$3:A910,\">0\")+1)","v":0},"12075AHP-P","Szűrőbetét AHP 12075AHP-P",null,"Szűrőbetét","41 950,-Ft",169.00240000000002,null,41950]
[{"$f":"IF(L912=FALSE,0,COUNTIF(A$3:A911,\">0\")+1)","v":0},"22075AHP-P","Szűrőbetét AHP 22075AHP-P",null,"Szűrőbetét","51 220,-Ft",206.3502,null,51220]
[{"$f":"IF(L913=FALSE,0,COUNTIF(A$3:A912,\">0\")+1)","v":0},"32075AHP-P","Szűrőbetét AHP 32075AHP-P",null,"Szűrőbetét","60 520,-Ft",243.79070000000002,null,60520]
[{"$f":"IF(L914=FALSE,0,COUNTIF(A$3:A913,\">0\")+1)","v":0},"51090AHP-P","Szűrőbetét AHP 51090AHP-P",null,"Szűrőbetét","67 600,-Ft",272.33199999999999,null,67600]
[{"$f":"IF(L915=FALSE,0,COUNTIF(A$3:A914,\">0\")+1)","v":0},"6050AHP-R","Szűrőbetét AHP 6050AHP-R",null,"Szűrőbetét","20 420,-Ft",79.783799999999999,null,20420]
[{"$f":"IF(L916=FALSE,0,COUNTIF(A$3:A915,\">0\")+1)","v":0},"7050AHP-R","Szűrőbetét AHP 7050AHP-R",null,"Szűrőbetét","27 940,-Ft",112.55840000000001,null,27940]
[{"$f":"IF(L917=FALSE,0,COUNTIF(A$3:A916,\">0\")+1)","v":0},"14050AHP-R","Szűrőbetét AHP 14050AHP-R",null,"Szűrőbetét","32 600,-Ft",131.33530000000002,null,32600]
[{"$f":"IF(L918=FALSE,0,COUNTIF(A$3:A917,\">0\")+1)","v":0},"12075AHP-R","Szűrőbetét AHP 12075AHP-R",null,"Szűrőbetét","41 950,-Ft",169.00240000000002,null,41950]
[{"$f":"IF(L919=FALSE,0,COUNTIF(A$3:A918,\">0\")+1)","v":0},"22075AHP-R","Szűrőbetét AHP 22075AHP-R",null,"Szűrőbetét","51 220,-Ft",206.3502,null,51220]
[{"$f":"IF(L920=FALSE,0,COUNTIF(A$3:A919,\">0\")+1)","v":0},"32075AHP-R","Szűrőbetét AHP 32075AHP-R",null,"Szűrőbetét","60 520,-Ft",243.79070000000002,null,60520]
[{"$f":"IF(L921=FALSE,0,COUNTIF(A$3:A920,\">0\")+1)","v":0},"51090AHP-R","Szűrőbetét AHP 51090AHP-R",null,"Szűrőbetét","67 600,-Ft",272.33199999999999,null,67600]
[{"$f":"IF(L922=FALSE,0,COUNTIF(A$3:A921,\">0\")+1)","v":0},"6050AHP-M","Szűrőbetét AHP 6050AHP-M",null,"Szűrőbetét","20 420,-Ft",79.783799999999999,null,20420]
[{"$f":"IF(L923=FALSE,0,COUNTIF(A$3:A922,\">0\")+1)","v":0},"7050AHP-M","Szűrőbetét AHP 7050AHP-M",null,"Szűrőbetét","27 940,-Ft",112.55840000000001,null,27940]
[{"$f":"IF(L924=FALSE,0,COUNTIF(A$3:A923,\">0\")+1)","v":0},"14050AHP-M","Szűrőbetét AHP 14050AHP-M",null,"Szűrőbetét","32 600,-Ft",131.33530000000002,null,32600]
[{"$f":"IF(L925=FALSE,0,COUNTIF(A$3:A924,\">0\")+1)","v":0},"12075AHP-M","Szűrőbetét AHP 12075AHP-M",null,"Szűrőbetét","41 950,-Ft",169.00240000000002,null,41950]
[{"$f":"IF(L926=FALSE,0,COUNTIF(A$3:A925,\">0\")+1)","v":0},"22075AHP-M","Szűrőbetét AHP 22075AHP-M",null,"Szűrőbetét","51 220,-Ft",206.3502,null,51220]
[{"$f":"IF(L927=FALSE,0,COUNTIF(A$3:A926,\">0\")+1)","v":0},"32075AHP-M","Szűrőbetét AHP 32075AHP-M",null,"Szűrőbetét","60 520,-Ft",243.79070000000002,null,60520]
[{"$f":"IF(L928=FALSE,0,COUNTIF(A$3:A927,\">0\")+1)","v":0},"51090AHP-M","Szűrőbetét AHP 51090AHP-M",null,"Szűrőbetét","67 600,-Ft",272.33199999999999,null,67600]
[{"$f":"IF(L929=FALSE,0,COUNTIF(A$3:A928,\">0\")+1)","v":0},"6050AHP-S","Szűrőbetét AHP 6050AHP-S",null,"Szűrőbetét","20 420,-Ft",79.783799999999999,null,20420]
[{"$f":"IF(L930=FALSE,0,COUNTIF(A$3:A929,\">0\")+1)","v":0},"7050AHP-S","Szűrőbetét AHP 7050AHP-S",null,"Szűrőbetét","27 940,-Ft",112.55840000000001,null,27940]
[{"$f":"IF(L931=FALSE,0,COUNTIF(A$3:A930,\">0\")+1)","v":0},"14050AHP-S","Szűrőbetét AHP 14050AHP-S",null,"Szűrőbetét","32 600,-Ft",131.33530000000002,null,32600]
[{"$f":"IF(L932=FALSE,0,COUNTIF(A$3:A931,\">0\")+1)","v":0},"12075AHP-S","Szűrőbetét AHP 12075AHP-S",null,"Szűrőbetét","41 950,-Ft",169.00240000000002,null,41950]
[{"$f":"IF(L933=FALSE,0,COUNTIF(A$3:A932,\">0\")+1)","v":0},"22075AHP-S","Szűrőbetét AHP 22075AHP-S",null,"Szűrőbetét","51 220,-Ft",206.3502,null,51220]
[{"$f":"IF(L934=FALSE,0,COUNTIF(A$3:A933,\">0\")+1)","v":0},"32075AHP-S","Szűrőbetét AHP 32075AHP-S",null,"Szűrőbetét","60 520,-Ft",243.79070000000002,null,60520]
[{"$f":"IF(L935=FALSE,0,COUNTIF(A$3:A934,\">0\")+1)","v":0},"51090AHP-S","Szűrőbetét AHP 51090AHP-S",null,"Szűrőbetét","67 600,-Ft",272.33199999999999,null,67600]
[{"$f":"IF(L936=FALSE,0,COUNTIF(A$3:A935,\">0\")+1)","v":0},"6050AHP-A","Szűrőbetét AHP 6050AHP-A",null,"Szűrőbetét","20 420,-Ft",79.783799999999999,null,20420]
[{"$f":"IF(L937=FALSE,0,COUNTIF(A$3:A936,\">0\")+1)","v":0},"7050AHP-A","Szűrőbetét AHP 7050AHP-A",null,"Szűrőbetét","27 940,-Ft",112.55840000000001,null,27940]
[{"$f":"IF(L938=FALSE,0,COUNTIF(A$3:A937,\">0\")+1)","v":0},"14050AHP-A","Szűrőbetét AHP 14050AHP-A",null,"Szűrőbetét","32 600,-Ft",131.33530000000002,null,32600]
[{"$f":"IF(L939=FALSE,0,COUNTIF(A$3:A938,\">0\")+1)","v":0},"12075AHP-A","Szűrőbetét AHP 12075AHP-A",null,"Szűrőbetét","41 950,-Ft",169.00240000000002,null,41950]
[{"$f":"IF(L940=FALSE,0,COUNTIF(A$3:A939,\">0\")+1)","v":0},"22075AHP-A","Szűrőbetét AHP 22075AHP-A",null,"Szűrőbetét","51 220,-Ft",206.3502,null,51220]
[{"$f":"IF(L941=FALSE,0,COUNTIF(A$3:A940,\">0\")+1)","v":0},"32075AHP-A","Szűrőbetét AHP 32075AHP-A",null,"Szűrőbetét","60 520,-Ft",243.79070000000002,null,60520]
[{"$f":"IF(L942=FALSE,0,COUNTIF(A$3:A941,\">0\")+1)","v":0},"51090AHP-A","Szűrőbetét AHP 51090AHP-A",null,"Szűrőbetét","67 600,-Ft",272.33199999999999,null,67600]
[{"$f":"IF(L943=FALSE,0,COUNTIF(A$3:A942,\">0\")+1)","v":0},"CHP 003-100","Szénacél szűrőház 100 bar",null,"Szűrőház","135 360,-Ft",562.69929999999999,null,135360]
[{"$f":"IF(L944=FALSE,0,COUNTIF(A$3:A943,\">0\")+1)","v":0},"CHP 005-100","Szénacél szűrőház 100 bar",null,"Szűrőház","135 360,-Ft",562.69929999999999,null,135360]
[{"$f":"IF(L945=FALSE,0,COUNTIF(A$3:A944,\">0\")+1)","v":0},"CHP 007-100","Szénacél szűrőház 100 bar",null,"Szűrőház","183 130,-Ft",761.3039,null,183130]
[{"$f":"IF(L946=FALSE,0,COUNTIF(A$3:A945,\">0\")+1)","v":0},"CHP 010-100","Szénacél szűrőház 100 bar",null,"Szűrőház","233 560,-Ft",970.93979999999999,null,233560]
[{"$f":"IF(L947=FALSE,0,COUNTIF(A$3:A946,\">0\")+1)","v":0},"CHP 018-100","Szénacél szűrőház 100 bar",null,"Szűrőház",{"$f":"TEXT(I947,\"# ###,-Ft (2)\")","v":"313 000,-Ft (2)"},1346.0657999999999,2,{"$f":"ROUND(IF(G$1=1,IF(G947>10000,(G947*N$1*0.85),IF(G947>5000,(G947*N$1*0.88),IF(G947>1000,(G947*N$1*0.91),IF(G947>500,(G947*N$1*0.94),IF(G947>100,(G947*N$1*0.97),(G947*N$1))))))/1.27,G947*N$1/1.27),-3)","v":313000}]
[{"$f":"IF(L948=FALSE,0,COUNTIF(A$3:A947,\">0\")+1)","v":0},"CHP 030-100","Szénacél szűrőház 100 bar",null,"Szűrőház","352 000,-Ft (2)",1511.5662,2,352000]
[{"$f":"IF(L949=FALSE,0,COUNTIF(A$3:A948,\">0\")+1)","v":0},"CHP 047-100","Szénacél szűrőház 100 bar",null,"Szűrőház","498 000,-Ft (2)",2140.4739,2,498000]
[{"$f":"IF(L950=FALSE,0,COUNTIF(A$3:A949,\">0\")+1)","v":0},"CHP 094-100","Szénacél szűrőház 100 bar",null,"Szűrőház","596 000,-Ft (2)",2559.7354,2,596000]
[{"$f":"IF(L951=FALSE,0,COUNTIF(A$3:A950,\">0\")+1)","v":0},"CHP 003-250","Szénacél szűrőház 250 bar",null,"Szűrőház","234 000,-Ft (2)",1004.0337,2,234000]
[{"$f":"IF(L952=FALSE,0,COUNTIF(A$3:A951,\">0\")+1)","v":0},"CHP 005-250","Szénacél szűrőház 250 bar",null,"Szűrőház","234 000,-Ft (2)",1004.0337,2,234000]
[{"$f":"IF(L953=FALSE,0,COUNTIF(A$3:A952,\">0\")+1)","v":0},"CHP 007-250","Szénacél szűrőház 250 bar",null,"Szűrőház","270 000,-Ft (2)",1158.5028,2,270000]
[{"$f":"IF(L954=FALSE,0,COUNTIF(A$3:A953,\">0\")+1)","v":0},"CHP 010-250","Szénacél szűrőház 250 bar",null,"Szűrőház","419 000,-Ft (2)",1798.4418000000001,2,419000]
[{"$f":"IF(L955=FALSE,0,COUNTIF(A$3:A954,\">0\")+1)","v":0},"CHP 018-250","Szénacél szűrőház 250 bar",null,"Szűrőház","465 000,-Ft (2)",1997.0361,2,465000]
[{"$f":"IF(L956=FALSE,0,COUNTIF(A$3:A955,\">0\")+1)","v":0},"CHP 030-250","Szénacél szűrőház 250 bar",null,"Szűrőház","493 000,-Ft (2)",2118.4009999999998,2,493000]
[{"$f":"IF(L957=FALSE,0,COUNTIF(A$3:A956,\">0\")+1)","v":0},"CHP 047-250","Szénacél szűrőház 250 bar",null,"Szűrőház","563 000,-Ft (2)",2416.3078999999998,2,563000]
[{"$f":"IF(L958=FALSE,0,COUNTIF(A$3:A957,\">0\")+1)","v":0},"CHP 094-250","Szénacél szűrőház 250 bar",null,"Szűrőház","804 000,-Ft (2)",3453.4458000000004,2,804000]
[{"$f":"IF(L959=FALSE,0,COUNTIF(A$3:A958,\">0\")+1)","v":0},"CHP 003-400","Szénacél szűrőház 400 bar",null,"Szűrőház","254 000,-Ft (2)",1092.3047000000001,2,254000]
[{"$f":"IF(L960=FALSE,0,COUNTIF(A$3:A959,\">0\")+1)","v":0},"CHP 005-400","Szénacél szűrőház 400 bar",null,"Szűrőház","254 000,-Ft (2)",1092.3047000000001,2,254000]
[{"$f":"IF(L961=FALSE,0,COUNTIF(A$3:A960,\">0\")+1)","v":0},"CHP 007-400","Szénacél szűrőház 400 bar",null,"Szűrőház","339 000,-Ft (2)",1456.3994,2,339000]
[{"$f":"IF(L962=FALSE,0,COUNTIF(A$3:A961,\">0\")+1)","v":0},"CHP 010-400","Szénacél szűrőház 400 bar",null,"Szűrőház","473 000,-Ft (2)",2030.1403,2,473000]
[{"$f":"IF(L963=FALSE,0,COUNTIF(A$3:A962,\">0\")+1)","v":0},"CHP 018-400","Szénacél szűrőház 400 bar",null,"Szűrőház","529 000,-Ft (2)",2272.8701000000001,2,529000]
[{"$f":"IF(L964=FALSE,0,COUNTIF(A$3:A963,\">0\")+1)","v":0},"CHP 030-400","Szénacél szűrőház 400 bar",null,"Szűrőház","583 000,-Ft (2)",2504.5686000000001,2,583000]
[{"$f":"IF(L965=FALSE,0,COUNTIF(A$3:A964,\">0\")+1)","v":0},"CHP 047-400","Szénacél szűrőház 400 bar",null,"Szűrőház","665 000,-Ft (2)",2857.6423,2,665000]
[{"$f":"IF(L966=FALSE,0,COUNTIF(A$3:A965,\">0\")+1)","v":0},"CHP 094-400","Szénacél szűrőház 400 bar",null,"Szűrőház","938 000,-Ft (2)",4027.1764000000003,2,938000]
[{"$f":"IF(L967=FALSE,0,COUNTIF(A$3:A966,\">0\")+1)","v":0},"305CHP-B","Szűrőbetét CHP 305CHP-B",null,"Szűrőbetét",{"$f":"TEXT(I967,\"# ###,-Ft\")","v":"23 290,-Ft"},91.021100000000004,null,{"$f":"ROUND(IF(G$1=1,IF(G967>10000,(G967*N$1*0.85),IF(G967>5000,(G967*N$1*0.88),IF(G967>1000,(G967*N$1*0.91),IF(G967>500,(G967*N$1*0.94),IF(G967>100,(G967*N$1*0.97),(G967*N$1))))))/1.27,G967*N$1/1.27),L$1)","v":23290}]
[{"$f":"IF(L968=FALSE,0,COUNTIF(A$3:A967,\">0\")+1)","v":0},"310CHP-B","Szűrőbetét CHP 310CHP-B",null,"Szűrőbetét","25 610,-Ft",103.1648,null,25610]
[{"$f":"IF(L969=FALSE,0,COUNTIF(A$3:A968,\">0\")+1)","v":0},"420CHP-B","Szűrőbetét CHP 420CHP-B",null,"Szűrőbetét","36 150,-Ft",145.642,null,36150]
[{"$f":"IF(L970=FALSE,0,COUNTIF(A$3:A969,\">0\")+1)","v":0},"520CHP-B","Szűrőbetét CHP 520CHP-B",null,"Szűrőbetét","42 180,-Ft",169.90880000000001,null,42180]
[{"$f":"IF(L971=FALSE,0,COUNTIF(A$3:A970,\">0\")+1)","v":0},"525CHP-B","Szűrőbetét CHP 525CHP-B",null,"Szűrőbetét","54 230,-Ft",218.46299999999999,null,54230]
[{"$f":"IF(L972=FALSE,0,COUNTIF(A$3:A971,\">0\")+1)","v":0},"725CHP-B","Szűrőbetét CHP 725CHP-B",null,"Szűrőbetét","66 280,-Ft",267.00690000000003,null,66280]
[{"$f":"IF(L973=FALSE,0,COUNTIF(A$3:A972,\">0\")+1)","v":0},"730CHP-B","Szűrőbetét CHP 730CHP-B",null,"Szűrőbetét","78 330,-Ft",315.55080000000004,null,78330]
[{"$f":"IF(L974=FALSE,0,COUNTIF(A$3:A973,\">0\")+1)","v":0},"1030CHP-B","Szűrőbetét CHP 1030CHP-B",null,"Szűrőbetét","87 370,-Ft",351.96129999999999,null,87370]
[{"$f":"IF(L975=FALSE,0,COUNTIF(A$3:A974,\">0\")+1)","v":0},"305CHP-P","Szűrőbetét CHP 305CHP-P",null,"Szűrőbetét","15 880,-Ft",62.067799999999998,null,15880]
[{"$f":"IF(L976=FALSE,0,COUNTIF(A$3:A975,\">0\")+1)","v":0},"310CHP-P","Szűrőbetét CHP 310CHP-P",null,"Szűrőbetét","18 000,-Ft",70.338700000000003,null,18000]
[{"$f":"IF(L977=FALSE,0,COUNTIF(A$3:A976,\">0\")+1)","v":0},"420CHP-P","Szűrőbetét CHP 420CHP-P",null,"Szűrőbetét","25 410,-Ft",99.302300000000002,null,25410]
[{"$f":"IF(L978=FALSE,0,COUNTIF(A$3:A977,\">0\")+1)","v":0},"520CHP-P","Szűrőbetét CHP 520CHP-P",null,"Szűrőbetét","28 630,-Ft",115.3188,null,28630]
[{"$f":"IF(L979=FALSE,0,COUNTIF(A$3:A978,\">0\")+1)","v":0},"525CHP-P","Szűrőbetét CHP 525CHP-P",null,"Szűrőbetét","36 970,-Ft",148.94830000000002,null,36970]
[{"$f":"IF(L980=FALSE,0,COUNTIF(A$3:A979,\">0\")+1)","v":0},"725CHP-P","Szűrőbetét CHP 725CHP-P",null,"Szűrőbetét","47 160,-Ft",190.00409999999999,null,47160]
[{"$f":"IF(L981=FALSE,0,COUNTIF(A$3:A980,\">0\")+1)","v":0},"730CHP-P","Szűrőbetét CHP 730CHP-P",null,"Szűrőbetét","53 410,-Ft",215.1464,null,53410]
[{"$f":"IF(L982=FALSE,0,COUNTIF(A$3:A981,\">0\")+1)","v":0},"1030CHP-P","Szűrőbetét CHP 1030CHP-P",null,"Szűrőbetét","59 570,-Ft",239.97970000000001,null,59570]
[{"$f":"IF(L983=FALSE,0,COUNTIF(A$3:A982,\">0\")+1)","v":0},"305CHP-R","Szűrőbetét CHP 305CHP-R",null,"Szűrőbetét","15 880,-Ft",62.067799999999998,null,15880]
[{"$f":"IF(L984=FALSE,0,COUNTIF(A$3:A983,\">0\")+1)","v":0},"310CHP-R","Szűrőbetét CHP 310CHP-R",null,"Szűrőbetét","18 000,-Ft",70.338700000000003,null,18000]
[{"$f":"IF(L985=FALSE,0,COUNTIF(A$3:A984,\">0\")+1)","v":0},"420CHP-R","Szűrőbetét CHP 420CHP-R",null,"Szűrőbetét","25 410,-Ft",99.302300000000002,null,25410]
[{"$f":"IF(L986=FALSE,0,COUNTIF(A$3:A985,\">0\")+1)","v":0},"520CHP-R","Szűrőbetét CHP 520CHP-R",null,"Szűrőbetét","28 630,-Ft",115.3188,null,28630]
[{"$f":"IF(L987=FALSE,0,COUNTIF(A$3:A986,\">0\")+1)","v":0},"525CHP-R","Szűrőbetét CHP 525CHP-R",null,"Szűrőbetét","36 970,-Ft",148.94830000000002,null,36970]
[{"$f":"IF(L988=FALSE,0,COUNTIF(A$3:A987,\">0\")+1)","v":0},"725CHP-R","Szűrőbetét CHP 725CHP-R",null,"Szűrőbetét","47 160,-Ft",190.00409999999999,null,47160]
[{"$f":"IF(L989=FALSE,0,COUNTIF(A$3:A988,\">0\")+1)","v":0},"730CHP-R","Szűrőbetét CHP 730CHP-R",null,"Szűrőbetét","53 410,-Ft",215.1464,null,53410]
[{"$f":"IF(L990=FALSE,0,COUNTIF(A$3:A989,\">0\")+1)","v":0},"1030CHP-R","Szűrőbetét CHP 1030CHP-R",null,"Szűrőbetét","59 570,-Ft",239.97970000000001,null,59570]
[{"$f":"IF(L991=FALSE,0,COUNTIF(A$3:A990,\">0\")+1)","v":0},"305CHP-M","Szűrőbetét CHP 305CHP-M",null,"Szűrőbetét","15 880,-Ft",62.067799999999998,null,15880]
[{"$f":"IF(L992=FALSE,0,COUNTIF(A$3:A991,\">0\")+1)","v":0},"310CHP-M","Szűrőbetét CHP 310CHP-M",null,"Szűrőbetét","18 000,-Ft",70.338700000000003,null,18000]
[{"$f":"IF(L993=FALSE,0,COUNTIF(A$3:A992,\">0\")+1)","v":0},"420CHP-M","Szűrőbetét CHP 420CHP-M",null,"Szűrőbetét","25 410,-Ft",99.302300000000002,null,25410]
[{"$f":"IF(L994=FALSE,0,COUNTIF(A$3:A993,\">0\")+1)","v":0},"520CHP-M","Szűrőbetét CHP 520CHP-M",null,"Szűrőbetét","28 630,-Ft",115.3188,null,28630]
[{"$f":"IF(L995=FALSE,0,COUNTIF(A$3:A994,\">0\")+1)","v":0},"525CHP-M","Szűrőbetét CHP 525CHP-M",null,"Szűrőbetét","36 970,-Ft",148.94830000000002,null,36970]
[{"$f":"IF(L996=FALSE,0,COUNTIF(A$3:A995,\">0\")+1)","v":0},"725CHP-M","Szűrőbetét CHP 725CHP-M",null,"Szűrőbetét","47 160,-Ft",190.00409999999999,null,47160]
[{"$f":"IF(L997=FALSE,0,COUNTIF(A$3:A996,\">0\")+1)","v":0},"730CHP-M","Szűrőbetét CHP 730CHP-M",null,"Szűrőbetét","53 410,-Ft",215.1464,null,53410]
[{"$f":"IF(L998=FALSE,0,COUNTIF(A$3:A997,\">0\")+1)","v":0},"1030CHP-M","Szűrőbetét CHP 1030CHP-M",null,"Szűrőbetét","59 570,-Ft",239.97970000000001,null,59570]
[{"$f":"IF(L999=FALSE,0,COUNTIF(A$3:A998,\">0\")+1)","v":0},"305CHP-S","Szűrőbetét CHP 305CHP-S",null,"Szűrőbetét","15 880,-Ft",62.067799999999998,null,15880]
[{"$f":"IF(L1000=FALSE,0,COUNTIF(A$3:A999,\">0\")+1)","v":0},"310CHP-S","Szűrőbetét CHP 310CHP-S",null,"Szűrőbetét","18 000,-Ft",70.338700000000003,null,18000]
[{"$f":"IF(L1001=FALSE,0,COUNTIF(A$3:A1000,\">0\")+1)","v":0},"420CHP-S","Szűrőbetét CHP 420CHP-S",null,"Szűrőbetét","25 410,-Ft",99.302300000000002,null,25410]
[{"$f":"IF(L1002=FALSE,0,COUNTIF(A$3:A1001,\">0\")+1)","v":0},"520CHP-S","Szűrőbetét CHP 520CHP-S",null,"Szűrőbetét","28 630,-Ft",115.3188,null,28630]
[{"$f":"IF(L1003=FALSE,0,COUNTIF(A$3:A1002,\">0\")+1)","v":0},"525CHP-S","Szűrőbetét CHP 525CHP-S",null,"Szűrőbetét","36 970,-Ft",148.94830000000002,null,36970]
[{"$f":"IF(L1004=FALSE,0,COUNTIF(A$3:A1003,\">0\")+1)","v":0},"725CHP-S","Szűrőbetét CHP 725CHP-S",null,"Szűrőbetét","47 160,-Ft",190.00409999999999,null,47160]
[{"$f":"IF(L1005=FALSE,0,COUNTIF(A$3:A1004,\">0\")+1)","v":0},"730CHP-S","Szűrőbetét CHP 730CHP-S",null,"Szűrőbetét","53 410,-Ft",215.1464,null,53410]
[{"$f":"IF(L1006=FALSE,0,COUNTIF(A$3:A1005,\">0\")+1)","v":0},"1030CHP-S","Szűrőbetét CHP 1030CHP-S",null,"Szűrőbetét","59 570,-Ft",239.97970000000001,null,59570]
[{"$f":"IF(L1007=FALSE,0,COUNTIF(A$3:A1006,\">0\")+1)","v":0},"305CHP-A","Szűrőbetét CHP 305CHP-A",null,"Szűrőbetét","15 880,-Ft",62.067799999999998,null,15880]
[{"$f":"IF(L1008=FALSE,0,COUNTIF(A$3:A1007,\">0\")+1)","v":0},"310CHP-A","Szűrőbetét CHP 310CHP-A",null,"Szűrőbetét","18 000,-Ft",70.338700000000003,null,18000]
[{"$f":"IF(L1009=FALSE,0,COUNTIF(A$3:A1008,\">0\")+1)","v":0},"420CHP-A","Szűrőbetét CHP 420CHP-A",null,"Szűrőbetét","25 410,-Ft",99.302300000000002,null,25410]
[{"$f":"IF(L1010=FALSE,0,COUNTIF(A$3:A1009,\">0\")+1)","v":0},"520CHP-A","Szűrőbetét CHP 520CHP-A",null,"Szűrőbetét","28 630,-Ft",115.3188,null,28630]
[{"$f":"IF(L1011=FALSE,0,COUNTIF(A$3:A1010,\">0\")+1)","v":0},"525CHP-A","Szűrőbetét CHP 525CHP-A",null,"Szűrőbetét","36 970,-Ft",148.94830000000002,null,36970]
[{"$f":"IF(L1012=FALSE,0,COUNTIF(A$3:A1011,\">0\")+1)","v":0},"725CHP-A","Szűrőbetét CHP 725CHP-A",null,"Szűrőbetét","47 160,-Ft",190.00409999999999,null,47160]
[{"$f":"IF(L1013=FALSE,0,COUNTIF(A$3:A1012,\">0\")+1)","v":0},"730CHP-A","Szűrőbetét CHP 730CHP-A",null,"Szűrőbetét","53 410,-Ft",215.1464,null,53410]
[{"$f":"IF(L1014=FALSE,0,COUNTIF(A$3:A1013,\">0\")+1)","v":0},"1030CHP-A","Szűrőbetét CHP 1030CHP-A",null,"Szűrőbetét","59 570,-Ft",239.97970000000001,null,59570]
[{"$f":"IF(L1015=FALSE,0,COUNTIF(A$3:A1014,\">0\")+1)","v":0},"IHP 003-100","Szénacél szűrőház 100 bar",null,"Szűrőház","205 440,-Ft",854.02449999999999,null,205440]
[{"$f":"IF(L1016=FALSE,0,COUNTIF(A$3:A1015,\">0\")+1)","v":0},"IHP 005-100","Szénacél szűrőház 100 bar",null,"Szűrőház","205 440,-Ft",854.02449999999999,null,205440]
[{"$f":"IF(L1017=FALSE,0,COUNTIF(A$3:A1016,\">0\")+1)","v":0},"IHP 007-100","Szénacél szűrőház 100 bar",null,"Szűrőház",{"$f":"TEXT(I1017,\"# ###,-Ft (2)\")","v":"269 000,-Ft (2)"},1156.3810000000001,2,{"$f":"ROUND(IF(G$1=1,IF(G1017>10000,(G1017*N$1*0.85),IF(G1017>5000,(G1017*N$1*0.88),IF(G1017>1000,(G1017*N$1*0.91),IF(G1017>500,(G1017*N$1*0.94),IF(G1017>100,(G1017*N$1*0.97),(G1017*N$1))))))/1.27,G1017*N$1/1.27),-3)","v":269000}]
[{"$f":"IF(L1018=FALSE,0,COUNTIF(A$3:A1017,\">0\")+1)","v":0},"IHP 010-100","Szénacél szűrőház 100 bar",null,"Szűrőház","343 000,-Ft (2)",1474.6510000000001,2,343000]
[{"$f":"IF(L1019=FALSE,0,COUNTIF(A$3:A1018,\">0\")+1)","v":0},"IHP 018-100","Szénacél szűrőház 100 bar",null,"Szűrőház","477 000,-Ft (2)",2047.537,2,477000]
[{"$f":"IF(L1020=FALSE,0,COUNTIF(A$3:A1019,\">0\")+1)","v":0},"IHP 030-100","Szénacél szűrőház 100 bar",null,"Szűrőház","535 000,-Ft (2)",2296.8485000000001,2,535000]
[{"$f":"IF(L1021=FALSE,0,COUNTIF(A$3:A1020,\">0\")+1)","v":0},"IHP 047-100","Szénacél szűrőház 100 bar",null,"Szűrőház","757 000,-Ft (2)",3251.6585,2,757000]
[{"$f":"IF(L1022=FALSE,0,COUNTIF(A$3:A1021,\">0\")+1)","v":0},"IHP 094-100","Szénacél szűrőház 100 bar",null,"Szűrőház","905 000,-Ft (2)",3888.1985,2,905000]
[{"$f":"IF(L1023=FALSE,0,COUNTIF(A$3:A1022,\">0\")+1)","v":0},"IHP 003-250","Szénacél szűrőház 250 bar",null,"Szűrőház","355 000,-Ft (2)",1522.3915,2,355000]
[{"$f":"IF(L1024=FALSE,0,COUNTIF(A$3:A1023,\">0\")+1)","v":0},"IHP 005-250","Szénacél szűrőház 250 bar",null,"Szűrőház","355 000,-Ft (2)",1522.3915,2,355000]
[{"$f":"IF(L1025=FALSE,0,COUNTIF(A$3:A1024,\">0\")+1)","v":0},"IHP 007-250","Szénacél szűrőház 250 bar",null,"Szűrőház","410 000,-Ft (2)",1761.0940000000001,2,410000]
[{"$f":"IF(L1026=FALSE,0,COUNTIF(A$3:A1025,\">0\")+1)","v":0},"IHP 010-250","Szénacél szűrőház 250 bar",null,"Szűrőház","636 000,-Ft (2)",2731.8175000000001,2,636000]
[{"$f":"IF(L1027=FALSE,0,COUNTIF(A$3:A1026,\">0\")+1)","v":0},"IHP 018-250","Szénacél szűrőház 250 bar",null,"Szűrőház","707 000,-Ft (2)",3034.1740000000004,2,707000]
[{"$f":"IF(L1028=FALSE,0,COUNTIF(A$3:A1027,\">0\")+1)","v":0},"IHP 030-250","Szénacél szűrőház 250 bar",null,"Szűrőház","750 000,-Ft (2)",3219.8315000000002,2,750000]
[{"$f":"IF(L1029=FALSE,0,COUNTIF(A$3:A1028,\">0\")+1)","v":0},"IHP 047-250","Szénacél szűrőház 250 bar",null,"Szűrőház","855 000,-Ft (2)",3670.7140000000004,2,855000]
[{"$f":"IF(L1030=FALSE,0,COUNTIF(A$3:A1029,\">0\")+1)","v":0},"IHP 094-250","Szénacél szűrőház 250 bar",null,"Szűrőház",{"$f":"TEXT(I1030,\"# ###,-Ft (3)\")","v":"1 181 000,-Ft (3)"},5246.1505000000006,4,1181000]
[{"$f":"IF(L1031=FALSE,0,COUNTIF(A$3:A1030,\">0\")+1)","v":0},"IHP 003-400","Szénacél szűrőház 400 bar",null,"Szűrőház",{"$f":"TEXT(I1031,\"# ###,-Ft (2)\")","v":"387 000,-Ft (2)"},1660.3085000000001,2,387000]
[{"$f":"IF(L1032=FALSE,0,COUNTIF(A$3:A1031,\">0\")+1)","v":0},"IHP 005-400","Szénacél szűrőház 400 bar",null,"Szűrőház","387 000,-Ft (2)",1660.3085000000001,2,387000]
[{"$f":"IF(L1033=FALSE,0,COUNTIF(A$3:A1032,\">0\")+1)","v":0},"IHP 007-400","Szénacél szűrőház 400 bar",null,"Szűrőház","515 000,-Ft (2)",2211.9765000000002,2,515000]
[{"$f":"IF(L1034=FALSE,0,COUNTIF(A$3:A1033,\">0\")+1)","v":0},"IHP 010-400","Szénacél szűrőház 400 bar",null,"Szűrőház","719 000,-Ft (2)",3087.2190000000001,2,719000]
[{"$f":"IF(L1035=FALSE,0,COUNTIF(A$3:A1034,\">0\")+1)","v":0},"IHP 018-400","Szénacél szűrőház 400 bar",null,"Szűrőház","804 000,-Ft (2)",3453.2295000000004,2,804000]
[{"$f":"IF(L1036=FALSE,0,COUNTIF(A$3:A1035,\">0\")+1)","v":0},"IHP 030-400","Szénacél szűrőház 400 bar",null,"Szűrőház","884 000,-Ft (2)",3798.0220000000004,2,884000]
[{"$f":"IF(L1037=FALSE,0,COUNTIF(A$3:A1036,\">0\")+1)","v":0},"IHP 047-400","Szénacél szűrőház 400 bar",null,"Szűrőház","1 012 000,-Ft (2)",4344.3855000000003,2,1012000]
[{"$f":"IF(L1038=FALSE,0,COUNTIF(A$3:A1037,\">0\")+1)","v":0},"IHP 094-400","Szénacél szűrőház 400 bar",null,"Szűrőház",{"$f":"TEXT(I1038,\"# ###,-Ft (3)\")","v":"1 379 000,-Ft (3)"},6121.3930000000009,4,1379000]
[{"$f":"IF(L1039=FALSE,0,COUNTIF(A$3:A1038,\">0\")+1)","v":0},"305IHP-N","Szűrőbetét IHP 305IHP-B",null,"Szűrőbetét",{"$f":"TEXT(I1039,\"# ###,-Ft\")","v":"24 030,-Ft"},93.894800000000004,null,{"$f":"ROUND(IF(G$1=1,IF(G1039>10000,(G1039*N$1*0.85),IF(G1039>5000,(G1039*N$1*0.88),IF(G1039>1000,(G1039*N$1*0.91),IF(G1039>500,(G1039*N$1*0.94),IF(G1039>100,(G1039*N$1*0.97),(G1039*N$1))))))/1.27,G1039*N$1/1.27),L$1)","v":24030}]
[{"$f":"IF(L1040=FALSE,0,COUNTIF(A$3:A1039,\">0\")+1)","v":0},"310IHP-N","Szűrőbetét IHP 310IHP-B",null,"Szűrőbetét","25 810,-Ft",103.9682,null,25810]
[{"$f":"IF(L1041=FALSE,0,COUNTIF(A$3:A1040,\">0\")+1)","v":0},"420IHP-N","Szűrőbetét IHP 420IHP-B",null,"Szűrőbetét","32 920,-Ft",132.61250000000001,null,32920]
[{"$f":"IF(L1042=FALSE,0,COUNTIF(A$3:A1041,\">0\")+1)","v":0},"520IHP-N","Szűrőbetét IHP 520IHP-B",null,"Szűrőbetét","40 820,-Ft",164.43950000000001,null,40820]
[{"$f":"IF(L1043=FALSE,0,COUNTIF(A$3:A1042,\">0\")+1)","v":0},"525IHP-N","Szűrőbetét IHP 525IHP-B",null,"Szűrőbetét","48 720,-Ft",196.26650000000001,null,48720]
[{"$f":"IF(L1044=FALSE,0,COUNTIF(A$3:A1043,\">0\")+1)","v":0},"725IHP-N","Szűrőbetét IHP 725IHP-B",null,"Szűrőbetét","57 940,-Ft",233.398,null,57940]
[{"$f":"IF(L1045=FALSE,0,COUNTIF(A$3:A1044,\">0\")+1)","v":0},"730IHP-N","Szűrőbetét IHP 730IHP-B",null,"Szűrőbetét","72 420,-Ft",291.7475,null,72420]
[{"$f":"IF(L1046=FALSE,0,COUNTIF(A$3:A1045,\">0\")+1)","v":0},"1030IHP-N","Szűrőbetét IHP 1030IHP-B",null,"Szűrőbetét","88 220,-Ft",355.4015,null,88220]
[{"$f":"IF(L1047=FALSE,0,COUNTIF(A$3:A1046,\">0\")+1)","v":0},"305IHP-CKL-P","Szűrőbetét IHP 305IHP-P",null,"Szűrőbetét","22 340,-Ft",87.313099999999991,null,22340]
[{"$f":"IF(L1048=FALSE,0,COUNTIF(A$3:A1047,\">0\")+1)","v":0},"310IHP-CKL-P","Szűrőbetét IHP 310IHP-P",null,"Szűrőbetét","24 000,-Ft",93.781499999999994,null,24000]
[{"$f":"IF(L1049=FALSE,0,COUNTIF(A$3:A1048,\">0\")+1)","v":0},"420IHP-CKL-P","Szűrőbetét IHP 420IHP-P",null,"Szűrőbetét","30 020,-Ft",120.9426,null,30020]
[{"$f":"IF(L1050=FALSE,0,COUNTIF(A$3:A1049,\">0\")+1)","v":0},"520IHP-CKL-P","Szűrőbetét IHP 520IHP-P",null,"Szűrőbetét","36 970,-Ft",148.94830000000002,null,36970]
[{"$f":"IF(L1051=FALSE,0,COUNTIF(A$3:A1050,\">0\")+1)","v":0},"525IHP-CKL-P","Szűrőbetét IHP 525IHP-P",null,"Szűrőbetét","43 820,-Ft",176.5317,null,43820]
[{"$f":"IF(L1052=FALSE,0,COUNTIF(A$3:A1051,\">0\")+1)","v":0},"725IHP-CKL-P","Szűrőbetét IHP 725IHP-P",null,"Szűrőbetét","52 040,-Ft",209.63590000000002,null,52040]
[{"$f":"IF(L1053=FALSE,0,COUNTIF(A$3:A1052,\">0\")+1)","v":0},"730IHP-CKL-P","Szűrőbetét IHP 730IHP-P",null,"Szűrőbetét","65 730,-Ft",264.80269999999996,null,65730]
[{"$f":"IF(L1054=FALSE,0,COUNTIF(A$3:A1053,\">0\")+1)","v":0},"1030IHP-CKL-P","Szűrőbetét IHP 1030IHP-P",null,"Szűrőbetét","79 430,-Ft",319.96949999999998,null,79430]
[{"$f":"IF(L1055=FALSE,0,COUNTIF(A$3:A1054,\">0\")+1)","v":0},"305IHP-R","Szűrőbetét IHP 305IHP-R",null,"Szűrőbetét","22 340,-Ft",87.313099999999991,null,22340]
[{"$f":"IF(L1056=FALSE,0,COUNTIF(A$3:A1055,\">0\")+1)","v":0},"310IHP-R","Szűrőbetét IHP 310IHP-R",null,"Szűrőbetét","24 000,-Ft",93.781499999999994,null,24000]
[{"$f":"IF(L1057=FALSE,0,COUNTIF(A$3:A1056,\">0\")+1)","v":0},"420IHP-R","Szűrőbetét IHP 420IHP-R",null,"Szűrőbetét","30 020,-Ft",120.9426,null,30020]
[{"$f":"IF(L1058=FALSE,0,COUNTIF(A$3:A1057,\">0\")+1)","v":0},"520IHP-R","Szűrőbetét IHP 520IHP-R",null,"Szűrőbetét","36 970,-Ft",148.94830000000002,null,36970]
[{"$f":"IF(L1059=FALSE,0,COUNTIF(A$3:A1058,\">0\")+1)","v":0},"525IHP-R","Szűrőbetét IHP 525IHP-R",null,"Szűrőbetét","43 820,-Ft",176.5317,null,43820]
[{"$f":"IF(L1060=FALSE,0,COUNTIF(A$3:A1059,\">0\")+1)","v":0},"725IHP-R","Szűrőbetét IHP 725IHP-R",null,"Szűrőbetét","52 040,-Ft",209.63590000000002,null,52040]
[{"$f":"IF(L1061=FALSE,0,COUNTIF(A$3:A1060,\">0\")+1)","v":0},"730IHP-R","Szűrőbetét IHP 730IHP-R",null,"Szűrőbetét","65 730,-Ft",264.80269999999996,null,65730]
[{"$f":"IF(L1062=FALSE,0,COUNTIF(A$3:A1061,\">0\")+1)","v":0},"1030IHP-R","Szűrőbetét IHP 1030IHP-R",null,"Szűrőbetét","79 430,-Ft",319.96949999999998,null,79430]
[{"$f":"IF(L1063=FALSE,0,COUNTIF(A$3:A1062,\">0\")+1)","v":0},"305IHP-M","Szűrőbetét IHP 305IHP-M",null,"Szűrőbetét","22 340,-Ft",87.313099999999991,null,22340]
[{"$f":"IF(L1064=FALSE,0,COUNTIF(A$3:A1063,\">0\")+1)","v":0},"310IHP-M","Szűrőbetét IHP 310IHP-M",null,"Szűrőbetét","24 000,-Ft",93.781499999999994,null,24000]
[{"$f":"IF(L1065=FALSE,0,COUNTIF(A$3:A1064,\">0\")+1)","v":0},"420IHP-M","Szűrőbetét IHP 420IHP-M",null,"Szűrőbetét","30 020,-Ft",120.9426,null,30020]
[{"$f":"IF(L1066=FALSE,0,COUNTIF(A$3:A1065,\">0\")+1)","v":0},"520IHP-M","Szűrőbetét IHP 520IHP-M",null,"Szűrőbetét","36 970,-Ft",148.94830000000002,null,36970]
[{"$f":"IF(L1067=FALSE,0,COUNTIF(A$3:A1066,\">0\")+1)","v":0},"525IHP-M","Szűrőbetét IHP 525IHP-M",null,"Szűrőbetét","43 820,-Ft",176.5317,null,43820]
[{"$f":"IF(L1068=FALSE,0,COUNTIF(A$3:A1067,\">0\")+1)","v":0},"725IHP-M","Szűrőbetét IHP 725IHP-M",null,"Szűrőbetét","52 040,-Ft",209.63590000000002,null,52040]
[{"$f":"IF(L1069=FALSE,0,COUNTIF(A$3:A1068,\">0\")+1)","v":0},"730IHP-M","Szűrőbetét IHP 730IHP-M",null,"Szűrőbetét","65 730,-Ft",264.80269999999996,null,65730]
[{"$f":"IF(L1070=FALSE,0,COUNTIF(A$3:A1069,\">0\")+1)","v":0},"1030IHP-M","Szűrőbetét IHP 1030IHP-M",null,"Szűrőbetét","79 430,-Ft",319.96949999999998,null,79430]
[{"$f":"IF(L1071=FALSE,0,COUNTIF(A$3:A1070,\">0\")+1)","v":0},"305IHP-S","Szűrőbetét IHP 305IHP-S",null,"Szűrőbetét","22 340,-Ft",87.313099999999991,null,22340]
[{"$f":"IF(L1072=FALSE,0,COUNTIF(A$3:A1071,\">0\")+1)","v":0},"310IHP-S","Szűrőbetét IHP 310IHP-S",null,"Szűrőbetét","24 000,-Ft",93.781499999999994,null,24000]
[{"$f":"IF(L1073=FALSE,0,COUNTIF(A$3:A1072,\">0\")+1)","v":0},"420IHP-S","Szűrőbetét IHP 420IHP-S",null,"Szűrőbetét","30 020,-Ft",120.9426,null,30020]
[{"$f":"IF(L1074=FALSE,0,COUNTIF(A$3:A1073,\">0\")+1)","v":0},"520IHP-S","Szűrőbetét IHP 520IHP-S",null,"Szűrőbetét","36 970,-Ft",148.94830000000002,null,36970]
[{"$f":"IF(L1075=FALSE,0,COUNTIF(A$3:A1074,\">0\")+1)","v":0},"525IHP-S","Szűrőbetét IHP 525IHP-S",null,"Szűrőbetét","43 820,-Ft",176.5317,null,43820]
[{"$f":"IF(L1076=FALSE,0,COUNTIF(A$3:A1075,\">0\")+1)","v":0},"725IHP-S","Szűrőbetét IHP 725IHP-S",null,"Szűrőbetét","52 040,-Ft",209.63590000000002,null,52040]
[{"$f":"IF(L1077=FALSE,0,COUNTIF(A$3:A1076,\">0\")+1)","v":0},"730IHP-S","Szűrőbetét IHP 730IHP-S",null,"Szűrőbetét","65 730,-Ft",264.80269999999996,null,65730]
[{"$f":"IF(L1078=FALSE,0,COUNTIF(A$3:A1077,\">0\")+1)","v":0},"1030IHP-S","Szűrőbetét IHP 1030IHP-S",null,"Szűrőbetét","79 430,-Ft",319.96949999999998,null,79430]
[{"$f":"IF(L1079=FALSE,0,COUNTIF(A$3:A1078,\">0\")+1)","v":0},"305IHP-A","Szűrőbetét IHP 305IHP-A",null,"Szűrőbetét","22 340,-Ft",87.313099999999991,null,22340]
[{"$f":"IF(L1080=FALSE,0,COUNTIF(A$3:A1079,\">0\")+1)","v":0},"310IHP-A","Szűrőbetét IHP 310IHP-A",null,"Szűrőbetét","24 000,-Ft",93.781499999999994,null,24000]
[{"$f":"IF(L1081=FALSE,0,COUNTIF(A$3:A1080,\">0\")+1)","v":0},"420IHP-A","Szűrőbetét IHP 420IHP-A",null,"Szűrőbetét","30 020,-Ft",120.9426,null,30020]
[{"$f":"IF(L1082=FALSE,0,COUNTIF(A$3:A1081,\">0\")+1)","v":0},"520IHP-A","Szűrőbetét IHP 520IHP-A",null,"Szűrőbetét","36 970,-Ft",148.94830000000002,null,36970]
[{"$f":"IF(L1083=FALSE,0,COUNTIF(A$3:A1082,\">0\")+1)","v":0},"525IHP-A","Szűrőbetét IHP 525IHP-A",null,"Szűrőbetét","43 820,-Ft",176.5317,null,43820]
[{"$f":"IF(L1084=FALSE,0,COUNTIF(A$3:A1083,\">0\")+1)","v":0},"725IHP-A","Szűrőbetét IHP 725IHP-A",null,"Szűrőbetét","52 040,-Ft",209.63590000000002,null,52040]
[{"$f":"IF(L1085=FALSE,0,COUNTIF(A$3:A1084,\">0\")+1)","v":0},"730IHP-A","Szűrőbetét IHP 730IHP-A",null,"Szűrőbetét","65 730,-Ft",264.80269999999996,null,65730]
[{"$f":"IF(L1086=FALSE,0,COUNTIF(A$3:A1085,\">0\")+1)","v":0},"1030IHP-A","Szűrőbetét IHP 1030IHP-A",null,"Szűrőbetét","79 430,-Ft",319.96949999999998,null,79430]
[{"$f":"IF(L1087=FALSE,0,COUNTIF(A$3:A1086,\">0\")+1)","v":0},"PF 005","Saválló szűrőház PF felső kialakítású 1/4’’","1/4’’","Szűrőház","181 740,-Ft",755.5,null,181740]
[{"$f":"IF(L1088=FALSE,0,COUNTIF(A$3:A1087,\">0\")+1)","v":0},"PF 007","Saválló szűrőház PF felső kialakítású 3/8’’","3/8’’","Szűrőház","186 430,-Ft",775,null,186430]
[{"$f":"IF(L1089=FALSE,0,COUNTIF(A$3:A1088,\">0\")+1)","v":0},"PF 010","Saválló szűrőház PF felső kialakítású 1/2’’","1/2’’","Szűrőház","196 050,-Ft",815,null,196050]
[{"$f":"IF(L1090=FALSE,0,COUNTIF(A$3:A1089,\">0\")+1)","v":0},"PF 018","Saválló szűrőház PF felső kialakítású 3/4’’","3/4’’","Szűrőház","206 850,-Ft",859.9,null,206850]
[{"$f":"IF(L1091=FALSE,0,COUNTIF(A$3:A1090,\">0\")+1)","v":0},"PF 030","Saválló szűrőház PF felső kialakítású 1’’","1’’","Szűrőház",{"$f":"TEXT(I1091,\"# ###,-Ft (2)\")","v":"240 000,-Ft (2)"},1030,2,{"$f":"ROUND(IF(G$1=1,IF(G1091>10000,(G1091*N$1*0.85),IF(G1091>5000,(G1091*N$1*0.88),IF(G1091>1000,(G1091*N$1*0.91),IF(G1091>500,(G1091*N$1*0.94),IF(G1091>100,(G1091*N$1*0.97),(G1091*N$1))))))/1.27,G1091*N$1/1.27),-3)","v":240000}]
[{"$f":"IF(L1092=FALSE,0,COUNTIF(A$3:A1091,\">0\")+1)","v":0},"PF 047","Saválló szűrőház PF felső kialakítású 1 1/4’’","1 1/4’’","Szűrőház","260 000,-Ft (2)",1115.5,2,260000]
[{"$f":"IF(L1093=FALSE,0,COUNTIF(A$3:A1092,\">0\")+1)","v":0},"PF 070","Saválló szűrőház PF felső kialakítású 1 1/2’’","1 1/2’’","Szűrőház","327 000,-Ft (2)",1405,2,327000]
[{"$f":"IF(L1094=FALSE,0,COUNTIF(A$3:A1093,\">0\")+1)","v":0},"PF 094","Saválló szűrőház PF felső kialakítású 2’’","2’’","Szűrőház","384 000,-Ft (2)",1650.5,2,384000]
[{"$f":"IF(L1095=FALSE,0,COUNTIF(A$3:A1094,\">0\")+1)","v":0},"PF 150","Saválló szűrőház PF felső kialakítású 2’’","2’’","Szűrőház","408 000,-Ft (2)",1750.2,2,408000]
[{"$f":"IF(L1096=FALSE,0,COUNTIF(A$3:A1095,\">0\")+1)","v":0},"PF 175","Saválló szűrőház PF felső kialakítású 2 1/2’’","2 1/2’’","Szűrőház","535 000,-Ft (2)",2299,2,535000]
[{"$f":"IF(L1097=FALSE,0,COUNTIF(A$3:A1096,\">0\")+1)","v":0},"PF 200","Saválló szűrőház PF felső kialakítású 3’’","3’’","Szűrőház","564 000,-Ft (2)",2422,2,564000]
[{"$f":"IF(L1098=FALSE,0,COUNTIF(A$3:A1097,\">0\")+1)","v":0},"PF 240","Saválló szűrőház PF felső kialakítású 3’’","3’’","Szűrőház","723 000,-Ft (2)",3105,2,723000]
[{"$f":"IF(L1099=FALSE,0,COUNTIF(A$3:A1098,\">0\")+1)","v":0},"PF 450","Saválló szűrőház PF felső kialakítású DN100","DN100","Szűrőház",{"$f":"TEXT(I1099,\"# ###,-Ft (3)\")","v":"1 274 000,-Ft (3)"},5656,4,1274000]
[{"$f":"IF(L1100=FALSE,0,COUNTIF(A$3:A1099,\">0\")+1)","v":0},"PF 600","Saválló szűrőház PF felső kialakítású DN100","DN100","Szűrőház","1 467 000,-Ft (3)",6515.5,4,1467000]
[{"$f":"IF(L1101=FALSE,0,COUNTIF(A$3:A1100,\">0\")+1)","v":0},"PF 900","Saválló szűrőház PF felső kialakítású DN150","DN150","Szűrőház","1 800 000,-Ft (3)",7990.9,4,1800000]
[{"$f":"IF(L1102=FALSE,0,COUNTIF(A$3:A1101,\">0\")+1)","v":0},"PF 1200","Saválló szűrőház PF felső kialakítású DN150","DN150","Szűrőház","1 911 000,-Ft (3)",8485,4,1911000]
[{"$f":"IF(L1103=FALSE,0,COUNTIF(A$3:A1102,\">0\")+1)","v":0},"PF 1800","Saválló szűrőház PF felső kialakítású DN200","DN200","Szűrőház",{"$f":"TEXT(I1103,\"# ###,-Ft (4)\")","v":"2 606 000,-Ft (4)"},11980,6,2606000]
[{"$f":"IF(L1104=FALSE,0,COUNTIF(A$3:A1103,\">0\")+1)","v":0},"PF 2000","Saválló szűrőház PF felső kialakítású DN200","DN200","Szűrőház","2 779 000,-Ft (4)",12775,6,2779000]
[{"$f":"IF(L1105=FALSE,0,COUNTIF(A$3:A1104,\">0\")+1)","v":0},"310PF-PN","Szűrőbetét PF 310PF-PN",null,"Szűrőbetét",{"$f":"TEXT(I1105,\"# ###,-Ft\")","v":"27 560,-Ft"},111.03,null,{"$f":"ROUND(IF(G$1=1,IF(G1105>10000,(G1105*N$1*0.85),IF(G1105>5000,(G1105*N$1*0.88),IF(G1105>1000,(G1105*N$1*0.91),IF(G1105>500,(G1105*N$1*0.94),IF(G1105>100,(G1105*N$1*0.97),(G1105*N$1))))))/1.27,G1105*N$1/1.27),L$1)","v":27560}]
[{"$f":"IF(L1106=FALSE,0,COUNTIF(A$3:A1105,\">0\")+1)","v":0},"410PF-PN","Szűrőbetét PF 410PF-PN",null,"Szűrőbetét","32 340,-Ft",130.30000000000001,null,32340]
[{"$f":"IF(L1107=FALSE,0,COUNTIF(A$3:A1106,\">0\")+1)","v":0},"420PF-PN","Szűrőbetét PF 420PF-PN",null,"Szűrőbetét","35 160,-Ft",141.63,null,35160]
[{"$f":"IF(L1108=FALSE,0,COUNTIF(A$3:A1107,\">0\")+1)","v":0},"520PF-PN","Szűrőbetét PF 520PF-PN",null,"Szűrőbetét","43 590,-Ft",175.62,null,43590]
[{"$f":"IF(L1109=FALSE,0,COUNTIF(A$3:A1108,\">0\")+1)","v":0},"525PF-PN","Szűrőbetét PF 525PF-PN",null,"Szűrőbetét","52 030,-Ft",209.61,null,52030]
[{"$f":"IF(L1110=FALSE,0,COUNTIF(A$3:A1109,\">0\")+1)","v":0},"725PF-PN","Szűrőbetét PF 725PF-PN",null,"Szűrőbetét","61 870,-Ft",249.26,null,61870]
[{"$f":"IF(L1111=FALSE,0,COUNTIF(A$3:A1110,\">0\")+1)","v":0},"730PF-PN","Szűrőbetét PF 730PF-PN",null,"Szűrőbetét","77 340,-Ft",311.58,null,77340]
[{"$f":"IF(L1112=FALSE,0,COUNTIF(A$3:A1111,\">0\")+1)","v":0},"1030PF-PN","Szűrőbetét PF 1030PF-PN",null,"Szűrőbetét","94 220,-Ft",379.56,null,94220]
[{"$f":"IF(L1113=FALSE,0,COUNTIF(A$3:A1112,\">0\")+1)","v":0},"1530PF-PN","Szűrőbetét PF 1530PF-PN",null,"Szűrőbetét","112 500,-Ft",453.2,null,112500]
[{"$f":"IF(L1114=FALSE,0,COUNTIF(A$3:A1113,\">0\")+1)","v":0},"2030PF-PN","Szűrőbetét PF 2030PF-PN",null,"Szűrőbetét","134 910,-Ft",560.84,null,134910]
[{"$f":"IF(L1115=FALSE,0,COUNTIF(A$3:A1114,\">0\")+1)","v":0},"3030PF-PN","Szűrőbetét PF 3030PF-PN",null,"Szűrőbetét","162 170,-Ft",674.14,null,162170]
[{"$f":"IF(L1116=FALSE,0,COUNTIF(A$3:A1115,\">0\")+1)","v":0},"3050PF-PN","Szűrőbetét PF 3050PF-PN",null,"Szűrőbetét",{"$f":"TEXT(I1116,\"# ###,-Ft (2)\")","v":"380 000,-Ft (2)"},1630,2,{"$f":"ROUND(IF(G$1=1,IF(G1116>10000,(G1116*N$1*0.85),IF(G1116>5000,(G1116*N$1*0.88),IF(G1116>1000,(G1116*N$1*0.91),IF(G1116>500,(G1116*N$1*0.94),IF(G1116>100,(G1116*N$1*0.97),(G1116*N$1))))))/1.27,G1116*N$1/1.27),-3)","v":380000}]
[{"$f":"IF(L1117=FALSE,0,COUNTIF(A$3:A1116,\">0\")+1)","v":0},"310PF-PI","Szűrőbetét PF 310PF-PI",null,"Szűrőbetét","27 560,-Ft",111.03,null,27560]
[{"$f":"IF(L1118=FALSE,0,COUNTIF(A$3:A1117,\">0\")+1)","v":0},"410PF-PI","Szűrőbetét PF 410PF-PI",null,"Szűrőbetét","32 340,-Ft",130.30000000000001,null,32340]
[{"$f":"IF(L1119=FALSE,0,COUNTIF(A$3:A1118,\">0\")+1)","v":0},"420PF-PI","Szűrőbetét PF 420PF-PI",null,"Szűrőbetét","35 160,-Ft",141.63,null,35160]
[{"$f":"IF(L1120=FALSE,0,COUNTIF(A$3:A1119,\">0\")+1)","v":0},"520PF-PI","Szűrőbetét PF 520PF-PI",null,"Szűrőbetét","43 590,-Ft",175.62,null,43590]
[{"$f":"IF(L1121=FALSE,0,COUNTIF(A$3:A1120,\">0\")+1)","v":0},"525PF-PI","Szűrőbetét PF 525PF-PI",null,"Szűrőbetét","52 030,-Ft",209.61,null,52030]
[{"$f":"IF(L1122=FALSE,0,COUNTIF(A$3:A1121,\">0\")+1)","v":0},"725PF-PI","Szűrőbetét PF 725PF-PI",null,"Szűrőbetét","61 870,-Ft",249.26,null,61870]
[{"$f":"IF(L1123=FALSE,0,COUNTIF(A$3:A1122,\">0\")+1)","v":0},"730PF-PI","Szűrőbetét PF 730PF-PI",null,"Szűrőbetét","77 340,-Ft",311.58,null,77340]
[{"$f":"IF(L1124=FALSE,0,COUNTIF(A$3:A1123,\">0\")+1)","v":0},"1030PF-PI","Szűrőbetét PF 1030PF-PI",null,"Szűrőbetét","94 220,-Ft",379.56,null,94220]
[{"$f":"IF(L1125=FALSE,0,COUNTIF(A$3:A1124,\">0\")+1)","v":0},"1530PF-PI","Szűrőbetét PF 1530PF-PI",null,"Szűrőbetét","112 500,-Ft",453.2,null,112500]
[{"$f":"IF(L1126=FALSE,0,COUNTIF(A$3:A1125,\">0\")+1)","v":0},"2030PF-PI","Szűrőbetét PF 2030PF-PI",null,"Szűrőbetét","134 910,-Ft",560.84,null,134910]
[{"$f":"IF(L1127=FALSE,0,COUNTIF(A$3:A1126,\">0\")+1)","v":0},"3030PF-PI","Szűrőbetét PF 3030PF-PI",null,"Szűrőbetét","162 170,-Ft",674.14,null,162170]
[{"$f":"IF(L1128=FALSE,0,COUNTIF(A$3:A1127,\">0\")+1)","v":0},"3050PF-PI","Szűrőbetét PF 3050PF-PI",null,"Szűrőbetét",{"$f":"TEXT(I1128,\"# ###,-Ft (2)\")","v":"380 000,-Ft (2)"},1630,2,{"$f":"ROUND(IF(G$1=1,IF(G1128>10000,(G1128*N$1*0.85),IF(G1128>5000,(G1128*N$1*0.88),IF(G1128>1000,(G1128*N$1*0.91),IF(G1128>500,(G1128*N$1*0.94),IF(G1128>100,(G1128*N$1*0.97),(G1128*N$1))))))/1.27,G1128*N$1/1.27),-3)","v":380000}]
[{"$f":"IF(L1129=FALSE,0,COUNTIF(A$3:A1128,\">0\")+1)","v":0},"310PF-PIW","Szűrőbetét PF 310PF-PIW",null,"Szűrőbetét","27 560,-Ft",111.03,null,27560]
[{"$f":"IF(L1130=FALSE,0,COUNTIF(A$3:A1129,\">0\")+1)","v":0},"410PF-PIW","Szűrőbetét PF 410PF-PIW",null,"Szűrőbetét","32 340,-Ft",130.30000000000001,null,32340]
[{"$f":"IF(L1131=FALSE,0,COUNTIF(A$3:A1130,\">0\")+1)","v":0},"420PF-PIW","Szűrőbetét PF 420PF-PIW",null,"Szűrőbetét","35 160,-Ft",141.63,null,35160]
[{"$f":"IF(L1132=FALSE,0,COUNTIF(A$3:A1131,\">0\")+1)","v":0},"520PF-PIW","Szűrőbetét PF 520PF-PIW",null,"Szűrőbetét","43 590,-Ft",175.62,null,43590]
[{"$f":"IF(L1133=FALSE,0,COUNTIF(A$3:A1132,\">0\")+1)","v":0},"525PF-PIW","Szűrőbetét PF 525PF-PIW",null,"Szűrőbetét","52 030,-Ft",209.61,null,52030]
[{"$f":"IF(L1134=FALSE,0,COUNTIF(A$3:A1133,\">0\")+1)","v":0},"725PF-PIW","Szűrőbetét PF 725PF-PIW",null,"Szűrőbetét","61 870,-Ft",249.26,null,61870]
[{"$f":"IF(L1135=FALSE,0,COUNTIF(A$3:A1134,\">0\")+1)","v":0},"730PF-PIW","Szűrőbetét PF 730PF-PIW",null,"Szűrőbetét","77 340,-Ft",311.58,null,77340]
[{"$f":"IF(L1136=FALSE,0,COUNTIF(A$3:A1135,\">0\")+1)","v":0},"1030PF-PIW","Szűrőbetét PF 1030PF-PIW",null,"Szűrőbetét","94 220,-Ft",379.56,null,94220]
[{"$f":"IF(L1137=FALSE,0,COUNTIF(A$3:A1136,\">0\")+1)","v":0},"1530PF-PIW","Szűrőbetét PF 1530PF-PIW",null,"Szűrőbetét","112 500,-Ft",453.2,null,112500]
[{"$f":"IF(L1138=FALSE,0,COUNTIF(A$3:A1137,\">0\")+1)","v":0},"2030PF-PIW","Szűrőbetét PF 2030PF-PIW",null,"Szűrőbetét","134 910,-Ft",560.84,null,134910]
[{"$f":"IF(L1139=FALSE,0,COUNTIF(A$3:A1138,\">0\")+1)","v":0},"3030PF-PIW","Szűrőbetét PF 3030PF-PIW",null,"Szűrőbetét","162 170,-Ft",674.14,null,162170]
[{"$f":"IF(L1140=FALSE,0,COUNTIF(A$3:A1139,\">0\")+1)","v":0},"3050PF-PIW","Szűrőbetét PF 3050PF-PIW",null,"Szűrőbetét",{"$f":"TEXT(I1140,\"# ###,-Ft (2)\")","v":"380 000,-Ft (2)"},1630,2,{"$f":"ROUND(IF(G$1=1,IF(G1140>10000,(G1140*N$1*0.85),IF(G1140>5000,(G1140*N$1*0.88),IF(G1140>1000,(G1140*N$1*0.91),IF(G1140>500,(G1140*N$1*0.94),IF(G1140>100,(G1140*N$1*0.97),(G1140*N$1))))))/1.27,G1140*N$1/1.27),-3)","v":380000}]
[{"$f":"IF(L1141=FALSE,0,COUNTIF(A$3:A1140,\">0\")+1)","v":0},"310PF-PP","Szűrőbetét PF 310PF-PP",null,"Szűrőbetét","24 000,-Ft",93.78,null,24000]
[{"$f":"IF(L1142=FALSE,0,COUNTIF(A$3:A1141,\">0\")+1)","v":0},"410PF-PP","Szűrőbetét PF 410PF-PP",null,"Szűrőbetét","27 390,-Ft",110.3336,null,27390]
[{"$f":"IF(L1143=FALSE,0,COUNTIF(A$3:A1142,\">0\")+1)","v":0},"420PF-PP","Szűrőbetét PF 420PF-PP",null,"Szűrőbetét","30 130,-Ft",121.36490000000001,null,30130]
[{"$f":"IF(L1144=FALSE,0,COUNTIF(A$3:A1143,\">0\")+1)","v":0},"520PF-PP","Szűrőbetét PF 520PF-PP",null,"Szűrőbetét","36 970,-Ft",148.94830000000002,null,36970]
[{"$f":"IF(L1145=FALSE,0,COUNTIF(A$3:A1144,\">0\")+1)","v":0},"525PF-PP","Szűrőbetét PF 525PF-PP",null,"Szűrőbetét","43 820,-Ft",176.5317,null,43820]
[{"$f":"IF(L1146=FALSE,0,COUNTIF(A$3:A1145,\">0\")+1)","v":0},"725PF-PP","Szűrőbetét PF 725PF-PP",null,"Szűrőbetét","52 040,-Ft",209.63590000000002,null,52040]
[{"$f":"IF(L1147=FALSE,0,COUNTIF(A$3:A1146,\">0\")+1)","v":0},"730PF-PP","Szűrőbetét PF 730PF-PP",null,"Szűrőbetét","65 730,-Ft",264.80269999999996,null,65730]
[{"$f":"IF(L1148=FALSE,0,COUNTIF(A$3:A1147,\">0\")+1)","v":0},"1030PF-PP","Szűrőbetét PF 1030PF-PP",null,"Szűrőbetét","79 430,-Ft",319.96949999999998,null,79430]
[{"$f":"IF(L1149=FALSE,0,COUNTIF(A$3:A1148,\">0\")+1)","v":0},"1530PF-PP","Szűrőbetét PF 1530PF-PP",null,"Szűrőbetét","95 860,-Ft",386.16760000000005,null,95860]
[{"$f":"IF(L1150=FALSE,0,COUNTIF(A$3:A1149,\">0\")+1)","v":0},"2030PF-PP","Szűrőbetét PF 2030PF-PP",null,"Szűrőbetét","117 770,-Ft",474.43860000000001,null,117770]
[{"$f":"IF(L1151=FALSE,0,COUNTIF(A$3:A1150,\">0\")+1)","v":0},"3030PF-PP","Szűrőbetét PF 3030PF-PP",null,"Szűrőbetét","138 010,-Ft",573.73059999999998,null,138010]
[{"$f":"IF(L1152=FALSE,0,COUNTIF(A$3:A1151,\">0\")+1)","v":0},"3050PF-PP","Szűrőbetét PF 3050PF-PP",null,"Szűrőbetét","167 210,-Ft",695.10580000000004,null,167210]
[{"$f":"IF(L1153=FALSE,0,COUNTIF(A$3:A1152,\">0\")+1)","v":0},"310PF-PR","Szűrőbetét PF 310PF-PR",null,"Szűrőbetét","24 000,-Ft",93.781499999999994,null,24000]
[{"$f":"IF(L1154=FALSE,0,COUNTIF(A$3:A1153,\">0\")+1)","v":0},"410PF-PR","Szűrőbetét PF 410PF-PR",null,"Szűrőbetét","27 390,-Ft",110.3336,null,27390]
[{"$f":"IF(L1155=FALSE,0,COUNTIF(A$3:A1154,\">0\")+1)","v":0},"420PF-PR","Szűrőbetét PF 420PF-PR",null,"Szűrőbetét","30 130,-Ft",121.36490000000001,null,30130]
[{"$f":"IF(L1156=FALSE,0,COUNTIF(A$3:A1155,\">0\")+1)","v":0},"520PF-PR","Szűrőbetét PF 520PF-PR",null,"Szűrőbetét",{"$f":"TEXT(I1156,\"# ###,-Ft\")","v":"36 970,-Ft"},148.94830000000002,null,{"$f":"ROUND(IF(G$1=1,IF(G1156>10000,(G1156*N$1*0.85),IF(G1156>5000,(G1156*N$1*0.88),IF(G1156>1000,(G1156*N$1*0.91),IF(G1156>500,(G1156*N$1*0.94),IF(G1156>100,(G1156*N$1*0.97),(G1156*N$1))))))/1.27,G1156*N$1/1.27),L$1)","v":36970}]
[{"$f":"IF(L1157=FALSE,0,COUNTIF(A$3:A1156,\">0\")+1)","v":0},"525PF-PR","Szűrőbetét PF 525PF-PR",null,"Szűrőbetét","43 820,-Ft",176.5317,null,43820]
[{"$f":"IF(L1158=FALSE,0,COUNTIF(A$3:A1157,\">0\")+1)","v":0},"725PF-PR","Szűrőbetét PF 725PF-PR",null,"Szűrőbetét","52 040,-Ft",209.63590000000002,null,52040]
[{"$f":"IF(L1159=FALSE,0,COUNTIF(A$3:A1158,\">0\")+1)","v":0},"730PF-PR","Szűrőbetét PF 730PF-PR",null,"Szűrőbetét","65 730,-Ft",264.80269999999996,null,65730]
[{"$f":"IF(L1160=FALSE,0,COUNTIF(A$3:A1159,\">0\")+1)","v":0},"1030PF-PR","Szűrőbetét PF 1030PF-PR",null,"Szűrőbetét","79 430,-Ft",319.96949999999998,null,79430]
[{"$f":"IF(L1161=FALSE,0,COUNTIF(A$3:A1160,\">0\")+1)","v":0},"1530PF-PR","Szűrőbetét PF 1530PF-PR",null,"Szűrőbetét","95 860,-Ft",386.16760000000005,null,95860]
[{"$f":"IF(L1162=FALSE,0,COUNTIF(A$3:A1161,\">0\")+1)","v":0},"2030PF-PR","Szűrőbetét PF 2030PF-PR",null,"Szűrőbetét","117 770,-Ft",474.43860000000001,null,117770]
[{"$f":"IF(L1163=FALSE,0,COUNTIF(A$3:A1162,\">0\")+1)","v":0},"3030PF-PR","Szűrőbetét PF 3030PF-PR",null,"Szűrőbetét","138 010,-Ft",573.73059999999998,null,138010]
[{"$f":"IF(L1164=FALSE,0,COUNTIF(A$3:A1163,\">0\")+1)","v":0},"3050PF-PR","Szűrőbetét PF 3050PF-PR",null,"Szűrőbetét","167 210,-Ft",695.10580000000004,null,167210]
[{"$f":"IF(L1165=FALSE,0,COUNTIF(A$3:A1164,\">0\")+1)","v":0},"310PF-PM","Szűrőbetét PF 310PF-PM",null,"Szűrőbetét","24 000,-Ft",93.781499999999994,null,24000]
[{"$f":"IF(L1166=FALSE,0,COUNTIF(A$3:A1165,\">0\")+1)","v":0},"410PF-PM","Szűrőbetét PF 410PF-PM",null,"Szűrőbetét","27 390,-Ft",110.3336,null,27390]
[{"$f":"IF(L1167=FALSE,0,COUNTIF(A$3:A1166,\">0\")+1)","v":0},"420PF-PM","Szűrőbetét PF 420PF-PM",null,"Szűrőbetét","30 130,-Ft",121.36490000000001,null,30130]
[{"$f":"IF(L1168=FALSE,0,COUNTIF(A$3:A1167,\">0\")+1)","v":0},"520PF-PM","Szűrőbetét PF 520PF-PM",null,"Szűrőbetét","36 970,-Ft",148.94830000000002,null,36970]
[{"$f":"IF(L1169=FALSE,0,COUNTIF(A$3:A1168,\">0\")+1)","v":0},"525PF-PM","Szűrőbetét PF 525PF-PM",null,"Szűrőbetét","43 820,-Ft",176.5317,null,43820]
[{"$f":"IF(L1170=FALSE,0,COUNTIF(A$3:A1169,\">0\")+1)","v":0},"725PF-PM","Szűrőbetét PF 725PF-PM",null,"Szűrőbetét","52 040,-Ft",209.63590000000002,null,52040]
[{"$f":"IF(L1171=FALSE,0,COUNTIF(A$3:A1170,\">0\")+1)","v":0},"730PF-PM","Szűrőbetét PF 730PF-PM",null,"Szűrőbetét","65 730,-Ft",264.80269999999996,null,65730]
[{"$f":"IF(L1172=FALSE,0,COUNTIF(A$3:A1171,\">0\")+1)","v":0},"1030PF-PM","Szűrőbetét PF 1030PF-PM",null,"Szűrőbetét","79 430,-Ft",319.96949999999998,null,79430]
[{"$f":"IF(L1173=FALSE,0,COUNTIF(A$3:A1172,\">0\")+1)","v":0},"1530PF-PM","Szűrőbetét PF 1530PF-PM",null,"Szűrőbetét","95 860,-Ft",386.16760000000005,null,95860]
[{"$f":"IF(L1174=FALSE,0,COUNTIF(A$3:A1173,\">0\")+1)","v":0},"2030PF-PM","Szűrőbetét PF 2030PF-PM",null,"Szűrőbetét","117 770,-Ft",474.43860000000001,null,117770]
[{"$f":"IF(L1175=FALSE,0,COUNTIF(A$3:A1174,\">0\")+1)","v":0},"3030PF-PM","Szűrőbetét PF 3030PF-PM",null,"Szűrőbetét","138 010,-Ft",573.73059999999998,null,138010]
[{"$f":"IF(L1176=FALSE,0,COUNTIF(A$3:A1175,\">0\")+1)","v":0},"3050PF-PM","Szűrőbetét PF 3050PF-PM",null,"Szűrőbetét","167 210,-Ft",695.10580000000004,null,167210]
[{"$f":"IF(L1177=FALSE,0,COUNTIF(A$3:A1176,\">0\")+1)","v":0},"310PF-PS","Szűrőbetét PF 310PF-PS",null,"Szűrőbetét","24 000,-Ft",93.781499999999994,null,24000]
[{"$f":"IF(L1178=FALSE,0,COUNTIF(A$3:A1177,\">0\")+1)","v":0},"410PF-PS","Szűrőbetét PF 410PF-PS",null,"Szűrőbetét","27 390,-Ft",110.3336,null,27390]
[{"$f":"IF(L1179=FALSE,0,COUNTIF(A$3:A1178,\">0\")+1)","v":0},"420PF-PS","Szűrőbetét PF 420PF-PS",null,"Szűrőbetét","30 130,-Ft",121.36490000000001,null,30130]
[{"$f":"IF(L1180=FALSE,0,COUNTIF(A$3:A1179,\">0\")+1)","v":0},"520PF-PS","Szűrőbetét PF 520PF-PS",null,"Szűrőbetét","36 970,-Ft",148.94830000000002,null,36970]
[{"$f":"IF(L1181=FALSE,0,COUNTIF(A$3:A1180,\">0\")+1)","v":0},"525PF-PS","Szűrőbetét PF 525PF-PS",null,"Szűrőbetét","43 820,-Ft",176.5317,null,43820]
[{"$f":"IF(L1182=FALSE,0,COUNTIF(A$3:A1181,\">0\")+1)","v":0},"725PF-PS","Szűrőbetét PF 725PF-PS",null,"Szűrőbetét","52 040,-Ft",209.63590000000002,null,52040]
[{"$f":"IF(L1183=FALSE,0,COUNTIF(A$3:A1182,\">0\")+1)","v":0},"730PF-PS","Szűrőbetét PF 730PF-PS",null,"Szűrőbetét","65 730,-Ft",264.80269999999996,null,65730]
[{"$f":"IF(L1184=FALSE,0,COUNTIF(A$3:A1183,\">0\")+1)","v":0},"1030PF-PS","Szűrőbetét PF 1030PF-PS",null,"Szűrőbetét","79 430,-Ft",319.96949999999998,null,79430]
[{"$f":"IF(L1185=FALSE,0,COUNTIF(A$3:A1184,\">0\")+1)","v":0},"1530PF-PS","Szűrőbetét PF 1530PF-PS",null,"Szűrőbetét","95 860,-Ft",386.16760000000005,null,95860]
[{"$f":"IF(L1186=FALSE,0,COUNTIF(A$3:A1185,\">0\")+1)","v":0},"2030PF-PS","Szűrőbetét PF 2030PF-PS",null,"Szűrőbetét","117 770,-Ft",474.43860000000001,null,117770]
[{"$f":"IF(L1187=FALSE,0,COUNTIF(A$3:A1186,\">0\")+1)","v":0},"3030PF-PS","Szűrőbetét PF 3030PF-PS",null,"Szűrőbetét","138 010,-Ft",573.73059999999998,null,138010]
[{"$f":"IF(L1188=FALSE,0,COUNTIF(A$3:A1187,\">0\")+1)","v":0},"3050PF-PS","Szűrőbetét PF 3050PF-PS",null,"Szűrőbetét","167 210,-Ft",695.10580000000004,null,167210]
[{"$f":"IF(L1189=FALSE,0,COUNTIF(A$3:A1188,\">0\")+1)","v":0},"310PF-PA","Szűrőbetét PF 310PF-PA",null,"Szűrőbetét","24 000,-Ft",93.781499999999994,null,24000]
[{"$f":"IF(L1190=FALSE,0,COUNTIF(A$3:A1189,\">0\")+1)","v":0},"410PF-PA","Szűrőbetét PF 410PF-PA",null,"Szűrőbetét","27 390,-Ft",110.3336,null,27390]
[{"$f":"IF(L1191=FALSE,0,COUNTIF(A$3:A1190,\">0\")+1)","v":0},"420PF-PA","Szűrőbetét PF 420PF-PA",null,"Szűrőbetét","30 130,-Ft",121.36490000000001,null,30130]
[{"$f":"IF(L1192=FALSE,0,COUNTIF(A$3:A1191,\">0\")+1)","v":0},"520PF-PA","Szűrőbetét PF 520PF-PA",null,"Szűrőbetét","36 970,-Ft",148.94830000000002,null,36970]
[{"$f":"IF(L1193=FALSE,0,COUNTIF(A$3:A1192,\">0\")+1)","v":0},"525PF-PA","Szűrőbetét PF 525PF-PA",null,"Szűrőbetét","43 820,-Ft",176.5317,null,43820]
[{"$f":"IF(L1194=FALSE,0,COUNTIF(A$3:A1193,\">0\")+1)","v":0},"725PF-PA","Szűrőbetét PF 725PF-PA",null,"Szűrőbetét","52 040,-Ft",209.63590000000002,null,52040]
[{"$f":"IF(L1195=FALSE,0,COUNTIF(A$3:A1194,\">0\")+1)","v":0},"730PF-PA","Szűrőbetét PF 730PF-PA",null,"Szűrőbetét","65 730,-Ft",264.80269999999996,null,65730]
[{"$f":"IF(L1196=FALSE,0,COUNTIF(A$3:A1195,\">0\")+1)","v":0},"1030PF-PA","Szűrőbetét PF 1030PF-PA",null,"Szűrőbetét","79 430,-Ft",319.96949999999998,null,79430]
[{"$f":"IF(L1197=FALSE,0,COUNTIF(A$3:A1196,\">0\")+1)","v":0},"1530PF-PA","Szűrőbetét PF 1530PF-PA",null,"Szűrőbetét","95 860,-Ft",386.16760000000005,null,95860]
[{"$f":"IF(L1198=FALSE,0,COUNTIF(A$3:A1197,\">0\")+1)","v":0},"2030PF-PA","Szűrőbetét PF 2030PF-PA",null,"Szűrőbetét","117 770,-Ft",474.43860000000001,null,117770]
[{"$f":"IF(L1199=FALSE,0,COUNTIF(A$3:A1198,\">0\")+1)","v":0},"3030PF-PA","Szűrőbetét PF 3030PF-PA",null,"Szűrőbetét","138 010,-Ft",573.73059999999998,null,138010]
[{"$f":"IF(L1200=FALSE,0,COUNTIF(A$3:A1199,\">0\")+1)","v":0},"3050PF-PA","Szűrőbetét PF 3050PF-PA",null,"Szűrőbetét","167 210,-Ft",695.10580000000004,null,167210]
[{"$f":"IF(L1201=FALSE,0,COUNTIF(A$3:A1200,\">0\")+1)","v":0},"HPF 010/50","Saválló szűrőház HPF felső kialakítású 50bar 1/2’’","1/2’’","Szűrőház","232 130,-Ft",965,null,232130]
[{"$f":"IF(L1202=FALSE,0,COUNTIF(A$3:A1201,\">0\")+1)","v":0},"HPF 018/50","Saválló szűrőház HPF felső kialakítású 50bar 3/4’’","3/4’’","Szűrőház",{"$f":"TEXT(I1202,\"# ###,-Ft (2)\")","v":"236 000,-Ft (2)"},1015.2,2,{"$f":"ROUND(IF(G$1=1,IF(G1202>10000,(G1202*N$1*0.85),IF(G1202>5000,(G1202*N$1*0.88),IF(G1202>1000,(G1202*N$1*0.91),IF(G1202>500,(G1202*N$1*0.94),IF(G1202>100,(G1202*N$1*0.97),(G1202*N$1))))))/1.27,G1202*N$1/1.27),-3)","v":236000}]
[{"$f":"IF(L1203=FALSE,0,COUNTIF(A$3:A1202,\">0\")+1)","v":0},"HPF 030/50","Saválló szűrőház HPF felső kialakítású 50bar 1’’","1’’","Szűrőház","302 000,-Ft (2)",1295.8,2,302000]
[{"$f":"IF(L1204=FALSE,0,COUNTIF(A$3:A1203,\">0\")+1)","v":0},"HPF 047/50","Saválló szűrőház HPF felső kialakítású 50bar 1 1/4’’","1 1/4’’","Szűrőház","319 000,-Ft (2)",1369.9,2,319000]
[{"$f":"IF(L1205=FALSE,0,COUNTIF(A$3:A1204,\">0\")+1)","v":0},"HPF 070/50","Saválló szűrőház HPF felső kialakítású 50bar 1 1/2’’","1 1/2’’","Szűrőház","401 000,-Ft (2)",1720.9,2,401000]
[{"$f":"IF(L1206=FALSE,0,COUNTIF(A$3:A1205,\">0\")+1)","v":0},"HPF 094/50","Saválló szűrőház HPF felső kialakítású 50bar 2’’","2’’","Szűrőház","479 000,-Ft (2)",2055,2,479000]
[{"$f":"IF(L1207=FALSE,0,COUNTIF(A$3:A1206,\">0\")+1)","v":0},"HPF 150/50","Saválló szűrőház HPF felső kialakítású 50bar 2’’","2’’","Szűrőház","498 000,-Ft (2)",2140.4,2,498000]
[{"$f":"IF(L1208=FALSE,0,COUNTIF(A$3:A1207,\">0\")+1)","v":0},"HPF 200/50","Saválló szűrőház HPF felső kialakítású 50bar 3’’","3’’","Szűrőház","674 000,-Ft (2)",2895.2,2,674000]
[{"$f":"IF(L1209=FALSE,0,COUNTIF(A$3:A1208,\">0\")+1)","v":0},"420HPF-PN","Szűrőbetét PF 420HPF-PN",null,"Szűrőbetét","35 160,-Ft",141.63,null,35160]
[{"$f":"IF(L1210=FALSE,0,COUNTIF(A$3:A1209,\">0\")+1)","v":0},"520HPF-PN","Szűrőbetét PF 520HPF-PN",null,"Szűrőbetét","43 590,-Ft",175.62,null,43590]
[{"$f":"IF(L1211=FALSE,0,COUNTIF(A$3:A1210,\">0\")+1)","v":0},"525HPF-PN","Szűrőbetét PF 525HPF-PN",null,"Szűrőbetét","52 030,-Ft",209.61,null,52030]
[{"$f":"IF(L1212=FALSE,0,COUNTIF(A$3:A1211,\">0\")+1)","v":0},"725HPF-PN","Szűrőbetét PF 725HPF-PN",null,"Szűrőbetét","61 870,-Ft",249.26,null,61870]
[{"$f":"IF(L1213=FALSE,0,COUNTIF(A$3:A1212,\">0\")+1)","v":0},"730HPF-PN","Szűrőbetét PF 730HPF-PN",null,"Szűrőbetét","77 340,-Ft",311.58,null,77340]
[{"$f":"IF(L1214=FALSE,0,COUNTIF(A$3:A1213,\">0\")+1)","v":0},"1030HPF-PN","Szűrőbetét PF 1030HPF-PN",null,"Szűrőbetét","94 220,-Ft",379.56,null,94220]
[{"$f":"IF(L1215=FALSE,0,COUNTIF(A$3:A1214,\">0\")+1)","v":0},"1530HPF-PN","Szűrőbetét PF 1530HPF-PN",null,"Szűrőbetét","112 500,-Ft",453.2,null,112500]
[{"$f":"IF(L1216=FALSE,0,COUNTIF(A$3:A1215,\">0\")+1)","v":0},"3030HPF-PN","Szűrőbetét PF 3030HPF-PN",null,"Szűrőbetét",{"$f":"TEXT(I1216,\"# ###,-Ft (2)\")","v":"380 000,-Ft (2)"},1630,2,{"$f":"ROUND(IF(G$1=1,IF(G1216>10000,(G1216*N$1*0.85),IF(G1216>5000,(G1216*N$1*0.88),IF(G1216>1000,(G1216*N$1*0.91),IF(G1216>500,(G1216*N$1*0.94),IF(G1216>100,(G1216*N$1*0.97),(G1216*N$1))))))/1.27,G1216*N$1/1.27),-3)","v":380000}]
[{"$f":"IF(L1217=FALSE,0,COUNTIF(A$3:A1216,\">0\")+1)","v":0},"420HPF-PI","Szűrőbetét PF 420HPF-PI",null,"Szűrőbetét","35 160,-Ft",141.63,null,35160]
[{"$f":"IF(L1218=FALSE,0,COUNTIF(A$3:A1217,\">0\")+1)","v":0},"520HPF-PI","Szűrőbetét PF 520HPF-PI",null,"Szűrőbetét","43 590,-Ft",175.62,null,43590]
[{"$f":"IF(L1219=FALSE,0,COUNTIF(A$3:A1218,\">0\")+1)","v":0},"525HPF-PI","Szűrőbetét PF 525HPF-PI",null,"Szűrőbetét","52 030,-Ft",209.61,null,52030]
[{"$f":"IF(L1220=FALSE,0,COUNTIF(A$3:A1219,\">0\")+1)","v":0},"725HPF-PI","Szűrőbetét PF 725HPF-PI",null,"Szűrőbetét",{"$f":"TEXT(I1220,\"# ###,-Ft\")","v":"61 870,-Ft"},249.26,null,{"$f":"ROUND(IF(G$1=1,IF(G1220>10000,(G1220*N$1*0.85),IF(G1220>5000,(G1220*N$1*0.88),IF(G1220>1000,(G1220*N$1*0.91),IF(G1220>500,(G1220*N$1*0.94),IF(G1220>100,(G1220*N$1*0.97),(G1220*N$1))))))/1.27,G1220*N$1/1.27),L$1)","v":61870}]
[{"$f":"IF(L1221=FALSE,0,COUNTIF(A$3:A1220,\">0\")+1)","v":0},"730HPF-PI","Szűrőbetét PF 730HPF-PI",null,"Szűrőbetét","77 340,-Ft",311.58,null,77340]
[{"$f":"IF(L1222=FALSE,0,COUNTIF(A$3:A1221,\">0\")+1)","v":0},"1030HPF-PI","Szűrőbetét PF 1030HPF-PI",null,"Szűrőbetét","94 220,-Ft",379.56,null,94220]
[{"$f":"IF(L1223=FALSE,0,COUNTIF(A$3:A1222,\">0\")+1)","v":0},"1530HPF-PI","Szűrőbetét PF 1530HPF-PI",null,"Szűrőbetét","112 500,-Ft",453.2,null,112500]
[{"$f":"IF(L1224=FALSE,0,COUNTIF(A$3:A1223,\">0\")+1)","v":0},"3030HPF-PI","Szűrőbetét PF 3030HPF-PI",null,"Szűrőbetét",{"$f":"TEXT(I1224,\"# ###,-Ft (2)\")","v":"380 000,-Ft (2)"},1630,2,{"$f":"ROUND(IF(G$1=1,IF(G1224>10000,(G1224*N$1*0.85),IF(G1224>5000,(G1224*N$1*0.88),IF(G1224>1000,(G1224*N$1*0.91),IF(G1224>500,(G1224*N$1*0.94),IF(G1224>100,(G1224*N$1*0.97),(G1224*N$1))))))/1.27,G1224*N$1/1.27),-3)","v":380000}]
[{"$f":"IF(L1225=FALSE,0,COUNTIF(A$3:A1224,\">0\")+1)","v":0},"420HPF-PIW","Szűrőbetét PF 420HPF-PIW",null,"Szűrőbetét","35 160,-Ft",141.63,null,35160]
[{"$f":"IF(L1226=FALSE,0,COUNTIF(A$3:A1225,\">0\")+1)","v":0},"520HPF-PIW","Szűrőbetét PF 520HPF-PIW",null,"Szűrőbetét","43 590,-Ft",175.62,null,43590]
[{"$f":"IF(L1227=FALSE,0,COUNTIF(A$3:A1226,\">0\")+1)","v":0},"525HPF-PIW","Szűrőbetét PF 525HPF-PIW",null,"Szűrőbetét","52 030,-Ft",209.61,null,52030]
[{"$f":"IF(L1228=FALSE,0,COUNTIF(A$3:A1227,\">0\")+1)","v":0},"725HPF-PIW","Szűrőbetét PF 725HPF-PIW",null,"Szűrőbetét","61 870,-Ft",249.26,null,61870]
[{"$f":"IF(L1229=FALSE,0,COUNTIF(A$3:A1228,\">0\")+1)","v":0},"730HPF-PIW","Szűrőbetét PF 730HPF-PIW",null,"Szűrőbetét","77 340,-Ft",311.58,null,77340]
[{"$f":"IF(L1230=FALSE,0,COUNTIF(A$3:A1229,\">0\")+1)","v":0},"1030HPF-PIW","Szűrőbetét PF 1030HPF-PIW",null,"Szűrőbetét","94 220,-Ft",379.56,null,94220]
[{"$f":"IF(L1231=FALSE,0,COUNTIF(A$3:A1230,\">0\")+1)","v":0},"1530HPF-PIW","Szűrőbetét PF 1530HPF-PIW",null,"Szűrőbetét","112 500,-Ft",453.2,null,112500]
[{"$f":"IF(L1232=FALSE,0,COUNTIF(A$3:A1231,\">0\")+1)","v":0},"3030HPF-PIW","Szűrőbetét PF 3030HPF-PIW",null,"Szűrőbetét",{"$f":"TEXT(I1232,\"# ###,-Ft (2)\")","v":"380 000,-Ft (2)"},1630,2,{"$f":"ROUND(IF(G$1=1,IF(G1232>10000,(G1232*N$1*0.85),IF(G1232>5000,(G1232*N$1*0.88),IF(G1232>1000,(G1232*N$1*0.91),IF(G1232>500,(G1232*N$1*0.94),IF(G1232>100,(G1232*N$1*0.97),(G1232*N$1))))))/1.27,G1232*N$1/1.27),-3)","v":380000}]
[{"$f":"IF(L1233=FALSE,0,COUNTIF(A$3:A1232,\">0\")+1)","v":0},"420HPF-PP","Szűrőbetét PF 420HPF-PP",null,"Szűrőbetét","30 130,-Ft",121.36490000000001,null,30130]
[{"$f":"IF(L1234=FALSE,0,COUNTIF(A$3:A1233,\">0\")+1)","v":0},"520HPF-PP","Szűrőbetét PF 520HPF-PP",null,"Szűrőbetét","36 970,-Ft",148.94830000000002,null,36970]
[{"$f":"IF(L1235=FALSE,0,COUNTIF(A$3:A1234,\">0\")+1)","v":0},"525HPF-PP","Szűrőbetét PF 525HPF-PP",null,"Szűrőbetét","43 820,-Ft",176.5317,null,43820]
[{"$f":"IF(L1236=FALSE,0,COUNTIF(A$3:A1235,\">0\")+1)","v":0},"725HPF-PP","Szűrőbetét PF 725HPF-PP",null,"Szűrőbetét","52 040,-Ft",209.63590000000002,null,52040]
[{"$f":"IF(L1237=FALSE,0,COUNTIF(A$3:A1236,\">0\")+1)","v":0},"730HPF-PP","Szűrőbetét PF 730HPF-PP",null,"Szűrőbetét","65 730,-Ft",264.80269999999996,null,65730]
[{"$f":"IF(L1238=FALSE,0,COUNTIF(A$3:A1237,\">0\")+1)","v":0},"1030HPF-PP","Szűrőbetét PF 1030HPF-PP",null,"Szűrőbetét","79 430,-Ft",319.96949999999998,null,79430]
[{"$f":"IF(L1239=FALSE,0,COUNTIF(A$3:A1238,\">0\")+1)","v":0},"1530HPF-PP","Szűrőbetét PF 1530HPF-PP",null,"Szűrőbetét","95 860,-Ft",386.16760000000005,null,95860]
[{"$f":"IF(L1240=FALSE,0,COUNTIF(A$3:A1239,\">0\")+1)","v":0},"3030HPF-PP","Szűrőbetét PF 3030HPF-PP",null,"Szűrőbetét","138 010,-Ft",573.73059999999998,null,138010]
[{"$f":"IF(L1241=FALSE,0,COUNTIF(A$3:A1240,\">0\")+1)","v":0},"420HPF-PR","Szűrőbetét PF 420HPF-PR",null,"Szűrőbetét","30 130,-Ft",121.36490000000001,null,30130]
[{"$f":"IF(L1242=FALSE,0,COUNTIF(A$3:A1241,\">0\")+1)","v":0},"520HPF-PR","Szűrőbetét PF 520HPF-PR",null,"Szűrőbetét","36 970,-Ft",148.94830000000002,null,36970]
[{"$f":"IF(L1243=FALSE,0,COUNTIF(A$3:A1242,\">0\")+1)","v":0},"525HPF-PR","Szűrőbetét PF 525HPF-PR",null,"Szűrőbetét","43 820,-Ft",176.5317,null,43820]
[{"$f":"IF(L1244=FALSE,0,COUNTIF(A$3:A1243,\">0\")+1)","v":0},"725HPF-PR","Szűrőbetét PF 725HPF-PR",null,"Szűrőbetét","52 040,-Ft",209.63590000000002,null,52040]
[{"$f":"IF(L1245=FALSE,0,COUNTIF(A$3:A1244,\">0\")+1)","v":0},"730HPF-PR","Szűrőbetét PF 730HPF-PR",null,"Szűrőbetét","65 730,-Ft",264.80269999999996,null,65730]
[{"$f":"IF(L1246=FALSE,0,COUNTIF(A$3:A1245,\">0\")+1)","v":0},"1030HPF-PR","Szűrőbetét PF 1030HPF-PR",null,"Szűrőbetét","79 430,-Ft",319.96949999999998,null,79430]
[{"$f":"IF(L1247=FALSE,0,COUNTIF(A$3:A1246,\">0\")+1)","v":0},"1530HPF-PR","Szűrőbetét PF 1530HPF-PR",null,"Szűrőbetét","95 860,-Ft",386.16760000000005,null,95860]
[{"$f":"IF(L1248=FALSE,0,COUNTIF(A$3:A1247,\">0\")+1)","v":0},"3030HPF-PR","Szűrőbetét PF 3030HPF-PR",null,"Szűrőbetét","138 010,-Ft",573.73059999999998,null,138010]
[{"$f":"IF(L1249=FALSE,0,COUNTIF(A$3:A1248,\">0\")+1)","v":0},"420HPF-PM","Szűrőbetét PF 420HPF-PM",null,"Szűrőbetét","30 130,-Ft",121.36490000000001,null,30130]
[{"$f":"IF(L1250=FALSE,0,COUNTIF(A$3:A1249,\">0\")+1)","v":0},"520HPF-PM","Szűrőbetét PF 520HPF-PM",null,"Szűrőbetét","36 970,-Ft",148.94830000000002,null,36970]
[{"$f":"IF(L1251=FALSE,0,COUNTIF(A$3:A1250,\">0\")+1)","v":0},"525HPF-PM","Szűrőbetét PF 525HPF-PM",null,"Szűrőbetét","43 820,-Ft",176.5317,null,43820]
[{"$f":"IF(L1252=FALSE,0,COUNTIF(A$3:A1251,\">0\")+1)","v":0},"725HPF-PM","Szűrőbetét PF 725HPF-PM",null,"Szűrőbetét","52 040,-Ft",209.63590000000002,null,52040]
[{"$f":"IF(L1253=FALSE,0,COUNTIF(A$3:A1252,\">0\")+1)","v":0},"730HPF-PM","Szűrőbetét PF 730HPF-PM",null,"Szűrőbetét","65 730,-Ft",264.80269999999996,null,65730]
[{"$f":"IF(L1254=FALSE,0,COUNTIF(A$3:A1253,\">0\")+1)","v":0},"1030HPF-PM","Szűrőbetét PF 1030HPF-PM",null,"Szűrőbetét","79 430,-Ft",319.96949999999998,null,79430]
[{"$f":"IF(L1255=FALSE,0,COUNTIF(A$3:A1254,\">0\")+1)","v":0},"1530HPF-PM","Szűrőbetét PF 1530HPF-PM",null,"Szűrőbetét","95 860,-Ft",386.16760000000005,null,95860]
[{"$f":"IF(L1256=FALSE,0,COUNTIF(A$3:A1255,\">0\")+1)","v":0},"3030HPF-PM","Szűrőbetét PF 3030HPF-PM",null,"Szűrőbetét","138 010,-Ft",573.73059999999998,null,138010]
[{"$f":"IF(L1257=FALSE,0,COUNTIF(A$3:A1256,\">0\")+1)","v":0},"420HPF-PS","Szűrőbetét PF 420HPF-PS",null,"Szűrőbetét","30 130,-Ft",121.36490000000001,null,30130]
[{"$f":"IF(L1258=FALSE,0,COUNTIF(A$3:A1257,\">0\")+1)","v":0},"520HPF-PS","Szűrőbetét PF 520HPF-PS",null,"Szűrőbetét","36 970,-Ft",148.94830000000002,null,36970]
[{"$f":"IF(L1259=FALSE,0,COUNTIF(A$3:A1258,\">0\")+1)","v":0},"525HPF-PS","Szűrőbetét PF 525HPF-PS",null,"Szűrőbetét","43 820,-Ft",176.5317,null,43820]
[{"$f":"IF(L1260=FALSE,0,COUNTIF(A$3:A1259,\">0\")+1)","v":0},"725HPF-PS","Szűrőbetét PF 725HPF-PS",null,"Szűrőbetét","52 040,-Ft",209.63590000000002,null,52040]
[{"$f":"IF(L1261=FALSE,0,COUNTIF(A$3:A1260,\">0\")+1)","v":0},"730HPF-PS","Szűrőbetét PF 730HPF-PS",null,"Szűrőbetét","65 730,-Ft",264.80269999999996,null,65730]
[{"$f":"IF(L1262=FALSE,0,COUNTIF(A$3:A1261,\">0\")+1)","v":0},"1030HPF-PS","Szűrőbetét PF 1030HPF-PS",null,"Szűrőbetét","79 430,-Ft",319.96949999999998,null,79430]
[{"$f":"IF(L1263=FALSE,0,COUNTIF(A$3:A1262,\">0\")+1)","v":0},"1530HPF-PS","Szűrőbetét PF 1530HPF-PS",null,"Szűrőbetét","95 860,-Ft",386.16760000000005,null,95860]
[{"$f":"IF(L1264=FALSE,0,COUNTIF(A$3:A1263,\">0\")+1)","v":0},"3030HPF-PS","Szűrőbetét PF 3030HPF-PS",null,"Szűrőbetét","138 010,-Ft",573.73059999999998,null,138010]
[{"$f":"IF(L1265=FALSE,0,COUNTIF(A$3:A1264,\">0\")+1)","v":0},"420HPF-PA","Szűrőbetét PF 420HPF-PA",null,"Szűrőbetét","30 130,-Ft",121.36490000000001,null,30130]
[{"$f":"IF(L1266=FALSE,0,COUNTIF(A$3:A1265,\">0\")+1)","v":0},"520HPF-PA","Szűrőbetét PF 520HPF-PA",null,"Szűrőbetét","36 970,-Ft",148.94830000000002,null,36970]
[{"$f":"IF(L1267=FALSE,0,COUNTIF(A$3:A1266,\">0\")+1)","v":0},"525HPF-PA","Szűrőbetét PF 525HPF-PA",null,"Szűrőbetét","43 820,-Ft",176.5317,null,43820]
[{"$f":"IF(L1268=FALSE,0,COUNTIF(A$3:A1267,\">0\")+1)","v":0},"725HPF-PA","Szűrőbetét PF 725HPF-PA",null,"Szűrőbetét","52 040,-Ft",209.63590000000002,null,52040]
[{"$f":"IF(L1269=FALSE,0,COUNTIF(A$3:A1268,\">0\")+1)","v":0},"730HPF-PA","Szűrőbetét PF 730HPF-PA",null,"Szűrőbetét","65 730,-Ft",264.80269999999996,null,65730]
[{"$f":"IF(L1270=FALSE,0,COUNTIF(A$3:A1269,\">0\")+1)","v":0},"1030HPF-PA","Szűrőbetét PF 1030HPF-PA",null,"Szűrőbetét","79 430,-Ft",319.96949999999998,null,79430]
[{"$f":"IF(L1271=FALSE,0,COUNTIF(A$3:A1270,\">0\")+1)","v":0},"1530HPF-PA","Szűrőbetét PF 1530HPF-PA",null,"Szűrőbetét","95 860,-Ft",386.16760000000005,null,95860]
[{"$f":"IF(L1272=FALSE,0,COUNTIF(A$3:A1271,\">0\")+1)","v":0},"3030HPF-PA","Szűrőbetét PF 3030HPF-PA",null,"Szűrőbetét","138 010,-Ft",573.73059999999998,null,138010]
[{"$f":"IF(L1273=FALSE,0,COUNTIF(A$3:A1272,\">0\")+1)","v":0},"420HPF-VSF","Szűrőbetét PF 420HPF-VSF",null,"Szűrőbetét","34 230,-Ft",137.917,null,34230]
[{"$f":"IF(L1274=FALSE,0,COUNTIF(A$3:A1273,\">0\")+1)","v":0},"520HPF-VSF","Szűrőbetét PF 520HPF-VSF",null,"Szűrőbetét","38 340,-Ft",154.4691,null,38340]
[{"$f":"IF(L1275=FALSE,0,COUNTIF(A$3:A1274,\">0\")+1)","v":0},"525HPF-VSF","Szűrőbetét PF 525HPF-VSF",null,"Szűrőbetét","46 560,-Ft",187.56299999999999,null,46560]
[{"$f":"IF(L1276=FALSE,0,COUNTIF(A$3:A1275,\">0\")+1)","v":0},"725HPF-VSF","Szűrőbetét PF 725HPF-VSF",null,"Szűrőbetét","57 230,-Ft",230.53460000000001,null,57230]
[{"$f":"IF(L1277=FALSE,0,COUNTIF(A$3:A1276,\">0\")+1)","v":0},"730HPF-VSF","Szűrőbetét PF 730HPF-VSF",null,"Szűrőbetét","71 210,-Ft",286.86529999999999,null,71210]
[{"$f":"IF(L1278=FALSE,0,COUNTIF(A$3:A1277,\">0\")+1)","v":0},"1030HPF-VSF","Szűrőbetét PF 1030HPF-VSF",null,"Szűrőbetét","90 380,-Ft",364.10500000000002,null,90380]
[{"$f":"IF(L1279=FALSE,0,COUNTIF(A$3:A1278,\">0\")+1)","v":0},"1530HPF-VSF","Szűrőbetét PF 1530HPF-VSF",null,"Szűrőbetét","101 230,-Ft",407.80790000000002,null,101230]
[{"$f":"IF(L1280=FALSE,0,COUNTIF(A$3:A1279,\">0\")+1)","v":0},"3030HPF-VSF","Szűrőbetét PF 3030HPF-VSF",null,"Szűrőbetét","145 970,-Ft",606.83479999999997,null,145970]
[{"$f":"IF(L1281=FALSE,0,COUNTIF(A$3:A1280,\">0\")+1)","v":0},"SF 006","Saválló sterilszűrő szűrőház SF felső kialakítású","DN10 / ø17,2","Szűrőház","220 220,-Ft",915.5,null,220220]
[{"$f":"IF(L1282=FALSE,0,COUNTIF(A$3:A1281,\">0\")+1)","v":0},"SF 009","Saválló sterilszűrő szűrőház SF felső kialakítású","DN10 / ø17,2","Szűrőház","227 180,-Ft",944.4,null,227180]
[{"$f":"IF(L1283=FALSE,0,COUNTIF(A$3:A1282,\">0\")+1)","v":0},"SF012","Saválló sterilszűrő szűrőház SF felső kialakítású","DN15 / ø21,3","Szűrőház","235 450,-Ft",978.8,null,235450]
[{"$f":"IF(L1284=FALSE,0,COUNTIF(A$3:A1283,\">0\")+1)","v":0},"SF 018","Saválló sterilszűrő szűrőház SF felső kialakítású","DN15 / ø21,3","Szűrőház",{"$f":"TEXT(I1284,\"# ###,-Ft (2)\")","v":"239 000,-Ft (2)"},1025,2,{"$f":"ROUND(IF(G$1=1,IF(G1284>10000,(G1284*N$1*0.85),IF(G1284>5000,(G1284*N$1*0.88),IF(G1284>1000,(G1284*N$1*0.91),IF(G1284>500,(G1284*N$1*0.94),IF(G1284>100,(G1284*N$1*0.97),(G1284*N$1))))))/1.27,G1284*N$1/1.27),-3)","v":239000}]
[{"$f":"IF(L1285=FALSE,0,COUNTIF(A$3:A1284,\">0\")+1)","v":0},"SF 032","Saválló sterilszűrő szűrőház SF felső kialakítású","DN25 / ø35,7","Szűrőház","327 000,-Ft (2)",1405.5,2,327000]
[{"$f":"IF(L1286=FALSE,0,COUNTIF(A$3:A1285,\">0\")+1)","v":0},"SF 048","Saválló sterilszűrő szűrőház SF felső kialakítású","DN32 / ø42,4","Szűrőház","373 000,-Ft (2)",1599.8,2,373000]
[{"$f":"IF(L1287=FALSE,0,COUNTIF(A$3:A1286,\">0\")+1)","v":0},"SF 072","Saválló sterilszűrő szűrőház SF felső kialakítású","DN40 / ø48,3","Szűrőház","414 000,-Ft (2)",1775.7,2,414000]
[{"$f":"IF(L1288=FALSE,0,COUNTIF(A$3:A1287,\">0\")+1)","v":0},"SF 108","Saválló sterilszűrő szűrőház SF felső kialakítású","DN50 / ø60,3","Szűrőház","468 000,-Ft (2)",2008.6,2,468000]
[{"$f":"IF(L1289=FALSE,0,COUNTIF(A$3:A1288,\">0\")+1)","v":0},"SF 144","Saválló sterilszűrő szűrőház SF felső kialakítású","DN65 / ø76,1","Szűrőház","550 000,-Ft (2)",2361,2,550000]
[{"$f":"IF(L1290=FALSE,0,COUNTIF(A$3:A1289,\">0\")+1)","v":0},"SF 192","Saválló sterilszűrő szűrőház SF felső kialakítású","DN80 / ø88,9","Szűrőház","583 000,-Ft (2)",2504.6,2,583000]
[{"$f":"IF(L1291=FALSE,0,COUNTIF(A$3:A1290,\">0\")+1)","v":0},"SF 432","Saválló sterilszűrő szűrőház SF felső kialakítású","DN100","Szűrőház","1 066 000,-Ft (2)",4578.8,2,1066000]
[{"$f":"IF(L1292=FALSE,0,COUNTIF(A$3:A1291,\">0\")+1)","v":0},"SF 576","Saválló sterilszűrő szűrőház SF felső kialakítású","DN100","Szűrőház",{"$f":"TEXT(I1292,\"# ###,-Ft (3)\")","v":"1 280 000,-Ft (3)"},5682.2,4,1280000]
[{"$f":"IF(L1293=FALSE,0,COUNTIF(A$3:A1292,\">0\")+1)","v":0},"SF 768","Saválló sterilszűrő szűrőház SF felső kialakítású","DN150","Szűrőház","1 280 000,-Ft (3)",5682.1804000000002,4,1280000]
[{"$f":"IF(L1294=FALSE,0,COUNTIF(A$3:A1293,\">0\")+1)","v":0},"SF 1152","Saválló sterilszűrő szűrőház SF felső kialakítású","DN150","Szűrőház","1 719 000,-Ft (3)",7635.0810000000001,4,1719000]
[{"$f":"IF(L1295=FALSE,0,COUNTIF(A$3:A1294,\">0\")+1)","v":0},"SF 1536","Saválló sterilszűrő szűrőház SF felső kialakítású","DN200","Szűrőház",{"$f":"TEXT(I1295,\"# ###,-Ft (4)\")","v":"2 501 000,-Ft (4)"},11498.8,6,2501000]
[{"$f":"IF(L1296=FALSE,0,COUNTIF(A$3:A1295,\">0\")+1)","v":0},"SF 1920","Saválló sterilszűrő szűrőház SF felső kialakítású","DN200","Szűrőház","2 549 000,-Ft (4)",11720.2,6,2549000]
[{"$f":"IF(L1297=FALSE,0,COUNTIF(A$3:A1296,\">0\")+1)","v":0},"310SF-VSF","Szűrőbetét PF 310SF-VSF",null,"Szűrőbetét",{"$f":"TEXT(I1297,\"# ###,-Ft\")","v":"25 410,-Ft"},99.302300000000002,null,{"$f":"ROUND(IF(G$1=1,IF(G1297>10000,(G1297*N$1*0.85),IF(G1297>5000,(G1297*N$1*0.88),IF(G1297>1000,(G1297*N$1*0.91),IF(G1297>500,(G1297*N$1*0.94),IF(G1297>100,(G1297*N$1*0.97),(G1297*N$1))))))/1.27,G1297*N$1/1.27),L$1)","v":25410}]
[{"$f":"IF(L1298=FALSE,0,COUNTIF(A$3:A1297,\">0\")+1)","v":0},"410SF-VSF","Szűrőbetét PF 410SF-VSF",null,"Szűrőbetét","30 130,-Ft",121.36490000000001,null,30130]
[{"$f":"IF(L1299=FALSE,0,COUNTIF(A$3:A1298,\">0\")+1)","v":0},"420SF-VSF","Szűrőbetét PF 420SF-VSF",null,"Szűrőbetét","34 230,-Ft",137.917,null,34230]
[{"$f":"IF(L1300=FALSE,0,COUNTIF(A$3:A1299,\">0\")+1)","v":0},"520SF-VSF","Szűrőbetét PF 520SF-VSF",null,"Szűrőbetét","38 340,-Ft",154.4691,null,38340]
[{"$f":"IF(L1301=FALSE,0,COUNTIF(A$3:A1300,\">0\")+1)","v":0},"530SF-VSF","Szűrőbetét PF 530SF-VSF",null,"Szűrőbetét","62 120,-Ft",250.26939999999999,null,62120]
[{"$f":"IF(L1302=FALSE,0,COUNTIF(A$3:A1301,\">0\")+1)","v":0},"730SF-VSF","Szűrőbetét PF 730SF-VSF",null,"Szűrőbetét","71 210,-Ft",286.86529999999999,null,71210]
[{"$f":"IF(L1303=FALSE,0,COUNTIF(A$3:A1302,\">0\")+1)","v":0},"1030SF-VSF","Szűrőbetét PF 1030SF-VSF",null,"Szűrőbetét","90 380,-Ft",364.10500000000002,null,90380]
[{"$f":"IF(L1304=FALSE,0,COUNTIF(A$3:A1303,\">0\")+1)","v":0},"1530SF-VSF","Szűrőbetét PF 1530SF-VSF",null,"Szűrőbetét","101 230,-Ft",407.80790000000002,null,101230]
[{"$f":"IF(L1305=FALSE,0,COUNTIF(A$3:A1304,\">0\")+1)","v":0},"2030SF-VSF","Szűrőbetét PF 2030SF-VSF",null,"Szűrőbetét","122 090,-Ft",507.53250000000003,null,122090]
[{"$f":"IF(L1306=FALSE,0,COUNTIF(A$3:A1305,\">0\")+1)","v":0},"3030SF-VSF","Szűrőbetét PF 3030SF-VSF",null,"Szűrőbetét","145 970,-Ft",606.83479999999997,null,145970]
[{"$f":"IF(L1307=FALSE,0,COUNTIF(A$3:A1306,\">0\")+1)","v":0},"SPF 005","Saválló sterilszűrő szűrőház SPF felső kialakítású","1/4’’","Szűrőház","208 990,-Ft",868.8,null,208990]
[{"$f":"IF(L1308=FALSE,0,COUNTIF(A$3:A1307,\">0\")+1)","v":0},"SPF 007","Saválló sterilszűrő szűrőház SPF felső kialakítású","3/8’’","Szűrőház","214 070,-Ft",889.9,null,214070]
[{"$f":"IF(L1309=FALSE,0,COUNTIF(A$3:A1308,\">0\")+1)","v":0},"SPF 010","Saválló sterilszűrő szűrőház SPF felső kialakítású","1/2’’","Szűrőház","225 760,-Ft",938.5,null,225760]
[{"$f":"IF(L1310=FALSE,0,COUNTIF(A$3:A1309,\">0\")+1)","v":0},"SPF 018","Saválló sterilszűrő szűrőház SPF felső kialakítású","3/4’’","Szűrőház","237 860,-Ft",988.8,null,237860]
[{"$f":"IF(L1311=FALSE,0,COUNTIF(A$3:A1310,\">0\")+1)","v":0},"SPF 030","Saválló sterilszűrő szűrőház SPF felső kialakítású","1’’","Szűrőház",{"$f":"TEXT(I1311,\"# ###,-Ft (2)\")","v":"275 000,-Ft (2)"},1180,2,{"$f":"ROUND(IF(G$1=1,IF(G1311>10000,(G1311*N$1*0.85),IF(G1311>5000,(G1311*N$1*0.88),IF(G1311>1000,(G1311*N$1*0.91),IF(G1311>500,(G1311*N$1*0.94),IF(G1311>100,(G1311*N$1*0.97),(G1311*N$1))))))/1.27,G1311*N$1/1.27),-3)","v":275000}]
[{"$f":"IF(L1312=FALSE,0,COUNTIF(A$3:A1311,\">0\")+1)","v":0},"SPF 047","Saválló sterilszűrő szűrőház SPF felső kialakítású","1 1/4’’","Szűrőház","299 000,-Ft (2)",1285,2,299000]
[{"$f":"IF(L1313=FALSE,0,COUNTIF(A$3:A1312,\">0\")+1)","v":0},"SPF 070","Saválló sterilszűrő szűrőház SPF felső kialakítású","1 1/2’’","Szűrőház","377 000,-Ft (2)",1620.1,2,377000]
[{"$f":"IF(L1314=FALSE,0,COUNTIF(A$3:A1313,\">0\")+1)","v":0},"SPF 094","Saválló sterilszűrő szűrőház SPF felső kialakítású","2’’","Szűrőház","441 000,-Ft (2)",1895,2,441000]
[{"$f":"IF(L1315=FALSE,0,COUNTIF(A$3:A1314,\">0\")+1)","v":0},"SPF 150","Saválló sterilszűrő szűrőház SPF felső kialakítású","2’’","Szűrőház","469 000,-Ft (2)",2015,2,469000]
[{"$f":"IF(L1316=FALSE,0,COUNTIF(A$3:A1315,\">0\")+1)","v":0},"SPF 175","Saválló sterilszűrő szűrőház SPF felső kialakítású","2 1/2’’","Szűrőház","616 000,-Ft (2)",2645,2,616000]
[{"$f":"IF(L1317=FALSE,0,COUNTIF(A$3:A1316,\">0\")+1)","v":0},"SPF 200","Saválló sterilszűrő szűrőház SPF felső kialakítású","3’’","Szűrőház","648 000,-Ft (2)",2780.8,2,648000]
[{"$f":"IF(L1318=FALSE,0,COUNTIF(A$3:A1317,\">0\")+1)","v":0},"SPF 240","Saválló sterilszűrő szűrőház SPF felső kialakítású","3’’","Szűrőház","827 000,-Ft (2)",3550,2,827000]
[{"$f":"IF(L1319=FALSE,0,COUNTIF(A$3:A1318,\">0\")+1)","v":0},"310SPF-PN","Szűrőbetét SPF 310SPF-PN",null,"Szűrőbetét","25 810,-Ft",103.9682,null,25810]
[{"$f":"IF(L1320=FALSE,0,COUNTIF(A$3:A1319,\">0\")+1)","v":0},"410SPF-PN","Szűrőbetét SPF 410SPF-PN",null,"Szűrőbetét","30 280,-Ft",122.0035,null,30280]
[{"$f":"IF(L1321=FALSE,0,COUNTIF(A$3:A1320,\">0\")+1)","v":0},"420SPF-PN","Szűrőbetét SPF 420SPF-PN",null,"Szűrőbetét","32 920,-Ft",132.61250000000001,null,32920]
[{"$f":"IF(L1322=FALSE,0,COUNTIF(A$3:A1321,\">0\")+1)","v":0},"520SPF-PN","Szűrőbetét SPF 520SPF-PN",null,"Szűrőbetét","40 820,-Ft",164.43950000000001,null,40820]
[{"$f":"IF(L1323=FALSE,0,COUNTIF(A$3:A1322,\">0\")+1)","v":0},"525SPF-PN","Szűrőbetét SPF 525SPF-PN",null,"Szűrőbetét","48 720,-Ft",196.26650000000001,null,48720]
[{"$f":"IF(L1324=FALSE,0,COUNTIF(A$3:A1323,\">0\")+1)","v":0},"725SPF-PN","Szűrőbetét SPF 725SPF-PN",null,"Szűrőbetét","57 940,-Ft",233.398,null,57940]
[{"$f":"IF(L1325=FALSE,0,COUNTIF(A$3:A1324,\">0\")+1)","v":0},"730SPF-PN","Szűrőbetét SPF 730SPF-PN",null,"Szűrőbetét","72 420,-Ft",291.7475,null,72420]
[{"$f":"IF(L1326=FALSE,0,COUNTIF(A$3:A1325,\">0\")+1)","v":0},"1030SPF-PN","Szűrőbetét SPF 1030SPF-PN",null,"Szűrőbetét","88 220,-Ft",355.4015,null,88220]
[{"$f":"IF(L1327=FALSE,0,COUNTIF(A$3:A1326,\">0\")+1)","v":0},"1530SPF-PN","Szűrőbetét SPF 1530SPF-PN",null,"Szűrőbetét","105 340,-Ft",424.36,null,105340]
[{"$f":"IF(L1328=FALSE,0,COUNTIF(A$3:A1327,\">0\")+1)","v":0},"2030SPF-PN","Szűrőbetét SPF 2030SPF-PN",null,"Szűrőbetét","126 320,-Ft",525.14550000000008,null,126320]
[{"$f":"IF(L1329=FALSE,0,COUNTIF(A$3:A1328,\">0\")+1)","v":0},"3030SPF-PN","Szűrőbetét SPF 3030SPF-PN",null,"Szűrőbetét","151 840,-Ft",631.2355,null,151840]
[{"$f":"IF(L1330=FALSE,0,COUNTIF(A$3:A1329,\">0\")+1)","v":0},"3050SPF-PN","Szűrőbetét SPF 3050SPF-PN",null,"Szűrőbetét","183 740,-Ft",763.84800000000007,null,183740]
[{"$f":"IF(L1331=FALSE,0,COUNTIF(A$3:A1330,\">0\")+1)","v":0},"310SPF-PI","Szűrőbetét SPF 310SPF-PI",null,"Szűrőbetét","25 810,-Ft",103.9682,null,25810]
[{"$f":"IF(L1332=FALSE,0,COUNTIF(A$3:A1331,\">0\")+1)","v":0},"410SPF-PI","Szűrőbetét SPF 410SPF-PI",null,"Szűrőbetét","30 280,-Ft",122.0035,null,30280]
[{"$f":"IF(L1333=FALSE,0,COUNTIF(A$3:A1332,\">0\")+1)","v":0},"420SPF-PI","Szűrőbetét SPF 420SPF-PI",null,"Szűrőbetét","32 920,-Ft",132.61250000000001,null,32920]
[{"$f":"IF(L1334=FALSE,0,COUNTIF(A$3:A1333,\">0\")+1)","v":0},"520SPF-PI","Szűrőbetét SPF 520SPF-PI",null,"Szűrőbetét","40 820,-Ft",164.43950000000001,null,40820]
[{"$f":"IF(L1335=FALSE,0,COUNTIF(A$3:A1334,\">0\")+1)","v":0},"525SPF-PI","Szűrőbetét SPF 525SPF-PI",null,"Szűrőbetét","48 720,-Ft",196.26650000000001,null,48720]
[{"$f":"IF(L1336=FALSE,0,COUNTIF(A$3:A1335,\">0\")+1)","v":0},"725SPF-PI","Szűrőbetét SPF 725SPF-PI",null,"Szűrőbetét","57 940,-Ft",233.398,null,57940]
[{"$f":"IF(L1337=FALSE,0,COUNTIF(A$3:A1336,\">0\")+1)","v":0},"730SPF-PI","Szűrőbetét SPF 730SPF-PI",null,"Szűrőbetét","72 420,-Ft",291.7475,null,72420]
[{"$f":"IF(L1338=FALSE,0,COUNTIF(A$3:A1337,\">0\")+1)","v":0},"1030SPF-PI","Szűrőbetét SPF 1030SPF-PI",null,"Szűrőbetét","88 220,-Ft",355.4015,null,88220]
[{"$f":"IF(L1339=FALSE,0,COUNTIF(A$3:A1338,\">0\")+1)","v":0},"1530SPF-PI","Szűrőbetét SPF 1530SPF-PI",null,"Szűrőbetét","105 340,-Ft",424.36,null,105340]
[{"$f":"IF(L1340=FALSE,0,COUNTIF(A$3:A1339,\">0\")+1)","v":0},"2030SPF-PI","Szűrőbetét SPF 2030SPF-PI",null,"Szűrőbetét","126 320,-Ft",525.14550000000008,null,126320]
[{"$f":"IF(L1341=FALSE,0,COUNTIF(A$3:A1340,\">0\")+1)","v":0},"3030SPF-PI","Szűrőbetét SPF 3030SPF-PI",null,"Szűrőbetét","151 840,-Ft",631.2355,null,151840]
[{"$f":"IF(L1342=FALSE,0,COUNTIF(A$3:A1341,\">0\")+1)","v":0},"3050SPF-PI","Szűrőbetét SPF 3050SPF-PI",null,"Szűrőbetét","183 740,-Ft",763.84800000000007,null,183740]
[{"$f":"IF(L1343=FALSE,0,COUNTIF(A$3:A1342,\">0\")+1)","v":0},"310SPF-PIW","Szűrőbetét SPF 310SPF-PIW",null,"Szűrőbetét","25 810,-Ft",103.9682,null,25810]
[{"$f":"IF(L1344=FALSE,0,COUNTIF(A$3:A1343,\">0\")+1)","v":0},"410SPF-PIW","Szűrőbetét SPF 410SPF-PIW",null,"Szűrőbetét","30 280,-Ft",122.0035,null,30280]
[{"$f":"IF(L1345=FALSE,0,COUNTIF(A$3:A1344,\">0\")+1)","v":0},"420SPF-PIW","Szűrőbetét SPF 420SPF-PIW",null,"Szűrőbetét","32 920,-Ft",132.61250000000001,null,32920]
[{"$f":"IF(L1346=FALSE,0,COUNTIF(A$3:A1345,\">0\")+1)","v":0},"520SPF-PIW","Szűrőbetét SPF 520SPF-PIW",null,"Szűrőbetét","40 820,-Ft",164.43950000000001,null,40820]
[{"$f":"IF(L1347=FALSE,0,COUNTIF(A$3:A1346,\">0\")+1)","v":0},"525SPF-PIW","Szűrőbetét SPF 525SPF-PIW",null,"Szűrőbetét","48 720,-Ft",196.26650000000001,null,48720]
[{"$f":"IF(L1348=FALSE,0,COUNTIF(A$3:A1347,\">0\")+1)","v":0},"725SPF-PIW","Szűrőbetét SPF 725SPF-PIW",null,"Szűrőbetét",{"$f":"TEXT(I1348,\"# ###,-Ft\")","v":"57 940,-Ft"},233.398,null,{"$f":"ROUND(IF(G$1=1,IF(G1348>10000,(G1348*N$1*0.85),IF(G1348>5000,(G1348*N$1*0.88),IF(G1348>1000,(G1348*N$1*0.91),IF(G1348>500,(G1348*N$1*0.94),IF(G1348>100,(G1348*N$1*0.97),(G1348*N$1))))))/1.27,G1348*N$1/1.27),L$1)","v":57940}]
[{"$f":"IF(L1349=FALSE,0,COUNTIF(A$3:A1348,\">0\")+1)","v":0},"730SPF-PIW","Szűrőbetét SPF 730SPF-PIW",null,"Szűrőbetét","72 420,-Ft",291.7475,null,72420]
[{"$f":"IF(L1350=FALSE,0,COUNTIF(A$3:A1349,\">0\")+1)","v":0},"1030SPF-PIW","Szűrőbetét SPF 1030SPF-PIW",null,"Szűrőbetét","88 220,-Ft",355.4015,null,88220]
[{"$f":"IF(L1351=FALSE,0,COUNTIF(A$3:A1350,\">0\")+1)","v":0},"1530SPF-PIW","Szűrőbetét SPF 1530SPF-PIW",null,"Szűrőbetét","105 340,-Ft",424.36,null,105340]
[{"$f":"IF(L1352=FALSE,0,COUNTIF(A$3:A1351,\">0\")+1)","v":0},"2030SPF-PIW","Szűrőbetét SPF 2030SPF-PIW",null,"Szűrőbetét","126 320,-Ft",525.14550000000008,null,126320]
[{"$f":"IF(L1353=FALSE,0,COUNTIF(A$3:A1352,\">0\")+1)","v":0},"3030SPF-PIW","Szűrőbetét SPF 3030SPF-PIW",null,"Szűrőbetét","151 840,-Ft",631.2355,null,151840]
[{"$f":"IF(L1354=FALSE,0,COUNTIF(A$3:A1353,\">0\")+1)","v":0},"3050SPF-PIW","Szűrőbetét SPF 3050SPF-PIW",null,"Szűrőbetét","183 740,-Ft",763.84800000000007,null,183740]
[{"$f":"IF(L1355=FALSE,0,COUNTIF(A$3:A1354,\">0\")+1)","v":0},"310SPF-PP","Szűrőbetét SPF 310SPF-PP",null,"Szűrőbetét","24 000,-Ft",93.781499999999994,null,24000]
[{"$f":"IF(L1356=FALSE,0,COUNTIF(A$3:A1355,\">0\")+1)","v":0},"410SPF-PP","Szűrőbetét SPF 410SPF-PP",null,"Szűrőbetét","27 390,-Ft",110.3336,null,27390]
[{"$f":"IF(L1357=FALSE,0,COUNTIF(A$3:A1356,\">0\")+1)","v":0},"420SPF-PP","Szűrőbetét SPF 420SPF-PP",null,"Szűrőbetét","30 020,-Ft",120.9426,null,30020]
[{"$f":"IF(L1358=FALSE,0,COUNTIF(A$3:A1357,\">0\")+1)","v":0},"520SPF-PP","Szűrőbetét SPF 520SPF-PP",null,"Szűrőbetét","36 970,-Ft",148.94830000000002,null,36970]
[{"$f":"IF(L1359=FALSE,0,COUNTIF(A$3:A1358,\">0\")+1)","v":0},"525SPF-PP","Szűrőbetét SPF 525SPF-PP",null,"Szűrőbetét","43 820,-Ft",176.5317,null,43820]
[{"$f":"IF(L1360=FALSE,0,COUNTIF(A$3:A1359,\">0\")+1)","v":0},"725SPF-PP","Szűrőbetét SPF 725SPF-PP",null,"Szűrőbetét","52 040,-Ft",209.63590000000002,null,52040]
[{"$f":"IF(L1361=FALSE,0,COUNTIF(A$3:A1360,\">0\")+1)","v":0},"730SPF-PP","Szűrőbetét SPF 730SPF-PP",null,"Szűrőbetét","65 730,-Ft",264.80269999999996,null,65730]
[{"$f":"IF(L1362=FALSE,0,COUNTIF(A$3:A1361,\">0\")+1)","v":0},"1030SPF-PP","Szűrőbetét SPF 1030SPF-PP",null,"Szűrőbetét","79 430,-Ft",319.96949999999998,null,79430]
[{"$f":"IF(L1363=FALSE,0,COUNTIF(A$3:A1362,\">0\")+1)","v":0},"1530SPF-PP","Szűrőbetét SPF 1530SPF-PP",null,"Szűrőbetét","95 860,-Ft",386.16760000000005,null,95860]
[{"$f":"IF(L1364=FALSE,0,COUNTIF(A$3:A1363,\">0\")+1)","v":0},"2030SPF-PP","Szűrőbetét SPF 2030SPF-PP",null,"Szűrőbetét","117 770,-Ft",474.43860000000001,null,117770]
[{"$f":"IF(L1365=FALSE,0,COUNTIF(A$3:A1364,\">0\")+1)","v":0},"3030SPF-PP","Szűrőbetét SPF 3030SPF-PP",null,"Szűrőbetét","138 010,-Ft",573.73059999999998,null,138010]
[{"$f":"IF(L1366=FALSE,0,COUNTIF(A$3:A1365,\">0\")+1)","v":0},"3050SPF-PP","Szűrőbetét SPF 3050SPF-PP",null,"Szűrőbetét","167 210,-Ft",695.10580000000004,null,167210]
[{"$f":"IF(L1367=FALSE,0,COUNTIF(A$3:A1366,\">0\")+1)","v":0},"310SPF-PR","Szűrőbetét SPF 310SPF-PR",null,"Szűrőbetét","24 000,-Ft",93.781499999999994,null,24000]
[{"$f":"IF(L1368=FALSE,0,COUNTIF(A$3:A1367,\">0\")+1)","v":0},"410SPF-PR","Szűrőbetét SPF 410SPF-PR",null,"Szűrőbetét","27 390,-Ft",110.3336,null,27390]
[{"$f":"IF(L1369=FALSE,0,COUNTIF(A$3:A1368,\">0\")+1)","v":0},"420SPF-PR","Szűrőbetét SPF 420SPF-PR",null,"Szűrőbetét","30 020,-Ft",120.9426,null,30020]
[{"$f":"IF(L1370=FALSE,0,COUNTIF(A$3:A1369,\">0\")+1)","v":0},"520SPF-PR","Szűrőbetét SPF 520SPF-PR",null,"Szűrőbetét","36 970,-Ft",148.94830000000002,null,36970]
[{"$f":"IF(L1371=FALSE,0,COUNTIF(A$3:A1370,\">0\")+1)","v":0},"525SPF-PR","Szűrőbetét SPF 525SPF-PR",null,"Szűrőbetét","43 820,-Ft",176.5317,null,43820]
[{"$f":"IF(L1372=FALSE,0,COUNTIF(A$3:A1371,\">0\")+1)","v":0},"725SPF-PR","Szűrőbetét SPF 725SPF-PR",null,"Szűrőbetét","52 040,-Ft",209.63590000000002,null,52040]
[{"$f":"IF(L1373=FALSE,0,COUNTIF(A$3:A1372,\">0\")+1)","v":0},"730SPF-PR","Szűrőbetét SPF 730SPF-PR",null,"Szűrőbetét","65 730,-Ft",264.80269999999996,null,65730]
[{"$f":"IF(L1374=FALSE,0,COUNTIF(A$3:A1373,\">0\")+1)","v":0},"1030SPF-PR","Szűrőbetét SPF 1030SPF-PR",null,"Szűrőbetét","79 430,-Ft",319.96949999999998,null,79430]
[{"$f":"IF(L1375=FALSE,0,COUNTIF(A$3:A1374,\">0\")+1)","v":0},"1530SPF-PR","Szűrőbetét SPF 1530SPF-PR",null,"Szűrőbetét","95 860,-Ft",386.16760000000005,null,95860]
[{"$f":"IF(L1376=FALSE,0,COUNTIF(A$3:A1375,\">0\")+1)","v":0},"2030SPF-PR","Szűrőbetét SPF 2030SPF-PR",null,"Szűrőbetét","117 770,-Ft",474.43860000000001,null,117770]
[{"$f":"IF(L1377=FALSE,0,COUNTIF(A$3:A1376,\">0\")+1)","v":0},"3030SPF-PR","Szűrőbetét SPF 3030SPF-PR",null,"Szűrőbetét","138 010,-Ft",573.73059999999998,null,138010]
[{"$f":"IF(L1378=FALSE,0,COUNTIF(A$3:A1377,\">0\")+1)","v":0},"3050SPF-PR","Szűrőbetét SPF 3050SPF-PR",null,"Szűrőbetét","167 210,-Ft",695.10580000000004,null,167210]
[{"$f":"IF(L1379=FALSE,0,COUNTIF(A$3:A1378,\">0\")+1)","v":0},"310SPF-PM","Szűrőbetét SPF 310SPF-PM",null,"Szűrőbetét","24 000,-Ft",93.781499999999994,null,24000]
[{"$f":"IF(L1380=FALSE,0,COUNTIF(A$3:A1379,\">0\")+1)","v":0},"410SPF-PM","Szűrőbetét SPF 410SPF-PM",null,"Szűrőbetét","27 390,-Ft",110.3336,null,27390]
[{"$f":"IF(L1381=FALSE,0,COUNTIF(A$3:A1380,\">0\")+1)","v":0},"420SPF-PM","Szűrőbetét SPF 420SPF-PM",null,"Szűrőbetét","30 020,-Ft",120.9426,null,30020]
[{"$f":"IF(L1382=FALSE,0,COUNTIF(A$3:A1381,\">0\")+1)","v":0},"520SPF-PM","Szűrőbetét SPF 520SPF-PM",null,"Szűrőbetét","36 970,-Ft",148.94830000000002,null,36970]
[{"$f":"IF(L1383=FALSE,0,COUNTIF(A$3:A1382,\">0\")+1)","v":0},"525SPF-PM","Szűrőbetét SPF 525SPF-PM",null,"Szűrőbetét","43 820,-Ft",176.5317,null,43820]
[{"$f":"IF(L1384=FALSE,0,COUNTIF(A$3:A1383,\">0\")+1)","v":0},"725SPF-PM","Szűrőbetét SPF 725SPF-PM",null,"Szűrőbetét","52 040,-Ft",209.63590000000002,null,52040]
[{"$f":"IF(L1385=FALSE,0,COUNTIF(A$3:A1384,\">0\")+1)","v":0},"730SPF-PM","Szűrőbetét SPF 730SPF-PM",null,"Szűrőbetét","65 730,-Ft",264.80269999999996,null,65730]
[{"$f":"IF(L1386=FALSE,0,COUNTIF(A$3:A1385,\">0\")+1)","v":0},"1030SPF-PM","Szűrőbetét SPF 1030SPF-PM",null,"Szűrőbetét","79 430,-Ft",319.96949999999998,null,79430]
[{"$f":"IF(L1387=FALSE,0,COUNTIF(A$3:A1386,\">0\")+1)","v":0},"1530SPF-PM","Szűrőbetét SPF 1530SPF-PM",null,"Szűrőbetét","95 860,-Ft",386.16760000000005,null,95860]
[{"$f":"IF(L1388=FALSE,0,COUNTIF(A$3:A1387,\">0\")+1)","v":0},"2030SPF-PM","Szűrőbetét SPF 2030SPF-PM",null,"Szűrőbetét","117 770,-Ft",474.43860000000001,null,117770]
[{"$f":"IF(L1389=FALSE,0,COUNTIF(A$3:A1388,\">0\")+1)","v":0},"3030SPF-PM","Szűrőbetét SPF 3030SPF-PM",null,"Szűrőbetét","138 010,-Ft",573.73059999999998,null,138010]
[{"$f":"IF(L1390=FALSE,0,COUNTIF(A$3:A1389,\">0\")+1)","v":0},"3050SPF-PM","Szűrőbetét SPF 3050SPF-PM",null,"Szűrőbetét","167 210,-Ft",695.10580000000004,null,167210]
[{"$f":"IF(L1391=FALSE,0,COUNTIF(A$3:A1390,\">0\")+1)","v":0},"310SPF-PS","Szűrőbetét SPF 310SPF-PS",null,"Szűrőbetét","24 000,-Ft",93.781499999999994,null,24000]
[{"$f":"IF(L1392=FALSE,0,COUNTIF(A$3:A1391,\">0\")+1)","v":0},"410SPF-PS","Szűrőbetét SPF 410SPF-PS",null,"Szűrőbetét","27 390,-Ft",110.3336,null,27390]
[{"$f":"IF(L1393=FALSE,0,COUNTIF(A$3:A1392,\">0\")+1)","v":0},"420SPF-PS","Szűrőbetét SPF 420SPF-PS",null,"Szűrőbetét","30 020,-Ft",120.9426,null,30020]
[{"$f":"IF(L1394=FALSE,0,COUNTIF(A$3:A1393,\">0\")+1)","v":0},"520SPF-PS","Szűrőbetét SPF 520SPF-PS",null,"Szűrőbetét","36 970,-Ft",148.94830000000002,null,36970]
[{"$f":"IF(L1395=FALSE,0,COUNTIF(A$3:A1394,\">0\")+1)","v":0},"525SPF-PS","Szűrőbetét SPF 525SPF-PS",null,"Szűrőbetét","43 820,-Ft",176.5317,null,43820]
[{"$f":"IF(L1396=FALSE,0,COUNTIF(A$3:A1395,\">0\")+1)","v":0},"725SPF-PS","Szűrőbetét SPF 725SPF-PS",null,"Szűrőbetét","52 040,-Ft",209.63590000000002,null,52040]
[{"$f":"IF(L1397=FALSE,0,COUNTIF(A$3:A1396,\">0\")+1)","v":0},"730SPF-PS","Szűrőbetét SPF 730SPF-PS",null,"Szűrőbetét","65 730,-Ft",264.80269999999996,null,65730]
[{"$f":"IF(L1398=FALSE,0,COUNTIF(A$3:A1397,\">0\")+1)","v":0},"1030SPF-PS","Szűrőbetét SPF 1030SPF-PS",null,"Szűrőbetét","79 430,-Ft",319.96949999999998,null,79430]
[{"$f":"IF(L1399=FALSE,0,COUNTIF(A$3:A1398,\">0\")+1)","v":0},"1530SPF-PS","Szűrőbetét SPF 1530SPF-PS",null,"Szűrőbetét","95 860,-Ft",386.16760000000005,null,95860]
[{"$f":"IF(L1400=FALSE,0,COUNTIF(A$3:A1399,\">0\")+1)","v":0},"2030SPF-PS","Szűrőbetét SPF 2030SPF-PS",null,"Szűrőbetét","117 770,-Ft",474.43860000000001,null,117770]
[{"$f":"IF(L1401=FALSE,0,COUNTIF(A$3:A1400,\">0\")+1)","v":0},"3030SPF-PS","Szűrőbetét SPF 3030SPF-PS",null,"Szűrőbetét","138 010,-Ft",573.73059999999998,null,138010]
[{"$f":"IF(L1402=FALSE,0,COUNTIF(A$3:A1401,\">0\")+1)","v":0},"3050SPF-PS","Szűrőbetét SPF 3050SPF-PS",null,"Szűrőbetét","167 210,-Ft",695.10580000000004,null,167210]
[{"$f":"IF(L1403=FALSE,0,COUNTIF(A$3:A1402,\">0\")+1)","v":0},"310SPF-PA","Szűrőbetét SPF 310SPF-PA",null,"Szűrőbetét","24 000,-Ft",93.781499999999994,null,24000]
[{"$f":"IF(L1404=FALSE,0,COUNTIF(A$3:A1403,\">0\")+1)","v":0},"410SPF-PA","Szűrőbetét SPF 410SPF-PA",null,"Szűrőbetét","27 390,-Ft",110.3336,null,27390]
[{"$f":"IF(L1405=FALSE,0,COUNTIF(A$3:A1404,\">0\")+1)","v":0},"420SPF-PA","Szűrőbetét SPF 420SPF-PA",null,"Szűrőbetét","30 020,-Ft",120.9426,null,30020]
[{"$f":"IF(L1406=FALSE,0,COUNTIF(A$3:A1405,\">0\")+1)","v":0},"520SPF-PA","Szűrőbetét SPF 520SPF-PA",null,"Szűrőbetét","36 970,-Ft",148.94830000000002,null,36970]
[{"$f":"IF(L1407=FALSE,0,COUNTIF(A$3:A1406,\">0\")+1)","v":0},"525SPF-PA","Szűrőbetét SPF 525SPF-PA",null,"Szűrőbetét","43 820,-Ft",176.5317,null,43820]
[{"$f":"IF(L1408=FALSE,0,COUNTIF(A$3:A1407,\">0\")+1)","v":0},"725SPF-PA","Szűrőbetét SPF 725SPF-PA",null,"Szűrőbetét","52 040,-Ft",209.63590000000002,null,52040]
[{"$f":"IF(L1409=FALSE,0,COUNTIF(A$3:A1408,\">0\")+1)","v":0},"730SPF-PA","Szűrőbetét SPF 730SPF-PA",null,"Szűrőbetét","65 730,-Ft",264.80269999999996,null,65730]
[{"$f":"IF(L1410=FALSE,0,COUNTIF(A$3:A1409,\">0\")+1)","v":0},"1030SPF-PA","Szűrőbetét SPF 1030SPF-PA",null,"Szűrőbetét","79 430,-Ft",319.96949999999998,null,79430]
[{"$f":"IF(L1411=FALSE,0,COUNTIF(A$3:A1410,\">0\")+1)","v":0},"1530SPF-PA","Szűrőbetét SPF 1530SPF-PA",null,"Szűrőbetét","95 860,-Ft",386.16760000000005,null,95860]
[{"$f":"IF(L1412=FALSE,0,COUNTIF(A$3:A1411,\">0\")+1)","v":0},"2030SPF-PA","Szűrőbetét SPF 2030SPF-PA",null,"Szűrőbetét",{"$f":"TEXT(I1412,\"# ###,-Ft\")","v":"117 770,-Ft"},474.43860000000001,null,{"$f":"ROUND(IF(G$1=1,IF(G1412>10000,(G1412*N$1*0.85),IF(G1412>5000,(G1412*N$1*0.88),IF(G1412>1000,(G1412*N$1*0.91),IF(G1412>500,(G1412*N$1*0.94),IF(G1412>100,(G1412*N$1*0.97),(G1412*N$1))))))/1.27,G1412*N$1/1.27),L$1)","v":117770}]
[{"$f":"IF(L1413=FALSE,0,COUNTIF(A$3:A1412,\">0\")+1)","v":0},"3030SPF-PA","Szűrőbetét SPF 3030SPF-PA",null,"Szűrőbetét","138 010,-Ft",573.73059999999998,null,138010]
[{"$f":"IF(L1414=FALSE,0,COUNTIF(A$3:A1413,\">0\")+1)","v":0},"3050SPF-PA","Szűrőbetét SPF 3050SPF-PA",null,"Szűrőbetét","167 210,-Ft",695.10580000000004,null,167210]
[{"$f":"IF(L1415=FALSE,0,COUNTIF(A$3:A1414,\">0\")+1)","v":0},"310SPF-VSF","Szűrőbetét SPF 310SPF-VSF",null,"Szűrőbetét","25 410,-Ft",99.302300000000002,null,25410]
[{"$f":"IF(L1416=FALSE,0,COUNTIF(A$3:A1415,\">0\")+1)","v":0},"410SPF-VSF","Szűrőbetét SPF 410SPF-VSF",null,"Szűrőbetét","30 130,-Ft",121.36490000000001,null,30130]
[{"$f":"IF(L1417=FALSE,0,COUNTIF(A$3:A1416,\">0\")+1)","v":0},"420SPF-VSF","Szűrőbetét SPF 420SPF-VSF",null,"Szűrőbetét","34 230,-Ft",137.917,null,34230]
[{"$f":"IF(L1418=FALSE,0,COUNTIF(A$3:A1417,\">0\")+1)","v":0},"520SPF-VSF","Szűrőbetét SPF 520SPF-VSF",null,"Szűrőbetét","38 340,-Ft",154.4691,null,38340]
[{"$f":"IF(L1419=FALSE,0,COUNTIF(A$3:A1418,\">0\")+1)","v":0},"525SPF-VSF","Szűrőbetét SPF 525SPF-VSF",null,"Szűrőbetét","46 560,-Ft",187.56299999999999,null,46560]
[{"$f":"IF(L1420=FALSE,0,COUNTIF(A$3:A1419,\">0\")+1)","v":0},"725SPF-VSF","Szűrőbetét SPF 725SPF-VSF",null,"Szűrőbetét","57 230,-Ft",230.53460000000001,null,57230]
[{"$f":"IF(L1421=FALSE,0,COUNTIF(A$3:A1420,\">0\")+1)","v":0},"730SPF-VSF","Szűrőbetét SPF 730SPF-VSF",null,"Szűrőbetét","71 210,-Ft",286.86529999999999,null,71210]
[{"$f":"IF(L1422=FALSE,0,COUNTIF(A$3:A1421,\">0\")+1)","v":0},"1030SPF-VSF","Szűrőbetét SPF 1030SPF-VSF",null,"Szűrőbetét","90 380,-Ft",364.10500000000002,null,90380]
[{"$f":"IF(L1423=FALSE,0,COUNTIF(A$3:A1422,\">0\")+1)","v":0},"1530SPF-VSF","Szűrőbetét SPF 1530SPF-VSF",null,"Szűrőbetét","101 230,-Ft",407.80790000000002,null,101230]
[{"$f":"IF(L1424=FALSE,0,COUNTIF(A$3:A1423,\">0\")+1)","v":0},"2030SPF-VSF","Szűrőbetét SPF 2030SPF-VSF",null,"Szűrőbetét","122 090,-Ft",507.53250000000003,null,122090]
[{"$f":"IF(L1425=FALSE,0,COUNTIF(A$3:A1424,\">0\")+1)","v":0},"3030SPF-VSF","Szűrőbetét SPF 3030SPF-VSF",null,"Szűrőbetét","145 970,-Ft",606.83479999999997,null,145970]
[{"$f":"IF(L1426=FALSE,0,COUNTIF(A$3:A1425,\">0\")+1)","v":0},"3050SPF-VSF","Szűrőbetét SPF 3050SPF-VSF",null,"Szűrőbetét","175 170,-Ft",728.19970000000001,null,175170]
[{"$f":"IF(L1427=FALSE,0,COUNTIF(A$3:A1426,\">0\")+1)","v":0},"AV 006","Saválló sterilszűrő AV szűrőház  32",32,"Szűrőház","88 220,-Ft",355.4015,null,88220]
[{"$f":"IF(L1428=FALSE,0,COUNTIF(A$3:A1427,\">0\")+1)","v":0},"AV 027","Saválló sterilszűrő AV szűrőház  40",40,"Szűrőház","93 490,-Ft",376.61949999999996,null,93490]
[{"$f":"IF(L1429=FALSE,0,COUNTIF(A$3:A1428,\">0\")+1)","v":0},"AV 032","Saválló sterilszűrő AV szűrőház  50",50,"Szűrőház","113 240,-Ft",456.18700000000001,null,113240]
[{"$f":"IF(L1430=FALSE,0,COUNTIF(A$3:A1429,\">0\")+1)","v":0},"AV 072","Saválló sterilszűrő AV szűrőház  50",50,"Szűrőház","118 510,-Ft",477.40500000000003,null,118510]
[{"$f":"IF(L1431=FALSE,0,COUNTIF(A$3:A1430,\">0\")+1)","v":0},"AV 144","Saválló sterilszűrő AV szűrőház  80",80,"Szűrőház","207 990,-Ft",864.63350000000003,null,207990]
[{"$f":"IF(L1432=FALSE,0,COUNTIF(A$3:A1431,\">0\")+1)","v":0},"AV 192","Saválló sterilszűrő AV szűrőház  80",80,"Szűrőház","216 920,-Ft",901.76499999999999,null,216920]
[{"$f":"IF(L1433=FALSE,0,COUNTIF(A$3:A1432,\">0\")+1)","v":0},"310AV-AVF","Szűrőbetét AV 310AV-AVF",null,"Szűrőbetét","25 410,-Ft",99.302300000000002,null,25410]
[{"$f":"IF(L1434=FALSE,0,COUNTIF(A$3:A1433,\">0\")+1)","v":0},"525AV-AVF","Szűrőbetét AV 525AV-AVF",null,"Szűrőbetét","46 560,-Ft",187.56299999999999,null,46560]
[{"$f":"IF(L1435=FALSE,0,COUNTIF(A$3:A1434,\">0\")+1)","v":0},"530AV-AVF","Szűrőbetét AV 530AV-AVF",null,"Szűrőbetét","62 120,-Ft",250.26939999999999,null,62120]
[{"$f":"IF(L1436=FALSE,0,COUNTIF(A$3:A1435,\">0\")+1)","v":0},"1030AV-AVF","Szűrőbetét AV 1030AV-AVF",null,"Szűrőbetét","90 380,-Ft",364.10500000000002,null,90380]
[{"$f":"IF(L1437=FALSE,0,COUNTIF(A$3:A1436,\">0\")+1)","v":0},"2030AV-AVF","Szűrőbetét AV 2030AV-AVF",null,"Szűrőbetét","122 090,-Ft",507.53250000000003,null,122090]
[{"$f":"IF(L1438=FALSE,0,COUNTIF(A$3:A1437,\">0\")+1)","v":0},"3030AV-AVF","Szűrőbetét AV 3030AV-AVF",null,"Szűrőbetét","145 970,-Ft",606.83479999999997,null,145970]
[{"$f":"IF(L1439=FALSE,0,COUNTIF(A$3:A1438,\">0\")+1)","v":0},"CKL 005 B","Alumínium ciklonszűrő ház  3/8","3/8","Szűrőház","12 930,-Ft",50.531800000000004,null,12930]
[{"$f":"IF(L1440=FALSE,0,COUNTIF(A$3:A1439,\">0\")+1)","v":0},"CKL 007 B","Alumínium ciklonszűrő ház  1/2","1/2","Szűrőház","14 540,-Ft",56.825100000000006,null,14540]
[{"$f":"IF(L1441=FALSE,0,COUNTIF(A$3:A1440,\">0\")+1)","v":0},"CKL 010 B","Alumínium ciklonszűrő ház  3/4","3/4","Szűrőház","17 140,-Ft",66.970600000000005,null,17140]
[{"$f":"IF(L1442=FALSE,0,COUNTIF(A$3:A1441,\">0\")+1)","v":0},"CKL 018 B","Alumínium ciklonszűrő ház  1","1","Szűrőház","24 560,-Ft",95.985699999999994,null,24560]
[{"$f":"IF(L1443=FALSE,0,COUNTIF(A$3:A1442,\">0\")+1)","v":0},"CKL 047 B","Alumínium ciklonszűrő ház  1 1/2","1 1/2","Szűrőház","30 730,-Ft",123.7957,null,30730]
[{"$f":"IF(L1444=FALSE,0,COUNTIF(A$3:A1443,\">0\")+1)","v":0},"CKL 094 B","Alumínium ciklonszűrő ház  2","2","Szűrőház","63 020,-Ft",253.87440000000001,null,63020]
[{"$f":"IF(L1445=FALSE,0,COUNTIF(A$3:A1444,\">0\")+1)","v":0},"CKL 150 B","Alumínium ciklonszűrő ház  2 1/2","2 1/2","Szűrőház","76 490,-Ft",308.15540000000004,null,76490]
[{"$f":"IF(L1446=FALSE,0,COUNTIF(A$3:A1445,\">0\")+1)","v":0},"CKL 200 B","Alumínium ciklonszűrő ház  3","3","Szűrőház","151 310,-Ft",629.01070000000004,null,151310]
[{"$f":"IF(L1447=FALSE,0,COUNTIF(A$3:A1446,\">0\")+1)","v":0},"6050CKL-B","Szűrőbetét CKL 6050CKL-B 3/8","3/8","Szűrőbetét","5 310,-Ft",20.744200000000003,null,5310]
[{"$f":"IF(L1448=FALSE,0,COUNTIF(A$3:A1447,\">0\")+1)","v":0},"7050CKL-B","Szűrőbetét CKL 7050CKL-B 1/2","1/2","Szűrőbetét","5 310,-Ft",20.744200000000003,null,5310]
[{"$f":"IF(L1449=FALSE,0,COUNTIF(A$3:A1448,\">0\")+1)","v":0},"14050CKL-B","Szűrőbetét CKL 14050CKL-B 3/4","3/4","Szűrőbetét","6 560,-Ft",25.616100000000003,null,6560]
[{"$f":"IF(L1450=FALSE,0,COUNTIF(A$3:A1449,\">0\")+1)","v":0},"12075CKL-B","Szűrőbetét CKL 12075CKL-B 1","1","Szűrőbetét","7 990,-Ft",31.2193,null,7990]
[{"$f":"IF(L1451=FALSE,0,COUNTIF(A$3:A1450,\">0\")+1)","v":0},"32075CKL-B","Szűrőbetét CKL 32075CKL-B 1 1/2","1 1/2","Szűrőbetét","9 340,-Ft",36.513500000000001,null,9340]
[{"$f":"IF(L1452=FALSE,0,COUNTIF(A$3:A1451,\">0\")+1)","v":0},"51090CKL-B","Szűrőbetét CKL 51090CKL-B 2","2","Szűrőbetét","19 650,-Ft",76.786500000000004,null,19650]
[{"$f":"IF(L1453=FALSE,0,COUNTIF(A$3:A1452,\">0\")+1)","v":0},"76090CKL-B","Szűrőbetét CKL 76090CKL-B 2 1/2","2 1/2","Szűrőbetét","19 650,-Ft",76.786500000000004,null,19650]
[{"$f":"IF(L1454=FALSE,0,COUNTIF(A$3:A1453,\">0\")+1)","v":0},"51140CKL-B","Szűrőbetét CKL 51140CKL-B 3","3","Szűrőbetét","40 730,-Ft",164.06870000000001,null,40730]
[{"$f":"IF(L1455=FALSE,0,COUNTIF(A$3:A1454,\">0\")+1)","v":0},"CKL-C 20","Alumínium ciklonszűrő ház 20 bar 3/8’’","3/8’’","Ciklonszűrő","13 840,-Ft",54.064700000000002,null,13840]
[{"$f":"IF(L1456=FALSE,0,COUNTIF(A$3:A1455,\">0\")+1)","v":0},"CKL-C 21","Alumínium ciklonszűrő ház 20 bar 1/2’’","1/2’’","Ciklonszűrő","15 560,-Ft",60.790600000000005,null,15560]
[{"$f":"IF(L1457=FALSE,0,COUNTIF(A$3:A1456,\">0\")+1)","v":0},"CKL-C 30","Alumínium ciklonszűrő ház 20 bar 1/2’’","1/2’’","Ciklonszűrő","17 050,-Ft",66.641000000000005,null,17050]
[{"$f":"IF(L1458=FALSE,0,COUNTIF(A$3:A1457,\">0\")+1)","v":0},"CKL-C 31","Alumínium ciklonszűrő ház 20 bar 3/4’’","3/4’’","Ciklonszűrő","18 330,-Ft",71.615899999999996,null,18330]
[{"$f":"IF(L1459=FALSE,0,COUNTIF(A$3:A1458,\">0\")+1)","v":0},"CKL-C 40","Alumínium ciklonszűrő ház 20 bar 1’’","1’’","Ciklonszűrő","25 500,-Ft",102.7116,null,25500]
[{"$f":"IF(L1460=FALSE,0,COUNTIF(A$3:A1459,\">0\")+1)","v":0},"CKL-C 43","Alumínium ciklonszűrő ház 20 bar 1 1/2’’","1 1/2’’","Ciklonszűrő","32 890,-Ft",132.5095,null,32890]
[{"$f":"IF(L1461=FALSE,0,COUNTIF(A$3:A1460,\">0\")+1)","v":0},"CKL-C 50","Alumínium ciklonszűrő ház 20 bar 2’’","2’’","Ciklonszűrő","67 430,-Ft",271.64190000000002,null,67430]
[{"$f":"IF(L1462=FALSE,0,COUNTIF(A$3:A1461,\">0\")+1)","v":0},"CKL-C 52","Alumínium ciklonszűrő ház 20 bar 2 1/2’’","2 1/2’’","Ciklonszűrő","134 270,-Ft",558.17759999999998,null,134270]
[{"$f":"IF(L1463=FALSE,0,COUNTIF(A$3:A1462,\">0\")+1)","v":0},"CKL-C 61","Alumínium ciklonszűrő ház 20 bar 3’’","3’’","Ciklonszűrő","199 960,-Ft",831.26149999999996,null,199960]
[{"$f":"IF(L1464=FALSE,0,COUNTIF(A$3:A1463,\">0\")+1)","v":0},"20CKL-C","Szűrőbetét CKL-C 20CKL-C 3/8’’","3/8’’","Szűrőbetét","8 550,-Ft",33.423500000000004,null,8550]
[{"$f":"IF(L1465=FALSE,0,COUNTIF(A$3:A1464,\">0\")+1)","v":0},"21CKL-C","Szűrőbetét CKL-C 21CKL-C 1/2’’","1/2’’","Szűrőbetét","9 290,-Ft",36.286899999999996,null,9290]
[{"$f":"IF(L1466=FALSE,0,COUNTIF(A$3:A1465,\">0\")+1)","v":0},"30CKL-C","Szűrőbetét CKL-C 30CKL-C 1/2’’","1/2’’","Szűrőbetét","10 830,-Ft",42.333000000000006,null,10830]
[{"$f":"IF(L1467=FALSE,0,COUNTIF(A$3:A1466,\">0\")+1)","v":0},"31CKL-C","Szűrőbetét CKL-C 31CKL-C 3/4’’","3/4’’","Szűrőbetét","11 650,-Ft",45.515699999999995,null,11650]
[{"$f":"IF(L1468=FALSE,0,COUNTIF(A$3:A1467,\">0\")+1)","v":0},"40CKL-C","Szűrőbetét CKL-C 40CKL-C 1’’","1’’","Szűrőbetét","16 150,-Ft",63.128700000000002,null,16150]
[{"$f":"IF(L1469=FALSE,0,COUNTIF(A$3:A1468,\">0\")+1)","v":0},"43CKL-C","Szűrőbetét CKL-C 43CKL-C 1 1/2’’","1 1/2’’","Szűrőbetét","20 500,-Ft",80.103099999999998,null,20500]
[{"$f":"IF(L1470=FALSE,0,COUNTIF(A$3:A1469,\">0\")+1)","v":0},"50CKL-C","Szűrőbetét CKL-C 50CKL-C 2’’","2’’","Szűrőbetét","34 050,-Ft",137.17540000000002,null,34050]
[{"$f":"IF(L1471=FALSE,0,COUNTIF(A$3:A1470,\">0\")+1)","v":0},"52CKL-C","Szűrőbetét CKL-C 52CKL-C 2 1/2’’","2 1/2’’","Szűrőbetét","41 930,-Ft",168.89939999999999,null,41930]
[{"$f":"IF(L1472=FALSE,0,COUNTIF(A$3:A1471,\">0\")+1)","v":0},"61CKL-C","Szűrőbetét CKL-C 61CKL-C 3’’","3’’","Szűrőbetét","60 620,-Ft",244.22330000000002,null,60620]
[{"$f":"IF(L1473=FALSE,0,COUNTIF(A$3:A1472,\">0\")+1)","v":0},"CS 14","Hegesztett házú szeparátor 65","65","Ciklonszűrő",{"$f":"TEXT(I1473,\"# ###,-Ft (2)\")","v":"284 000,-Ft (2)"},1220.0350000000001,2,{"$f":"ROUND(IF(G$1=1,IF(G1473>10000,(G1473*N$1*0.85),IF(G1473>5000,(G1473*N$1*0.88),IF(G1473>1000,(G1473*N$1*0.91),IF(G1473>500,(G1473*N$1*0.94),IF(G1473>100,(G1473*N$1*0.97),(G1473*N$1))))))/1.27,G1473*N$1/1.27),-3)","v":284000}]
[{"$f":"IF(L1474=FALSE,0,COUNTIF(A$3:A1473,\">0\")+1)","v":0},"CS 28","Hegesztett házú szeparátor 80","80","Ciklonszűrő","295 000,-Ft (2)",1267.7755,2,295000]
[{"$f":"IF(L1475=FALSE,0,COUNTIF(A$3:A1474,\">0\")+1)","v":0},"CS 62","Hegesztett házú szeparátor 125","125","Ciklonszűrő","383 000,-Ft (2)",1644.395,2,383000]
[{"$f":"IF(L1476=FALSE,0,COUNTIF(A$3:A1475,\">0\")+1)","v":0},"CS 88","Hegesztett házú szeparátor 150","150","Ciklonszűrő","489 000,-Ft (2)",2100.5820000000003,2,489000]
[{"$f":"IF(L1477=FALSE,0,COUNTIF(A$3:A1476,\">0\")+1)","v":0},"CS 124","Hegesztett házú szeparátor 200","200","Ciklonszűrő","626 000,-Ft (2)",2689.3815000000004,2,626000]
[{"$f":"IF(L1478=FALSE,0,COUNTIF(A$3:A1477,\">0\")+1)","v":0},"CS 238","Hegesztett házú szeparátor 300","300","Ciklonszűrő",{"$f":"TEXT(I1478,\"# ###,-Ft (3)\")","v":"1 242 000,-Ft (3)"},5516.68,4,1242000]
[{"$f":"IF(L1479=FALSE,0,COUNTIF(A$3:A1478,\">0\")+1)","v":0},"CS SS 14","Saválló házú szeparátor 65","65","Ciklonszűrő",{"$f":"TEXT(I1479,\"# ###,-Ft (2)\")","v":"467 000,-Ft (2)"},2005.1010000000001,2,467000]
[{"$f":"IF(L1480=FALSE,0,COUNTIF(A$3:A1479,\">0\")+1)","v":0},"CS SS 28","Saválló házú szeparátor 80","80","Ciklonszűrő","499 000,-Ft (2)",2143.018,2,499000]
[{"$f":"IF(L1481=FALSE,0,COUNTIF(A$3:A1480,\">0\")+1)","v":0},"CS SS 62","Saválló házú szeparátor 125","125","Ciklonszűrő","736 000,-Ft (2)",3161.482,2,736000]
[{"$f":"IF(L1482=FALSE,0,COUNTIF(A$3:A1481,\">0\")+1)","v":0},"CS SS 88","Saválló házú szeparátor 150","150","Ciklonszűrő","1 027 000,-Ft (2)",4408.0394999999999,2,1027000]
[{"$f":"IF(L1483=FALSE,0,COUNTIF(A$3:A1482,\">0\")+1)","v":0},"CS SS 124","Saválló házú szeparátor 200","200","Ciklonszűrő",{"$f":"TEXT(I1483,\"# ###,-Ft (3)\")","v":"1 369 000,-Ft (3)"},6078.9569999999994,4,1369000]
[{"$f":"IF(L1484=FALSE,0,COUNTIF(A$3:A1483,\">0\")+1)","v":0},"CS SS 238","Saválló házú szeparátor 300","300","Ciklonszűrő",{"$f":"TEXT(I1484,\"# ###,-Ft (4)\")","v":"2 998 000,-Ft (4)"},13781.091,6,2998000]
[{"$f":"IF(L1485=FALSE,0,COUNTIF(A$3:A1484,\">0\")+1)","v":0},"SFH 029","Hegesztett házú szeparátor 80","80","Ciklonszűrő",{"$f":"TEXT(I1485,\"# ###,-Ft (2)\")","v":"315 000,-Ft (2)"},1352.6475,2,315000]
[{"$f":"IF(L1486=FALSE,0,COUNTIF(A$3:A1485,\">0\")+1)","v":0},"SFH 037","Hegesztett házú szeparátor 100","100","Ciklonszűrő","377 000,-Ft (2)",1617.8724999999999,2,377000]
[{"$f":"IF(L1487=FALSE,0,COUNTIF(A$3:A1486,\">0\")+1)","v":0},"SFH 066","Hegesztett házú szeparátor 125","125","Ciklonszűrő","443 000,-Ft (2)",1904.3154999999999,2,443000]
[{"$f":"IF(L1488=FALSE,0,COUNTIF(A$3:A1487,\">0\")+1)","v":0},"SFH 088","Hegesztett házú szeparátor 150","150","Ciklonszűrő","514 000,-Ft (2)",2206.672,2,514000]
[{"$f":"IF(L1489=FALSE,0,COUNTIF(A$3:A1488,\">0\")+1)","v":0},"SFH 097","Hegesztett házú szeparátor 200","200","Ciklonszűrő","640 000,-Ft (2)",2747.7309999999998,2,640000]
[{"$f":"IF(L1490=FALSE,0,COUNTIF(A$3:A1489,\">0\")+1)","v":0},"SFH 142","Hegesztett házú szeparátor 250","250","Ciklonszűrő","1 099 000,-Ft (2)",4721.0050000000001,2,1099000]
[{"$f":"IF(L1491=FALSE,0,COUNTIF(A$3:A1490,\">0\")+1)","v":0},"SFH 180","Hegesztett házú szeparátor 300","300","Ciklonszűrő",{"$f":"TEXT(I1491,\"# ###,-Ft (3)\")","v":"1 284 000,-Ft (3)"},5702.3375000000005,4,1284000]
[{"$f":"IF(L1492=FALSE,0,COUNTIF(A$3:A1491,\">0\")+1)","v":0},"SFH 209","Hegesztett házú szeparátor 350","350","Ciklonszűrő","1 660 000,-Ft (3)",7373.2550000000001,4,1660000]
[{"$f":"IF(L1493=FALSE,0,COUNTIF(A$3:A1492,\">0\")+1)","v":0},"SFH SS 029","Saválló házú szeparátor 80","80","Ciklonszűrő",{"$f":"TEXT(I1493,\"# ###,-Ft (2)\")","v":"540 000,-Ft (2)"},2318.0665000000004,2,540000]
[{"$f":"IF(L1494=FALSE,0,COUNTIF(A$3:A1493,\">0\")+1)","v":0},"SFH SS 037","Saválló házú szeparátor 100","100","Ciklonszűrő","672 000,-Ft (2)",2885.6480000000001,2,672000]
[{"$f":"IF(L1495=FALSE,0,COUNTIF(A$3:A1494,\">0\")+1)","v":0},"SFH SS 066","Saválló házú szeparátor 125","125","Ciklonszűrő","846 000,-Ft (2)",3633.5825,2,846000]
[{"$f":"IF(L1496=FALSE,0,COUNTIF(A$3:A1495,\">0\")+1)","v":0},"SFH SS 088","Saválló házú szeparátor 150","150","Ciklonszűrő","1 013 000,-Ft (2)",4349.6900000000005,2,1013000]
[{"$f":"IF(L1497=FALSE,0,COUNTIF(A$3:A1496,\">0\")+1)","v":0},"SFH SS 097","Saválló házú szeparátor 200","200","Ciklonszűrő",{"$f":"TEXT(I1497,\"# ###,-Ft (3)\")","v":"1 310 000,-Ft (3)"},5819.0365000000002,4,1310000]
[{"$f":"IF(L1498=FALSE,0,COUNTIF(A$3:A1497,\">0\")+1)","v":0},"SFH SS 142","Saválló házú szeparátor 250","250","Ciklonszűrő",{"$f":"TEXT(I1498,\"# ###,-Ft (4)\")","v":"2 412 000,-Ft (4)"},11086.405000000001,6,2412000]
[{"$f":"IF(L1499=FALSE,0,COUNTIF(A$3:A1498,\">0\")+1)","v":0},"SFH SS 180","Saválló házú szeparátor 300","300","Ciklonszűrő","2 947 000,-Ft (4)",13547.693000000001,6,2947000]
[{"$f":"IF(L1500=FALSE,0,COUNTIF(A$3:A1499,\">0\")+1)","v":0},"SFH SS 209","Saválló házú szeparátor 350","350","Ciklonszűrő","3 895 000,-Ft (4)",17907.992000000002,6,3895000]
[{"$f":"IF(L1501=FALSE,0,COUNTIF(A$3:A1500,\">0\")+1)","v":0},"CKL-HF 007","Alumínium ciklonszűrő ház 50 bar CKL-HF 1/2’’","1/2’’","Ciklonszűrő",{"$f":"TEXT(I1501,\"# ###,-Ft\")","v":"53 410,-Ft"},215.1464,null,{"$f":"ROUND(IF(G$1=1,IF(G1501>10000,(G1501*N$1*0.85),IF(G1501>5000,(G1501*N$1*0.88),IF(G1501>1000,(G1501*N$1*0.91),IF(G1501>500,(G1501*N$1*0.94),IF(G1501>100,(G1501*N$1*0.97),(G1501*N$1))))))/1.27,G1501*N$1/1.27),L$1)","v":53410}]
[{"$f":"IF(L1502=FALSE,0,COUNTIF(A$3:A1501,\">0\")+1)","v":0},"CKL-HF 010","Alumínium ciklonszűrő ház 50 bar CKL-HF 3/4’’","3/4’’","Ciklonszűrő","65 730,-Ft",264.80269999999996,null,65730]
[{"$f":"IF(L1503=FALSE,0,COUNTIF(A$3:A1502,\">0\")+1)","v":0},"CKL-HF 018","Alumínium ciklonszűrő ház 50 bar CKL-HF 1’’","1’’","Ciklonszűrő","75 000,-Ft",302.14019999999999,null,75000]
[{"$f":"IF(L1504=FALSE,0,COUNTIF(A$3:A1503,\">0\")+1)","v":0},"CKL-HF 047","Alumínium ciklonszűrő ház 50 bar CKL-HF 1 1/2’’","1 1/2’’","Ciklonszűrő","116 400,-Ft",468.9178,null,116400]
[{"$f":"IF(L1505=FALSE,0,COUNTIF(A$3:A1504,\">0\")+1)","v":0},"CKL-HF 070","Alumínium ciklonszűrő ház 50 bar CKL-HF 1 1/2’’","1 1/2’’","Ciklonszűrő","123 170,-Ft",512.01300000000003,null,123170]
[{"$f":"IF(L1506=FALSE,0,COUNTIF(A$3:A1505,\">0\")+1)","v":0},"CKL-HF 094","Alumínium ciklonszűrő ház 50 bar CKL-HF 2’’","2’’","Ciklonszűrő","145 970,-Ft",606.83479999999997,null,145970]
[{"$f":"IF(L1507=FALSE,0,COUNTIF(A$3:A1506,\">0\")+1)","v":0},"CKL-HF 150","Alumínium ciklonszűrő ház 50 bar CKL-HF 2’’","2’’","Ciklonszűrő","164 340,-Ft",683.19899999999996,null,164340]
[{"$f":"IF(L1508=FALSE,0,COUNTIF(A$3:A1507,\">0\")+1)","v":0},"CKL-HF 200","Alumínium ciklonszűrő ház 50 bar CKL-HF 3''","3''","Ciklonszűrő",{"$f":"TEXT(I1508,\"# ###,-Ft (2)\")","v":"390 000,-Ft (2)"},1676.7576000000001,2,{"$f":"ROUND(IF(G$1=1,IF(G1508>10000,(G1508*N$1*0.85),IF(G1508>5000,(G1508*N$1*0.88),IF(G1508>1000,(G1508*N$1*0.91),IF(G1508>500,(G1508*N$1*0.94),IF(G1508>100,(G1508*N$1*0.97),(G1508*N$1))))))/1.27,G1508*N$1/1.27),-3)","v":390000}]
[{"$f":"IF(L1509=FALSE,0,COUNTIF(A$3:A1508,\">0\")+1)","v":0},"CKL-HF 140","Alumínium ciklonszűrő ház 50 bar CKL-HF 3''","3''","Ciklonszűrő","423 000,-Ft (2)",1818.2796000000001,2,423000]
[{"$f":"IF(L1510=FALSE,0,COUNTIF(A$3:A1509,\">0\")+1)","v":0},"6060CKL-HF","Szűrőbetét CKL-HF 6060CKL-HF ",null,"Szűrőbetét","18 350,-Ft",71.718899999999991,null,18350]
[{"$f":"IF(L1511=FALSE,0,COUNTIF(A$3:A1510,\">0\")+1)","v":0},"7060CKL-HF","Szűrőbetét CKL-HF 7060CKL-HF ",null,"Szűrőbetét","22 590,-Ft",88.271000000000001,null,22590]
[{"$f":"IF(L1512=FALSE,0,COUNTIF(A$3:A1511,\">0\")+1)","v":0},"12060CKL-HF","Szűrőbetét CKL-HF 12060CKL-HF ",null,"Szűrőbetét","25 410,-Ft",99.302300000000002,null,25410]
[{"$f":"IF(L1513=FALSE,0,COUNTIF(A$3:A1512,\">0\")+1)","v":0},"22090CKL-HF","Szűrőbetét CKL-HF 22090CKL-HF ",null,"Szűrőbetét","30 130,-Ft",121.36490000000001,null,30130]
[{"$f":"IF(L1514=FALSE,0,COUNTIF(A$3:A1513,\">0\")+1)","v":0},"32090CKL-HF","Szűrőbetét CKL-HF 32090CKL-HF ",null,"Szűrőbetét","36 970,-Ft",148.94830000000002,null,36970]
[{"$f":"IF(L1515=FALSE,0,COUNTIF(A$3:A1514,\">0\")+1)","v":0},"50090CKL-HF","Szűrőbetét CKL-HF 50090CKL-HF ",null,"Szűrőbetét","42 450,-Ft",171.02119999999999,null,42450]
[{"$f":"IF(L1516=FALSE,0,COUNTIF(A$3:A1515,\">0\")+1)","v":0},"51090CKL-HF","Szűrőbetét CKL-HF 51090CKL-HF ",null,"Szűrőbetét","46 560,-Ft",187.56299999999999,null,46560]
[{"$f":"IF(L1517=FALSE,0,COUNTIF(A$3:A1516,\">0\")+1)","v":0},"51140CKL-HF","Szűrőbetét CKL-HF 51140CKL-HF ",null,"Szűrőbetét","61 150,-Ft",246.3451,null,61150]
[{"$f":"IF(L1518=FALSE,0,COUNTIF(A$3:A1517,\">0\")+1)","v":0},"75140CKL-HF","Szűrőbetét CKL-HF 75140CKL-HF ",null,"Szűrőbetét","84 930,-Ft",342.1454,null,84930]
[{"$f":"IF(L1519=FALSE,0,COUNTIF(A$3:A1518,\">0\")+1)","v":0},"CKL-AHP 005","Alumínium ciklonszűrő ház 50 bar CKL-AP 3/8’’","3/8’’","Ciklonszűrő","130 050,-Ft",540.63670000000002,null,130050]
[{"$f":"IF(L1520=FALSE,0,COUNTIF(A$3:A1519,\">0\")+1)","v":0},"CKL-AHP 007","Alumínium ciklonszűrő ház 50 bar CKL-AP 1/2’’","1/2’’","Ciklonszűrő","153 940,-Ft",639.93899999999996,null,153940]
[{"$f":"IF(L1521=FALSE,0,COUNTIF(A$3:A1520,\">0\")+1)","v":0},"CKL-AHP 010","Alumínium ciklonszűrő ház 50 bar CKL-AP 3/4’’","3/4’’","Ciklonszűrő","199 060,-Ft",827.50199999999995,null,199060]
[{"$f":"IF(L1522=FALSE,0,COUNTIF(A$3:A1521,\">0\")+1)","v":0},"CKL-AHP 018","Alumínium ciklonszűrő ház 50 bar CKL-AP 1’’","1’’","Ciklonszűrő",{"$f":"TEXT(I1522,\"# ###,-Ft (2)\")","v":"234 000,-Ft (2)"},1004.0337,2,{"$f":"ROUND(IF(G$1=1,IF(G1522>10000,(G1522*N$1*0.85),IF(G1522>5000,(G1522*N$1*0.88),IF(G1522>1000,(G1522*N$1*0.91),IF(G1522>500,(G1522*N$1*0.94),IF(G1522>100,(G1522*N$1*0.97),(G1522*N$1))))))/1.27,G1522*N$1/1.27),-3)","v":234000}]
[{"$f":"IF(L1523=FALSE,0,COUNTIF(A$3:A1522,\">0\")+1)","v":0},"CKL-AHP 030","Alumínium ciklonszűrő ház 50 bar CKL-AP 1 1/4’’","1 1/4’’","Ciklonszűrő","275 000,-Ft (2)",1180.5654000000002,2,275000]
[{"$f":"IF(L1524=FALSE,0,COUNTIF(A$3:A1523,\">0\")+1)","v":0},"CKL-AHP 047","Alumínium ciklonszűrő ház 50 bar CKL-AP 1 1/2’’","1 1/2’’","Ciklonszűrő","344 000,-Ft (2)",1478.4723000000001,2,344000]
[{"$f":"IF(L1525=FALSE,0,COUNTIF(A$3:A1524,\">0\")+1)","v":0},"CKL-AHP 094","Alumínium ciklonszűrő ház 50 bar CKL-AP 2’’","2’’","Ciklonszűrő","434 000,-Ft (2)",1864.6398999999999,2,434000]
[{"$f":"IF(L1526=FALSE,0,COUNTIF(A$3:A1525,\">0\")+1)","v":0},"6050CKL-AHP","Szűrőbetét CKL-AHP 6050CKL-AHP ",null,"Szűrőbetét","6 300,-Ft",24.6067,null,6300]
[{"$f":"IF(L1527=FALSE,0,COUNTIF(A$3:A1526,\">0\")+1)","v":0},"7050CKL-AHP","Szűrőbetét CKL-AHP 7050CKL-AHP ",null,"Szűrőbetét","7 790,-Ft",30.4468,null,7790]
[{"$f":"IF(L1528=FALSE,0,COUNTIF(A$3:A1527,\">0\")+1)","v":0},"14050CKL-AHP","Szűrőbetét CKL-AHP 14050CKL-AHP ",null,"Szűrőbetét","10 050,-Ft",39.273900000000005,null,10050]
[{"$f":"IF(L1529=FALSE,0,COUNTIF(A$3:A1528,\">0\")+1)","v":0},"12075CKL-AHP","Szűrőbetét CKL-AHP 12075CKL-AHP ",null,"Szűrőbetét","13 190,-Ft",51.530900000000003,null,13190]
[{"$f":"IF(L1530=FALSE,0,COUNTIF(A$3:A1529,\">0\")+1)","v":0},"22075CKL-AHP","Szűrőbetét CKL-AHP 22075CKL-AHP ",null,"Szűrőbetét","18 610,-Ft",72.717999999999989,null,18610]
[{"$f":"IF(L1531=FALSE,0,COUNTIF(A$3:A1530,\">0\")+1)","v":0},"32075CKL-AHP","Szűrőbetét CKL-AHP 32075CKL-AHP ",null,"Szűrőbetét","22 500,-Ft",87.941400000000002,null,22500]
[{"$f":"IF(L1532=FALSE,0,COUNTIF(A$3:A1531,\">0\")+1)","v":0},"51090CKL-AHP","Szűrőbetét CKL-AHP 51090CKL-AHP ",null,"Szűrőbetét","26 680,-Ft",107.47020000000001,null,26680]
[{"$f":"IF(L1533=FALSE,0,COUNTIF(A$3:A1532,\">0\")+1)","v":0},"CKL-CHP 003-100","Szénacél ciklonszűrő szűrőház 100 bar 1/4’’","1/4’’","Szűrőház","135 360,-Ft",562.69929999999999,null,135360]
[{"$f":"IF(L1534=FALSE,0,COUNTIF(A$3:A1533,\">0\")+1)","v":0},"CKL-CHP 005-100","Szénacél ciklonszűrő szűrőház 100 bar 3/8’’","3/8’’","Szűrőház","135 360,-Ft",562.69929999999999,null,135360]
[{"$f":"IF(L1535=FALSE,0,COUNTIF(A$3:A1534,\">0\")+1)","v":0},"CKL-CHP 007-100","Szénacél ciklonszűrő szűrőház 100 bar 1/2’’","1/2’’","Szűrőház","183 130,-Ft",761.3039,null,183130]
[{"$f":"IF(L1536=FALSE,0,COUNTIF(A$3:A1535,\">0\")+1)","v":0},"CKL-CHP 010-100","Szénacél ciklonszűrő szűrőház 100 bar 3/4’’","3/4’’","Szűrőház","233 560,-Ft",970.93979999999999,null,233560]
[{"$f":"IF(L1537=FALSE,0,COUNTIF(A$3:A1536,\">0\")+1)","v":0},"CKL-CHP 018-100","Szénacél ciklonszűrő szűrőház 100 bar 1’’","1’’","Szűrőház",{"$f":"TEXT(I1537,\"# ###,-Ft (2)\")","v":"313 000,-Ft (2)"},1346.0657999999999,2,{"$f":"ROUND(IF(G$1=1,IF(G1537>10000,(G1537*N$1*0.85),IF(G1537>5000,(G1537*N$1*0.88),IF(G1537>1000,(G1537*N$1*0.91),IF(G1537>500,(G1537*N$1*0.94),IF(G1537>100,(G1537*N$1*0.97),(G1537*N$1))))))/1.27,G1537*N$1/1.27),-3)","v":313000}]
[{"$f":"IF(L1538=FALSE,0,COUNTIF(A$3:A1537,\">0\")+1)","v":0},"CKL-CHP 030-100","Szénacél ciklonszűrő szűrőház 100 bar 1 1/4’’","1 1/4’’","Szűrőház","352 000,-Ft (2)",1511.5662,2,352000]
[{"$f":"IF(L1539=FALSE,0,COUNTIF(A$3:A1538,\">0\")+1)","v":0},"CKL-CHP 047-100","Szénacél ciklonszűrő szűrőház 100 bar 1 1/2’’","1 1/2’’","Szűrőház","498 000,-Ft (2)",2140.4739,2,498000]
[{"$f":"IF(L1540=FALSE,0,COUNTIF(A$3:A1539,\">0\")+1)","v":0},"CKL-CHP 094-100","Szénacél ciklonszűrő szűrőház 100 bar 2’’","2’’","Szűrőház","596 000,-Ft (2)",2559.7354,2,596000]
[{"$f":"IF(L1541=FALSE,0,COUNTIF(A$3:A1540,\">0\")+1)","v":0},"CKL-CHP 003-250","Szénacél ciklonszűrő szűrőház 250 bar 1/4’’","1/4’’","Szűrőház","234 000,-Ft (2)",1004.0337,2,234000]
[{"$f":"IF(L1542=FALSE,0,COUNTIF(A$3:A1541,\">0\")+1)","v":0},"CKL-CHP 005-250","Szénacél ciklonszűrő szűrőház 250 bar 3/8’’","3/8’’","Szűrőház","234 000,-Ft (2)",1004.0337,2,234000]
[{"$f":"IF(L1543=FALSE,0,COUNTIF(A$3:A1542,\">0\")+1)","v":0},"CKL-CHP 007-250","Szénacél ciklonszűrő szűrőház 250 bar 1/2’’","1/2’’","Szűrőház","270 000,-Ft (2)",1158.5028,2,270000]
[{"$f":"IF(L1544=FALSE,0,COUNTIF(A$3:A1543,\">0\")+1)","v":0},"CKL-CHP 010-250","Szénacél ciklonszűrő szűrőház 250 bar 3/4’’","3/4’’","Szűrőház","419 000,-Ft (2)",1798.4418000000001,2,419000]
[{"$f":"IF(L1545=FALSE,0,COUNTIF(A$3:A1544,\">0\")+1)","v":0},"CKL-CHP 018-250","Szénacél ciklonszűrő szűrőház 250 bar 1’’","1’’","Szűrőház","465 000,-Ft (2)",1997.0361,2,465000]
[{"$f":"IF(L1546=FALSE,0,COUNTIF(A$3:A1545,\">0\")+1)","v":0},"CKL-CHP 030-250","Szénacél ciklonszűrő szűrőház 250 bar 1 1/4’’","1 1/4’’","Szűrőház","493 000,-Ft (2)",2118.4009999999998,2,493000]
[{"$f":"IF(L1547=FALSE,0,COUNTIF(A$3:A1546,\">0\")+1)","v":0},"CKL-CHP 047-250","Szénacél ciklonszűrő szűrőház 250 bar 1 1/2’’","1 1/2’’","Szűrőház","563 000,-Ft (2)",2416.3078999999998,2,563000]
[{"$f":"IF(L1548=FALSE,0,COUNTIF(A$3:A1547,\">0\")+1)","v":0},"CKL-CHP 094-250","Szénacél ciklonszűrő szűrőház 250 bar 2’’","2’’","Szűrőház","804 000,-Ft (2)",3453.4458000000004,2,804000]
[{"$f":"IF(L1549=FALSE,0,COUNTIF(A$3:A1548,\">0\")+1)","v":0},"CKL-CHP 003-400","Szénacél ciklonszűrő szűrőház 400 bar 1/4’’","1/4’’","Szűrőház","254 000,-Ft (2)",1092.3047000000001,2,254000]
[{"$f":"IF(L1550=FALSE,0,COUNTIF(A$3:A1549,\">0\")+1)","v":0},"CKL-CHP 005-400","Szénacél ciklonszűrő szűrőház 400 bar 3/8’’","3/8’’","Szűrőház","254 000,-Ft (2)",1092.3047000000001,2,254000]
[{"$f":"IF(L1551=FALSE,0,COUNTIF(A$3:A1550,\">0\")+1)","v":0},"CKL-CHP 007-400","Szénacél ciklonszűrő szűrőház 400 bar 1/2’’","1/2’’","Szűrőház","339 000,-Ft (2)",1456.3994,2,339000]
[{"$f":"IF(L1552=FALSE,0,COUNTIF(A$3:A1551,\">0\")+1)","v":0},"CKL-CHP 010-400","Szénacél ciklonszűrő szűrőház 400 bar 3/4’’","3/4’’","Szűrőház","473 000,-Ft (2)",2030.1403,2,473000]
[{"$f":"IF(L1553=FALSE,0,COUNTIF(A$3:A1552,\">0\")+1)","v":0},"CKL-CHP 018-400","Szénacél ciklonszűrő szűrőház 400 bar 1’’","1’’","Szűrőház","529 000,-Ft (2)",2272.8701000000001,2,529000]
[{"$f":"IF(L1554=FALSE,0,COUNTIF(A$3:A1553,\">0\")+1)","v":0},"CKL-CHP 030-400","Szénacél ciklonszűrő szűrőház 400 bar 1 1/4’’","1 1/4’’","Szűrőház","583 000,-Ft (2)",2504.5686000000001,2,583000]
[{"$f":"IF(L1555=FALSE,0,COUNTIF(A$3:A1554,\">0\")+1)","v":0},"CKL-CHP 047-400","Szénacél ciklonszűrő szűrőház 400 bar 1 1/2’’","1 1/2’’","Szűrőház","665 000,-Ft (2)",2857.6423,2,665000]
[{"$f":"IF(L1556=FALSE,0,COUNTIF(A$3:A1555,\">0\")+1)","v":0},"CKL-CHP 094-400","Szénacél ciklonszűrő szűrőház 400 bar 2’’","2’’","Szűrőház","938 000,-Ft (2)",4027.1764000000003,2,938000]
[{"$f":"IF(L1557=FALSE,0,COUNTIF(A$3:A1556,\">0\")+1)","v":0},"305CKL-CHP","Szűrőbetét CKL-CHP 305CKL-CHP",null,"Szűrőbetét",{"$f":"TEXT(I1557,\"# ###,-Ft\")","v":"15 880,-Ft"},62.067799999999998,null,{"$f":"ROUND(IF(G$1=1,IF(G1557>10000,(G1557*N$1*0.85),IF(G1557>5000,(G1557*N$1*0.88),IF(G1557>1000,(G1557*N$1*0.91),IF(G1557>500,(G1557*N$1*0.94),IF(G1557>100,(G1557*N$1*0.97),(G1557*N$1))))))/1.27,G1557*N$1/1.27),L$1)","v":15880}]
[{"$f":"IF(L1558=FALSE,0,COUNTIF(A$3:A1557,\">0\")+1)","v":0},"310CKL-CHP","Szűrőbetét CKL-CHP 310CKL-CHP",null,"Szűrőbetét","18 000,-Ft",70.338700000000003,null,18000]
[{"$f":"IF(L1559=FALSE,0,COUNTIF(A$3:A1558,\">0\")+1)","v":0},"420CKL-CHP","Szűrőbetét CKL-CHP 420CKL-CHP",null,"Szűrőbetét","25 410,-Ft",99.302300000000002,null,25410]
[{"$f":"IF(L1560=FALSE,0,COUNTIF(A$3:A1559,\">0\")+1)","v":0},"520CKL-CHP","Szűrőbetét CKL-CHP 520CKL-CHP",null,"Szűrőbetét","28 630,-Ft",115.3188,null,28630]
[{"$f":"IF(L1561=FALSE,0,COUNTIF(A$3:A1560,\">0\")+1)","v":0},"525CKL-CHP","Szűrőbetét CKL-CHP 525CKL-CHP",null,"Szűrőbetét","36 970,-Ft",148.94830000000002,null,36970]
[{"$f":"IF(L1562=FALSE,0,COUNTIF(A$3:A1561,\">0\")+1)","v":0},"725CKL-CHP","Szűrőbetét CKL-CHP 725CKL-CHP",null,"Szűrőbetét","47 160,-Ft",190.00409999999999,null,47160]
[{"$f":"IF(L1563=FALSE,0,COUNTIF(A$3:A1562,\">0\")+1)","v":0},"730CKL-CHP","Szűrőbetét CKL-CHP 730CKL-CHP",null,"Szűrőbetét","53 410,-Ft",215.1464,null,53410]
[{"$f":"IF(L1564=FALSE,0,COUNTIF(A$3:A1563,\">0\")+1)","v":0},"1030CKL-CHP","Szűrőbetét CKL-CHP 1030CKL-CHP",null,"Szűrőbetét","59 570,-Ft",239.97970000000001,null,59570]
[{"$f":"IF(L1565=FALSE,0,COUNTIF(A$3:A1564,\">0\")+1)","v":0},"WOSm 1","Olaj-víz szétválasztó",null,"OWS","35 470,-Ft",142.88159999999999,null,35470]
[{"$f":"IF(L1566=FALSE,0,COUNTIF(A$3:A1565,\">0\")+1)","v":0},"WOSm 2","Olaj-víz szétválasztó",null,"OWS","42 670,-Ft",171.89669999999998,null,42670]
[{"$f":"IF(L1567=FALSE,0,COUNTIF(A$3:A1566,\">0\")+1)","v":0},"WOS-m1","Olaj-víz szétválasztó betét",null,"OWS","19 540,-Ft",76.353899999999996,null,19540]
[{"$f":"IF(L1568=FALSE,0,COUNTIF(A$3:A1567,\">0\")+1)","v":0},"WOS-m2","Olaj-víz szétválasztó betét",null,"OWS","26 160,-Ft",105.369,null,26160]
[{"$f":"IF(L1569=FALSE,0,COUNTIF(A$3:A1568,\">0\")+1)","v":0},"WQTK","Teszter",null,"OWS","11 290,-Ft",44.1355,null,11290]
[{"$f":"IF(L1570=FALSE,0,COUNTIF(A$3:A1569,\">0\")+1)","v":0},"WOS 4","Olaj-víz szétválasztó",null,"OWS","82 160,-Ft",331.00080000000003,null,82160]
[{"$f":"IF(L1571=FALSE,0,COUNTIF(A$3:A1570,\">0\")+1)","v":0},"WOS 8","Olaj-víz szétválasztó",null,"OWS","126 070,-Ft",524.08460000000002,null,126070]
[{"$f":"IF(L1572=FALSE,0,COUNTIF(A$3:A1571,\">0\")+1)","v":0},"WOS 20","Olaj-víz szétválasztó",null,"OWS","177 820,-Ft",739.23100000000011,null,177820]
[{"$f":"IF(L1573=FALSE,0,COUNTIF(A$3:A1572,\">0\")+1)","v":0},"WOS 35","Olaj-víz szétválasztó",null,"OWS",{"$f":"TEXT(I1573,\"# ###,-Ft (2)\")","v":"242 000,-Ft (2)"},1037.1378999999999,2,{"$f":"ROUND(IF(G$1=1,IF(G1573>10000,(G1573*N$1*0.85),IF(G1573>5000,(G1573*N$1*0.88),IF(G1573>1000,(G1573*N$1*0.91),IF(G1573>500,(G1573*N$1*0.94),IF(G1573>100,(G1573*N$1*0.97),(G1573*N$1))))))/1.27,G1573*N$1/1.27),-3)","v":242000}]
[{"$f":"IF(L1574=FALSE,0,COUNTIF(A$3:A1573,\">0\")+1)","v":0},"WOS 4PP","Olaj-víz szétválasztó betét",null,"OWS","14 120,-Ft",55.166800000000002,null,14120]
[{"$f":"IF(L1575=FALSE,0,COUNTIF(A$3:A1574,\">0\")+1)","v":0},"WOS 8PP","Olaj-víz szétválasztó betét",null,"OWS","19 760,-Ft",77.229400000000012,null,19760]
[{"$f":"IF(L1576=FALSE,0,COUNTIF(A$3:A1575,\">0\")+1)","v":0},"WOS 20PP","Olaj-víz szétválasztó betét",null,"OWS","28 760,-Ft",115.85440000000001,null,28760]
[{"$f":"IF(L1577=FALSE,0,COUNTIF(A$3:A1576,\">0\")+1)","v":0},"WOS 35PP","Olaj-víz szétválasztó betét",null,"OWS","46 560,-Ft",187.56299999999999,null,46560]
[{"$f":"IF(L1578=FALSE,0,COUNTIF(A$3:A1577,\">0\")+1)","v":0},"WOS 4AK","Olaj-víz szétválasztó betét",null,"OWS","14 120,-Ft",55.166800000000002,null,14120]
[{"$f":"IF(L1579=FALSE,0,COUNTIF(A$3:A1578,\">0\")+1)","v":0},"WOS 8AK","Olaj-víz szétválasztó betét",null,"OWS","19 760,-Ft",77.229400000000012,null,19760]
[{"$f":"IF(L1580=FALSE,0,COUNTIF(A$3:A1579,\">0\")+1)","v":0},"WOS 20AK","Olaj-víz szétválasztó betét",null,"OWS","28 760,-Ft",115.85440000000001,null,28760]
[{"$f":"IF(L1581=FALSE,0,COUNTIF(A$3:A1580,\">0\")+1)","v":0},"WOS 35AK","Olaj-víz szétválasztó betét",null,"OWS","46 560,-Ft",187.56299999999999,null,46560]
[{"$f":"IF(L1582=FALSE,0,COUNTIF(A$3:A1581,\">0\")+1)","v":0},"WOS CD 2","Kondenzátum osztó",null,"OWS","45 310,-Ft",182.51599999999999,null,45310]
[{"$f":"IF(L1583=FALSE,0,COUNTIF(A$3:A1582,\">0\")+1)","v":0},"WOS CD 4","Kondenzátum osztó",null,"OWS","81 640,-Ft",328.87900000000002,null,81640]
[{"$f":"IF(L1584=FALSE,0,COUNTIF(A$3:A1583,\">0\")+1)","v":0},"WOS CD 8","Kondenzátum osztó",null,"OWS","132 650,-Ft",551.46199999999999,null,132650]
[{"$f":"IF(L1585=FALSE,0,COUNTIF(A$3:A1584,\">0\")+1)","v":0},"WOS CD 12","Kondenzátum osztó",null,"OWS",{"$f":"TEXT(I1585,\"# ###,-Ft (2)\")","v":"259 000,-Ft (2)"},1112.4000000000001,2,{"$f":"ROUND(IF(G$1=1,IF(G1585>10000,(G1585*N$1*0.85),IF(G1585>5000,(G1585*N$1*0.88),IF(G1585>1000,(G1585*N$1*0.91),IF(G1585>500,(G1585*N$1*0.94),IF(G1585>100,(G1585*N$1*0.97),(G1585*N$1))))))/1.27,G1585*N$1/1.27),-3)","v":259000}]
[{"$f":"IF(L1586=FALSE,0,COUNTIF(A$3:A1585,\">0\")+1)","v":0},"A12000289","A-DRY 06",null,"Adszorpciós sz.","326 000,-Ft (2)",1400.8,2,326000]
[{"$f":"IF(L1587=FALSE,0,COUNTIF(A$3:A1586,\">0\")+1)","v":0},"A12000294","A-DRY 12",null,"Adszorpciós sz.","360 000,-Ft (2)",1545,2,360000]
[{"$f":"IF(L1588=FALSE,0,COUNTIF(A$3:A1587,\">0\")+1)","v":0},"A12000306","A-DRY 24",null,"Adszorpciós sz.","434 000,-Ft (2)",1864.3,2,434000]
[{"$f":"IF(L1589=FALSE,0,COUNTIF(A$3:A1588,\">0\")+1)","v":0},"A12000307","A-DRY 36",null,"Adszorpciós sz.","516 000,-Ft (2)",2214.5,2,516000]
[{"$f":"IF(L1590=FALSE,0,COUNTIF(A$3:A1589,\">0\")+1)","v":0},"A12000308","A-DRY 60",null,"Adszorpciós sz.","585 000,-Ft (2)",2513.2000000000003,2,585000]
[{"$f":"IF(L1591=FALSE,0,COUNTIF(A$3:A1590,\">0\")+1)","v":0},"A12000309","A-DRY 75",null,"Adszorpciós sz.","643 000,-Ft (2)",2760.4,2,643000]
[{"$f":"IF(L1592=FALSE,0,COUNTIF(A$3:A1591,\">0\")+1)","v":0},"A12000310","A-DRY 105",null,"Adszorpciós sz.","736 000,-Ft (2)",3162.1,2,736000]
[{"$f":"IF(L1593=FALSE,0,COUNTIF(A$3:A1592,\">0\")+1)","v":0},"A12000356","A-DRY 150",null,"Adszorpciós sz.","1 043 000,-Ft (2)",4480.5,2,1043000]
[{"$f":"IF(L1594=FALSE,0,COUNTIF(A$3:A1593,\">0\")+1)","v":0},"A12000357","A-DRY 200",null,"Adszorpciós sz.","1 118 000,-Ft (2)",4799.8,2,1118000]
[{"$f":"IF(L1595=FALSE,0,COUNTIF(A$3:A1594,\">0\")+1)","v":0},3401201,"Controller ADC 2.0 (Siemens) ",null,"Adszorpciós sz.","263 000,-Ft (2)",1127.8500000000001,2,263000]
[{"$f":"IF(L1596=FALSE,0,COUNTIF(A$3:A1595,\">0\")+1)","v":0},2505546,"Dew point controller OS 220",null,"Adszorpciós sz.","311 000,-Ft (2)",1333.8500000000001,2,311000]
[{"$f":"IF(L1597=FALSE,0,COUNTIF(A$3:A1596,\">0\")+1)","v":0},4000831,"Dew point sensor (OS 220) calibration with certificate",null,"Adszorpciós sz.","137 510,-Ft",571.65,null,137510]
[{"$f":"IF(L1598=FALSE,0,COUNTIF(A$3:A1597,\">0\")+1)","v":0},"A12000327","A-DRY 06/24",null,"Adszorpciós sz.","111 220,-Ft",448.05,null,111220]
[{"$f":"IF(L1599=FALSE,0,COUNTIF(A$3:A1598,\">0\")+1)","v":0},"A12000328","A-DRY 12/24",null,"Adszorpciós sz.","111 220,-Ft",448.05,null,111220]
[{"$f":"IF(L1600=FALSE,0,COUNTIF(A$3:A1599,\">0\")+1)","v":0},"A12000329","A-DRY 24/24",null,"Adszorpciós sz.","111 220,-Ft",448.05,null,111220]
[{"$f":"IF(L1601=FALSE,0,COUNTIF(A$3:A1600,\">0\")+1)","v":0},"A12000330","A-DRY 36/24",null,"Adszorpciós sz.","111 220,-Ft",448.05,null,111220]
[{"$f":"IF(L1602=FALSE,0,COUNTIF(A$3:A1601,\">0\")+1)","v":0},"A12000331","A-DRY 60/24",null,"Adszorpciós sz.","122 720,-Ft",494.40000000000003,null,122720]
[{"$f":"IF(L1603=FALSE,0,COUNTIF(A$3:A1602,\">0\")+1)","v":0},"A12000332","A-DRY 75/24",null,"Adszorpciós sz.","122 720,-Ft",494.40000000000003,null,122720]
[{"$f":"IF(L1604=FALSE,0,COUNTIF(A$3:A1603,\">0\")+1)","v":0},"A12000333","A-DRY 105/24",null,"Adszorpciós sz.",{"$f":"TEXT(I1604,\"# ###,-Ft\")","v":"122 720,-Ft"},494.40000000000003,null,{"$f":"ROUND(IF(G$1=1,IF(G1604>10000,(G1604*N$1*0.85),IF(G1604>5000,(G1604*N$1*0.88),IF(G1604>1000,(G1604*N$1*0.91),IF(G1604>500,(G1604*N$1*0.94),IF(G1604>100,(G1604*N$1*0.97),(G1604*N$1))))))/1.27,G1604*N$1/1.27),L$1)","v":122720}]
[{"$f":"IF(L1605=FALSE,0,COUNTIF(A$3:A1604,\">0\")+1)","v":0},"A12000360","A-DRY 150/24",null,"Adszorpciós sz.","130 080,-Ft",540.75,null,130080]
[{"$f":"IF(L1606=FALSE,0,COUNTIF(A$3:A1605,\">0\")+1)","v":0},"A12000361","A-DRY 200/24",null,"Adszorpciós sz.","130 080,-Ft",540.75,null,130080]
[{"$f":"IF(L1607=FALSE,0,COUNTIF(A$3:A1606,\">0\")+1)","v":0},"A12000311","A-DRY 06/48",null,"Adszorpciós sz.","147 420,-Ft",612.85,null,147420]
[{"$f":"IF(L1608=FALSE,0,COUNTIF(A$3:A1607,\">0\")+1)","v":0},"A12000312","A-DRY 12/48",null,"Adszorpciós sz.","163 530,-Ft",679.80000000000007,null,163530]
[{"$f":"IF(L1609=FALSE,0,COUNTIF(A$3:A1608,\">0\")+1)","v":0},"A12000313","A-DRY 24/48",null,"Adszorpciós sz.","195 740,-Ft",813.7,null,195740]
[{"$f":"IF(L1610=FALSE,0,COUNTIF(A$3:A1609,\">0\")+1)","v":0},"A12000314","A-DRY 36/48",null,"Adszorpciós sz.","224 230,-Ft",932.15,null,224230]
[{"$f":"IF(L1611=FALSE,0,COUNTIF(A$3:A1610,\">0\")+1)","v":0},"A12000315","A-DRY 60/48",null,"Adszorpciós sz.",{"$f":"TEXT(I1611,\"# ###,-Ft (2)\")","v":"270 000,-Ft (2)"},1158.75,2,{"$f":"ROUND(IF(G$1=1,IF(G1611>10000,(G1611*N$1*0.85),IF(G1611>5000,(G1611*N$1*0.88),IF(G1611>1000,(G1611*N$1*0.91),IF(G1611>500,(G1611*N$1*0.94),IF(G1611>100,(G1611*N$1*0.97),(G1611*N$1))))))/1.27,G1611*N$1/1.27),-3)","v":270000}]
[{"$f":"IF(L1612=FALSE,0,COUNTIF(A$3:A1611,\">0\")+1)","v":0},"A12000316","A-DRY 75/48",null,"Adszorpciós sz.","299 000,-Ft (2)",1282.3500000000001,2,299000]
[{"$f":"IF(L1613=FALSE,0,COUNTIF(A$3:A1612,\">0\")+1)","v":0},"A12000317","A-DRY 105/48",null,"Adszorpciós sz.","348 000,-Ft (2)",1493.5,2,348000]
[{"$f":"IF(L1614=FALSE,0,COUNTIF(A$3:A1613,\">0\")+1)","v":0},"A12000358","A-DRY 150/48",null,"Adszorpciós sz.","504 000,-Ft (2)",2163,2,504000]
[{"$f":"IF(L1615=FALSE,0,COUNTIF(A$3:A1614,\">0\")+1)","v":0},"A12000359","A-DRY 200/48",null,"Adszorpciós sz.","595 000,-Ft (2)",2554.4,2,595000]
[{"$f":"IF(L1616=FALSE,0,COUNTIF(A$3:A1615,\">0\")+1)","v":0},"A12000623","A-DRY 250",null,"Adszorpciós sz.",{"$f":"TEXT(I1616,\"# ###,-Ft (3)\")","v":"2 136 000,-Ft (3)"},9485,4,2136000]
[{"$f":"IF(L1617=FALSE,0,COUNTIF(A$3:A1616,\">0\")+1)","v":0},"A12000624","A-DRY 300",null,"Adszorpciós sz.","2 202 000,-Ft (3)",9780,4,2202000]
[{"$f":"IF(L1618=FALSE,0,COUNTIF(A$3:A1617,\">0\")+1)","v":0},"A12000625","A-DRY 400",null,"Adszorpciós sz.",{"$f":"TEXT(I1618,\"# ###,-Ft (4)\")","v":"2 274 000,-Ft (4)"},10455,6,2274000]
[{"$f":"IF(L1619=FALSE,0,COUNTIF(A$3:A1618,\">0\")+1)","v":0},"A12000626","A-DRY 600",null,"Adszorpciós sz.","2 632 000,-Ft (4)",12100,6,2632000]
[{"$f":"IF(L1620=FALSE,0,COUNTIF(A$3:A1619,\">0\")+1)","v":0},12000350,"SILENCER for A-DRY 06-36   ",null,"Adszorpciós sz.","3 620,-Ft",14.1625,null,3620]
[{"$f":"IF(L1621=FALSE,0,COUNTIF(A$3:A1620,\">0\")+1)","v":0},12000351,"SILENCER for A-DRY 60-105",null,"Adszorpciós sz.","8 170,-Ft",31.93,null,8170]
[{"$f":"IF(L1622=FALSE,0,COUNTIF(A$3:A1621,\">0\")+1)","v":0},12000371,"SILENCER for A-DRY 150-200",null,"Adszorpciós sz.","10 250,-Ft",40.067,null,10250]
[{"$f":"IF(L1623=FALSE,0,COUNTIF(A$3:A1622,\">0\")+1)","v":0},"X12000492","X-DRY 300  ",null,"Adszorpciós sz.",{"$f":"TEXT(I1623,\"# ###,-Ft (4)\")","v":"2 677 000,-Ft (4)"},12308.5,6,{"$f":"ROUND(IF(G$1=1,IF(G1623>10000,(G1623*N$1*0.85),IF(G1623>5000,(G1623*N$1*0.88),IF(G1623>1000,(G1623*N$1*0.91),IF(G1623>500,(G1623*N$1*0.94),IF(G1623>100,(G1623*N$1*0.97),(G1623*N$1))))))/1.27,G1623*N$1/1.27),-3)","v":2677000}]
[{"$f":"IF(L1624=FALSE,0,COUNTIF(A$3:A1623,\">0\")+1)","v":0},"X12000493","X-DRY 450",null,"Adszorpciós sz.","3 518 000,-Ft (4)",16171,6,3518000]
[{"$f":"IF(L1625=FALSE,0,COUNTIF(A$3:A1624,\">0\")+1)","v":0},"X12000494","X-DRY 600",null,"Adszorpciós sz.","4 358 000,-Ft (4)",20033.5,6,4358000]
[{"$f":"IF(L1626=FALSE,0,COUNTIF(A$3:A1625,\">0\")+1)","v":0},"X12000495","X-DRY 750",null,"Adszorpciós sz.","5 198 000,-Ft (4)",23896,6,5198000]
[{"$f":"IF(L1627=FALSE,0,COUNTIF(A$3:A1626,\">0\")+1)","v":0},"X12000496","X-DRY 900",null,"Adszorpciós sz.","6 038 000,-Ft (4)",27758.5,6,6038000]
[{"$f":"IF(L1628=FALSE,0,COUNTIF(A$3:A1627,\">0\")+1)","v":0},"X12000497","X-DRY1050",null,"Adszorpciós sz.","6 878 000,-Ft (4)",31621,6,6878000]
[{"$f":"IF(L1629=FALSE,0,COUNTIF(A$3:A1628,\">0\")+1)","v":0},"X12000412","X-DRY 300/24",null,"Adszorpciós sz.",{"$f":"TEXT(I1629,\"# ###,-Ft (2)\")","v":"335 000,-Ft (2)"},1436.8500000000001,2,335000]
[{"$f":"IF(L1630=FALSE,0,COUNTIF(A$3:A1629,\">0\")+1)","v":0},"X12000413","X-DRY 450/24 ",null,"Adszorpciós sz.","355 000,-Ft (2)",1524.4,2,355000]
[{"$f":"IF(L1631=FALSE,0,COUNTIF(A$3:A1630,\">0\")+1)","v":0},"X12000414","X-DRY 600/24 ",null,"Adszorpciós sz.","377 000,-Ft (2)",1617.1000000000001,2,377000]
[{"$f":"IF(L1632=FALSE,0,COUNTIF(A$3:A1631,\">0\")+1)","v":0},"X12000415","X-DRY 750/24",null,"Adszorpciós sz.","397 000,-Ft (2)",1704.65,2,397000]
[{"$f":"IF(L1633=FALSE,0,COUNTIF(A$3:A1632,\">0\")+1)","v":0},"X12000416","X-DRY 900/24 ",null,"Adszorpciós sz.","419 000,-Ft (2)",1797.3500000000001,2,419000]
[{"$f":"IF(L1634=FALSE,0,COUNTIF(A$3:A1633,\">0\")+1)","v":0},"X12000417","X-DRY 1050/24 ",null,"Adszorpciós sz.","439 000,-Ft (2)",1884.9,2,439000]
[{"$f":"IF(L1635=FALSE,0,COUNTIF(A$3:A1634,\">0\")+1)","v":0},"X12000418","X-DRY 300/48 ",null,"Adszorpciós sz.","582 000,-Ft (2)",2497.75,2,582000]
[{"$f":"IF(L1636=FALSE,0,COUNTIF(A$3:A1635,\">0\")+1)","v":0},"X12000419","X-DRY 450/48 ",null,"Adszorpciós sz.","694 000,-Ft (2)",2981.85,2,694000]
[{"$f":"IF(L1637=FALSE,0,COUNTIF(A$3:A1636,\">0\")+1)","v":0},"X12000420","X-DRY 600/48 ",null,"Adszorpciós sz.","836 000,-Ft (2)",3589.55,2,836000]
[{"$f":"IF(L1638=FALSE,0,COUNTIF(A$3:A1637,\">0\")+1)","v":0},"X12000421","X-DRY 750/48 ",null,"Adszorpciós sz.","949 000,-Ft (2)",4073.65,2,949000]
[{"$f":"IF(L1639=FALSE,0,COUNTIF(A$3:A1638,\">0\")+1)","v":0},"X12000422","X-DRY 900/48 ",null,"Adszorpciós sz.","1 066 000,-Ft (2)",4578.3500000000004,2,1066000]
[{"$f":"IF(L1640=FALSE,0,COUNTIF(A$3:A1639,\">0\")+1)","v":0},"X12000423","X-DRY 1050/48 ",null,"Adszorpciós sz.",{"$f":"TEXT(I1640,\"# ###,-Ft (3)\")","v":"1 176 000,-Ft (3)"},5222.1000000000004,4,1176000]
[{"$f":"IF(L1641=FALSE,0,COUNTIF(A$3:A1640,\">0\")+1)","v":0},12000355,"SILENCER for X-DRY 300-1050   ",null,"Adszorpciós sz.","105 080,-Ft",423.33,null,105080]
[{"$f":"IF(L1642=FALSE,0,COUNTIF(A$3:A1641,\">0\")+1)","v":0},12000483,"DUAL BANK",null,"Adszorpciós sz.",{"$f":"TEXT(I1642,\"# ###,-Ft (2)\")","v":"899 000,-Ft (2)"},3862.5,2,{"$f":"ROUND(IF(G$1=1,IF(G1642>10000,(G1642*N$1*0.85),IF(G1642>5000,(G1642*N$1*0.88),IF(G1642>1000,(G1642*N$1*0.91),IF(G1642>500,(G1642*N$1*0.94),IF(G1642>100,(G1642*N$1*0.97),(G1642*N$1))))))/1.27,G1642*N$1/1.27),-3)","v":899000}]
[{"$f":"IF(L1643=FALSE,0,COUNTIF(A$3:A1642,\">0\")+1)","v":0},"B12000318","B-DRY 110",null,"Adszorpciós sz.",{"$f":"TEXT(I1643,\"# ###,-Ft (3)\")","v":"1 206 000,-Ft (3)"},5356,4,1206000]
[{"$f":"IF(L1644=FALSE,0,COUNTIF(A$3:A1643,\">0\")+1)","v":0},"B12000319","B-DRY 150",null,"Adszorpciós sz.","1 287 000,-Ft (3)",5716.5,4,1287000]
[{"$f":"IF(L1645=FALSE,0,COUNTIF(A$3:A1644,\">0\")+1)","v":0},"B12000320","B-DRY 200",null,"Adszorpciós sz.","1 363 000,-Ft (3)",6051.25,4,1363000]
[{"$f":"IF(L1646=FALSE,0,COUNTIF(A$3:A1645,\">0\")+1)","v":0},"B12000321","B-DRY 250",null,"Adszorpciós sz.","1 763 000,-Ft (3)",7828,4,1763000]
[{"$f":"IF(L1647=FALSE,0,COUNTIF(A$3:A1646,\">0\")+1)","v":0},"B12000322","B-DRY 300",null,"Adszorpciós sz.","1 938 000,-Ft (3)",8605.65,4,1938000]
[{"$f":"IF(L1648=FALSE,0,COUNTIF(A$3:A1647,\">0\")+1)","v":0},"B12000323","B-DRY 400",null,"Adszorpciós sz.","2 122 000,-Ft (3)",9424.5,4,2122000]
[{"$f":"IF(L1649=FALSE,0,COUNTIF(A$3:A1648,\">0\")+1)","v":0},"B12000324","B-DRY 600",null,"Adszorpciós sz.",{"$f":"TEXT(I1649,\"# ###,-Ft (4)\")","v":"2 498 000,-Ft (4)"},11484.5,6,2498000]
[{"$f":"IF(L1650=FALSE,0,COUNTIF(A$3:A1649,\">0\")+1)","v":0},"B12000325","B-DRY 800",null,"Adszorpciós sz.","2 857 000,-Ft (4)",13132.5,6,2857000]
[{"$f":"IF(L1651=FALSE,0,COUNTIF(A$3:A1650,\">0\")+1)","v":0},"B12000326","B-DRY 1000",null,"Adszorpciós sz.","3 327 000,-Ft (4)",15295.5,6,3327000]
[{"$f":"IF(L1652=FALSE,0,COUNTIF(A$3:A1651,\">0\")+1)","v":0},"B12000412","B-DRY 110-250/24",null,"Adszorpciós sz.",{"$f":"TEXT(I1652,\"# ###,-Ft (2)\")","v":"310 000,-Ft (2)"},1329.2150000000001,2,310000]
[{"$f":"IF(L1653=FALSE,0,COUNTIF(A$3:A1652,\">0\")+1)","v":0},"B12000413","B-DRY 300-600/24",null,"Adszorpciós sz.","433 000,-Ft (2)",1859.15,2,433000]
[{"$f":"IF(L1654=FALSE,0,COUNTIF(A$3:A1653,\">0\")+1)","v":0},"B12000414","B-DRY 800-1000/24",null,"Adszorpciós sz.","444 000,-Ft (2)",1906.0150000000001,2,444000]
[{"$f":"IF(L1655=FALSE,0,COUNTIF(A$3:A1654,\">0\")+1)","v":0},"B12000403","B-DRY 110/48",null,"Adszorpciós sz.","425 000,-Ft (2)",1823.1000000000001,2,425000]
[{"$f":"IF(L1656=FALSE,0,COUNTIF(A$3:A1655,\">0\")+1)","v":0},"B12000404","B-DRY 150/48",null,"Adszorpciós sz.","455 000,-Ft (2)",1951.8500000000001,2,455000]
[{"$f":"IF(L1657=FALSE,0,COUNTIF(A$3:A1656,\">0\")+1)","v":0},"B12000405","B-DRY 200/48",null,"Adszorpciós sz.","501 000,-Ft (2)",2152.7000000000003,2,501000]
[{"$f":"IF(L1658=FALSE,0,COUNTIF(A$3:A1657,\">0\")+1)","v":0},"B12000406","B-DRY 250/48",null,"Adszorpciós sz.","546 000,-Ft (2)",2343.25,2,546000]
[{"$f":"IF(L1659=FALSE,0,COUNTIF(A$3:A1658,\">0\")+1)","v":0},"B12000407","B-DRY 300/48",null,"Adszorpciós sz.","728 000,-Ft (2)",3126.05,2,728000]
[{"$f":"IF(L1660=FALSE,0,COUNTIF(A$3:A1659,\">0\")+1)","v":0},"B12000408","B-DRY 400/48",null,"Adszorpciós sz.","794 000,-Ft (2)",3409.3,2,794000]
[{"$f":"IF(L1661=FALSE,0,COUNTIF(A$3:A1660,\">0\")+1)","v":0},"B12000409","B-DRY 600/48",null,"Adszorpciós sz.","944 000,-Ft (2)",4053.05,2,944000]
[{"$f":"IF(L1662=FALSE,0,COUNTIF(A$3:A1661,\">0\")+1)","v":0},"B12000410","B-DRY 800/48",null,"Adszorpciós sz.","1 097 000,-Ft (2)",4712.25,2,1097000]
[{"$f":"IF(L1663=FALSE,0,COUNTIF(A$3:A1662,\">0\")+1)","v":0},"B12000411","B-DRY 1000/48",null,"Adszorpciós sz.",{"$f":"TEXT(I1663,\"# ###,-Ft (3)\")","v":"1 222 000,-Ft (3)"},5428.1,4,1222000]
[{"$f":"IF(L1664=FALSE,0,COUNTIF(A$3:A1663,\">0\")+1)","v":0},"F12000334","F-DRY 1200",null,"Adszorpciós sz.",{"$f":"TEXT(I1664,\"# ###,-Ft (4)\")","v":"4 694 000,-Ft (4)"},21578.5,6,4694000]
[{"$f":"IF(L1665=FALSE,0,COUNTIF(A$3:A1664,\">0\")+1)","v":0},"F12000335","F-DRY 1500 ",null,"Adszorpciós sz.","5 287 000,-Ft (4)",24308,6,5287000]
[{"$f":"IF(L1666=FALSE,0,COUNTIF(A$3:A1665,\">0\")+1)","v":0},"F12000336","F-DRY 2000",null,"Adszorpciós sz.","6 486 000,-Ft (4)",29818.5,6,6486000]
[{"$f":"IF(L1667=FALSE,0,COUNTIF(A$3:A1666,\">0\")+1)","v":0},"F12000337","F-DRY 2500",null,"Adszorpciós sz.","7 461 000,-Ft (4)",34299,6,7461000]
[{"$f":"IF(L1668=FALSE,0,COUNTIF(A$3:A1667,\">0\")+1)","v":0},"F12000338","F-DRY 3000",null,"Adszorpciós sz.","8 323 000,-Ft (4)",38264.5,6,8323000]
[{"$f":"IF(L1669=FALSE,0,COUNTIF(A$3:A1668,\">0\")+1)","v":0},"F12000339","F-DRY 3750",null,"Adszorpciós sz.","9 589 000,-Ft (4)",44084,6,9589000]
[{"$f":"IF(L1670=FALSE,0,COUNTIF(A$3:A1669,\">0\")+1)","v":0},"F12000340","F-DRY 5000",null,"Adszorpciós sz.","11 415 000,-Ft (4)",52478.5,6,11415000]
[{"$f":"IF(L1671=FALSE,0,COUNTIF(A$3:A1670,\">0\")+1)","v":0},"F12000341","F-DRY 6500",null,"Adszorpciós sz.","14 216 000,-Ft (4)",65353.5,6,14216000]
[{"$f":"IF(L1672=FALSE,0,COUNTIF(A$3:A1671,\">0\")+1)","v":0},"F12000424","F-DRY 1200/24",null,"Adszorpciós sz.",{"$f":"TEXT(I1672,\"# ###,-Ft (2)\")","v":"446 000,-Ft (2)"},1916.4179999999999,2,446000]
[{"$f":"IF(L1673=FALSE,0,COUNTIF(A$3:A1672,\">0\")+1)","v":0},"F12000425","F-DRY 1500/24",null,"Adszorpciós sz.","540 000,-Ft (2)",2317.5,2,540000]
[{"$f":"IF(L1674=FALSE,0,COUNTIF(A$3:A1673,\">0\")+1)","v":0},"F12000426","F-DRY2000/24",null,"Adszorpciós sz.","622 000,-Ft (2)",2672.85,2,622000]
[{"$f":"IF(L1675=FALSE,0,COUNTIF(A$3:A1674,\">0\")+1)","v":0},"F12000427","F-DRY2500/24",null,"Adszorpciós sz.","632 000,-Ft (2)",2714.2559999999999,2,632000]
[{"$f":"IF(L1676=FALSE,0,COUNTIF(A$3:A1675,\">0\")+1)","v":0},"F12000428","F-DRY3000/24",null,"Adszorpciós sz.","669 000,-Ft (2)",2873.9059999999999,2,669000]
[{"$f":"IF(L1677=FALSE,0,COUNTIF(A$3:A1676,\">0\")+1)","v":0},"F12000429","F-DRY3750/24",null,"Adszorpciós sz.","757 000,-Ft (2)",3250.165,2,757000]
[{"$f":"IF(L1678=FALSE,0,COUNTIF(A$3:A1677,\">0\")+1)","v":0},"F12000430","F-DRY5000/24",null,"Adszorpciós sz.","796 000,-Ft (2)",3419.703,2,796000]
[{"$f":"IF(L1679=FALSE,0,COUNTIF(A$3:A1678,\">0\")+1)","v":0},"F12000431","F-DRY6500/24",null,"Adszorpciós sz.","989 000,-Ft (2)",4248.75,2,989000]
[{"$f":"IF(L1680=FALSE,0,COUNTIF(A$3:A1679,\">0\")+1)","v":0},"F12000432","F-DRY 1200/48",null,"Adszorpciós sz.",{"$f":"TEXT(I1680,\"# ###,-Ft (3)\")","v":"1 435 000,-Ft (3)"},6370.55,4,1435000]
[{"$f":"IF(L1681=FALSE,0,COUNTIF(A$3:A1680,\">0\")+1)","v":0},"F12000433","F-DRY 1500/48",null,"Adszorpciós sz.","1 562 000,-Ft (3)",6937.05,4,1562000]
[{"$f":"IF(L1682=FALSE,0,COUNTIF(A$3:A1681,\">0\")+1)","v":0},"F12000434","F-DRY2000/48",null,"Adszorpciós sz.","1 982 000,-Ft (3)",8801.35,4,1982000]
[{"$f":"IF(L1683=FALSE,0,COUNTIF(A$3:A1682,\">0\")+1)","v":0},"F12000435","F-DRY2500/48",null,"Adszorpciós sz.",{"$f":"TEXT(I1683,\"# ###,-Ft (4)\")","v":"2 312 000,-Ft (4)"},10629.806,6,2312000]
[{"$f":"IF(L1684=FALSE,0,COUNTIF(A$3:A1683,\">0\")+1)","v":0},"F12000436","F-DRY3000/48",null,"Adszorpciós sz.","2 507 000,-Ft (4)",11526.627,6,2507000]
[{"$f":"IF(L1685=FALSE,0,COUNTIF(A$3:A1684,\">0\")+1)","v":0},"F12000437","F-DRY3750/48",null,"Adszorpciós sz.","3 187 000,-Ft (4)",14652.265000000001,6,3187000]
[{"$f":"IF(L1686=FALSE,0,COUNTIF(A$3:A1685,\">0\")+1)","v":0},"F12000438","F-DRY5000/48",null,"Adszorpciós sz.","3 639 000,-Ft (4)",16727.508999999998,6,3639000]
[{"$f":"IF(L1687=FALSE,0,COUNTIF(A$3:A1686,\">0\")+1)","v":0},"F12000439","F-DRY6500/48",null,"Adszorpciós sz.","5 519 000,-Ft (4)",25371.166000000001,6,5519000]
[{"$f":"IF(L1688=FALSE,0,COUNTIF(A$3:A1687,\">0\")+1)","v":0},12000395,"SILENCER for F-Dry 1200",null,"Adszorpciós sz.",{"$f":"TEXT(I1688,\"# ###,-Ft\")","v":"52 540,-Ft"},211.66499999999999,null,{"$f":"ROUND(IF(G$1=1,IF(G1688>10000,(G1688*N$1*0.85),IF(G1688>5000,(G1688*N$1*0.88),IF(G1688>1000,(G1688*N$1*0.91),IF(G1688>500,(G1688*N$1*0.94),IF(G1688>100,(G1688*N$1*0.97),(G1688*N$1))))))/1.27,G1688*N$1/1.27),L$1)","v":52540}]
[{"$f":"IF(L1689=FALSE,0,COUNTIF(A$3:A1688,\">0\")+1)","v":0},12000396,"SILENCER for F-Dry 1500",null,"Adszorpciós sz.","105 080,-Ft",423.33,null,105080]
[{"$f":"IF(L1690=FALSE,0,COUNTIF(A$3:A1689,\">0\")+1)","v":0},12000397,"SILENCER for F-Dry 2000",null,"Adszorpciós sz.","105 080,-Ft",423.33,null,105080]
[{"$f":"IF(L1691=FALSE,0,COUNTIF(A$3:A1690,\">0\")+1)","v":0},12000398,"SILENCER for F-Dry 2500",null,"Adszorpciós sz.","152 750,-Ft",634.995,null,152750]
[{"$f":"IF(L1692=FALSE,0,COUNTIF(A$3:A1691,\">0\")+1)","v":0},12000399,"SILENCER for F-DRY 3000",null,"Adszorpciós sz.","203 670,-Ft",846.66,null,203670]
[{"$f":"IF(L1693=FALSE,0,COUNTIF(A$3:A1692,\">0\")+1)","v":0},12000440,"SILENCER for F-DRY 3750",null,"Adszorpciós sz.","203 670,-Ft",846.66,null,203670]
[{"$f":"IF(L1694=FALSE,0,COUNTIF(A$3:A1693,\">0\")+1)","v":0},12000441,"SILENCER for F-DRY 5000",null,"Adszorpciós sz.",{"$f":"TEXT(I1694,\"# ###,-Ft (2)\")","v":"246 000,-Ft (2)"},1058.325,2,{"$f":"ROUND(IF(G$1=1,IF(G1694>10000,(G1694*N$1*0.85),IF(G1694>5000,(G1694*N$1*0.88),IF(G1694>1000,(G1694*N$1*0.91),IF(G1694>500,(G1694*N$1*0.94),IF(G1694>100,(G1694*N$1*0.97),(G1694*N$1))))))/1.27,G1694*N$1/1.27),-3)","v":246000}]
[{"$f":"IF(L1695=FALSE,0,COUNTIF(A$3:A1694,\">0\")+1)","v":0},12000442,"SILENCER for F-DRY 6500",null,"Adszorpciós sz.","296 000,-Ft (2)",1269.99,2,296000]
[{"$f":"IF(L1696=FALSE,0,COUNTIF(A$3:A1695,\">0\")+1)","v":0},12000484,"DN50",null,"Adszorpciós sz.","43 040,-Ft",173.40049999999999,null,43040]
[{"$f":"IF(L1697=FALSE,0,COUNTIF(A$3:A1696,\">0\")+1)","v":0},12000485,"DN65",null,"Adszorpciós sz.","44 900,-Ft",180.8989,null,44900]
[{"$f":"IF(L1698=FALSE,0,COUNTIF(A$3:A1697,\">0\")+1)","v":0},12000486,"DN80",null,"Adszorpciós sz.","46 770,-Ft",188.3973,null,46770]
[{"$f":"IF(L1699=FALSE,0,COUNTIF(A$3:A1698,\">0\")+1)","v":0},12000487,"DN100",null,"Adszorpciós sz.","60 130,-Ft",242.2251,null,60130]
[{"$f":"IF(L1700=FALSE,0,COUNTIF(A$3:A1699,\">0\")+1)","v":0},12000488,"DN125",null,"Adszorpciós sz.","67 340,-Ft",271.28140000000002,null,67340]
[{"$f":"IF(L1701=FALSE,0,COUNTIF(A$3:A1700,\">0\")+1)","v":0},"C12000311","COM-DRY 06",null,"Adszorpciós sz.",{"$f":"TEXT(I1701,\"# ###,-Ft (2)\")","v":"983 000,-Ft (2)"},4223,2,{"$f":"ROUND(IF(G$1=1,IF(G1701>10000,(G1701*N$1*0.85),IF(G1701>5000,(G1701*N$1*0.88),IF(G1701>1000,(G1701*N$1*0.91),IF(G1701>500,(G1701*N$1*0.94),IF(G1701>100,(G1701*N$1*0.97),(G1701*N$1))))))/1.27,G1701*N$1/1.27),-3)","v":983000}]
[{"$f":"IF(L1702=FALSE,0,COUNTIF(A$3:A1701,\">0\")+1)","v":0},"C12000312","COM -DRY 12",null,"Adszorpciós sz.","1 077 000,-Ft (2)",4624.7,2,1077000]
[{"$f":"IF(L1703=FALSE,0,COUNTIF(A$3:A1702,\">0\")+1)","v":0},"C12000313","COM -DRY 24",null,"Adszorpciós sz.",{"$f":"TEXT(I1703,\"# ###,-Ft (3)\")","v":"1 134 000,-Ft (3)"},5036.7,4,1134000]
[{"$f":"IF(L1704=FALSE,0,COUNTIF(A$3:A1703,\">0\")+1)","v":0},"C12000314","COM -DRY 36",null,"Adszorpciós sz.","1 213 000,-Ft (3)",5386.9000000000005,4,1213000]
[{"$f":"IF(L1705=FALSE,0,COUNTIF(A$3:A1704,\">0\")+1)","v":0},"C12000315","COM -DRY 60",null,"Adszorpciós sz.","1 306 000,-Ft (3)",5798.9000000000005,4,1306000]
[{"$f":"IF(L1706=FALSE,0,COUNTIF(A$3:A1705,\">0\")+1)","v":0},"C12000316","COM -DRY 75",null,"Adszorpciós sz.","1 371 000,-Ft (3)",6087.3,4,1371000]
[{"$f":"IF(L1707=FALSE,0,COUNTIF(A$3:A1706,\">0\")+1)","v":0},"C12000403","COM -DRY 110",null,"Adszorpciós sz.","2 183 000,-Ft (3)",9692.3000000000011,4,2183000]
[{"$f":"IF(L1708=FALSE,0,COUNTIF(A$3:A1707,\">0\")+1)","v":0},"C12000404","COM -DRY 150",null,"Adszorpciós sz.",{"$f":"TEXT(I1708,\"# ###,-Ft (4)\")","v":"2 304 000,-Ft (4)"},10593.550000000001,6,2304000]
[{"$f":"IF(L1709=FALSE,0,COUNTIF(A$3:A1708,\">0\")+1)","v":0},"C12000405","COM -DRY 200",null,"Adszorpciós sz.","2 402 000,-Ft (4)",11041.6,6,2402000]
[{"$f":"IF(L1710=FALSE,0,COUNTIF(A$3:A1709,\">0\")+1)","v":0},"C12000406","COM -DRY 250",null,"Adszorpciós sz.","2 859 000,-Ft (4)",13142.800000000001,6,2859000]
[{"$f":"IF(L1711=FALSE,0,COUNTIF(A$3:A1710,\">0\")+1)","v":0},"C12000407","COM -DRY 300",null,"Adszorpciós sz.","3 277 000,-Ft (4)",15063.75,6,3277000]
[{"$f":"IF(L1712=FALSE,0,COUNTIF(A$3:A1711,\">0\")+1)","v":0},"C12000408","COM -DRY 400",null,"Adszorpciós sz.","3 582 000,-Ft (4)",16469.7,6,3582000]
[{"$f":"IF(L1713=FALSE,0,COUNTIF(A$3:A1712,\">0\")+1)","v":0},"C12000409","COM -DRY 600",null,"Adszorpciós sz.","4 457 000,-Ft (4)",20491.850000000002,6,4457000]
[{"$f":"IF(L1714=FALSE,0,COUNTIF(A$3:A1713,\">0\")+1)","v":0},"C12000410","COM -DRY 800",null,"Adszorpciós sz.","5 143 000,-Ft (4)",23644.2268,6,5143000]
[{"$f":"IF(L1715=FALSE,0,COUNTIF(A$3:A1714,\">0\")+1)","v":0},"C12000411","COM -DRY 1000",null,"Adszorpciós sz.","5 143 000,-Ft (4)",23643.65,6,5143000]
[{"$f":"IF(L1716=FALSE,0,COUNTIF(A$3:A1715,\">0\")+1)","v":0},"C12000432","COM -DRY 1200",null,"Adszorpciós sz.","7 880 000,-Ft (4)",36225.1,6,7880000]
[{"$f":"IF(L1717=FALSE,0,COUNTIF(A$3:A1716,\">0\")+1)","v":0},"C12000388","COM -DRY 1500",null,"Adszorpciós sz.","9 485 000,-Ft (4)",43605.05,6,9485000]
[{"$f":"IF(L1718=FALSE,0,COUNTIF(A$3:A1717,\">0\")+1)","v":0},"C12000389","COM -DRY 2000",null,"Adszorpciós sz.","11 143 000,-Ft (4)",51227.05,6,11143000]
[{"$f":"IF(L1719=FALSE,0,COUNTIF(A$3:A1718,\">0\")+1)","v":0},"C12000390","COM -DRY 2500",null,"Adszorpciós sz.","14 216 000,-Ft (4)",65353.5,6,14216000]
[{"$f":"IF(L1720=FALSE,0,COUNTIF(A$3:A1719,\">0\")+1)","v":0},"C12000391","COM -DRY 3000",null,"Adszorpciós sz.","15 457 000,-Ft (4)",71059.7,6,15457000]
[{"$f":"IF(L1721=FALSE,0,COUNTIF(A$3:A1720,\">0\")+1)","v":0},"C12000392","COM -DRY 3750",null,"Adszorpciós sz.","17 886 000,-Ft (4)",82224.900000000009,6,17886000]
[{"$f":"IF(L1722=FALSE,0,COUNTIF(A$3:A1721,\">0\")+1)","v":0},"C12000393","COM -DRY 5000",null,"Adszorpciós sz.","21 211 000,-Ft (4)",97515,6,21211000]
[{"$f":"IF(L1723=FALSE,0,COUNTIF(A$3:A1722,\">0\")+1)","v":0},"C12000394","COM -DRY 6500",null,"Adszorpciós sz.","25 587 000,-Ft (4)",117631,6,25587000]
[{"$f":"IF(L1724=FALSE,0,COUNTIF(A$3:A1723,\">0\")+1)","v":0},"C24-12000327","COM-DRY 06/24",null,"Adszorpciós sz.","111 220,-Ft",448.05,null,111220]
[{"$f":"IF(L1725=FALSE,0,COUNTIF(A$3:A1724,\">0\")+1)","v":0},"C24-12000328","COM-DRY 12/24",null,"Adszorpciós sz.","111 220,-Ft",448.05,null,111220]
[{"$f":"IF(L1726=FALSE,0,COUNTIF(A$3:A1725,\">0\")+1)","v":0},"C24-12000329","COM-DRY 24/24",null,"Adszorpciós sz.","111 220,-Ft",448.05,null,111220]
[{"$f":"IF(L1727=FALSE,0,COUNTIF(A$3:A1726,\">0\")+1)","v":0},"C24-12000330","COM-DRY 36/24",null,"Adszorpciós sz.","111 220,-Ft",448.05,null,111220]
[{"$f":"IF(L1728=FALSE,0,COUNTIF(A$3:A1727,\">0\")+1)","v":0},"C24-12000331","COM-DRY 60/24",null,"Adszorpciós sz.","122 720,-Ft",494.40000000000003,null,122720]
[{"$f":"IF(L1729=FALSE,0,COUNTIF(A$3:A1728,\">0\")+1)","v":0},"C24-12000332","COM-DRY 75/24",null,"Adszorpciós sz.","122 720,-Ft",494.40000000000003,null,122720]
[{"$f":"IF(L1730=FALSE,0,COUNTIF(A$3:A1729,\">0\")+1)","v":0},"C24-12000400","COM-DRY 110-250/24",null,"Adszorpciós sz.",{"$f":"TEXT(I1730,\"# ###,-Ft (2)\")","v":"310 000,-Ft (2)"},1329.2150000000001,2,{"$f":"ROUND(IF(G$1=1,IF(G1730>10000,(G1730*N$1*0.85),IF(G1730>5000,(G1730*N$1*0.88),IF(G1730>1000,(G1730*N$1*0.91),IF(G1730>500,(G1730*N$1*0.94),IF(G1730>100,(G1730*N$1*0.97),(G1730*N$1))))))/1.27,G1730*N$1/1.27),-3)","v":310000}]
[{"$f":"IF(L1731=FALSE,0,COUNTIF(A$3:A1730,\">0\")+1)","v":0},"C24-12000401","COM-DRY 300-600/24",null,"Adszorpciós sz.","433 000,-Ft (2)",1859.15,2,433000]
[{"$f":"IF(L1732=FALSE,0,COUNTIF(A$3:A1731,\">0\")+1)","v":0},"C24-12000402","COM-DRY 800-1000/24",null,"Adszorpciós sz.","444 000,-Ft (2)",1906.0150000000001,2,444000]
[{"$f":"IF(L1733=FALSE,0,COUNTIF(A$3:A1732,\">0\")+1)","v":0},"C24-12000424","COM-DRY 1200/24",null,"Adszorpciós sz.","446 000,-Ft (2)",1916.4179999999999,2,446000]
[{"$f":"IF(L1734=FALSE,0,COUNTIF(A$3:A1733,\">0\")+1)","v":0},"C24-12000425","COM-DRY 1500/24",null,"Adszorpciós sz.","540 000,-Ft (2)",2317.5,2,540000]
[{"$f":"IF(L1735=FALSE,0,COUNTIF(A$3:A1734,\">0\")+1)","v":0},"C24-12000426","COM-DRY 2000/24",null,"Adszorpciós sz.","622 000,-Ft (2)",2672.85,2,622000]
[{"$f":"IF(L1736=FALSE,0,COUNTIF(A$3:A1735,\">0\")+1)","v":0},"C24-12000427","COM-DRY 2500/24",null,"Adszorpciós sz.","632 000,-Ft (2)",2714.2559999999999,2,632000]
[{"$f":"IF(L1737=FALSE,0,COUNTIF(A$3:A1736,\">0\")+1)","v":0},"C24-12000428","COM-DRY 3000/24",null,"Adszorpciós sz.","669 000,-Ft (2)",2873.9059999999999,2,669000]
[{"$f":"IF(L1738=FALSE,0,COUNTIF(A$3:A1737,\">0\")+1)","v":0},"C24-12000429","COM-DRY 3750/24",null,"Adszorpciós sz.","757 000,-Ft (2)",3250.165,2,757000]
[{"$f":"IF(L1739=FALSE,0,COUNTIF(A$3:A1738,\">0\")+1)","v":0},"C24-12000430","COM-DRY 5000/24",null,"Adszorpciós sz.","796 000,-Ft (2)",3419.703,2,796000]
[{"$f":"IF(L1740=FALSE,0,COUNTIF(A$3:A1739,\">0\")+1)","v":0},"C24-12000431","COM-DRY 6500/24",null,"Adszorpciós sz.","989 000,-Ft (2)",4248.75,2,989000]
[{"$f":"IF(L1741=FALSE,0,COUNTIF(A$3:A1740,\">0\")+1)","v":0},"C48-12000311","COM-DRY 06/48",null,"Adszorpciós sz.",{"$f":"TEXT(I1741,\"# ###,-Ft\")","v":"147 420,-Ft"},612.85,null,{"$f":"ROUND(IF(G$1=1,IF(G1741>10000,(G1741*N$1*0.85),IF(G1741>5000,(G1741*N$1*0.88),IF(G1741>1000,(G1741*N$1*0.91),IF(G1741>500,(G1741*N$1*0.94),IF(G1741>100,(G1741*N$1*0.97),(G1741*N$1))))))/1.27,G1741*N$1/1.27),L$1)","v":147420}]
[{"$f":"IF(L1742=FALSE,0,COUNTIF(A$3:A1741,\">0\")+1)","v":0},"C48-12000312","COM-DRY 12/48",null,"Adszorpciós sz.","163 530,-Ft",679.80000000000007,null,163530]
[{"$f":"IF(L1743=FALSE,0,COUNTIF(A$3:A1742,\">0\")+1)","v":0},"C48-12000313","COM-DRY 24/48",null,"Adszorpciós sz.","195 740,-Ft",813.7,null,195740]
[{"$f":"IF(L1744=FALSE,0,COUNTIF(A$3:A1743,\">0\")+1)","v":0},"C48-12000314","COM-DRY 36/48",null,"Adszorpciós sz.","224 230,-Ft",932.15,null,224230]
[{"$f":"IF(L1745=FALSE,0,COUNTIF(A$3:A1744,\">0\")+1)","v":0},"C48-12000315","COM-DRY 60/48",null,"Adszorpciós sz.",{"$f":"TEXT(I1745,\"# ###,-Ft (2)\")","v":"270 000,-Ft (2)"},1158.75,2,{"$f":"ROUND(IF(G$1=1,IF(G1745>10000,(G1745*N$1*0.85),IF(G1745>5000,(G1745*N$1*0.88),IF(G1745>1000,(G1745*N$1*0.91),IF(G1745>500,(G1745*N$1*0.94),IF(G1745>100,(G1745*N$1*0.97),(G1745*N$1))))))/1.27,G1745*N$1/1.27),-3)","v":270000}]
[{"$f":"IF(L1746=FALSE,0,COUNTIF(A$3:A1745,\">0\")+1)","v":0},"C48-12000316","COM-DRY 75/48",null,"Adszorpciós sz.","299 000,-Ft (2)",1282.3500000000001,2,299000]
[{"$f":"IF(L1747=FALSE,0,COUNTIF(A$3:A1746,\">0\")+1)","v":0},"C48-12000403","COM-DRY 110/48",null,"Adszorpciós sz.","425 000,-Ft (2)",1823.1000000000001,2,425000]
[{"$f":"IF(L1748=FALSE,0,COUNTIF(A$3:A1747,\">0\")+1)","v":0},"C48-12000404","COM-DRY 150/48",null,"Adszorpciós sz.","455 000,-Ft (2)",1951.8500000000001,2,455000]
[{"$f":"IF(L1749=FALSE,0,COUNTIF(A$3:A1748,\">0\")+1)","v":0},"C48-12000405","COM-DRY 200/48",null,"Adszorpciós sz.","501 000,-Ft (2)",2152.7000000000003,2,501000]
[{"$f":"IF(L1750=FALSE,0,COUNTIF(A$3:A1749,\">0\")+1)","v":0},"C48-12000406","COM-DRY 250/48",null,"Adszorpciós sz.","546 000,-Ft (2)",2343.25,2,546000]
[{"$f":"IF(L1751=FALSE,0,COUNTIF(A$3:A1750,\">0\")+1)","v":0},"C48-12000407","COM-DRY 300/48",null,"Adszorpciós sz.","728 000,-Ft (2)",3126.05,2,728000]
[{"$f":"IF(L1752=FALSE,0,COUNTIF(A$3:A1751,\">0\")+1)","v":0},"C48-12000408","COM-DRY 400/48",null,"Adszorpciós sz.","794 000,-Ft (2)",3409.3,2,794000]
[{"$f":"IF(L1753=FALSE,0,COUNTIF(A$3:A1752,\">0\")+1)","v":0},"C48-12000409","COM-DRY 600/48",null,"Adszorpciós sz.","944 000,-Ft (2)",4053.05,2,944000]
[{"$f":"IF(L1754=FALSE,0,COUNTIF(A$3:A1753,\">0\")+1)","v":0},"C48-12000410","COM-DRY 800/48",null,"Adszorpciós sz.","1 097 000,-Ft (2)",4712.25,2,1097000]
[{"$f":"IF(L1755=FALSE,0,COUNTIF(A$3:A1754,\">0\")+1)","v":0},"C48-12000411","COM-DRY 1000/48",null,"Adszorpciós sz.",{"$f":"TEXT(I1755,\"# ###,-Ft (3)\")","v":"1 222 000,-Ft (3)"},5428.1,4,1222000]
[{"$f":"IF(L1756=FALSE,0,COUNTIF(A$3:A1755,\">0\")+1)","v":0},"C48-12000432","COM-DRY 1200/48",null,"Adszorpciós sz.","1 435 000,-Ft (3)",6370.55,4,1435000]
[{"$f":"IF(L1757=FALSE,0,COUNTIF(A$3:A1756,\">0\")+1)","v":0},"C48-12000433","COM-DRY 1500/48",null,"Adszorpciós sz.","1 562 000,-Ft (3)",6937.05,4,1562000]
[{"$f":"IF(L1758=FALSE,0,COUNTIF(A$3:A1757,\">0\")+1)","v":0},"C48-12000434","COM-DRY 2000/48",null,"Adszorpciós sz.","1 982 000,-Ft (3)",8801.35,4,1982000]
[{"$f":"IF(L1759=FALSE,0,COUNTIF(A$3:A1758,\">0\")+1)","v":0},"C48-12000435","COM-DRY 2500/48",null,"Adszorpciós sz.",{"$f":"TEXT(I1759,\"# ###,-Ft (4)\")","v":"2 312 000,-Ft (4)"},10629.806,6,2312000]
[{"$f":"IF(L1760=FALSE,0,COUNTIF(A$3:A1759,\">0\")+1)","v":0},"C48-12000436","COM-DRY 3000/48",null,"Adszorpciós sz.","2 507 000,-Ft (4)",11526.627,6,2507000]
[{"$f":"IF(L1761=FALSE,0,COUNTIF(A$3:A1760,\">0\")+1)","v":0},"C48-12000437","COM-DRY 3750/48",null,"Adszorpciós sz.","3 187 000,-Ft (4)",14652.265000000001,6,3187000]
[{"$f":"IF(L1762=FALSE,0,COUNTIF(A$3:A1761,\">0\")+1)","v":0},"C48-12000438","COM-DRY 5000/48",null,"Adszorpciós sz.","3 639 000,-Ft (4)",16727.508999999998,6,3639000]
[{"$f":"IF(L1763=FALSE,0,COUNTIF(A$3:A1762,\">0\")+1)","v":0},"C48-12000439","COM-DRY 6500/48",null,"Adszorpciós sz.","5 519 000,-Ft (4)",25371.166000000001,6,5519000]
[{"$f":"IF(L1764=FALSE,0,COUNTIF(A$3:A1763,\">0\")+1)","v":0},12000350,"SILENCER for A-DRY 06-36   ",null,"Adszorpciós sz.","3 620,-Ft",14.1625,null,3620]
[{"$f":"IF(L1765=FALSE,0,COUNTIF(A$3:A1764,\">0\")+1)","v":0},12000351,"SILENCER for A-DRY 60-105",null,"Adszorpciós sz.","8 170,-Ft",31.93,null,8170]
[{"$f":"IF(L1766=FALSE,0,COUNTIF(A$3:A1765,\">0\")+1)","v":0},12000371,"SILENCER for A-DRY 150-200",null,"Adszorpciós sz.","10 250,-Ft",40.067,null,10250]
[{"$f":"IF(L1767=FALSE,0,COUNTIF(A$3:A1766,\">0\")+1)","v":0},12000353,"SILENCER for B-DRY 110-250  ",null,"Adszorpciós sz.","55 990,-Ft",225.57,null,55990]
[{"$f":"IF(L1768=FALSE,0,COUNTIF(A$3:A1767,\">0\")+1)","v":0},12000354,"SILENCER for B-DRY 300-600  ",null,"Adszorpciós sz.","90 250,-Ft",363.59000000000003,null,90250]
[{"$f":"IF(L1769=FALSE,0,COUNTIF(A$3:A1768,\">0\")+1)","v":0},12000355,"SILENCER for B-DRY 800-1000",null,"Adszorpciós sz.","105 080,-Ft",423.33,null,105080]
[{"$f":"IF(L1770=FALSE,0,COUNTIF(A$3:A1769,\">0\")+1)","v":0},12000395,"SILENCER for F-Dry 1200",null,"Adszorpciós sz.","52 540,-Ft",211.66499999999999,null,52540]
[{"$f":"IF(L1771=FALSE,0,COUNTIF(A$3:A1770,\">0\")+1)","v":0},12000396,"SILENCER for F-Dry 1500",null,"Adszorpciós sz.","105 080,-Ft",423.33,null,105080]
[{"$f":"IF(L1772=FALSE,0,COUNTIF(A$3:A1771,\">0\")+1)","v":0},12000397,"SILENCER for F-Dry 2000",null,"Adszorpciós sz.","105 080,-Ft",423.33,null,105080]
[{"$f":"IF(L1773=FALSE,0,COUNTIF(A$3:A1772,\">0\")+1)","v":0},12000398,"SILENCER for F-Dry 2500",null,"Adszorpciós sz.","152 750,-Ft",634.995,null,152750]
[{"$f":"IF(L1774=FALSE,0,COUNTIF(A$3:A1773,\">0\")+1)","v":0},12000399,"SILENCER for F-DRY 3000",null,"Adszorpciós sz.","203 670,-Ft",846.66,null,203670]
[{"$f":"IF(L1775=FALSE,0,COUNTIF(A$3:A1774,\">0\")+1)","v":0},12000440,"SILENCER for F-DRY 3750",null,"Adszorpciós sz.","203 670,-Ft",846.66,null,203670]
[{"$f":"IF(L1776=FALSE,0,COUNTIF(A$3:A1775,\">0\")+1)","v":0},12000441,"SILENCER for F-DRY 5000",null,"Adszorpciós sz.",{"$f":"TEXT(I1776,\"# ###,-Ft (2)\")","v":"246 000,-Ft (2)"},1058.325,2,{"$f":"ROUND(IF(G$1=1,IF(G1776>10000,(G1776*N$1*0.85),IF(G1776>5000,(G1776*N$1*0.88),IF(G1776>1000,(G1776*N$1*0.91),IF(G1776>500,(G1776*N$1*0.94),IF(G1776>100,(G1776*N$1*0.97),(G1776*N$1))))))/1.27,G1776*N$1/1.27),-3)","v":246000}]
[{"$f":"IF(L1777=FALSE,0,COUNTIF(A$3:A1776,\">0\")+1)","v":0},12000442,"SILENCER for F-DRY 6500",null,"Adszorpciós sz.","296 000,-Ft (2)",1269.99,2,296000]
[{"$f":"IF(L1778=FALSE,0,COUNTIF(A$3:A1777,\">0\")+1)","v":0},"R12000498","R-DRY 400",null,"Adszorpciós sz.",{"$f":"TEXT(I1778,\"# ###,-Ft (4)\")","v":"8 863 000,-Ft (4)"},40746.800000000003,6,8863000]
[{"$f":"IF(L1779=FALSE,0,COUNTIF(A$3:A1778,\">0\")+1)","v":0},"R12000499","R-DRY 600",null,"Adszorpciós sz.","9 603 000,-Ft (4)",44145.8,6,9603000]
[{"$f":"IF(L1780=FALSE,0,COUNTIF(A$3:A1779,\">0\")+1)","v":0},"R12000500","R-DRY 780",null,"Adszorpciós sz.","10 317 000,-Ft (4)",47431.5,6,10317000]
[{"$f":"IF(L1781=FALSE,0,COUNTIF(A$3:A1780,\">0\")+1)","v":0},"R12000501","R-DRY 1000",null,"Adszorpciós sz.","11 417 000,-Ft (4)",52488.800000000003,6,11417000]
[{"$f":"IF(L1782=FALSE,0,COUNTIF(A$3:A1781,\">0\")+1)","v":0},"R12000502","R-DRY 1200",null,"Adszorpciós sz.","12 580 000,-Ft (4)",57834.5,6,12580000]
[{"$f":"IF(L1783=FALSE,0,COUNTIF(A$3:A1782,\">0\")+1)","v":0},"R12000503","R-DRY 1600",null,"Adszorpciós sz.","13 835 000,-Ft (4)",63602.5,6,13835000]
[{"$f":"IF(L1784=FALSE,0,COUNTIF(A$3:A1783,\">0\")+1)","v":0},"R12000504","R-DRY 2000",null,"Adszorpciós sz.","15 571 000,-Ft (4)",71585,6,15571000]
[{"$f":"IF(L1785=FALSE,0,COUNTIF(A$3:A1784,\">0\")+1)","v":0},"R12000505","R-DRY 2500",null,"Adszorpciós sz.","17 341 000,-Ft (4)",79722,6,17341000]
[{"$f":"IF(L1786=FALSE,0,COUNTIF(A$3:A1785,\">0\")+1)","v":0},"R12000506","R-DRY 3000",null,"Adszorpciós sz.","18 361 000,-Ft (4)",84408.5,6,18361000]
[{"$f":"IF(L1787=FALSE,0,COUNTIF(A$3:A1786,\">0\")+1)","v":0},"R12000507","R-DRY 3600",null,"Adszorpciós sz.","21 172 000,-Ft (4)",97335,6,21172000]
[{"$f":"IF(L1788=FALSE,0,COUNTIF(A$3:A1787,\">0\")+1)","v":0},"R12000508","R-DRY 4100",null,"Adszorpciós sz.","24 623 000,-Ft (4)",113197,6,24623000]
[{"$f":"IF(L1789=FALSE,0,COUNTIF(A$3:A1788,\">0\")+1)","v":0},"R12000509","R-DRY 5000",null,"Adszorpciós sz.","27 994 000,-Ft (4)",128698.5,6,27994000]
[{"$f":"IF(L1790=FALSE,0,COUNTIF(A$3:A1789,\">0\")+1)","v":0},"R12000510","R-DRY 6500",null,"Adszorpciós sz.","31 333 000,-Ft (4)",144045.5,6,31333000]
[{"$f":"IF(L1791=FALSE,0,COUNTIF(A$3:A1790,\">0\")+1)","v":0},"R12000511","R-DRY 7700",null,"Adszorpciós sz.","32 487 000,-Ft (4)",149350,6,32487000]
[{"$f":"IF(L1792=FALSE,0,COUNTIF(A$3:A1791,\">0\")+1)","v":0},"R12000512","R-DRY 10000",null,"Adszorpciós sz.","41 437 000,-Ft (4)",190498.5,6,41437000]
[{"$f":"IF(L1793=FALSE,0,COUNTIF(A$3:A1792,\">0\")+1)","v":0},"R12000513","R-DRY 12000",null,"Adszorpciós sz.","50 522 000,-Ft (4)",232265,6,50522000]
[{"$f":"IF(L1794=FALSE,0,COUNTIF(A$3:A1793,\">0\")+1)","v":0},"R12000514","R-DRY 14000",null,"Adszorpciós sz.","58 028 000,-Ft (4)",266770,6,58028000]
[{"$f":"IF(L1795=FALSE,0,COUNTIF(A$3:A1794,\">0\")+1)","v":0},"R12000515","R-DRY 16000",null,"Adszorpciós sz.","69 185 000,-Ft (4)",318064,6,69185000]
[{"$f":"IF(L1796=FALSE,0,COUNTIF(A$3:A1795,\">0\")+1)","v":0},"R12000516","R-DRY 18000",null,"Adszorpciós sz.","73 868 000,-Ft (4)",339591,6,73868000]
[{"$f":"IF(L1797=FALSE,0,COUNTIF(A$3:A1796,\">0\")+1)","v":0},"R12000517","R-DRY 20000",null,"Adszorpciós sz.","81 777 000,-Ft (4)",375950,6,81777000]
[{"$f":"IF(L1798=FALSE,0,COUNTIF(A$3:A1797,\">0\")+1)","v":0},"R3401683","R-DRY 400",null,"Adszorpciós sz.",{"$f":"TEXT(I1798,\"# ###,-Ft (2)\")","v":"828 000,-Ft (2)"},3553.5,2,828000]
[{"$f":"IF(L1799=FALSE,0,COUNTIF(A$3:A1798,\">0\")+1)","v":0},"R3401684","R-DRY 600",null,"Adszorpciós sz.","863 000,-Ft (2)",3708,2,863000]
[{"$f":"IF(L1800=FALSE,0,COUNTIF(A$3:A1799,\">0\")+1)","v":0},"R3401685","R-DRY 780",null,"Adszorpciós sz.","889 000,-Ft (2)",3816.15,2,889000]
[{"$f":"IF(L1801=FALSE,0,COUNTIF(A$3:A1800,\">0\")+1)","v":0},"R3401686","R-DRY 1000",null,"Adszorpciós sz.","907 000,-Ft (2)",3893.4,2,907000]
[{"$f":"IF(L1802=FALSE,0,COUNTIF(A$3:A1801,\">0\")+1)","v":0},"R3401687","R-DRY 1200",null,"Adszorpciós sz.","932 000,-Ft (2)",4001.55,2,932000]
[{"$f":"IF(L1803=FALSE,0,COUNTIF(A$3:A1802,\">0\")+1)","v":0},"R3401688","R-DRY 1600",null,"Adszorpciós sz.",{"$f":"TEXT(I1803,\"# ###,-Ft (3)\")","v":"1 127 000,-Ft (3)"},5005.8,4,1127000]
[{"$f":"IF(L1804=FALSE,0,COUNTIF(A$3:A1803,\">0\")+1)","v":0},"R3401689","R-DRY 2000",null,"Adszorpciós sz.","1 141 000,-Ft (3)",5067.6000000000004,4,1141000]
[{"$f":"IF(L1805=FALSE,0,COUNTIF(A$3:A1804,\">0\")+1)","v":0},"R3401690","R-DRY 2500",null,"Adszorpciós sz.","1 157 000,-Ft (3)",5139.7,4,1157000]
[{"$f":"IF(L1806=FALSE,0,COUNTIF(A$3:A1805,\">0\")+1)","v":0},"R3401691","R-DRY 3000",null,"Adszorpciós sz.","1 177 000,-Ft (3)",5227.25,4,1177000]
[{"$f":"IF(L1807=FALSE,0,COUNTIF(A$3:A1806,\">0\")+1)","v":0},"R3401692","R-DRY 3600",null,"Adszorpciós sz.","1 195 000,-Ft (3)",5304.5,4,1195000]
[{"$f":"IF(L1808=FALSE,0,COUNTIF(A$3:A1807,\">0\")+1)","v":0},"R3401693","R-DRY 4100",null,"Adszorpciós sz.","1 282 000,-Ft (3)",5690.75,4,1282000]
[{"$f":"IF(L1809=FALSE,0,COUNTIF(A$3:A1808,\">0\")+1)","v":0},"R3401694","R-DRY 5000",null,"Adszorpciós sz.","1 322 000,-Ft (3)",5871,4,1322000]
[{"$f":"IF(L1810=FALSE,0,COUNTIF(A$3:A1809,\">0\")+1)","v":0},"R3401695","R-DRY 6500",null,"Adszorpciós sz.","1 573 000,-Ft (3)",6983.4000000000005,4,1573000]
[{"$f":"IF(L1811=FALSE,0,COUNTIF(A$3:A1810,\">0\")+1)","v":0},"R3401696","R-DRY 7700",null,"Adszorpciós sz.","1 600 000,-Ft (3)",7107,4,1600000]
[{"$f":"IF(L1812=FALSE,0,COUNTIF(A$3:A1811,\">0\")+1)","v":0},"R3401697","R-DRY 10000",null,"Adszorpciós sz.","1 730 000,-Ft (3)",7683.8,4,1730000]
[{"$f":"IF(L1813=FALSE,0,COUNTIF(A$3:A1812,\">0\")+1)","v":0},"R3401698","R-DRY 12000",null,"Adszorpciós sz.","1 762 000,-Ft (3)",7822.85,4,1762000]
[{"$f":"IF(L1814=FALSE,0,COUNTIF(A$3:A1813,\">0\")+1)","v":0},"R3401699","R-DRY 14000",null,"Adszorpciós sz.","2 085 000,-Ft (3)",9259.7000000000007,4,2085000]
[{"$f":"IF(L1815=FALSE,0,COUNTIF(A$3:A1814,\">0\")+1)","v":0},"R3401700","R-DRY 16000",null,"Adszorpciós sz.","2 134 000,-Ft (3)",9476,4,2134000]
[{"$f":"IF(L1816=FALSE,0,COUNTIF(A$3:A1815,\">0\")+1)","v":0},"R3401701","R-DRY 18000",null,"Adszorpciós sz.","2 215 000,-Ft (3)",9836.5,4,2215000]
[{"$f":"IF(L1817=FALSE,0,COUNTIF(A$3:A1816,\">0\")+1)","v":0},"R3401702","R-DRY 20000",null,"Adszorpciós sz.",{"$f":"TEXT(I1817,\"# ###,-Ft (4)\")","v":"2 201 000,-Ft (4)"},10119.75,6,2201000]
[{"$f":"IF(L1818=FALSE,0,COUNTIF(A$3:A1817,\">0\")+1)","v":0},"R12000443","R-DRY 400/24",null,"Adszorpciós sz.",{"$f":"TEXT(I1818,\"# ###,-Ft (2)\")","v":"700 000,-Ft (2)"},3007.6,2,700000]
[{"$f":"IF(L1819=FALSE,0,COUNTIF(A$3:A1818,\">0\")+1)","v":0},"R12000444","R-DRY 600/24",null,"Adszorpciós sz.","706 000,-Ft (2)",3033.35,2,706000]
[{"$f":"IF(L1820=FALSE,0,COUNTIF(A$3:A1819,\">0\")+1)","v":0},"R12000445","R-DRY 780/24",null,"Adszorpciós sz.","710 000,-Ft (2)",3048.8,2,710000]
[{"$f":"IF(L1821=FALSE,0,COUNTIF(A$3:A1820,\">0\")+1)","v":0},"R12000446","R-DRY 1000/24",null,"Adszorpciós sz.","977 000,-Ft (2)",4197.25,2,977000]
[{"$f":"IF(L1822=FALSE,0,COUNTIF(A$3:A1821,\">0\")+1)","v":0},"R12000447","R-DRY 1200/24",null,"Adszorpciós sz.","985 000,-Ft (2)",4228.1500000000005,2,985000]
[{"$f":"IF(L1823=FALSE,0,COUNTIF(A$3:A1822,\">0\")+1)","v":0},"R12000448","R-DRY 1600/24",null,"Adszorpciós sz.","989 000,-Ft (2)",4248.75,2,989000]
[{"$f":"IF(L1824=FALSE,0,COUNTIF(A$3:A1823,\">0\")+1)","v":0},"R12000449","R-DRY 2000/24",null,"Adszorpciós sz.","1 123 000,-Ft (2)",4820.4000000000005,2,1123000]
[{"$f":"IF(L1825=FALSE,0,COUNTIF(A$3:A1824,\">0\")+1)","v":0},"R12000450","R-DRY 2500/24",null,"Adszorpciós sz.","1 143 000,-Ft (2)",4907.95,2,1143000]
[{"$f":"IF(L1826=FALSE,0,COUNTIF(A$3:A1825,\">0\")+1)","v":0},"R12000451","R-DRY 3000/24",null,"Adszorpciós sz.","1 149 000,-Ft (2)",4933.7,2,1149000]
[{"$f":"IF(L1827=FALSE,0,COUNTIF(A$3:A1826,\">0\")+1)","v":0},"R12000452","R-DRY 3600/24",null,"Adszorpciós sz.","1 155 000,-Ft (2)",4959.45,2,1155000]
[{"$f":"IF(L1828=FALSE,0,COUNTIF(A$3:A1827,\">0\")+1)","v":0},"R12000453","R-DRY 4100/24",null,"Adszorpciós sz.",{"$f":"TEXT(I1828,\"# ###,-Ft (3)\")","v":"1 344 000,-Ft (3)"},5968.85,4,1344000]
[{"$f":"IF(L1829=FALSE,0,COUNTIF(A$3:A1828,\">0\")+1)","v":0},"R12000454","R-DRY 5000/24",null,"Adszorpciós sz.","1 350 000,-Ft (3)",5994.6,4,1350000]
[{"$f":"IF(L1830=FALSE,0,COUNTIF(A$3:A1829,\">0\")+1)","v":0},"R12000455","R-DRY 6500/24",null,"Adszorpciós sz.","1 603 000,-Ft (3)",7117.3,4,1603000]
[{"$f":"IF(L1831=FALSE,0,COUNTIF(A$3:A1830,\">0\")+1)","v":0},"R12000456","R-DRY 7700/24",null,"Adszorpciós sz.","1 609 000,-Ft (3)",7143.05,4,1609000]
[{"$f":"IF(L1832=FALSE,0,COUNTIF(A$3:A1831,\">0\")+1)","v":0},"R12000457","R-DRY 10000/24",null,"Adszorpciós sz.","2 229 000,-Ft (3)",9898.3000000000011,4,2229000]
[{"$f":"IF(L1833=FALSE,0,COUNTIF(A$3:A1832,\">0\")+1)","v":0},"R12000458","R-DRY 12000/24",null,"Adszorpciós sz.","2 231 000,-Ft (3)",9908.6,4,2231000]
[{"$f":"IF(L1834=FALSE,0,COUNTIF(A$3:A1833,\">0\")+1)","v":0},"R12000459","R-DRY 14000/24",null,"Adszorpciós sz.","2 235 000,-Ft (3)",9924.0500000000011,4,2235000]
[{"$f":"IF(L1835=FALSE,0,COUNTIF(A$3:A1834,\">0\")+1)","v":0},"R12000460","R-DRY 16000/24",null,"Adszorpciós sz.",{"$f":"TEXT(I1835,\"# ###,-Ft (4)\")","v":"3 125 000,-Ft (4)"},14368.5,6,3125000]
[{"$f":"IF(L1836=FALSE,0,COUNTIF(A$3:A1835,\">0\")+1)","v":0},"R12000461","R-DRY 18000/24",null,"Adszorpciós sz.","3 134 000,-Ft (4)",14409.7,6,3134000]
[{"$f":"IF(L1837=FALSE,0,COUNTIF(A$3:A1836,\">0\")+1)","v":0},"R12000462","R-DRY 20000/24",null,"Adszorpciós sz.","3 146 000,-Ft (4)",14461.2,6,3146000]
[{"$f":"IF(L1838=FALSE,0,COUNTIF(A$3:A1837,\">0\")+1)","v":0},"R12000463","R-DRY 400/48",null,"Adszorpciós sz.",{"$f":"TEXT(I1838,\"# ###,-Ft (2)\")","v":"1 138 000,-Ft (2)"},4887.3500000000004,2,1138000]
[{"$f":"IF(L1839=FALSE,0,COUNTIF(A$3:A1838,\">0\")+1)","v":0},"R12000464","R-DRY 600/48",null,"Adszorpciós sz.",{"$f":"TEXT(I1839,\"# ###,-Ft (3)\")","v":"1 314 000,-Ft (3)"},5834.95,4,1314000]
[{"$f":"IF(L1840=FALSE,0,COUNTIF(A$3:A1839,\">0\")+1)","v":0},"R12000465","R-DRY 780/48",null,"Adszorpciós sz.","1 487 000,-Ft (3)",6602.3,4,{"$f":"ROUND(IF(G$1=1,IF(G1840>10000,(G1840*N$1*0.85),IF(G1840>5000,(G1840*N$1*0.88),IF(G1840>1000,(G1840*N$1*0.91),IF(G1840>500,(G1840*N$1*0.94),IF(G1840>100,(G1840*N$1*0.97),(G1840*N$1))))))/1.27,G1840*N$1/1.27),-3)","v":1487000}]
[{"$f":"IF(L1841=FALSE,0,COUNTIF(A$3:A1840,\">0\")+1)","v":0},"R12000466","R-DRY 1000/48",null,"Adszorpciós sz.","1 917 000,-Ft (3)",8512.9500000000007,4,1917000]
[{"$f":"IF(L1842=FALSE,0,COUNTIF(A$3:A1841,\">0\")+1)","v":0},"R12000467","R-DRY 1200/48",null,"Adszorpciós sz.","2 206 000,-Ft (3)",9795.3000000000011,4,2206000]
[{"$f":"IF(L1843=FALSE,0,COUNTIF(A$3:A1842,\">0\")+1)","v":0},"R12000468","R-DRY 1600/48",null,"Adszorpciós sz.",{"$f":"TEXT(I1843,\"# ###,-Ft (4)\")","v":"2 563 000,-Ft (4)"},11783.2,6,2563000]
[{"$f":"IF(L1844=FALSE,0,COUNTIF(A$3:A1843,\">0\")+1)","v":0},"R12000469","R-DRY 2000/48",null,"Adszorpciós sz.","3 021 000,-Ft (4)",13889.550000000001,6,3021000]
[{"$f":"IF(L1845=FALSE,0,COUNTIF(A$3:A1844,\">0\")+1)","v":0},"R12000470","R-DRY 2500/48",null,"Adszorpciós sz.","3 445 000,-Ft (4)",15836.25,6,3445000]
[{"$f":"IF(L1846=FALSE,0,COUNTIF(A$3:A1845,\">0\")+1)","v":0},"R12000471","R-DRY 3000/48",null,"Adszorpciós sz.","3 888 000,-Ft (4)",17875.650000000001,6,3888000]
[{"$f":"IF(L1847=FALSE,0,COUNTIF(A$3:A1846,\">0\")+1)","v":0},"R12000472","R-DRY 3600/48",null,"Adszorpciós sz.","4 406 000,-Ft (4)",20254.95,6,4406000]
[{"$f":"IF(L1848=FALSE,0,COUNTIF(A$3:A1847,\">0\")+1)","v":0},"R12000473","R-DRY 4100/48",null,"Adszorpciós sz.","5 077 000,-Ft (4)",23339.8,6,5077000]
[{"$f":"IF(L1849=FALSE,0,COUNTIF(A$3:A1848,\">0\")+1)","v":0},"R12000474","R-DRY 5000/48",null,"Adszorpciós sz.","5 948 000,-Ft (4)",27346.5,6,5948000]
[{"$f":"IF(L1850=FALSE,0,COUNTIF(A$3:A1849,\">0\")+1)","v":0},"R12000475","R-DRY 6500/48",null,"Adszorpciós sz.","7 684 000,-Ft (4)",35323.85,6,7684000]
[{"$f":"IF(L1851=FALSE,0,COUNTIF(A$3:A1850,\">0\")+1)","v":0},"R12000476","R-DRY 7700/48",null,"Adszorpciós sz.","8 750 000,-Ft (4)",40226.65,6,8750000]
[{"$f":"IF(L1852=FALSE,0,COUNTIF(A$3:A1851,\">0\")+1)","v":0},"R12000477","R-DRY 10000/48",null,"Adszorpciós sz.","11 425 000,-Ft (4)",52524.85,6,11425000]
[{"$f":"IF(L1853=FALSE,0,COUNTIF(A$3:A1852,\">0\")+1)","v":0},"R12000478","R-DRY 12000/48",null,"Adszorpciós sz.","12 949 000,-Ft (4)",59528.85,6,12949000]
[{"$f":"IF(L1854=FALSE,0,COUNTIF(A$3:A1853,\">0\")+1)","v":0},"R12000479","R-DRY 14000/48",null,"Adszorpciós sz.","15 954 000,-Ft (4)",73346.3,6,15954000]
[{"$f":"IF(L1855=FALSE,0,COUNTIF(A$3:A1854,\">0\")+1)","v":0},"R12000480","R-DRY 16000/48",null,"Adszorpciós sz.","18 490 000,-Ft (4)",85005.900000000009,6,18490000]
[{"$f":"IF(L1856=FALSE,0,COUNTIF(A$3:A1855,\">0\")+1)","v":0},"R12000481","R-DRY 18000/48",null,"Adszorpciós sz.","20 044 000,-Ft (4)",92148.95,6,20044000]
[{"$f":"IF(L1857=FALSE,0,COUNTIF(A$3:A1856,\">0\")+1)","v":0},"R12000482","R-DRY 20000/48",null,"Adszorpciós sz.","22 778 000,-Ft (4)",104714.95,6,22778000]
[{"$f":"IF(L1858=FALSE,0,COUNTIF(A$3:A1857,\">0\")+1)","v":0},12000484,"DN50",null,"Adszorpciós sz.",{"$f":"TEXT(I1858,\"# ###,-Ft\")","v":"43 040,-Ft"},173.40049999999999,null,{"$f":"ROUND(IF(G$1=1,IF(G1858>10000,(G1858*N$1*0.85),IF(G1858>5000,(G1858*N$1*0.88),IF(G1858>1000,(G1858*N$1*0.91),IF(G1858>500,(G1858*N$1*0.94),IF(G1858>100,(G1858*N$1*0.97),(G1858*N$1))))))/1.27,G1858*N$1/1.27),L$1)","v":43040}]
[{"$f":"IF(L1859=FALSE,0,COUNTIF(A$3:A1858,\">0\")+1)","v":0},12000486,"DN80",null,"Adszorpciós sz.","46 770,-Ft",188.3973,null,46770]
[{"$f":"IF(L1860=FALSE,0,COUNTIF(A$3:A1859,\">0\")+1)","v":0},12000487,"DN100",null,"Adszorpciós sz.",{"$f":"TEXT(I1860,\"# ###,-Ft\")","v":"60 130,-Ft"},242.2251,null,{"$f":"ROUND(IF(G$1=1,IF(G1860>10000,(G1860*N$1*0.85),IF(G1860>5000,(G1860*N$1*0.88),IF(G1860>1000,(G1860*N$1*0.91),IF(G1860>500,(G1860*N$1*0.94),IF(G1860>100,(G1860*N$1*0.97),(G1860*N$1))))))/1.27,G1860*N$1/1.27),L$1)","v":60130}]
[{"$f":"IF(L1861=FALSE,0,COUNTIF(A$3:A1860,\">0\")+1)","v":0},12000488,"DN125",null,"Adszorpciós sz.","67 340,-Ft",271.28140000000002,null,67340]
[{"$f":"IF(L1862=FALSE,0,COUNTIF(A$3:A1861,\">0\")+1)","v":0},12000489,"DN150",null,"Adszorpciós sz.","84 820,-Ft",341.71280000000002,null,84820]
[{"$f":"IF(L1863=FALSE,0,COUNTIF(A$3:A1862,\">0\")+1)","v":0},12000490,"DN200",null,"Adszorpciós sz.","132 540,-Ft",550.99850000000004,null,132540]
[{"$f":"IF(L1864=FALSE,0,COUNTIF(A$3:A1863,\">0\")+1)","v":0},12000491,"DN250",null,"Adszorpciós sz.","201 730,-Ft",838.61570000000006,null,201730]
[{"$f":"IF(L1865=FALSE,0,COUNTIF(A$3:A1864,\">0\")+1)","v":0},"H12000518","HP-DRY 050 PN50",null,"Adszorpciós sz.",{"$f":"TEXT(I1865,\"# ###,-Ft (4)\")","v":"2 453 000,-Ft (4)"},11278.5,6,{"$f":"ROUND(IF(G$1=1,IF(G1865>10000,(G1865*N$1*0.85),IF(G1865>5000,(G1865*N$1*0.88),IF(G1865>1000,(G1865*N$1*0.91),IF(G1865>500,(G1865*N$1*0.94),IF(G1865>100,(G1865*N$1*0.97),(G1865*N$1))))))/1.27,G1865*N$1/1.27),-3)","v":2453000}]
[{"$f":"IF(L1866=FALSE,0,COUNTIF(A$3:A1865,\">0\")+1)","v":0},"H12000519","HP-DRY 100 PN50",null,"Adszorpciós sz.","2 610 000,-Ft (4)",11999.5,6,2610000]
[{"$f":"IF(L1867=FALSE,0,COUNTIF(A$3:A1866,\">0\")+1)","v":0},"H12000520","HP-DRY 150 PN50",null,"Adszorpciós sz.","2 722 000,-Ft (4)",12514.5,6,2722000]
[{"$f":"IF(L1868=FALSE,0,COUNTIF(A$3:A1867,\">0\")+1)","v":0},"H12000521","HP-DRY 250 PN50",null,"Adszorpciós sz.","3 349 000,-Ft (4)",15398.5,6,3349000]
[{"$f":"IF(L1869=FALSE,0,COUNTIF(A$3:A1868,\">0\")+1)","v":0},"H12000522","HP-DRY 350 PN50",null,"Adszorpciós sz.","3 876 000,-Ft (4)",17819,6,3876000]
[{"$f":"IF(L1870=FALSE,0,COUNTIF(A$3:A1869,\">0\")+1)","v":0},"H12000523","HP-DRY 500 PN50",null,"Adszorpciós sz.","4 425 000,-Ft (4)",20342.5,6,4425000]
[{"$f":"IF(L1871=FALSE,0,COUNTIF(A$3:A1870,\">0\")+1)","v":0},"H12000524","HP-DRY 650 PN50",null,"Adszorpciós sz.","5 489 000,-Ft (4)",25235,6,5489000]
[{"$f":"IF(L1872=FALSE,0,COUNTIF(A$3:A1871,\">0\")+1)","v":0},"H12000525","HP-DRY 050 PN100",null,"Adszorpciós sz.","4 078 000,-Ft (4)",18746,6,4078000]
[{"$f":"IF(L1873=FALSE,0,COUNTIF(A$3:A1872,\">0\")+1)","v":0},"H12000526","HP-DRY 100 PN100",null,"Adszorpciós sz.","4 313 000,-Ft (4)",19827.5,6,4313000]
[{"$f":"IF(L1874=FALSE,0,COUNTIF(A$3:A1873,\">0\")+1)","v":0},"H12000527","HP-DRY 150 PN100",null,"Adszorpciós sz.","4 974 000,-Ft (4)",22866,6,4974000]
[{"$f":"IF(L1875=FALSE,0,COUNTIF(A$3:A1874,\">0\")+1)","v":0},"H12000528","HP-DRY 250 PN100",null,"Adszorpciós sz.","5 523 000,-Ft (4)",25389.5,6,5523000]
[{"$f":"IF(L1876=FALSE,0,COUNTIF(A$3:A1875,\">0\")+1)","v":0},"H12000529","HP-DRY 350 PN100",null,"Adszorpciós sz.","6 374 000,-Ft (4)",29303.5,6,6374000]
[{"$f":"IF(L1877=FALSE,0,COUNTIF(A$3:A1876,\">0\")+1)","v":0},"H12000530","HP-DRY 500 PN100",null,"Adszorpciós sz.","7 013 000,-Ft (4)",32239,6,7013000]
[{"$f":"IF(L1878=FALSE,0,COUNTIF(A$3:A1877,\">0\")+1)","v":0},"H12000531","HP-DRY 650 PN100",null,"Adszorpciós sz.","7 588 000,-Ft (4)",34886.1,6,7588000]
[{"$f":"IF(L1879=FALSE,0,COUNTIF(A$3:A1878,\">0\")+1)","v":0},"H12000532","HP-DRY 800 PN100",null,"Adszorpciós sz.","8 491 000,-Ft (4)",39037,6,8491000]
[{"$f":"IF(L1880=FALSE,0,COUNTIF(A$3:A1879,\">0\")+1)","v":0},"H12000533","HP-DRY 050 PN250",null,"Adszorpciós sz.","4 761 000,-Ft (4)",21887.5,6,4761000]
[{"$f":"IF(L1881=FALSE,0,COUNTIF(A$3:A1880,\">0\")+1)","v":0},"H12000534","HP-DRY 100 PN250",null,"Adszorpciós sz.","5 041 000,-Ft (4)",23175,6,5041000]
[{"$f":"IF(L1882=FALSE,0,COUNTIF(A$3:A1881,\">0\")+1)","v":0},"H12000535","HP-DRY 150 PN250",null,"Adszorpciós sz.","5 243 000,-Ft (4)",24102,6,5243000]
[{"$f":"IF(L1883=FALSE,0,COUNTIF(A$3:A1882,\">0\")+1)","v":0},"H12000536","HP-DRY 250 PN250",null,"Adszorpciós sz.","5 870 000,-Ft (4)",26986,6,5870000]
[{"$f":"IF(L1884=FALSE,0,COUNTIF(A$3:A1883,\">0\")+1)","v":0},"H12000537","HP-DRY 350 PN250",null,"Adszorpciós sz.","6 520 000,-Ft (4)",29973,6,6520000]
[{"$f":"IF(L1885=FALSE,0,COUNTIF(A$3:A1884,\">0\")+1)","v":0},"H12000538","HP-DRY 500 PN250",null,"Adszorpciós sz.","7 138 000,-Ft (4)",32815.800000000003,6,7138000]
[{"$f":"IF(L1886=FALSE,0,COUNTIF(A$3:A1885,\">0\")+1)","v":0},"H12000539","HP-DRY 650 PN250",null,"Adszorpciós sz.","7 877 000,-Ft (4)",36214.800000000003,6,7877000]
[{"$f":"IF(L1887=FALSE,0,COUNTIF(A$3:A1886,\">0\")+1)","v":0},"H12000540","HP-DRY 800 PN250",null,"Adszorpciós sz.","8 816 000,-Ft (4)",40530.5,6,8816000]
[{"$f":"IF(L1888=FALSE,0,COUNTIF(A$3:A1887,\">0\")+1)","v":0},"H12000541","HP-DRY 1000 PN250",null,"Adszorpciós sz.","9 334 000,-Ft (4)",42909.8,6,9334000]
[{"$f":"IF(L1889=FALSE,0,COUNTIF(A$3:A1888,\">0\")+1)","v":0},"H12000542","HP-DRY 1200 PN250",null,"Adszorpciós sz.","9 600 000,-Ft (4)",44135.5,6,9600000]
[{"$f":"IF(L1890=FALSE,0,COUNTIF(A$3:A1889,\">0\")+1)","v":0},"H12000543","HP-DRY 1400 PN250",null,"Adszorpciós sz.","9 970 000,-Ft (4)",45835,6,9970000]
[{"$f":"IF(L1891=FALSE,0,COUNTIF(A$3:A1890,\">0\")+1)","v":0},"H12000544","HP-DRY 100 PN400",null,"Adszorpciós sz.","5 332 000,-Ft (4)",24514,6,5332000]
[{"$f":"IF(L1892=FALSE,0,COUNTIF(A$3:A1891,\">0\")+1)","v":0},"H12000545","HP-DRY 150 PN400",null,"Adszorpciós sz.","5 565 000,-Ft (4)",25585.200000000001,6,5565000]
[{"$f":"IF(L1893=FALSE,0,COUNTIF(A$3:A1892,\">0\")+1)","v":0},"H12000546","HP-DRY 250 PN400",null,"Adszorpciós sz.","6 222 000,-Ft (4)",28603.100000000002,6,6222000]
[{"$f":"IF(L1894=FALSE,0,COUNTIF(A$3:A1893,\">0\")+1)","v":0},"H12000547","HP-DRY 350 PN400",null,"Adszorpciós sz.","6 860 000,-Ft (4)",31538.600000000002,6,6860000]
[{"$f":"IF(L1895=FALSE,0,COUNTIF(A$3:A1894,\">0\")+1)","v":0},"H12000548","HP-DRY 500 PN400",null,"Adszorpciós sz.","7 539 000,-Ft (4)",34659.5,6,7539000]
[{"$f":"IF(L1896=FALSE,0,COUNTIF(A$3:A1895,\">0\")+1)","v":0},"H12000549","HP-DRY 650 PN400",null,"Adszorpciós sz.","8 424 000,-Ft (4)",38728,6,8424000]
[{"$f":"IF(L1897=FALSE,0,COUNTIF(A$3:A1896,\">0\")+1)","v":0},"H12000550","HP-DRY 800 PN400",null,"Adszorpciós sz.","9 287 000,-Ft (4)",42693.5,6,9287000]
[{"$f":"IF(L1898=FALSE,0,COUNTIF(A$3:A1897,\">0\")+1)","v":0},"H12000551","HP-DRY 1000 PN400",null,"Adszorpciós sz.","9 679 000,-Ft (4)",44496,6,9679000]
[{"$f":"IF(L1899=FALSE,0,COUNTIF(A$3:A1898,\">0\")+1)","v":0},"H12000552","HP-DRY 1200 PN400",null,"Adszorpciós sz.","10 135 000,-Ft (4)",46592.05,6,10135000]
[{"$f":"IF(L1900=FALSE,0,COUNTIF(A$3:A1899,\">0\")+1)","v":0},"H12000553","HP-DRY 1400 PN400",null,"Adszorpciós sz.","10 676 000,-Ft (4)",49079.5,6,10676000]
[{"$f":"IF(L1901=FALSE,0,COUNTIF(A$3:A1900,\">0\")+1)","v":0},"H12000554","HP-DRY 1600 PN400",null,"Adszorpciós sz.","11 650 000,-Ft (4)",53560,6,11650000]
[{"$f":"IF(L1902=FALSE,0,COUNTIF(A$3:A1901,\">0\")+1)","v":0},2000335,"OMD 20",null,"Hűtveszárító",{"$f":"TEXT(I1902,\"# ###,-Ft (2)\")","v":"297 000,-Ft (2)"},1277.2,2,297000]
[{"$f":"IF(L1903=FALSE,0,COUNTIF(A$3:A1902,\">0\")+1)","v":0},2000336,"OMD 35",null,"Hűtveszárító","319 000,-Ft (2)",1369.9,2,319000]
[{"$f":"IF(L1904=FALSE,0,COUNTIF(A$3:A1903,\">0\")+1)","v":0},2000337,"OMD 50",null,"Hűtveszárító","336 000,-Ft (2)",1442,2,336000]
[{"$f":"IF(L1905=FALSE,0,COUNTIF(A$3:A1904,\">0\")+1)","v":0},2000338,"OMD 65",null,"Hűtveszárító","345 000,-Ft (2)",1483.2,2,345000]
[{"$f":"IF(L1906=FALSE,0,COUNTIF(A$3:A1905,\">0\")+1)","v":0},2000339,"OMD 100",null,"Hűtveszárító","355 000,-Ft (2)",1524.4,2,355000]
[{"$f":"IF(L1907=FALSE,0,COUNTIF(A$3:A1906,\">0\")+1)","v":0},2000340,"OMD 135",null,"Hűtveszárító","410 000,-Ft (2)",1761.3,2,410000]
[{"$f":"IF(L1908=FALSE,0,COUNTIF(A$3:A1907,\">0\")+1)","v":0},2000341,"OMD 175",null,"Hűtveszárító","482 000,-Ft (2)",2070.3000000000002,2,482000]
[{"$f":"IF(L1909=FALSE,0,COUNTIF(A$3:A1908,\">0\")+1)","v":0},2000342,"OMD 235",null,"Hűtveszárító","509 000,-Ft (2)",2183.6,2,509000]
[{"$f":"IF(L1910=FALSE,0,COUNTIF(A$3:A1909,\">0\")+1)","v":0},2000343,"OMD 280",null,"Hűtveszárító","585 000,-Ft (2)",2513.2000000000003,2,585000]
[{"$f":"IF(L1911=FALSE,0,COUNTIF(A$3:A1910,\">0\")+1)","v":0},2000344,"OMD 330",null,"Hűtveszárító","691 000,-Ft (2)",2966.4,2,691000]
[{"$f":"IF(L1912=FALSE,0,COUNTIF(A$3:A1911,\">0\")+1)","v":0},2000345,"OMD 410",null,"Hűtveszárító","832 000,-Ft (2)",3574.1,2,832000]
[{"$f":"IF(L1913=FALSE,0,COUNTIF(A$3:A1912,\">0\")+1)","v":0},2000346,"OMD 570",null,"Hűtveszárító","1 091 000,-Ft (2)",4686.5,2,1091000]
[{"$f":"IF(L1914=FALSE,0,COUNTIF(A$3:A1913,\">0\")+1)","v":0},2000347,"OMD 710",null,"Hűtveszárító",{"$f":"TEXT(I1914,\"# ###,-Ft (3)\")","v":"1 229 000,-Ft (3)"},5459,4,1229000]
[{"$f":"IF(L1915=FALSE,0,COUNTIF(A$3:A1914,\">0\")+1)","v":0},2000348,"OMD 920",null,"Hűtveszárító","1 542 000,-Ft (3)",6849.5,4,1542000]
[{"$f":"IF(L1916=FALSE,0,COUNTIF(A$3:A1915,\">0\")+1)","v":0},2000349,"OMD 1050",null,"Hűtveszárító","2 169 000,-Ft (3)",9630.5,4,2169000]
[{"$f":"IF(L1917=FALSE,0,COUNTIF(A$3:A1916,\">0\")+1)","v":0},2000350,"OMD 1200",null,"Hűtveszárító",{"$f":"TEXT(I1917,\"# ###,-Ft (4)\")","v":"2 214 000,-Ft (4)"},10176.4,6,2214000]
[{"$f":"IF(L1918=FALSE,0,COUNTIF(A$3:A1917,\">0\")+1)","v":0},2000351,"OMD 1350",null,"Hűtveszárító","2 700 000,-Ft (4)",12411.5,6,2700000]
[{"$f":"IF(L1919=FALSE,0,COUNTIF(A$3:A1918,\">0\")+1)","v":0},2000352,"OMD 1900",null,"Hűtveszárító","3 114 000,-Ft (4)",14317,6,3114000]
[{"$f":"IF(L1920=FALSE,0,COUNTIF(A$3:A1919,\">0\")+1)","v":0},2000353,"OMD 2200",null,"Hűtveszárító","3 574 000,-Ft (4)",16428.5,6,3574000]
[{"$f":"IF(L1921=FALSE,0,COUNTIF(A$3:A1920,\">0\")+1)","v":0},2000354,"OMD 2600",null,"Hűtveszárító","5 337 000,-Ft (4)",24534.600000000002,6,5337000]
[{"$f":"IF(L1922=FALSE,0,COUNTIF(A$3:A1921,\">0\")+1)","v":0},2000355,"OMD 3350",null,"Hűtveszárító","5 724 000,-Ft (4)",26316.5,6,5724000]
[{"$f":"IF(L1923=FALSE,0,COUNTIF(A$3:A1922,\">0\")+1)","v":0},2000356,"OMD 4400",null,"Hűtveszárító","6 645 000,-Ft (4)",30549.8,6,6645000]
[{"$f":"IF(L1924=FALSE,0,COUNTIF(A$3:A1923,\">0\")+1)","v":0},2000357,"OMD 5400",null,"Hűtveszárító","8 615 000,-Ft (4)",39603.5,6,8615000]
[{"$f":"IF(L1925=FALSE,0,COUNTIF(A$3:A1924,\">0\")+1)","v":0},2000358,"OMD 6600",null,"Hűtveszárító","10 210 000,-Ft (4)",46937.1,6,10210000]
[{"$f":"IF(L1926=FALSE,0,COUNTIF(A$3:A1925,\">0\")+1)","v":0},2000359,"OMD 7200",null,"Hűtveszárító","10 721 000,-Ft (4)",49285.5,6,10721000]
[{"$f":"IF(L1927=FALSE,0,COUNTIF(A$3:A1926,\">0\")+1)","v":0},2000360,"OMD 8800",null,"Hűtveszárító","14 776 000,-Ft (4)",67928.5,6,14776000]
[{"$f":"IF(L1928=FALSE,0,COUNTIF(A$3:A1927,\">0\")+1)","v":0},2000380,"OSL 20",null,"Hűtveszárító",{"$f":"TEXT(I1928,\"# ###,-Ft (2)\")","v":"297 000,-Ft (2)"},1277.2,2,297000]
[{"$f":"IF(L1929=FALSE,0,COUNTIF(A$3:A1928,\">0\")+1)","v":0},2000381,"OSL 42",null,"Hűtveszárító","319 000,-Ft (2)",1369.9,2,{"$f":"ROUND(IF(G$1=1,IF(G1929>10000,(G1929*N$1*0.85),IF(G1929>5000,(G1929*N$1*0.88),IF(G1929>1000,(G1929*N$1*0.91),IF(G1929>500,(G1929*N$1*0.94),IF(G1929>100,(G1929*N$1*0.97),(G1929*N$1))))))/1.27,G1929*N$1/1.27),-3)","v":319000}]
[{"$f":"IF(L1930=FALSE,0,COUNTIF(A$3:A1929,\">0\")+1)","v":0},2000382,"OSL 55",null,"Hűtveszárító","336 000,-Ft (2)",1442,2,336000]
[{"$f":"IF(L1931=FALSE,0,COUNTIF(A$3:A1930,\">0\")+1)","v":0},2000383,"OSL 80",null,"Hűtveszárító","345 000,-Ft (2)",1483.2,2,345000]
[{"$f":"IF(L1932=FALSE,0,COUNTIF(A$3:A1931,\">0\")+1)","v":0},2000384,"OSL 115",null,"Hűtveszárító","355 000,-Ft (2)",1524.4,2,355000]
[{"$f":"IF(L1933=FALSE,0,COUNTIF(A$3:A1932,\">0\")+1)","v":0},2000385,"OSL 144",null,"Hűtveszárító","410 000,-Ft (2)",1761.3,2,410000]
[{"$f":"IF(L1934=FALSE,0,COUNTIF(A$3:A1933,\">0\")+1)","v":0},2000422,"OMH 45",null,"Hűtveszárító","427 000,-Ft (2)",1833.09,2,427000]
[{"$f":"IF(L1935=FALSE,0,COUNTIF(A$3:A1934,\">0\")+1)","v":0},2000423,"OMH 70",null,"Hűtveszárító","445 000,-Ft (2)",1909.31,2,445000]
[{"$f":"IF(L1936=FALSE,0,COUNTIF(A$3:A1935,\">0\")+1)","v":0},2000424,"OMH 100",null,"Hűtveszárító","467 000,-Ft (2)",2004.59,2,467000]
[{"$f":"IF(L1937=FALSE,0,COUNTIF(A$3:A1936,\">0\")+1)","v":0},2000425,"OMH 140",null,"Hűtveszárító","634 000,-Ft (2)",2721.05,2,634000]
[{"$f":"IF(L1938=FALSE,0,COUNTIF(A$3:A1937,\">0\")+1)","v":0},2000426,"OMH 180",null,"Hűtveszárító","694 000,-Ft (2)",2980.2,2,694000]
[{"$f":"IF(L1939=FALSE,0,COUNTIF(A$3:A1938,\">0\")+1)","v":0},2000427,"OMH 250",null,"Hűtveszárító","840 000,-Ft (2)",3609,2,840000]
[{"$f":"IF(L1940=FALSE,0,COUNTIF(A$3:A1939,\">0\")+1)","v":0},2000361,"OHP 25",null,"Hűtveszárító","431 000,-Ft (2)",1848.8500000000001,2,431000]
[{"$f":"IF(L1941=FALSE,0,COUNTIF(A$3:A1940,\">0\")+1)","v":0},2000362,"OHP 45",null,"Hűtveszárító","462 000,-Ft (2)",1982.75,2,462000]
[{"$f":"IF(L1942=FALSE,0,COUNTIF(A$3:A1941,\">0\")+1)","v":0},2000363,"OHP 70",null,"Hűtveszárító","507 000,-Ft (2)",2178.4500000000003,2,507000]
[{"$f":"IF(L1943=FALSE,0,COUNTIF(A$3:A1942,\">0\")+1)","v":0},2000364,"OHP 90",null,"Hűtveszárító","679 000,-Ft (2)",2914.9,2,679000]
[{"$f":"IF(L1944=FALSE,0,COUNTIF(A$3:A1943,\">0\")+1)","v":0},2000365,"OHP 135",null,"Hűtveszárító","780 000,-Ft (2)",3347.5,2,780000]
[{"$f":"IF(L1945=FALSE,0,COUNTIF(A$3:A1944,\">0\")+1)","v":0},2000366,"OHP 180",null,"Hűtveszárító","861 000,-Ft (2)",3697.7000000000003,2,861000]
[{"$f":"IF(L1946=FALSE,0,COUNTIF(A$3:A1945,\">0\")+1)","v":0},2000367,"OHP 240",null,"Hűtveszárító","923 000,-Ft (2)",3965.5,2,923000]
[{"$f":"IF(L1947=FALSE,0,COUNTIF(A$3:A1946,\">0\")+1)","v":0},2000368,"OHP 315",null,"Hűtveszárító","1 111 000,-Ft (2)",4768.9000000000005,2,1111000]
[{"$f":"IF(L1948=FALSE,0,COUNTIF(A$3:A1947,\">0\")+1)","v":0},2000369,"OHP 450",null,"Hűtveszárító",{"$f":"TEXT(I1948,\"# ###,-Ft (3)\")","v":"1 150 000,-Ft (3)"},5108.8,4,1150000]
[{"$f":"IF(L1949=FALSE,0,COUNTIF(A$3:A1948,\">0\")+1)","v":0},2000370,"OHP 600",null,"Hűtveszárító","1 496 000,-Ft (3)",6643.5,4,1496000]
[{"$f":"IF(L1950=FALSE,0,COUNTIF(A$3:A1949,\">0\")+1)","v":0},2000371,"OHP 800",null,"Hűtveszárító","1 844 000,-Ft (3)",8188.5,4,1844000]
[{"$f":"IF(L1951=FALSE,0,COUNTIF(A$3:A1950,\">0\")+1)","v":0},2000372,"OHP 1000",null,"Hűtveszárító","2 085 000,-Ft (3)",9259.7000000000007,4,2085000]
[{"$f":"IF(L1952=FALSE,0,COUNTIF(A$3:A1951,\">0\")+1)","v":0},2000373,"OHP 1250",null,"Hűtveszárító",{"$f":"TEXT(I1952,\"# ###,-Ft (4)\")","v":"3 119 000,-Ft (4)"},14337.6,6,3119000]
[{"$f":"IF(L1953=FALSE,0,COUNTIF(A$3:A1952,\">0\")+1)","v":0},2000374,"OHP 1600",null,"Hűtveszárító","3 686 000,-Ft (4)",16943.5,6,3686000]
[{"$f":"IF(L1954=FALSE,0,COUNTIF(A$3:A1953,\">0\")+1)","v":0},2000375,"OHP 2250",null,"Hűtveszárító","4 223 000,-Ft (4)",19415.5,6,4223000]
[{"$f":"IF(L1955=FALSE,0,COUNTIF(A$3:A1954,\">0\")+1)","v":0},2000376,"OHP 2400",null,"Hűtveszárító","4 795 000,-Ft (4)",22042,6,4795000]
[{"$f":"IF(L1956=FALSE,0,COUNTIF(A$3:A1955,\">0\")+1)","v":0},2000377,"OHP 3000",null,"Hűtveszárító","5 422 000,-Ft (4)",24926,6,5422000]
[{"$f":"IF(L1957=FALSE,0,COUNTIF(A$3:A1956,\">0\")+1)","v":0},2000378,"OHP 4000",null,"Hűtveszárító","6 217 000,-Ft (4)",28582.5,6,6217000]
[{"$f":"IF(L1958=FALSE,0,COUNTIF(A$3:A1957,\">0\")+1)","v":0},2000379,"OHP 5000",null,"Hűtveszárító","7 842 000,-Ft (4)",36050,6,7842000]
[{"$f":"IF(L1959=FALSE,0,COUNTIF(A$3:A1958,\">0\")+1)","v":0},2000428,"OBK 1/50",null,"Hűtveszárító",{"$f":"TEXT(I1959,\"# ###,-Ft (2)\")","v":"288 000,-Ft (2)"},1236,2,288000]
[{"$f":"IF(L1960=FALSE,0,COUNTIF(A$3:A1959,\">0\")+1)","v":0},2000429,"OBK 2/50",null,"Hűtveszárító","300 000,-Ft (2)",1287.5,2,300000]
[{"$f":"IF(L1961=FALSE,0,COUNTIF(A$3:A1960,\">0\")+1)","v":0},3701177,"SORBEO MS3-S",null,"Adszorbens",{"$f":"TEXT(I1961,\"# ###,-Ft\")","v":"18 450,-Ft"},72.100000000000009,null,{"$f":"ROUND(IF(G$1=1,IF(G1961>10000,(G1961*N$1*0.85),IF(G1961>5000,(G1961*N$1*0.88),IF(G1961>1000,(G1961*N$1*0.91),IF(G1961>500,(G1961*N$1*0.94),IF(G1961>100,(G1961*N$1*0.97),(G1961*N$1))))))/1.27,G1961*N$1/1.27),L$1)","v":18450}]
[{"$f":"IF(L1962=FALSE,0,COUNTIF(A$3:A1961,\">0\")+1)","v":0},3701178,"SORBEO MS3-M",null,"Adszorbens","47 300,-Ft",190.55,null,47300]
[{"$f":"IF(L1963=FALSE,0,COUNTIF(A$3:A1962,\">0\")+1)","v":0},3701179,"SORBEO MS3-L",null,"Adszorbens","75 420,-Ft",303.85000000000002,null,75420]
[{"$f":"IF(L1964=FALSE,0,COUNTIF(A$3:A1963,\">0\")+1)","v":0},3701180,"SORBEO MS3-XL",null,"Adszorbens",{"$f":"TEXT(I1964,\"# ###,-Ft (2)\")","v":"395 000,-Ft (2)"},1694.3500000000001,2,{"$f":"ROUND(IF(G$1=1,IF(G1964>10000,(G1964*N$1*0.85),IF(G1964>5000,(G1964*N$1*0.88),IF(G1964>1000,(G1964*N$1*0.91),IF(G1964>500,(G1964*N$1*0.94),IF(G1964>100,(G1964*N$1*0.97),(G1964*N$1))))))/1.27,G1964*N$1/1.27),-3)","v":395000}]
[{"$f":"IF(L1965=FALSE,0,COUNTIF(A$3:A1964,\">0\")+1)","v":0},3701181,"SORBEO MS3-XXL",null,"Adszorbens",{"$f":"TEXT(I1965,\"# ###,-Ft (3)\")","v":"1 389 000,-Ft (3)"},6169.7,4,1389000]
[{"$f":"IF(L1966=FALSE,0,COUNTIF(A$3:A1965,\">0\")+1)","v":0},"3701133","SORBEO MS4-S",null,"Adszorbens","13 180,-Ft",51.5,null,13180]
[{"$f":"IF(L1967=FALSE,0,COUNTIF(A$3:A1966,\">0\")+1)","v":0},"3701134","SORBEO MS4-M",null,"Adszorbens","30 680,-Ft",123.60000000000001,null,30680]
[{"$f":"IF(L1968=FALSE,0,COUNTIF(A$3:A1967,\">0\")+1)","v":0},"3701135","SORBEO MS4-L",null,"Adszorbens","57 780,-Ft",232.78,null,57780]
[{"$f":"IF(L1969=FALSE,0,COUNTIF(A$3:A1968,\">0\")+1)","v":0},"3701136","SORBEO MS4-XL",null,"Adszorbens",{"$f":"TEXT(I1969,\"# ###,-Ft (2)\")","v":"324 000,-Ft (2)"},1390.5,2,{"$f":"ROUND(IF(G$1=1,IF(G1969>10000,(G1969*N$1*0.85),IF(G1969>5000,(G1969*N$1*0.88),IF(G1969>1000,(G1969*N$1*0.91),IF(G1969>500,(G1969*N$1*0.94),IF(G1969>100,(G1969*N$1*0.97),(G1969*N$1))))))/1.27,G1969*N$1/1.27),-3)","v":324000}]
[{"$f":"IF(L1970=FALSE,0,COUNTIF(A$3:A1969,\">0\")+1)","v":0},"3701137","SORBEO MS4-XXL",null,"Adszorbens",{"$f":"TEXT(I1970,\"# ###,-Ft (3)\")","v":"1 322 000,-Ft (3)"},5871,4,1322000]
[{"$f":"IF(L1971=FALSE,0,COUNTIF(A$3:A1970,\">0\")+1)","v":0},3701182,"SORBEO MS10-S",null,"Adszorbens","25 310,-Ft",101.97,null,25310]
[{"$f":"IF(L1972=FALSE,0,COUNTIF(A$3:A1971,\">0\")+1)","v":0},3701183,"SORBEO MS10-M",null,"Adszorbens","62 640,-Ft",252.35,null,62640]
[{"$f":"IF(L1973=FALSE,0,COUNTIF(A$3:A1972,\">0\")+1)","v":0},3701184,"SORBEO MS10-L",null,"Adszorbens","121 410,-Ft",504.7,null,121410]
[{"$f":"IF(L1974=FALSE,0,COUNTIF(A$3:A1973,\">0\")+1)","v":0},3701185,"SORBEO MS10-XL",null,"Adszorbens",{"$f":"TEXT(I1974,\"# ###,-Ft (2)\")","v":"622 000,-Ft (2)"},2672.85,2,{"$f":"ROUND(IF(G$1=1,IF(G1974>10000,(G1974*N$1*0.85),IF(G1974>5000,(G1974*N$1*0.88),IF(G1974>1000,(G1974*N$1*0.91),IF(G1974>500,(G1974*N$1*0.94),IF(G1974>100,(G1974*N$1*0.97),(G1974*N$1))))))/1.27,G1974*N$1/1.27),-3)","v":622000}]
[{"$f":"IF(L1975=FALSE,0,COUNTIF(A$3:A1974,\">0\")+1)","v":0},3701186,"SORBEO MS10-XXL",null,"Adszorbens",{"$f":"TEXT(I1975,\"# ###,-Ft (4)\")","v":"2 196 000,-Ft (4)"},10094,6,2196000]
[{"$f":"IF(L1976=FALSE,0,COUNTIF(A$3:A1975,\">0\")+1)","v":0},3701148,"SORBEO AA-S",null,"Adszorbens","13 180,-Ft",51.5,null,13180]
[{"$f":"IF(L1977=FALSE,0,COUNTIF(A$3:A1976,\">0\")+1)","v":0},3701149,"SORBEO AA-M",null,"Adszorbens","29 400,-Ft",118.45,null,29400]
[{"$f":"IF(L1978=FALSE,0,COUNTIF(A$3:A1977,\">0\")+1)","v":0},3701150,"SORBEO AA-L",null,"Adszorbens","56 250,-Ft",226.6,null,56250]
[{"$f":"IF(L1979=FALSE,0,COUNTIF(A$3:A1978,\">0\")+1)","v":0},3701151,"SORBEO AA-XL",null,"Adszorbens",{"$f":"TEXT(I1979,\"# ###,-Ft (2)\")","v":"312 000,-Ft (2)"},1339,2,{"$f":"ROUND(IF(G$1=1,IF(G1979>10000,(G1979*N$1*0.85),IF(G1979>5000,(G1979*N$1*0.88),IF(G1979>1000,(G1979*N$1*0.91),IF(G1979>500,(G1979*N$1*0.94),IF(G1979>100,(G1979*N$1*0.97),(G1979*N$1))))))/1.27,G1979*N$1/1.27),-3)","v":312000}]
[{"$f":"IF(L1980=FALSE,0,COUNTIF(A$3:A1979,\">0\")+1)","v":0},3701152,"SORBEO AA-XXL",null,"Adszorbens",{"$f":"TEXT(I1980,\"# ###,-Ft (3)\")","v":"1 392 000,-Ft (3)"},6180,4,1392000]
[{"$f":"IF(L1981=FALSE,0,COUNTIF(A$3:A1980,\">0\")+1)","v":0},3701138,"SORBEO SGW-S",null,"Adszorbens","15 810,-Ft",61.800000000000004,null,15810]
[{"$f":"IF(L1982=FALSE,0,COUNTIF(A$3:A1981,\">0\")+1)","v":0},3701139,"SORBEO SGW-M",null,"Adszorbens","38 350,-Ft",154.5,null,38350]
[{"$f":"IF(L1983=FALSE,0,COUNTIF(A$3:A1982,\">0\")+1)","v":0},3701140,"SORBEO SGW-L",null,"Adszorbens","66 480,-Ft",267.8,null,66480]
[{"$f":"IF(L1984=FALSE,0,COUNTIF(A$3:A1983,\">0\")+1)","v":0},3701141,"SORBEO SGW-XL",null,"Adszorbens",{"$f":"TEXT(I1984,\"# ###,-Ft (2)\")","v":"348 000,-Ft (2)"},1493.5,2,{"$f":"ROUND(IF(G$1=1,IF(G1984>10000,(G1984*N$1*0.85),IF(G1984>5000,(G1984*N$1*0.88),IF(G1984>1000,(G1984*N$1*0.91),IF(G1984>500,(G1984*N$1*0.94),IF(G1984>100,(G1984*N$1*0.97),(G1984*N$1))))))/1.27,G1984*N$1/1.27),-3)","v":348000}]
[{"$f":"IF(L1985=FALSE,0,COUNTIF(A$3:A1984,\">0\")+1)","v":0},3701142,"SORBEO SGW-XXL",null,"Adszorbens",{"$f":"TEXT(I1985,\"# ###,-Ft (3)\")","v":"1 229 000,-Ft (3)"},5459,4,1229000]
[{"$f":"IF(L1986=FALSE,0,COUNTIF(A$3:A1985,\">0\")+1)","v":0},3701143,"SORBEO SGR-S",null,"Adszorbens","14 500,-Ft",56.65,null,14500]
[{"$f":"IF(L1987=FALSE,0,COUNTIF(A$3:A1986,\">0\")+1)","v":0},3701144,"SORBEO SGR-M",null,"Adszorbens","37 070,-Ft",149.35,null,37070]
[{"$f":"IF(L1988=FALSE,0,COUNTIF(A$3:A1987,\">0\")+1)","v":0},3701145,"SORBEO SGR-L",null,"Adszorbens",{"$f":"TEXT(I1988,\"# ###,-Ft\")","v":"63 920,-Ft"},257.5,null,{"$f":"ROUND(IF(G$1=1,IF(G1988>10000,(G1988*N$1*0.85),IF(G1988>5000,(G1988*N$1*0.88),IF(G1988>1000,(G1988*N$1*0.91),IF(G1988>500,(G1988*N$1*0.94),IF(G1988>100,(G1988*N$1*0.97),(G1988*N$1))))))/1.27,G1988*N$1/1.27),L$1)","v":63920}]
[{"$f":"IF(L1989=FALSE,0,COUNTIF(A$3:A1988,\">0\")+1)","v":0},3701146,"SORBEO SGR-XL",null,"Adszorbens",{"$f":"TEXT(I1989,\"# ###,-Ft (2)\")","v":"350 000,-Ft (2)"},1503.8,2,{"$f":"ROUND(IF(G$1=1,IF(G1989>10000,(G1989*N$1*0.85),IF(G1989>5000,(G1989*N$1*0.88),IF(G1989>1000,(G1989*N$1*0.91),IF(G1989>500,(G1989*N$1*0.94),IF(G1989>100,(G1989*N$1*0.97),(G1989*N$1))))))/1.27,G1989*N$1/1.27),-3)","v":350000}]
[{"$f":"IF(L1990=FALSE,0,COUNTIF(A$3:A1989,\">0\")+1)","v":0},3701147,"SORBEO SGR-XXL",null,"Adszorbens","959 000,-Ft (2)",4120,2,959000]
[{"$f":"IF(L1991=FALSE,0,COUNTIF(A$3:A1990,\">0\")+1)","v":0},3701128,"SORBEO AC-S",null,"Adszorbens","9 230,-Ft",36.050000000000004,null,9230]
[{"$f":"IF(L1992=FALSE,0,COUNTIF(A$3:A1991,\">0\")+1)","v":0},3701129,"SORBEO AC-M",null,"Adszorbens","23 720,-Ft",92.7,null,23720]
[{"$f":"IF(L1993=FALSE,0,COUNTIF(A$3:A1992,\">0\")+1)","v":0},3701130,"SORBEO AC-L",null,"Adszorbens","42 190,-Ft",169.95000000000002,null,42190]
[{"$f":"IF(L1994=FALSE,0,COUNTIF(A$3:A1993,\">0\")+1)","v":0},3701131,"SORBEO AC-XL",null,"Adszorbens","240 330,-Ft",999.1,null,240330]
[{"$f":"IF(L1995=FALSE,0,COUNTIF(A$3:A1994,\">0\")+1)","v":0},3701153,"SORBEO HC-S",null,"Adszorbens","235 380,-Ft",978.5,null,235380]
[{"$f":"IF(L1996=FALSE,0,COUNTIF(A$3:A1995,\">0\")+1)","v":0},3701154,"SORBEO HC-M",null,"Adszorbens",{"$f":"TEXT(I1996,\"# ###,-Ft (2)\")","v":"588 000,-Ft (2)"},2523.5,2,{"$f":"ROUND(IF(G$1=1,IF(G1996>10000,(G1996*N$1*0.85),IF(G1996>5000,(G1996*N$1*0.88),IF(G1996>1000,(G1996*N$1*0.91),IF(G1996>500,(G1996*N$1*0.94),IF(G1996>100,(G1996*N$1*0.97),(G1996*N$1))))))/1.27,G1996*N$1/1.27),-3)","v":588000}]
[{"$f":"IF(L1997=FALSE,0,COUNTIF(A$3:A1996,\">0\")+1)","v":0},3701155,"SORBEO HC-L",null,"Adszorbens",{"$f":"TEXT(I1997,\"# ###,-Ft (3)\")","v":"1 206 000,-Ft (3)"},5356,4,1206000]
[{"$f":"IF(L1998=FALSE,0,COUNTIF(A$3:A1997,\">0\")+1)","v":0},3701156,"SORBEO HC-XL",null,"Adszorbens",{"$f":"TEXT(I1998,\"# ###,-Ft (4)\")","v":"7 169 000,-Ft (4)"},32960,6,7169000]
[{"$f":"IF(L1999=FALSE,0,COUNTIF(A$3:A1998,\">0\")+1)","v":0},3505369,"M-DRY 3",null,"Membrán szűrő",{"$f":"TEXT(I1999,\"# ###,-Ft (2)\")","v":"259 000,-Ft (2)"},1113.9449999999999,2,259000]
[{"$f":"IF(L2000=FALSE,0,COUNTIF(A$3:A1999,\">0\")+1)","v":0},3505370,"M-DRY 6",null,"Membrán szűrő","278 000,-Ft (2)",1193.5125,2,278000]
[{"$f":"IF(L2001=FALSE,0,COUNTIF(A$3:A2000,\">0\")+1)","v":0},3505371,"M-DRY 9",null,"Membrán szűrő","305 000,-Ft (2)",1310.2114999999999,2,305000]
[{"$f":"IF(L2002=FALSE,0,COUNTIF(A$3:A2001,\">0\")+1)","v":0},3505372,"M-DRY 12",null,"Membrán szűrő","332 000,-Ft (2)",1426.9105,2,332000]
[{"$f":"IF(L2003=FALSE,0,COUNTIF(A$3:A2002,\">0\")+1)","v":0},3505373,"M-DRY 18",null,"Membrán szűrő","374 000,-Ft (2)",1607.2635,2,374000]
[{"$f":"IF(L2004=FALSE,0,COUNTIF(A$3:A2003,\">0\")+1)","v":0},3505374,"M-DRY 24",null,"Membrán szűrő","408 000,-Ft (2)",1750.4850000000001,2,408000]
[{"$f":"IF(L2005=FALSE,0,COUNTIF(A$3:A2004,\">0\")+1)","v":0},3505375,"M-DRY 32",null,"Membrán szűrő","503 000,-Ft (2)",2158.9315000000001,2,503000]
[{"$f":"IF(L2006=FALSE,0,COUNTIF(A$3:A2005,\">0\")+1)","v":0},3505376,"M-DRY 44",null,"Membrán szűrő","525 000,-Ft (2)",2254.4124999999999,2,525000]
[{"$f":"IF(L2007=FALSE,0,COUNTIF(A$3:A2006,\">0\")+1)","v":0},3506888,"M-DRY 63",null,"Membrán szűrő","580 000,-Ft (2)",2492.6,2,580000]
[{"$f":"IF(L2008=FALSE,0,COUNTIF(A$3:A2007,\">0\")+1)","v":0},3506889,"M-DRY 90",null,"Membrán szűrő","885 000,-Ft (2)",3800.7000000000003,2,885000]
[{"$f":"IF(L2009=FALSE,0,COUNTIF(A$3:A2008,\">0\")+1)","v":0},3506890,"M-DRY 123",null,"Membrán szűrő","981 000,-Ft (2)",4212.7,2,981000]
[{"$f":"IF(L2010=FALSE,0,COUNTIF(A$3:A2009,\">0\")+1)","v":0},3506891,"M-DRY 180",null,"Membrán szűrő","1 163 000,-Ft (2)",4995.5,2,1163000]
[{"$f":"IF(L2011=FALSE,0,COUNTIF(A$3:A2010,\">0\")+1)","v":0},"3505377","MFP 3",null,"Membrán szűrő","213 090,-Ft",885.85149999999999,null,213090]
[{"$f":"IF(L2012=FALSE,0,COUNTIF(A$3:A2011,\">0\")+1)","v":0},"3505378","MFP 6",null,"Membrán szűrő","232 230,-Ft",965.41899999999998,null,232230]
[{"$f":"IF(L2013=FALSE,0,COUNTIF(A$3:A2012,\">0\")+1)","v":0},"3505379","MFP 9",null,"Membrán szűrő",{"$f":"TEXT(I2013,\"# ###,-Ft (2)\")","v":"252 000,-Ft (2)"},1082.1179999999999,2,{"$f":"ROUND(IF(G$1=1,IF(G2013>10000,(G2013*N$1*0.85),IF(G2013>5000,(G2013*N$1*0.88),IF(G2013>1000,(G2013*N$1*0.91),IF(G2013>500,(G2013*N$1*0.94),IF(G2013>100,(G2013*N$1*0.97),(G2013*N$1))))))/1.27,G2013*N$1/1.27),-3)","v":252000}]
[{"$f":"IF(L2014=FALSE,0,COUNTIF(A$3:A2013,\">0\")+1)","v":0},"3505380","MFP 12",null,"Membrán szűrő","279 000,-Ft (2)",1198.8170000000002,2,279000]
[{"$f":"IF(L2015=FALSE,0,COUNTIF(A$3:A2014,\">0\")+1)","v":0},"3505381","MFP 18",null,"Membrán szűrő","321 000,-Ft (2)",1379.17,2,321000]
[{"$f":"IF(L2016=FALSE,0,COUNTIF(A$3:A2015,\">0\")+1)","v":0},"3505382","MFP 24",null,"Membrán szűrő","355 000,-Ft (2)",1522.3915,2,355000]
[{"$f":"IF(L2017=FALSE,0,COUNTIF(A$3:A2016,\">0\")+1)","v":0},"3505383","MFP 32",null,"Membrán szűrő","450 000,-Ft (2)",1930.838,2,450000]
[{"$f":"IF(L2018=FALSE,0,COUNTIF(A$3:A2017,\">0\")+1)","v":0},"3505384","MFP 44",null,"Membrán szűrő","472 000,-Ft (2)",2026.319,2,472000]
[{"$f":"IF(L2019=FALSE,0,COUNTIF(A$3:A2018,\">0\")+1)","v":0},"3506892","MFP 63",null,"Membrán szűrő","525 000,-Ft (2)",2255.7000000000003,2,525000]
[{"$f":"IF(L2020=FALSE,0,COUNTIF(A$3:A2019,\">0\")+1)","v":0},"3506893","MFP 90",null,"Membrán szűrő","813 000,-Ft (2)",3491.7000000000003,2,813000]
[{"$f":"IF(L2021=FALSE,0,COUNTIF(A$3:A2020,\">0\")+1)","v":0},"3506894","MFP 123",null,"Membrán szűrő","910 000,-Ft (2)",3908.85,2,910000]
[{"$f":"IF(L2022=FALSE,0,COUNTIF(A$3:A2021,\">0\")+1)","v":0},"3506895","MFP 180",null,"Membrán szűrő","1 093 000,-Ft (2)",4691.6500000000005,2,1093000]
[{"$f":"IF(L2023=FALSE,0,COUNTIF(A$3:A2022,\">0\")+1)","v":0},3505435,"TACm 6",null,"Aktívszén torony","98 750,-Ft",397.83750000000003,null,98750]
[{"$f":"IF(L2024=FALSE,0,COUNTIF(A$3:A2023,\">0\")+1)","v":0},3505436,"TACm 12",null,"Aktívszén torony","118 510,-Ft",477.40500000000003,null,118510]
[{"$f":"IF(L2025=FALSE,0,COUNTIF(A$3:A2024,\">0\")+1)","v":0},3505437,"TACm 23",null,"Aktívszén torony","155 670,-Ft",647.149,null,155670]
[{"$f":"IF(L2026=FALSE,0,COUNTIF(A$3:A2025,\">0\")+1)","v":0},3505438,"TACm 35",null,"Aktívszén torony","196 500,-Ft",816.89300000000003,null,196500]
[{"$f":"IF(L2027=FALSE,0,COUNTIF(A$3:A2026,\">0\")+1)","v":0},3505439,"TACm 56",null,"Aktívszén torony",{"$f":"TEXT(I2027,\"# ###,-Ft (2)\")","v":"290 000,-Ft (2)"},1246.5575000000001,2,{"$f":"ROUND(IF(G$1=1,IF(G2027>10000,(G2027*N$1*0.85),IF(G2027>5000,(G2027*N$1*0.88),IF(G2027>1000,(G2027*N$1*0.91),IF(G2027>500,(G2027*N$1*0.94),IF(G2027>100,(G2027*N$1*0.97),(G2027*N$1))))))/1.27,G2027*N$1/1.27),-3)","v":290000}]
[{"$f":"IF(L2028=FALSE,0,COUNTIF(A$3:A2027,\">0\")+1)","v":0},3505440,"TACm 70",null,"Aktívszén torony","331 000,-Ft (2)",1421.606,2,331000]
[{"$f":"IF(L2029=FALSE,0,COUNTIF(A$3:A2028,\">0\")+1)","v":0},3505441,"TACm 105",null,"Aktívszén torony","413 000,-Ft (2)",1771.703,2,413000]
[{"$f":"IF(L2030=FALSE,0,COUNTIF(A$3:A2029,\">0\")+1)","v":0},3504863,"TAC 10",null,"Aktívszén torony","473 000,-Ft (2)",2031.6235000000001,2,473000]
[{"$f":"IF(L2031=FALSE,0,COUNTIF(A$3:A2030,\">0\")+1)","v":0},3504864,"TAC 18",null,"Aktívszén torony","506 000,-Ft (2)",2174.8450000000003,2,506000]
[{"$f":"IF(L2032=FALSE,0,COUNTIF(A$3:A2031,\">0\")+1)","v":0},3504865,"TAC 30",null,"Aktívszén torony","576 000,-Ft (2)",2471.8969999999999,2,576000]
[{"$f":"IF(L2033=FALSE,0,COUNTIF(A$3:A2032,\">0\")+1)","v":0},3504866,"TAC 47",null,"Aktívszén torony","704 000,-Ft (2)",3023.5650000000001,2,704000]
[{"$f":"IF(L2034=FALSE,0,COUNTIF(A$3:A2033,\">0\")+1)","v":0},3504867,"TAC 94",null,"Aktívszén torony","1 013 000,-Ft (2)",4349.6900000000005,2,1013000]
[{"$f":"IF(L2035=FALSE,0,COUNTIF(A$3:A2034,\">0\")+1)","v":0},3504868,"TAC 150",null,"Aktívszén torony",{"$f":"TEXT(I2035,\"# ###,-Ft (3)\")","v":"1 288 000,-Ft (3)"},5718.2510000000002,4,1288000]
[{"$f":"IF(L2036=FALSE,0,COUNTIF(A$3:A2035,\">0\")+1)","v":0},3504869,"TAC 200",null,"Aktívszén torony","1 756 000,-Ft (3)",7797.6149999999998,4,1756000]
[{"$f":"IF(L2037=FALSE,0,COUNTIF(A$3:A2036,\">0\")+1)","v":0},3504870,"TAC 240",null,"Aktívszén torony","1 978 000,-Ft (3)",8784.2520000000004,4,1978000]
[{"$f":"IF(L2038=FALSE,0,COUNTIF(A$3:A2037,\">0\")+1)","v":0},3505985,"TACm 6 service kit",null,"Aktívszén torony","23 080,-Ft",90.176500000000004,null,23080]
[{"$f":"IF(L2039=FALSE,0,COUNTIF(A$3:A2038,\">0\")+1)","v":0},3505986,"TACm 12 service kit",null,"Aktívszén torony","41 350,-Ft",166.56130000000002,null,41350]
[{"$f":"IF(L2040=FALSE,0,COUNTIF(A$3:A2039,\">0\")+1)","v":0},3505987,"TACm 23 service kit",null,"Aktívszén torony","78 740,-Ft",317.20910000000003,null,78740]
[{"$f":"IF(L2041=FALSE,0,COUNTIF(A$3:A2040,\">0\")+1)","v":0},3505988,"TACm 35 service kit",null,"Aktívszén torony","115 870,-Ft",466.79599999999999,null,115870]
[{"$f":"IF(L2042=FALSE,0,COUNTIF(A$3:A2041,\">0\")+1)","v":0},3505989,"TACm 56 service kit",null,"Aktívszén torony","121 670,-Ft",490.13580000000002,null,121670]
[{"$f":"IF(L2043=FALSE,0,COUNTIF(A$3:A2042,\">0\")+1)","v":0},3505990,"TACm 70 service kit",null,"Aktívszén torony","144 950,-Ft",602.59119999999996,null,144950]
[{"$f":"IF(L2044=FALSE,0,COUNTIF(A$3:A2043,\">0\")+1)","v":0},3505991,"TACm 105 service kit",null,"Aktívszén torony","202 880,-Ft",843.41550000000007,null,202880]
[{"$f":"IF(L2045=FALSE,0,COUNTIF(A$3:A2044,\">0\")+1)","v":0},3505715,"TAC 10 service kit",null,"Aktívszén torony","55 830,-Ft",224.91080000000002,null,55830]
[{"$f":"IF(L2046=FALSE,0,COUNTIF(A$3:A2045,\">0\")+1)","v":0},3505716,"TAC 18 service kit",null,"Aktívszén torony","96 120,-Ft",387.2285,null,96120]
[{"$f":"IF(L2047=FALSE,0,COUNTIF(A$3:A2046,\">0\")+1)","v":0},3505717,"TAC 30 service kit",null,"Aktívszén torony","132 450,-Ft",550.60710000000006,null,132450]
[{"$f":"IF(L2048=FALSE,0,COUNTIF(A$3:A2047,\">0\")+1)","v":0},3505718,"TAC 47 service kit",null,"Aktívszén torony","223 050,-Ft",927.22660000000008,null,223050]
[{"$f":"IF(L2049=FALSE,0,COUNTIF(A$3:A2048,\">0\")+1)","v":0},3505719,"TAC 94 service kit",null,"Aktívszén torony",{"$f":"TEXT(I2049,\"# ###,-Ft (2)\")","v":"362 000,-Ft (2)"},1554.2185000000002,2,{"$f":"ROUND(IF(G$1=1,IF(G2049>10000,(G2049*N$1*0.85),IF(G2049>5000,(G2049*N$1*0.88),IF(G2049>1000,(G2049*N$1*0.91),IF(G2049>500,(G2049*N$1*0.94),IF(G2049>100,(G2049*N$1*0.97),(G2049*N$1))))))/1.27,G2049*N$1/1.27),-3)","v":362000}]
[{"$f":"IF(L2050=FALSE,0,COUNTIF(A$3:A2049,\">0\")+1)","v":0},3505720,"TAC 150 service kit",null,"Aktívszén torony","604 000,-Ft (2)",2593.9005000000002,2,604000]
[{"$f":"IF(L2051=FALSE,0,COUNTIF(A$3:A2050,\">0\")+1)","v":0},3505721,"TAC 200 service kit",null,"Aktívszén torony","882 000,-Ft (2)",3787.413,2,882000]
[{"$f":"IF(L2052=FALSE,0,COUNTIF(A$3:A2051,\">0\")+1)","v":0},3505722,"TAC 240 service kit",null,"Aktívszén torony","1 155 000,-Ft (2)",4959.7075000000004,2,1155000]
[{"$f":"IF(L2053=FALSE,0,COUNTIF(A$3:A2052,\">0\")+1)","v":0},3506896,"ACA 003",null,"Utóhűtő",{"$f":"TEXT(I2053,\"# ###,-Ft\")","v":"144 940,-Ft"},602.55000000000007,null,{"$f":"ROUND(IF(G$1=1,IF(G2053>10000,(G2053*N$1*0.85),IF(G2053>5000,(G2053*N$1*0.88),IF(G2053>1000,(G2053*N$1*0.91),IF(G2053>500,(G2053*N$1*0.94),IF(G2053>100,(G2053*N$1*0.97),(G2053*N$1))))))/1.27,G2053*N$1/1.27),L$1)","v":144940}]
[{"$f":"IF(L2054=FALSE,0,COUNTIF(A$3:A2053,\">0\")+1)","v":0},3506897,"ACA 007",null,"Utóhűtő","164 770,-Ft",684.95,null,164770]
[{"$f":"IF(L2055=FALSE,0,COUNTIF(A$3:A2054,\">0\")+1)","v":0},3506898,"ACA 010",null,"Utóhűtő","213 080,-Ft",885.80000000000007,null,213080]
[{"$f":"IF(L2056=FALSE,0,COUNTIF(A$3:A2055,\">0\")+1)","v":0},3506899,"ACA 018",null,"Utóhűtő",{"$f":"TEXT(I2056,\"# ###,-Ft (2)\")","v":"282 000,-Ft (2)"},1210.25,2,{"$f":"ROUND(IF(G$1=1,IF(G2056>10000,(G2056*N$1*0.85),IF(G2056>5000,(G2056*N$1*0.88),IF(G2056>1000,(G2056*N$1*0.91),IF(G2056>500,(G2056*N$1*0.94),IF(G2056>100,(G2056*N$1*0.97),(G2056*N$1))))))/1.27,G2056*N$1/1.27),-3)","v":282000}]
[{"$f":"IF(L2057=FALSE,0,COUNTIF(A$3:A2056,\">0\")+1)","v":0},3506900,"ACA 030",null,"Utóhűtő","309 000,-Ft (2)",1328.7,2,309000]
[{"$f":"IF(L2058=FALSE,0,COUNTIF(A$3:A2057,\">0\")+1)","v":0},3506901,"ACA 047",null,"Utóhűtő","359 000,-Ft (2)",1539.8500000000001,2,359000]
[{"$f":"IF(L2059=FALSE,0,COUNTIF(A$3:A2058,\">0\")+1)","v":0},3506902,"ACA 070",null,"Utóhűtő","532 000,-Ft (2)",2286.6,2,532000]
[{"$f":"IF(L2060=FALSE,0,COUNTIF(A$3:A2059,\">0\")+1)","v":0},3506903,"ACA 094",null,"Utóhűtő","597 000,-Ft (2)",2564.7000000000003,2,597000]
[{"$f":"IF(L2061=FALSE,0,COUNTIF(A$3:A2060,\">0\")+1)","v":0},3506904,"ACA 150",null,"Utóhűtő","859 000,-Ft (2)",3687.4,2,859000]
[{"$f":"IF(L2062=FALSE,0,COUNTIF(A$3:A2061,\">0\")+1)","v":0},3506905,"ACA 175",null,"Utóhűtő","957 000,-Ft (2)",4109.7,2,957000]
[{"$f":"IF(L2063=FALSE,0,COUNTIF(A$3:A2062,\">0\")+1)","v":0},3506906,"ACA 240",null,"Utóhűtő","1 030 000,-Ft (2)",4423.8500000000004,2,1030000]
[{"$f":"IF(L2064=FALSE,0,COUNTIF(A$3:A2063,\">0\")+1)","v":0},3506907,"ACA 300",null,"Utóhűtő",{"$f":"TEXT(I2064,\"# ###,-Ft (3)\")","v":"1 218 000,-Ft (3)"},5407.5,4,1218000]
[{"$f":"IF(L2065=FALSE,0,COUNTIF(A$3:A2064,\">0\")+1)","v":0},3506908,"ACA 450",null,"Utóhűtő","1 850 000,-Ft (3)",8214.25,4,1850000]
[{"$f":"IF(L2066=FALSE,0,COUNTIF(A$3:A2065,\">0\")+1)","v":0},3506909,"ACA 600",null,"Utóhűtő","2 006 000,-Ft (3)",8909.5,4,2006000]
[{"$f":"IF(L2067=FALSE,0,COUNTIF(A$3:A2066,\">0\")+1)","v":0},3506910,"ACW 010 F",null,"Utóhűtő",{"$f":"TEXT(I2067,\"# ###,-Ft (2)\")","v":"438 000,-Ft (2)"},1879.75,2,438000]
[{"$f":"IF(L2068=FALSE,0,COUNTIF(A$3:A2067,\">0\")+1)","v":0},3506911,"ACW 018 F",null,"Utóhűtő","449 000,-Ft (2)",1926.1000000000001,2,449000]
[{"$f":"IF(L2069=FALSE,0,COUNTIF(A$3:A2068,\">0\")+1)","v":0},3506912,"ACW 030 F",null,"Utóhűtő","455 000,-Ft (2)",1951.8500000000001,2,455000]
[{"$f":"IF(L2070=FALSE,0,COUNTIF(A$3:A2069,\">0\")+1)","v":0},3506913,"ACW 047 F",null,"Utóhűtő","468 000,-Ft (2)",2008.5,2,468000]
[{"$f":"IF(L2071=FALSE,0,COUNTIF(A$3:A2070,\">0\")+1)","v":0},3506914,"ACW 070 F",null,"Utóhűtő","477 000,-Ft (2)",2049.7000000000003,2,477000]
[{"$f":"IF(L2072=FALSE,0,COUNTIF(A$3:A2071,\">0\")+1)","v":0},3506915,"ACW 094 F",null,"Utóhűtő","670 000,-Ft (2)",2878.85,2,670000]
[{"$f":"IF(L2073=FALSE,0,COUNTIF(A$3:A2072,\">0\")+1)","v":0},3506916,"ACW 150 F",null,"Utóhűtő","681 000,-Ft (2)",2925.2000000000003,2,681000]
[{"$f":"IF(L2074=FALSE,0,COUNTIF(A$3:A2073,\">0\")+1)","v":0},3506917,"ACW 240 F",null,"Utóhűtő",{"$f":"TEXT(I2074,\"# ###,-Ft (3)\")","v":"1 148 000,-Ft (3)"},5098.5,4,1148000]
[{"$f":"IF(L2075=FALSE,0,COUNTIF(A$3:A2074,\">0\")+1)","v":0},3506918,"ACW 300 F",null,"Utóhűtő","1 190 000,-Ft (3)",5283.9000000000005,4,1190000]
[{"$f":"IF(L2076=FALSE,0,COUNTIF(A$3:A2075,\">0\")+1)","v":0},3506919,"ACW 450 F",null,"Utóhűtő","1 357 000,-Ft (3)",6025.5,4,1357000]
[{"$f":"IF(L2077=FALSE,0,COUNTIF(A$3:A2076,\">0\")+1)","v":0},3506920,"ACW 600 F",null,"Utóhűtő","1 375 000,-Ft (3)",6107.9000000000005,4,1375000]
[{"$f":"IF(L2078=FALSE,0,COUNTIF(A$3:A2077,\">0\")+1)","v":0},3506921,"ACW 900 F",null,"Utóhűtő","2 201 000,-Ft (3)",9774.7000000000007,4,2201000]
[{"$f":"IF(L2079=FALSE,0,COUNTIF(A$3:A2078,\">0\")+1)","v":0},3506922,"ACW 1200 F",null,"Utóhűtő",{"$f":"TEXT(I2079,\"# ###,-Ft (4)\")","v":"2 756 000,-Ft (4)"},12669,6,2756000]
[{"$f":"IF(L2080=FALSE,0,COUNTIF(A$3:A2079,\">0\")+1)","v":0},3506923,"ACW 1500 F",null,"Utóhűtő","4 447 000,-Ft (4)",20445.5,6,4447000]
[{"$f":"IF(L2081=FALSE,0,COUNTIF(A$3:A2080,\">0\")+1)","v":0},3506924,"ACW 1800 F",null,"Utóhűtő","4 579 000,-Ft (4)",21053.200000000001,6,4579000]
[{"$f":"IF(L2082=FALSE,0,COUNTIF(A$3:A2081,\">0\")+1)","v":0},3506925,"ACW 2500 F",null,"Utóhűtő","5 713 000,-Ft (4)",26265,6,5713000]
[{"$f":"IF(L2083=FALSE,0,COUNTIF(A$3:A2082,\">0\")+1)","v":0},3506926,"ACW 3000 F",null,"Utóhűtő","6 441 000,-Ft (4)",29612.5,6,6441000]
[{"$f":"IF(L2084=FALSE,0,COUNTIF(A$3:A2083,\">0\")+1)","v":0},3700450,"PP-107",null,"Szűrősor","117 770,-Ft",474.43860000000001,null,117770]
[{"$f":"IF(L2085=FALSE,0,COUNTIF(A$3:A2084,\">0\")+1)","v":0},3700451,"PP-110",null,"Szűrősor","121 880,-Ft",490.98040000000003,null,121880]
[{"$f":"IF(L2086=FALSE,0,COUNTIF(A$3:A2085,\">0\")+1)","v":0},3700452,"PP-207",null,"Szűrősor","160 570,-Ft",667.52240000000006,null,160570]
[{"$f":"IF(L2087=FALSE,0,COUNTIF(A$3:A2086,\">0\")+1)","v":0},3700453,"PP-210",null,"Szűrősor","165 880,-Ft",689.58500000000004,null,165880]
[{"$f":"IF(L2088=FALSE,0,COUNTIF(A$3:A2087,\">0\")+1)","v":0},3700454,"PP-307",null,"Szűrősor","208 350,-Ft",866.11670000000004,null,208350]
[{"$f":"IF(L2089=FALSE,0,COUNTIF(A$3:A2088,\">0\")+1)","v":0},3700455,"PP-310",null,"Szűrősor","213 660,-Ft",888.18960000000004,null,213660]
[{"$f":"IF(L2090=FALSE,0,COUNTIF(A$3:A2089,\">0\")+1)","v":0},3700456,"PP-407",null,"Szűrősor","226 930,-Ft",943.35640000000001,null,226930]
[{"$f":"IF(L2091=FALSE,0,COUNTIF(A$3:A2090,\">0\")+1)","v":0},3700457,"PP-410",null,"Szűrősor","228 250,-Ft",948.86689999999999,null,228250]
[{"$f":"IF(L2092=FALSE,0,COUNTIF(A$3:A2091,\">0\")+1)","v":0},3700458,"PP-507",null,"Szűrősor",{"$f":"TEXT(I2092,\"# ###,-Ft (2)\")","v":"694 000,-Ft (2)"},2979.0072,2,{"$f":"ROUND(IF(G$1=1,IF(G2092>10000,(G2092*N$1*0.85),IF(G2092>5000,(G2092*N$1*0.88),IF(G2092>1000,(G2092*N$1*0.91),IF(G2092>500,(G2092*N$1*0.94),IF(G2092>100,(G2092*N$1*0.97),(G2092*N$1))))))/1.27,G2092*N$1/1.27),-3)","v":694000}]
[{"$f":"IF(L2093=FALSE,0,COUNTIF(A$3:A2092,\">0\")+1)","v":0},3700459,"PP-510",null,"Szűrősor","695 000,-Ft (2)",2984.5279999999998,2,695000]
[{"$f":"IF(L2094=FALSE,0,COUNTIF(A$3:A2093,\">0\")+1)","v":0},3700460,"PP-607",null,"Szűrősor",{"$f":"TEXT(I2094,\"# ###,-Ft (4)\")","v":"2 522 000,-Ft (4)"},11596.059299999999,6,2522000]
[{"$f":"IF(L2095=FALSE,0,COUNTIF(A$3:A2094,\">0\")+1)","v":0},3700461,"PP-610",null,"Szűrősor","2 524 000,-Ft (4)",11601.580100000001,6,2524000]
[{"$f":"IF(L2096=FALSE,0,COUNTIF(A$3:A2095,\">0\")+1)","v":0},"7050CKL-PP",null,null,"Szűrősor","24 000,-Ft",93.781499999999994,null,24000]
[{"$f":"IF(L2097=FALSE,0,COUNTIF(A$3:A2096,\">0\")+1)","v":0},"14050CKL-PP",null,null,"Szűrősor","27 390,-Ft",110.3336,null,27390]
[{"$f":"IF(L2098=FALSE,0,COUNTIF(A$3:A2097,\">0\")+1)","v":0},"3504422","B-AIR 0076",null,"Szűrősor","123 250,-Ft",496.50120000000004,null,123250]
[{"$f":"IF(L2099=FALSE,0,COUNTIF(A$3:A2098,\">0\")+1)","v":0},"3504423","B-AIR 0106",null,"Szűrősor","125 050,-Ft",519.84100000000001,null,125050]
[{"$f":"IF(L2100=FALSE,0,COUNTIF(A$3:A2099,\">0\")+1)","v":0},"3504424","B-AIR 0186",null,"Szűrősor","183 740,-Ft",763.84800000000007,null,183740]
[{"$f":"IF(L2101=FALSE,0,COUNTIF(A$3:A2100,\">0\")+1)","v":0},"3504425","B-AIR 0306",null,"Szűrősor","211 820,-Ft",880.54700000000003,null,211820]
[{"$f":"IF(L2102=FALSE,0,COUNTIF(A$3:A2101,\">0\")+1)","v":0},"3504426","B-AIR 0476",null,"Szűrősor",{"$f":"TEXT(I2102,\"# ###,-Ft (2)\")","v":"245 000,-Ft (2)"},1050.2910000000002,2,{"$f":"ROUND(IF(G$1=1,IF(G2102>10000,(G2102*N$1*0.85),IF(G2102>5000,(G2102*N$1*0.88),IF(G2102>1000,(G2102*N$1*0.91),IF(G2102>500,(G2102*N$1*0.94),IF(G2102>100,(G2102*N$1*0.97),(G2102*N$1))))))/1.27,G2102*N$1/1.27),-3)","v":245000}]
[{"$f":"IF(L2103=FALSE,0,COUNTIF(A$3:A2102,\">0\")+1)","v":0},"3504427","B-AIR 0706",null,"Szűrősor","319 000,-Ft (2)",1368.5610000000001,2,319000]
[{"$f":"IF(L2104=FALSE,0,COUNTIF(A$3:A2103,\">0\")+1)","v":0},"3505307","B-AIR 0076 Plus",null,"Szűrősor",{"$f":"TEXT(I2104,\"# ###,-Ft (3)\")","v":"1 422 000,-Ft (3)"},6312.3550000000005,4,1422000]
[{"$f":"IF(L2105=FALSE,0,COUNTIF(A$3:A2104,\">0\")+1)","v":0},3506206,"AirWATT 22",null,"Hőcserélő",{"$f":"TEXT(I2105,\"# ###,-Ft (2)\")","v":"875 000,-Ft (2)"},3759.5,2,875000]
[{"$f":"IF(L2106=FALSE,0,COUNTIF(A$3:A2105,\">0\")+1)","v":0},3506207,"AirWATT 37",null,"Hőcserélő","957 000,-Ft (2)",4109.7,2,957000]
[{"$f":"IF(L2107=FALSE,0,COUNTIF(A$3:A2106,\">0\")+1)","v":0},3506208,"AirWATT 75",null,"Hőcserélő",{"$f":"TEXT(I2107,\"# ###,-Ft (3)\")","v":"1 241 000,-Ft (3)"},5510.5,4,1241000]
[{"$f":"IF(L2108=FALSE,0,COUNTIF(A$3:A2107,\">0\")+1)","v":0},3506428,"AirWATT 100",null,"Hőcserélő","2 215 000,-Ft (3)",9836.5,4,2215000]
[{"$f":"IF(L2109=FALSE,0,COUNTIF(A$3:A2108,\">0\")+1)","v":0},3506933,"NG-8",null,"N2 generátor",{"$f":"TEXT(I2109,\"# ###,-Ft (4)\")","v":"3 932 000,-Ft (4)"},18076.5,6,3932000]
[{"$f":"IF(L2110=FALSE,0,COUNTIF(A$3:A2109,\">0\")+1)","v":0},3506934,"NG-16",null,"N2 generátor","5 086 000,-Ft (4)",23381,6,5086000]
[{"$f":"IF(L2111=FALSE,0,COUNTIF(A$3:A2110,\">0\")+1)","v":0},3506935,"NG-24",null,"N2 generátor","6 240 000,-Ft (4)",28685.5,6,6240000]
[{"$f":"IF(L2112=FALSE,0,COUNTIF(A$3:A2111,\">0\")+1)","v":0},3506936,"NG-32",null,"N2 generátor","7 393 000,-Ft (4)",33990,6,7393000]
[{"$f":"IF(L2113=FALSE,0,COUNTIF(A$3:A2112,\">0\")+1)","v":0},3506937,"NG-40",null,"N2 generátor","8 547 000,-Ft (4)",39294.5,6,8547000]
[{"$f":"IF(L2114=FALSE,0,COUNTIF(A$3:A2113,\">0\")+1)","v":0},3506938,"NG-48",null,"N2 generátor","9 701 000,-Ft (4)",44599,6,9701000]
[{"$f":"IF(L2115=FALSE,0,COUNTIF(A$3:A2114,\">0\")+1)","v":0},3506939,"NG-56",null,"N2 generátor","10 855 000,-Ft (4)",49903.5,6,10855000]
[{"$f":"IF(L2116=FALSE,0,COUNTIF(A$3:A2115,\">0\")+1)","v":0},3506940,"NG-64",null,"N2 generátor","12 009 000,-Ft (4)",55208,6,12009000]
[{"$f":"IF(L2117=FALSE,0,COUNTIF(A$3:A2116,\">0\")+1)","v":0},3506955,"NG-8-EP",null,"N2 generátor","4 022 000,-Ft (4)",18488.5,6,4022000]
[{"$f":"IF(L2118=FALSE,0,COUNTIF(A$3:A2117,\">0\")+1)","v":0},3506956,"NG-16-EP",null,"N2 generátor","5 243 000,-Ft (4)",24102,6,5243000]
[{"$f":"IF(L2119=FALSE,0,COUNTIF(A$3:A2118,\">0\")+1)","v":0},3506957,"NG-24-EP",null,"N2 generátor","6 464 000,-Ft (4)",29715.5,6,6464000]
[{"$f":"IF(L2120=FALSE,0,COUNTIF(A$3:A2119,\">0\")+1)","v":0},3506958,"NG-32-EP",null,"N2 generátor","7 685 000,-Ft (4)",35329,6,7685000]
[{"$f":"IF(L2121=FALSE,0,COUNTIF(A$3:A2120,\">0\")+1)","v":0},3506959,"NG-40-EP",null,"N2 generátor","8 906 000,-Ft (4)",40942.5,6,8906000]
[{"$f":"IF(L2122=FALSE,0,COUNTIF(A$3:A2121,\">0\")+1)","v":0},3506960,"NG-48-EP",null,"N2 generátor","10 127 000,-Ft (4)",46556,6,10127000]
[{"$f":"IF(L2123=FALSE,0,COUNTIF(A$3:A2122,\">0\")+1)","v":0},3506961,"NG-56-EP",null,"N2 generátor","11 348 000,-Ft (4)",52169.5,6,11348000]
[{"$f":"IF(L2124=FALSE,0,COUNTIF(A$3:A2123,\">0\")+1)","v":0},3506962,"NG-64-EP",null,"N2 generátor","12 569 000,-Ft (4)",57783,6,12569000]
[{"$f":"IF(L2125=FALSE,0,COUNTIF(A$3:A2124,\">0\")+1)","v":0},3401703,"NG-E-8",null,"N2 generátor","2 789 000,-Ft (4)",12823.5,6,2789000]
[{"$f":"IF(L2126=FALSE,0,COUNTIF(A$3:A2125,\">0\")+1)","v":0},3401704,"NG-E-16",null,"N2 generátor","3 943 000,-Ft (4)",18128,6,3943000]
[{"$f":"IF(L2127=FALSE,0,COUNTIF(A$3:A2126,\">0\")+1)","v":0},3401705,"NG-E-24",null,"N2 generátor","5 097 000,-Ft (4)",23432.5,6,5097000]
[{"$f":"IF(L2128=FALSE,0,COUNTIF(A$3:A2127,\">0\")+1)","v":0},3401706,"NG-E-32",null,"N2 generátor","6 251 000,-Ft (4)",28737,6,6251000]
[{"$f":"IF(L2129=FALSE,0,COUNTIF(A$3:A2128,\">0\")+1)","v":0},3401707,"NG-E-40",null,"N2 generátor","7 405 000,-Ft (4)",34041.5,6,7405000]
[{"$f":"IF(L2130=FALSE,0,COUNTIF(A$3:A2129,\">0\")+1)","v":0},3401708,"NG-E-48",null,"N2 generátor","8 559 000,-Ft (4)",39346,6,8559000]
[{"$f":"IF(L2131=FALSE,0,COUNTIF(A$3:A2130,\">0\")+1)","v":0},3401709,"NG-E-56",null,"N2 generátor","9 712 000,-Ft (4)",44650.5,6,9712000]
[{"$f":"IF(L2132=FALSE,0,COUNTIF(A$3:A2131,\">0\")+1)","v":0},3401710,"NG-E-64",null,"N2 generátor","10 866 000,-Ft (4)",49955,6,10866000]
[{"$f":"IF(L2133=FALSE,0,COUNTIF(A$3:A2132,\">0\")+1)","v":0},3401711,"NG-E-8-EP",null,"N2 generátor","2 879 000,-Ft (4)",13235.5,6,2879000]
[{"$f":"IF(L2134=FALSE,0,COUNTIF(A$3:A2133,\">0\")+1)","v":0},3401712,"NG-E-16-EP",null,"N2 generátor","4 100 000,-Ft (4)",18849,6,4100000]
[{"$f":"IF(L2135=FALSE,0,COUNTIF(A$3:A2134,\">0\")+1)","v":0},3401713,"NG-E-24-EP",null,"N2 generátor","5 321 000,-Ft (4)",24462.5,6,5321000]
[{"$f":"IF(L2136=FALSE,0,COUNTIF(A$3:A2135,\">0\")+1)","v":0},3401714,"NG-E-32-EP",null,"N2 generátor","6 542 000,-Ft (4)",30076,6,6542000]
[{"$f":"IF(L2137=FALSE,0,COUNTIF(A$3:A2136,\">0\")+1)","v":0},3401715,"NG-E-40-EP",null,"N2 generátor","7 763 000,-Ft (4)",35689.5,6,7763000]
[{"$f":"IF(L2138=FALSE,0,COUNTIF(A$3:A2137,\">0\")+1)","v":0},3401716,"NG-E-48-EP",null,"N2 generátor","8 984 000,-Ft (4)",41303,6,8984000]
[{"$f":"IF(L2139=FALSE,0,COUNTIF(A$3:A2138,\">0\")+1)","v":0},3401717,"NG-E-56-EP",null,"N2 generátor","10 205 000,-Ft (4)",46916.5,6,10205000]
[{"$f":"IF(L2140=FALSE,0,COUNTIF(A$3:A2139,\">0\")+1)","v":0},3401718,"NG-E-64-EP",null,"N2 generátor","11 426 000,-Ft (4)",52530,6,11426000]
[{"$f":"IF(L2141=FALSE,0,COUNTIF(A$3:A2140,\">0\")+1)","v":0},2300378,"Oxygen Anaylzer 0-1.000 ppm",null,"N2 generátor",{"$f":"TEXT(I2141,\"# ###,-Ft (2)\")","v":"1 067 000,-Ft (2)"},4583.5,2,1067000]
[{"$f":"IF(L2142=FALSE,0,COUNTIF(A$3:A2141,\">0\")+1)","v":0},2300379,"Oxygen Anaylzer 0-1 %",null,"N2 generátor","780 000,-Ft (2)",3347.5,2,780000]
[{"$f":"IF(L2143=FALSE,0,COUNTIF(A$3:A2142,\">0\")+1)","v":0},2300380,"Oxygen Anaylzer 0-25 %",null,"N2 generátor","667 000,-Ft (2)",2863.4,2,667000]
[{"$f":"IF(L2144=FALSE,0,COUNTIF(A$3:A2143,\">0\")+1)","v":0},2300381,"Moisture Transmitter",null,"N2 generátor","1 067 000,-Ft (2)",4583.5,2,1067000]
[{"$f":"IF(L2145=FALSE,0,COUNTIF(A$3:A2144,\">0\")+1)","v":0},2300382,"Flow Meter XS - 12 m³/h",null,"N2 generátor","564 000,-Ft (2)",2420.5,2,564000]
[{"$f":"IF(L2146=FALSE,0,COUNTIF(A$3:A2145,\">0\")+1)","v":0},2300383,"Flow Meter S - 24 m³/h",null,"N2 generátor","564 000,-Ft (2)",2420.5,2,564000]
[{"$f":"IF(L2147=FALSE,0,COUNTIF(A$3:A2146,\">0\")+1)","v":0},2300384,"Flow Meter M - 60 m³/h",null,"N2 generátor","687 000,-Ft (2)",2950.9500000000003,2,687000]
[{"$f":"IF(L2148=FALSE,0,COUNTIF(A$3:A2147,\">0\")+1)","v":0},2300385,"Flow Meter L - 150 m³/h",null,"N2 generátor","742 000,-Ft (2)",3187.85,2,742000]
[{"$f":"IF(L2149=FALSE,0,COUNTIF(A$3:A2148,\">0\")+1)","v":0},2300386,"Flow Meter XL - 300 m³/h",null,"N2 generátor",{"$f":"TEXT(I2149,\"# ###,-Ft (3)\")","v":"1 313 000,-Ft (3)"},5829.8,4,1313000]
[{"$f":"IF(L2150=FALSE,0,COUNTIF(A$3:A2149,\">0\")+1)","v":0},2300387,"Flow Meter XXL - 400 m³/h",null,"N2 generátor","1 461 000,-Ft (3)",6489,4,1461000]
[{"$f":"IF(L2151=FALSE,0,COUNTIF(A$3:A2150,\">0\")+1)","v":0},2300388,"Pressure Transmitter Air",null,"N2 generátor",{"$f":"TEXT(I2151,\"# ###,-Ft (2)\")","v":"261 000,-Ft (2)"},1122.7,2,261000]
[{"$f":"IF(L2152=FALSE,0,COUNTIF(A$3:A2151,\">0\")+1)","v":0},2300389,"Pressure Transmitter Nitrogen",null,"N2 generátor","261 000,-Ft (2)",1122.7,2,261000]
[{"$f":"IF(L2153=FALSE,0,COUNTIF(A$3:A2152,\">0\")+1)","v":0},2300390,"Temperature Transmitter Air",null,"N2 generátor","261 000,-Ft (2)",1122.7,2,261000]
[{"$f":"IF(L2154=FALSE,0,COUNTIF(A$3:A2153,\">0\")+1)","v":0},2300391,"Temperature Transmitter Nitrogen",null,"N2 generátor","261 000,-Ft (2)",1122.7,2,261000]
[{"$f":"IF(L2155=FALSE,0,COUNTIF(A$3:A2154,\">0\")+1)","v":0},2300392,"External N2 Flow regulator - 100 (up to 99 m³/h)",null,"N2 generátor",{"$f":"TEXT(I2155,\"# ###,-Ft\")","v":"144 940,-Ft"},602.55000000000007,null,{"$f":"ROUND(IF(G$1=1,IF(G2155>10000,(G2155*N$1*0.85),IF(G2155>5000,(G2155*N$1*0.88),IF(G2155>1000,(G2155*N$1*0.91),IF(G2155>500,(G2155*N$1*0.94),IF(G2155>100,(G2155*N$1*0.97),(G2155*N$1))))))/1.27,G2155*N$1/1.27),L$1)","v":144940}]
[{"$f":"IF(L2156=FALSE,0,COUNTIF(A$3:A2155,\">0\")+1)","v":0},2300393,"External N2 Flow regulator - 400 (up to 99 m³/h)",null,"N2 generátor",{"$f":"TEXT(I2156,\"# ###,-Ft (2)\")","v":"312 000,-Ft (2)"},1339,2,{"$f":"ROUND(IF(G$1=1,IF(G2156>10000,(G2156*N$1*0.85),IF(G2156>5000,(G2156*N$1*0.88),IF(G2156>1000,(G2156*N$1*0.91),IF(G2156>500,(G2156*N$1*0.94),IF(G2156>100,(G2156*N$1*0.97),(G2156*N$1))))))/1.27,G2156*N$1/1.27),-3)","v":312000}]
[{"$f":"IF(L2157=FALSE,0,COUNTIF(A$3:A2156,\">0\")+1)","v":0},2300394,"Modem - GPRS",null,"N2 generátor","405 000,-Ft (2)",1740.7,2,405000]
[{"$f":"IF(L2158=FALSE,0,COUNTIF(A$3:A2157,\">0\")+1)","v":0},2300395,"Ethernet Rslinx Software",null,"N2 generátor","636 000,-Ft (2)",2729.5,2,636000]
[{"$f":"IF(L2159=FALSE,0,COUNTIF(A$3:A2158,\">0\")+1)","v":0},2300396,"Cycle Time Shifting - 1 NG-E",null,"N2 generátor","261 000,-Ft (2)",1122.7,2,261000]
[{"$f":"IF(L2160=FALSE,0,COUNTIF(A$3:A2159,\">0\")+1)","v":0},2300397,"Cycle Time Shifting - 2 NG-E",null,"N2 generátor","288 000,-Ft (2)",1236,2,288000]
[{"$f":"IF(L2161=FALSE,0,COUNTIF(A$3:A2160,\">0\")+1)","v":0},2300398,"Cycle Time Shifting - 3 NG-E",null,"N2 generátor","348 000,-Ft (2)",1493.5,2,348000]
[{"$f":"IF(L2162=FALSE,0,COUNTIF(A$3:A2161,\">0\")+1)","v":0},3506947,"MNG 09",null,"N2 generátor",{"$f":"TEXT(I2162,\"# ###,-Ft (4)\")","v":"9 623 000,-Ft (4)"},44238.5,6,9623000]
[{"$f":"IF(L2163=FALSE,0,COUNTIF(A$3:A2162,\">0\")+1)","v":0},3506948,"MNG 18",null,"N2 generátor","12 715 000,-Ft (4)",58452.5,6,12715000]
[{"$f":"IF(L2164=FALSE,0,COUNTIF(A$3:A2163,\">0\")+1)","v":0},3506949,"MNG 27",null,"N2 generátor","16 479 000,-Ft (4)",75756.5,6,16479000]
[{"$f":"IF(L2165=FALSE,0,COUNTIF(A$3:A2164,\">0\")+1)","v":0},3506950,"MNG 36",null,"N2 generátor","19 604 000,-Ft (4)",90125,6,19604000]
[{"$f":"IF(L2166=FALSE,0,COUNTIF(A$3:A2165,\">0\")+1)","v":0},3506951,"MNG 45",null,"N2 generátor","24 981 000,-Ft (4)",114845,6,24981000]
[{"$f":"IF(L2167=FALSE,0,COUNTIF(A$3:A2166,\">0\")+1)","v":0},3506952,"MNG 54",null,"N2 generátor","28 006 000,-Ft (4)",128750,6,28006000]
[{"$f":"IF(L2168=FALSE,0,COUNTIF(A$3:A2167,\">0\")+1)","v":0},3506953,"MNG 63",null,"N2 generátor","31 926 000,-Ft (4)",146775,6,31926000]
[{"$f":"IF(L2169=FALSE,0,COUNTIF(A$3:A2168,\">0\")+1)","v":0},3506954,"MNG 72",null,"N2 generátor","34 839 000,-Ft (4)",160165,6,34839000]
[{"$f":"IF(L2170=FALSE,0,COUNTIF(A$3:A2169,\">0\")+1)","v":0},2300458,"Profibus DP",null,"N2 generátor",{"$f":"TEXT(I2170,\"# ###,-Ft (2)\")","v":"311 000,-Ft (2)"},1333.8500000000001,2,311000]
[{"$f":"IF(L2171=FALSE,0,COUNTIF(A$3:A2170,\">0\")+1)","v":0},2300459,"Modbus RTU",null,"N2 generátor","124 000,-Ft",499.55,null,124000]
[{"$f":"IF(L2172=FALSE,0,COUNTIF(A$3:A2171,\">0\")+1)","v":0},2300460,"OPC Software License",null,"N2 generátor",{"$f":"TEXT(I2172,\"# ###,-Ft (2)\")","v":"462 000,-Ft (2)"},1982.75,2,{"$f":"ROUND(IF(G$1=1,IF(G2172>10000,(G2172*N$1*0.85),IF(G2172>5000,(G2172*N$1*0.88),IF(G2172>1000,(G2172*N$1*0.91),IF(G2172>500,(G2172*N$1*0.94),IF(G2172>100,(G2172*N$1*0.97),(G2172*N$1))))))/1.27,G2172*N$1/1.27),-3)","v":462000}]
[{"$f":"IF(L2173=FALSE,0,COUNTIF(A$3:A2172,\">0\")+1)","v":0},2300461,"WiFi Module",null,"N2 generátor","180 870,-Ft",751.9,null,180870]
[{"$f":"IF(L2174=FALSE,0,COUNTIF(A$3:A2173,\">0\")+1)","v":0},2300462,"GSM Module",null,"N2 generátor",{"$f":"TEXT(I2174,\"# ###,-Ft (2)\")","v":"588 000,-Ft (2)"},2523.5,2,{"$f":"ROUND(IF(G$1=1,IF(G2174>10000,(G2174*N$1*0.85),IF(G2174>5000,(G2174*N$1*0.88),IF(G2174>1000,(G2174*N$1*0.91),IF(G2174>500,(G2174*N$1*0.94),IF(G2174>100,(G2174*N$1*0.97),(G2174*N$1))))))/1.27,G2174*N$1/1.27),-3)","v":588000}]
[{"$f":"IF(L2175=FALSE,0,COUNTIF(A$3:A2174,\">0\")+1)","v":0},2300463,"Analog Output Signals (4-20 mA)",null,"N2 generátor","550 000,-Ft (2)",2363.85,2,550000]
[{"$f":"IF(L2176=FALSE,0,COUNTIF(A$3:A2175,\">0\")+1)","v":0},2300464,"Moisture Transmitter - Feed Air",null,"N2 generátor",{"$f":"TEXT(I2176,\"# ###,-Ft (3)\")","v":"1 283 000,-Ft (3)"},5695.9000000000005,4,1283000]
[{"$f":"IF(L2177=FALSE,0,COUNTIF(A$3:A2176,\">0\")+1)","v":0},2300465,"Moisture Transmitter - Nitrogen",null,"N2 generátor","1 283 000,-Ft (3)",5695.9000000000005,4,1283000]
[{"$f":"IF(L2178=FALSE,0,COUNTIF(A$3:A2177,\">0\")+1)","v":0},2300466,"Flow Meter NM S - 100 m³/h",null,"N2 generátor",{"$f":"TEXT(I2178,\"# ###,-Ft (2)\")","v":"718 000,-Ft (2)"},3084.85,2,718000]
[{"$f":"IF(L2179=FALSE,0,COUNTIF(A$3:A2178,\">0\")+1)","v":0},2300467,"Flow Meter NM M - 200 m³/h",null,"N2 generátor","895 000,-Ft (2)",3841.9,2,895000]
[{"$f":"IF(L2180=FALSE,0,COUNTIF(A$3:A2179,\">0\")+1)","v":0},2300468,"Flow Meter NM L - 300  m³/h",null,"N2 generátor",{"$f":"TEXT(I2180,\"# ###,-Ft (3)\")","v":"1 589 000,-Ft (3)"},7055.5,4,1589000]
[{"$f":"IF(L2181=FALSE,0,COUNTIF(A$3:A2180,\">0\")+1)","v":0},2300469,"Flow Meter NM XL 400 m³/h",null,"N2 generátor","1 589 000,-Ft (3)",7055.5,4,1589000]
[{"$f":"IF(L2182=FALSE,0,COUNTIF(A$3:A2181,\">0\")+1)","v":0},2300470,"Temperature Transmitter - Feed Air",null,"N2 generátor",{"$f":"TEXT(I2182,\"# ###,-Ft\")","v":"179 630,-Ft"},746.75,null,{"$f":"ROUND(IF(G$1=1,IF(G2182>10000,(G2182*N$1*0.85),IF(G2182>5000,(G2182*N$1*0.88),IF(G2182>1000,(G2182*N$1*0.91),IF(G2182>500,(G2182*N$1*0.94),IF(G2182>100,(G2182*N$1*0.97),(G2182*N$1))))))/1.27,G2182*N$1/1.27),L$1)","v":179630}]
[{"$f":"IF(L2183=FALSE,0,COUNTIF(A$3:A2182,\">0\")+1)","v":0},3506941,"OG-3",null,"O2 generátor",{"$f":"TEXT(I2183,\"# ###,-Ft (4)\")","v":"4 089 000,-Ft (4)"},18797.5,6,{"$f":"ROUND(IF(G$1=1,IF(G2183>10000,(G2183*N$1*0.85),IF(G2183>5000,(G2183*N$1*0.88),IF(G2183>1000,(G2183*N$1*0.91),IF(G2183>500,(G2183*N$1*0.94),IF(G2183>100,(G2183*N$1*0.97),(G2183*N$1))))))/1.27,G2183*N$1/1.27),-3)","v":4089000}]
[{"$f":"IF(L2184=FALSE,0,COUNTIF(A$3:A2183,\">0\")+1)","v":0},3506942,"OG-5",null,"O2 generátor","5 041 000,-Ft (4)",23175,6,5041000]
[{"$f":"IF(L2185=FALSE,0,COUNTIF(A$3:A2184,\">0\")+1)","v":0},3506943,"OG-8",null,"O2 generátor","5 993 000,-Ft (4)",27552.5,6,5993000]
[{"$f":"IF(L2186=FALSE,0,COUNTIF(A$3:A2185,\">0\")+1)","v":0},3506944,"OG-10",null,"O2 generátor","6 945 000,-Ft (4)",31930,6,6945000]
[{"$f":"IF(L2187=FALSE,0,COUNTIF(A$3:A2186,\">0\")+1)","v":0},3506945,"OG-13",null,"O2 generátor","7 898 000,-Ft (4)",36307.5,6,7898000]
[{"$f":"IF(L2188=FALSE,0,COUNTIF(A$3:A2187,\">0\")+1)","v":0},3506946,"OG-15",null,"O2 generátor","8 850 000,-Ft (4)",40685,6,8850000]
[{"$f":"IF(L2189=FALSE,0,COUNTIF(A$3:A2188,\">0\")+1)","v":0},3506963,"OMG-3",null,"O2 generátor","6 161 000,-Ft (4)",28325,6,6161000]
[{"$f":"IF(L2190=FALSE,0,COUNTIF(A$3:A2189,\">0\")+1)","v":0},3506964,"OMG-5",null,"O2 generátor","7 371 000,-Ft (4)",33887,6,7371000]
[{"$f":"IF(L2191=FALSE,0,COUNTIF(A$3:A2190,\">0\")+1)","v":0},3506965,"OMG-8",null,"O2 generátor","8 581 000,-Ft (4)",39449,6,8581000]
[{"$f":"IF(L2192=FALSE,0,COUNTIF(A$3:A2191,\">0\")+1)","v":0},3506966,"OMG-10",null,"O2 generátor","9 791 000,-Ft (4)",45011,6,9791000]
[{"$f":"IF(L2193=FALSE,0,COUNTIF(A$3:A2192,\">0\")+1)","v":0},3506967,"OMG-13",null,"O2 generátor","11 001 000,-Ft (4)",50573,6,11001000]
[{"$f":"IF(L2194=FALSE,0,COUNTIF(A$3:A2193,\">0\")+1)","v":0},3506968,"OMG-15",null,"O2 generátor","12 210 000,-Ft (4)",56135,6,12210000]
[{"$f":"IF(L2195=FALSE,0,COUNTIF(A$3:A2194,\">0\")+1)","v":0},3401719,"OG-E-3",null,"O2 generátor","3 349 000,-Ft (4)",15398.5,6,3349000]
[{"$f":"IF(L2196=FALSE,0,COUNTIF(A$3:A2195,\">0\")+1)","v":0},3401720,"OG-E-5",null,"O2 generátor","4 302 000,-Ft (4)",19776,6,4302000]
[{"$f":"IF(L2197=FALSE,0,COUNTIF(A$3:A2196,\">0\")+1)","v":0},3401721,"OG-E-8",null,"O2 generátor","5 254 000,-Ft (4)",24153.5,6,5254000]
[{"$f":"IF(L2198=FALSE,0,COUNTIF(A$3:A2197,\">0\")+1)","v":0},3401722,"OG-E-10",null,"O2 generátor","6 206 000,-Ft (4)",28531,6,6206000]
[{"$f":"IF(L2199=FALSE,0,COUNTIF(A$3:A2198,\">0\")+1)","v":0},3401723,"OG-E-13",null,"O2 generátor","7 158 000,-Ft (4)",32908.5,6,7158000]
[{"$f":"IF(L2200=FALSE,0,COUNTIF(A$3:A2199,\">0\")+1)","v":0},3401724,"OG-E-15",null,"O2 generátor","8 110 000,-Ft (4)",37286,6,8110000]
[{"$f":"IF(L2201=FALSE,0,COUNTIF(A$3:A2200,\">0\")+1)","v":0},3401725,"OMG-E-3","Medical","O2 generátor","4 694 000,-Ft (4)",21578.5,6,4694000]
[{"$f":"IF(L2202=FALSE,0,COUNTIF(A$3:A2201,\">0\")+1)","v":0},3401726,"OMG-E-5","Medical","O2 generátor","5 904 000,-Ft (4)",27140.5,6,5904000]
[{"$f":"IF(L2203=FALSE,0,COUNTIF(A$3:A2202,\">0\")+1)","v":0},3401727,"OMG-E-8","Medical","O2 generátor","7 113 000,-Ft (4)",32702.5,6,7113000]
[{"$f":"IF(L2204=FALSE,0,COUNTIF(A$3:A2203,\">0\")+1)","v":0},3401728,"OMG-E-10","Medical","O2 generátor","8 323 000,-Ft (4)",38264.5,6,8323000]
[{"$f":"IF(L2205=FALSE,0,COUNTIF(A$3:A2204,\">0\")+1)","v":0},3401729,"OMG-E-13","Medical","O2 generátor","9 533 000,-Ft (4)",43826.5,6,9533000]
[{"$f":"IF(L2206=FALSE,0,COUNTIF(A$3:A2205,\">0\")+1)","v":0},3401730,"OMG-E-15","Medical","O2 generátor","10 743 000,-Ft (4)",49388.5,6,10743000]
[{"$f":"IF(L2207=FALSE,0,COUNTIF(A$3:A2206,\">0\")+1)","v":0},2300399,"Oxygen Anaylzer 0-95 %",null,"O2 generátor",{"$f":"TEXT(I2207,\"# ###,-Ft (2)\")","v":"947 000,-Ft (2)"},4068.5,2,947000]
[{"$f":"IF(L2208=FALSE,0,COUNTIF(A$3:A2207,\">0\")+1)","v":0},2300381,"Moisture Transmitter",null,"O2 generátor","1 067 000,-Ft (2)",4583.5,2,1067000]
[{"$f":"IF(L2209=FALSE,0,COUNTIF(A$3:A2208,\">0\")+1)","v":0},2300382,"Flow Meter XS - 12 m³/h",null,"O2 generátor","564 000,-Ft (2)",2420.5,2,564000]
[{"$f":"IF(L2210=FALSE,0,COUNTIF(A$3:A2209,\">0\")+1)","v":0},2300383,"Flow Meter S - 24 m³/h",null,"O2 generátor","564 000,-Ft (2)",2420.5,2,564000]
[{"$f":"IF(L2211=FALSE,0,COUNTIF(A$3:A2210,\">0\")+1)","v":0},2300384,"Flow Meter M - 60 m³/h",null,"O2 generátor","687 000,-Ft (2)",2950.9500000000003,2,687000]
[{"$f":"IF(L2212=FALSE,0,COUNTIF(A$3:A2211,\">0\")+1)","v":0},2300385,"Flow Meter L - 150 m³/h",null,"O2 generátor","742 000,-Ft (2)",3187.85,2,742000]
[{"$f":"IF(L2213=FALSE,0,COUNTIF(A$3:A2212,\">0\")+1)","v":0},2300451,"Flow Totalizer",null,"O2 generátor","210 600,-Ft",875.5,null,210600]
[{"$f":"IF(L2214=FALSE,0,COUNTIF(A$3:A2213,\">0\")+1)","v":0},2300388,"Pressure Transmitter Air",null,"O2 generátor",{"$f":"TEXT(I2214,\"# ###,-Ft (2)\")","v":"261 000,-Ft (2)"},1122.7,2,{"$f":"ROUND(IF(G$1=1,IF(G2214>10000,(G2214*N$1*0.85),IF(G2214>5000,(G2214*N$1*0.88),IF(G2214>1000,(G2214*N$1*0.91),IF(G2214>500,(G2214*N$1*0.94),IF(G2214>100,(G2214*N$1*0.97),(G2214*N$1))))))/1.27,G2214*N$1/1.27),-3)","v":261000}]
[{"$f":"IF(L2215=FALSE,0,COUNTIF(A$3:A2214,\">0\")+1)","v":0},2300452,"Pressure Transmitter Oxygen",null,"O2 generátor","261 000,-Ft (2)",1122.7,2,261000]
[{"$f":"IF(L2216=FALSE,0,COUNTIF(A$3:A2215,\">0\")+1)","v":0},2300390,"Temperature Transmitter Air",null,"O2 generátor","261 000,-Ft (2)",1122.7,2,261000]
[{"$f":"IF(L2217=FALSE,0,COUNTIF(A$3:A2216,\">0\")+1)","v":0},2300453,"Temperature Transmitter Oxygen",null,"O2 generátor","261 000,-Ft (2)",1122.7,2,261000]
[{"$f":"IF(L2218=FALSE,0,COUNTIF(A$3:A2217,\">0\")+1)","v":0},2300454,"External O2 flow regulator 100 FR",null,"O2 generátor","144 940,-Ft",602.55000000000007,null,144940]
[{"$f":"IF(L2219=FALSE,0,COUNTIF(A$3:A2218,\">0\")+1)","v":0},2300455,"Cycle Time Shifting - 1 OG-E",null,"O2 generátor",{"$f":"TEXT(I2219,\"# ###,-Ft (2)\")","v":"261 000,-Ft (2)"},1122.7,2,{"$f":"ROUND(IF(G$1=1,IF(G2219>10000,(G2219*N$1*0.85),IF(G2219>5000,(G2219*N$1*0.88),IF(G2219>1000,(G2219*N$1*0.91),IF(G2219>500,(G2219*N$1*0.94),IF(G2219>100,(G2219*N$1*0.97),(G2219*N$1))))))/1.27,G2219*N$1/1.27),-3)","v":261000}]
[{"$f":"IF(L2220=FALSE,0,COUNTIF(A$3:A2219,\">0\")+1)","v":0},2300456,"Cycle Time Shifting - 2 OG-E",null,"O2 generátor","288 000,-Ft (2)",1236,2,288000]
[{"$f":"IF(L2221=FALSE,0,COUNTIF(A$3:A2220,\">0\")+1)","v":0},2300457,"Cycle Time Shifting - 3 OG-E",null,"O2 generátor","348 000,-Ft (2)",1493.5,2,348000]
[{"$f":"IF(L2222=FALSE,0,COUNTIF(A$3:A2221,\">0\")+1)","v":0},2300394,"Modem - GPRS",null,"O2 generátor","405 000,-Ft (2)",1740.7,2,405000]
[{"$f":"IF(L2223=FALSE,0,COUNTIF(A$3:A2222,\">0\")+1)","v":0},2300395,"Ethernet Rslinx Software",null,"O2 generátor","636 000,-Ft (2)",2729.5,2,636000]
[{"$f":"IF(L2224=FALSE,0,COUNTIF(A$3:A2223,\">0\")+1)","v":0},4000924,"OS 330",null,"Mérés",{"$f":"TEXT(I2224,\"# ###,-Ft (2)\")","v":"422 000,-Ft (2)"},1810,2,422000]
[{"$f":"IF(L2225=FALSE,0,COUNTIF(A$3:A2224,\">0\")+1)","v":0},4000950,"OS 330 2A",null,"Mérés","548 000,-Ft (2)",2355,2,548000]
[{"$f":"IF(L2226=FALSE,0,COUNTIF(A$3:A2225,\">0\")+1)","v":0},4000860,"OS 331",null,"Mérés",{"$f":"TEXT(I2226,\"# ###,-Ft (2)\")","v":"524 000,-Ft (2)"},2250,2,524000]
[{"$f":"IF(L2227=FALSE,0,COUNTIF(A$3:A2226,\">0\")+1)","v":0},4000951,"OS 331 2A",null,"Mérés","650 000,-Ft (2)",2790,2,650000]
[{"$f":"IF(L2228=FALSE,0,COUNTIF(A$3:A2227,\">0\")+1)","v":0},4000803,"OS 215 ",null,"Mérés",{"$f":"TEXT(I2228,\"# ###,-Ft\")","v":"233 330,-Ft"},970,null,{"$f":"ROUND(IF(G$1=1,IF(G2228>10000,(G2228*N$1*0.85),IF(G2228>5000,(G2228*N$1*0.88),IF(G2228>1000,(G2228*N$1*0.91),IF(G2228>500,(G2228*N$1*0.94),IF(G2228>100,(G2228*N$1*0.97),(G2228*N$1))))))/1.27,G2228*N$1/1.27),L$1)","v":233330}]
[{"$f":"IF(L2229=FALSE,0,COUNTIF(A$3:A2228,\">0\")+1)","v":0},4000802,"OS 220",null,"Mérés","508 000,-Ft (2)",2180,2,{"$f":"ROUND(IF(G$1=1,IF(G2229>10000,(G2229*N$1*0.85),IF(G2229>5000,(G2229*N$1*0.88),IF(G2229>1000,(G2229*N$1*0.91),IF(G2229>500,(G2229*N$1*0.94),IF(G2229>100,(G2229*N$1*0.97),(G2229*N$1))))))/1.27,G2229*N$1/1.27),-3)","v":508000}]
[{"$f":"IF(L2230=FALSE,0,COUNTIF(A$3:A2229,\">0\")+1)","v":0},4000804,"OS 400",null,"Mérés","734 000,-Ft (2)",3150,2,734000]
[{"$f":"IF(L2231=FALSE,0,COUNTIF(A$3:A2230,\">0\")+1)","v":0},4000814,"OS 420","3/8\"","Mérés","368 000,-Ft (2)",1580,2,368000]
[{"$f":"IF(L2232=FALSE,0,COUNTIF(A$3:A2231,\">0\")+1)","v":0},4000815,"OS 420","1/2\"","Mérés","371 000,-Ft (2)",1595,2,371000]
[{"$f":"IF(L2233=FALSE,0,COUNTIF(A$3:A2232,\">0\")+1)","v":0},4000816,"OS 420","3/4\"","Mérés","375 000,-Ft (2)",1610,2,375000]
[{"$f":"IF(L2234=FALSE,0,COUNTIF(A$3:A2233,\">0\")+1)","v":0},4000817,"OS 420","1\"","Mérés","378 000,-Ft (2)",1625,2,378000]
[{"$f":"IF(L2235=FALSE,0,COUNTIF(A$3:A2234,\">0\")+1)","v":0},4000818,"OS 420","1 1/2\"","Mérés","384 000,-Ft (2)",1650,2,384000]
[{"$f":"IF(L2236=FALSE,0,COUNTIF(A$3:A2235,\">0\")+1)","v":0},4000819,"OS 420","2\"","Mérés","394 000,-Ft (2)",1690,2,394000]
[{"$f":"IF(L2237=FALSE,0,COUNTIF(A$3:A2236,\">0\")+1)","v":0},4000820,"OS 420","2 1/2\"","Mérés","419 000,-Ft (2)",1800,2,419000]
[{"$f":"IF(L2238=FALSE,0,COUNTIF(A$3:A2237,\">0\")+1)","v":0},4000821,"OS 420","3\"","Mérés","431 000,-Ft (2)",1850,2,431000]
[{"$f":"IF(L2239=FALSE,0,COUNTIF(A$3:A2238,\">0\")+1)","v":0},4000902,"OS 400/420 Display",null,"Mérés",{"$f":"TEXT(I2239,\"# ###,-Ft\")","v":"103 010,-Ft"},415,null,103010]
[{"$f":"IF(L2240=FALSE,0,COUNTIF(A$3:A2239,\">0\")+1)","v":0},4000824,"OS 16",null,"Mérés","107 980,-Ft",435,null,107980]
[{"$f":"IF(L2241=FALSE,0,COUNTIF(A$3:A2240,\">0\")+1)","v":0},4000825,"OS 40",null,"Mérés","127 490,-Ft",530,null,127490]
[{"$f":"IF(L2242=FALSE,0,COUNTIF(A$3:A2241,\">0\")+1)","v":0},4000988,"OS TS",null,"Mérés","185 220,-Ft",770,null,185220]

{"sheet":"Árak 2012","index":60,"n_rows":31,"n_cols":13,"rows_kept":31,"cut":false,"hidden":true,"merged":[[0,9,0,10],[0,11,0,12]]}
[null,null,null,null,null,null,null,null,null,"Javasolt eladási árak",null,"Nettó kisker árak"]
[null,"Type","Référence","Description",null,null,null,"Súly","Oldal","Listaár","Akciós ár"]
[1,null,{"$f":"IF(COUNTIF(Árlista!$A$3:$A$2228,$A3)>0,VLOOKUP($A3,Árlista!$A:$L,2,0),\"\")","v":""},{"$f":"IF(COUNTIF(Árlista!$A$3:$A$2228,$A3)>0,VLOOKUP($A3,Árlista!$A:$L,3,0),\"\")","v":""},null,null,{"$f":"IF(COUNTIF(Árlista!$A$3:$A$2228,$A3)>0,VLOOKUP($A3,Árlista!$A:$L,8,0)/100,\"\")","v":""},{"$f":"IF(COUNTIF(Árlista!$A$3:$A$2228,$A3)>0,VLOOKUP($A3,Árlista!$A:$L,7,0),\"\")","v":""},null,{"$f":"IF(COUNTIF(Árlista!$A$3:$A$2228,$A3)>0,VLOOKUP($A3,Árlista!$A:$L,9,0),\"\")","v":""},{"$f":"IF(COUNTIF(Árlista!$A$3:$A$2228,$A3)>0,VLOOKUP($A3,Árlista!$A:$L,10,0),\"\")","v":""},{"$f":"IF(COUNTIF(Árlista!$A$3:$A$2228,$A3)>0,VLOOKUP($A3,Árlista!$A:$L,11,0),\"\")","v":""},7]
[2,null,{"$f":"IF(COUNTIF(Árlista!$A$3:$A$2228,$A4)>0,VLOOKUP($A4,Árlista!$A:$L,2,0),\"\")","v":""},{"$f":"IF(COUNTIF(Árlista!$A$3:$A$2228,$A4)>0,VLOOKUP($A4,Árlista!$A:$L,3,0),\"\")","v":""},null,null,{"$f":"IF(COUNTIF(Árlista!$A$3:$A$2228,$A4)>0,VLOOKUP($A4,Árlista!$A:$L,8,0)/100,\"\")","v":""},{"$f":"IF(COUNTIF(Árlista!$A$3:$A$2228,$A4)>0,VLOOKUP($A4,Árlista!$A:$L,7,0),\"\")","v":""},null,{"$f":"IF(COUNTIF(Árlista!$A$3:$A$2228,$A4)>0,VLOOKUP($A4,Árlista!$A:$L,9,0),\"\")","v":""},{"$f":"IF(COUNTIF(Árlista!$A$3:$A$2228,$A4)>0,VLOOKUP($A4,Árlista!$A:$L,10,0),\"\")","v":""},{"$f":"IF(COUNTIF(Árlista!$A$3:$A$2228,$A4)>0,VLOOKUP($A4,Árlista!$A:$L,11,0),\"\")","v":""},{"$f":"IF(COUNTIF(Árlista!$A$3:$A$2228,$A4)>0,VLOOKUP($A4,Árlista!$A:$L,12,0),\"\")","v":""}]
[3,null,{"$f":"IF(COUNTIF(Árlista!$A$3:$A$2228,$A5)>0,VLOOKUP($A5,Árlista!$A:$L,2,0),\"\")","v":""},{"$f":"IF(COUNTIF(Árlista!$A$3:$A$2228,$A5)>0,VLOOKUP($A5,Árlista!$A:$L,3,0),\"\")","v":""},null,null,{"$f":"IF(COUNTIF(Árlista!$A$3:$A$2228,$A5)>0,VLOOKUP($A5,Árlista!$A:$L,8,0)/100,\"\")","v":""},{"$f":"IF(COUNTIF(Árlista!$A$3:$A$2228,$A5)>0,VLOOKUP($A5,Árlista!$A:$L,7,0),\"\")","v":""},null,{"$f":"IF(COUNTIF(Árlista!$A$3:$A$2228,$A5)>0,VLOOKUP($A5,Árlista!$A:$L,9,0),\"\")","v":""},{"$f":"IF(COUNTIF(Árlista!$A$3:$A$2228,$A5)>0,VLOOKUP($A5,Árlista!$A:$L,10,0),\"\")","v":""},{"$f":"IF(COUNTIF(Árlista!$A$3:$A$2228,$A5)>0,VLOOKUP($A5,Árlista!$A:$L,11,0),\"\")","v":""},{"$f":"IF(COUNTIF(Árlista!$A$3:$A$2228,$A5)>0,VLOOKUP($A5,Árlista!$A:$L,12,0),\"\")","v":""}]
[4,null,{"$f":"IF(COUNTIF(Árlista!$A$3:$A$2228,$A6)>0,VLOOKUP($A6,Árlista!$A:$L,2,0),\"\")","v":""},{"$f":"IF(COUNTIF(Árlista!$A$3:$A$2228,$A6)>0,VLOOKUP($A6,Árlista!$A:$L,3,0),\"\")","v":""},null,null,{"$f":"IF(COUNTIF(Árlista!$A$3:$A$2228,$A6)>0,VLOOKUP($A6,Árlista!$A:$L,8,0)/100,\"\")","v":""},{"$f":"IF(COUNTIF(Árlista!$A$3:$A$2228,$A6)>0,VLOOKUP($A6,Árlista!$A:$L,7,0),\"\")","v":""},null,{"$f":"IF(COUNTIF(Árlista!$A$3:$A$2228,$A6)>0,VLOOKUP($A6,Árlista!$A:$L,9,0),\"\")","v":""},{"$f":"IF(COUNTIF(Árlista!$A$3:$A$2228,$A6)>0,VLOOKUP($A6,Árlista!$A:$L,10,0),\"\")","v":""},{"$f":"IF(COUNTIF(Árlista!$A$3:$A$2228,$A6)>0,VLOOKUP($A6,Árlista!$A:$L,11,0),\"\")","v":""},{"$f":"IF(COUNTIF(Árlista!$A$3:$A$2228,$A6)>0,VLOOKUP($A6,Árlista!$A:$L,12,0),\"\")","v":""}]
[5,null,{"$f":"IF(COUNTIF(Árlista!$A$3:$A$2228,$A7)>0,VLOOKUP($A7,Árlista!$A:$L,2,0),\"\")","v":""},{"$f":"IF(COUNTIF(Árlista!$A$3:$A$2228,$A7)>0,VLOOKUP($A7,Árlista!$A:$L,3,0),\"\")","v":""},null,null,{"$f":"IF(COUNTIF(Árlista!$A$3:$A$2228,$A7)>0,VLOOKUP($A7,Árlista!$A:$L,8,0)/100,\"\")","v":""},{"$f":"IF(COUNTIF(Árlista!$A$3:$A$2228,$A7)>0,VLOOKUP($A7,Árlista!$A:$L,7,0),\"\")","v":""},null,{"$f":"IF(COUNTIF(Árlista!$A$3:$A$2228,$A7)>0,VLOOKUP($A7,Árlista!$A:$L,9,0),\"\")","v":""},{"$f":"IF(COUNTIF(Árlista!$A$3:$A$2228,$A7)>0,VLOOKUP($A7,Árlista!$A:$L,10,0),\"\")","v":""},{"$f":"IF(COUNTIF(Árlista!$A$3:$A$2228,$A7)>0,VLOOKUP($A7,Árlista!$A:$L,11,0),\"\")","v":""},{"$f":"IF(COUNTIF(Árlista!$A$3:$A$2228,$A7)>0,VLOOKUP($A7,Árlista!$A:$L,12,0),\"\")","v":""}]
[6,null,{"$f":"IF(COUNTIF(Árlista!$A$3:$A$2228,$A8)>0,VLOOKUP($A8,Árlista!$A:$L,2,0),\"\")","v":""},{"$f":"IF(COUNTIF(Árlista!$A$3:$A$2228,$A8)>0,VLOOKUP($A8,Árlista!$A:$L,3,0),\"\")","v":""},null,null,{"$f":"IF(COUNTIF(Árlista!$A$3:$A$2228,$A8)>0,VLOOKUP($A8,Árlista!$A:$L,8,0)/100,\"\")","v":""},{"$f":"IF(COUNTIF(Árlista!$A$3:$A$2228,$A8)>0,VLOOKUP($A8,Árlista!$A:$L,7,0),\"\")","v":""},null,{"$f":"IF(COUNTIF(Árlista!$A$3:$A$2228,$A8)>0,VLOOKUP($A8,Árlista!$A:$L,9,0),\"\")","v":""},{"$f":"IF(COUNTIF(Árlista!$A$3:$A$2228,$A8)>0,VLOOKUP($A8,Árlista!$A:$L,10,0),\"\")","v":""},{"$f":"IF(COUNTIF(Árlista!$A$3:$A$2228,$A8)>0,VLOOKUP($A8,Árlista!$A:$L,11,0),\"\")","v":""},{"$f":"IF(COUNTIF(Árlista!$A$3:$A$2228,$A8)>0,VLOOKUP($A8,Árlista!$A:$L,12,0),\"\")","v":""}]
[7,null,{"$f":"IF(COUNTIF(Árlista!$A$3:$A$2228,$A9)>0,VLOOKUP($A9,Árlista!$A:$L,2,0),\"\")","v":""},{"$f":"IF(COUNTIF(Árlista!$A$3:$A$2228,$A9)>0,VLOOKUP($A9,Árlista!$A:$L,3,0),\"\")","v":""},null,null,{"$f":"IF(COUNTIF(Árlista!$A$3:$A$2228,$A9)>0,VLOOKUP($A9,Árlista!$A:$L,8,0)/100,\"\")","v":""},{"$f":"IF(COUNTIF(Árlista!$A$3:$A$2228,$A9)>0,VLOOKUP($A9,Árlista!$A:$L,7,0),\"\")","v":""},null,{"$f":"IF(COUNTIF(Árlista!$A$3:$A$2228,$A9)>0,VLOOKUP($A9,Árlista!$A:$L,9,0),\"\")","v":""},{"$f":"IF(COUNTIF(Árlista!$A$3:$A$2228,$A9)>0,VLOOKUP($A9,Árlista!$A:$L,10,0),\"\")","v":""},{"$f":"IF(COUNTIF(Árlista!$A$3:$A$2228,$A9)>0,VLOOKUP($A9,Árlista!$A:$L,11,0),\"\")","v":""},{"$f":"IF(COUNTIF(Árlista!$A$3:$A$2228,$A9)>0,VLOOKUP($A9,Árlista!$A:$L,12,0),\"\")","v":""}]
[8,null,{"$f":"IF(COUNTIF(Árlista!$A$3:$A$2228,$A10)>0,VLOOKUP($A10,Árlista!$A:$L,2,0),\"\")","v":""},{"$f":"IF(COUNTIF(Árlista!$A$3:$A$2228,$A10)>0,VLOOKUP($A10,Árlista!$A:$L,3,0),\"\")","v":""},null,null,{"$f":"IF(COUNTIF(Árlista!$A$3:$A$2228,$A10)>0,VLOOKUP($A10,Árlista!$A:$L,8,0)/100,\"\")","v":""},{"$f":"IF(COUNTIF(Árlista!$A$3:$A$2228,$A10)>0,VLOOKUP($A10,Árlista!$A:$L,7,0),\"\")","v":""},null,{"$f":"IF(COUNTIF(Árlista!$A$3:$A$2228,$A10)>0,VLOOKUP($A10,Árlista!$A:$L,9,0),\"\")","v":""},{"$f":"IF(COUNTIF(Árlista!$A$3:$A$2228,$A10)>0,VLOOKUP($A10,Árlista!$A:$L,10,0),\"\")","v":""},{"$f":"IF(COUNTIF(Árlista!$A$3:$A$2228,$A10)>0,VLOOKUP($A10,Árlista!$A:$L,11,0),\"\")","v":""},{"$f":"IF(COUNTIF(Árlista!$A$3:$A$2228,$A10)>0,VLOOKUP($A10,Árlista!$A:$L,12,0),\"\")","v":""}]
[9,null,{"$f":"IF(COUNTIF(Árlista!$A$3:$A$2228,$A11)>0,VLOOKUP($A11,Árlista!$A:$L,2,0),\"\")","v":""},{"$f":"IF(COUNTIF(Árlista!$A$3:$A$2228,$A11)>0,VLOOKUP($A11,Árlista!$A:$L,3,0),\"\")","v":""},null,null,{"$f":"IF(COUNTIF(Árlista!$A$3:$A$2228,$A11)>0,VLOOKUP($A11,Árlista!$A:$L,8,0)/100,\"\")","v":""},{"$f":"IF(COUNTIF(Árlista!$A$3:$A$2228,$A11)>0,VLOOKUP($A11,Árlista!$A:$L,7,0),\"\")","v":""},null,{"$f":"IF(COUNTIF(Árlista!$A$3:$A$2228,$A11)>0,VLOOKUP($A11,Árlista!$A:$L,9,0),\"\")","v":""},{"$f":"IF(COUNTIF(Árlista!$A$3:$A$2228,$A11)>0,VLOOKUP($A11,Árlista!$A:$L,10,0),\"\")","v":""},{"$f":"IF(COUNTIF(Árlista!$A$3:$A$2228,$A11)>0,VLOOKUP($A11,Árlista!$A:$L,11,0),\"\")","v":""},{"$f":"IF(COUNTIF(Árlista!$A$3:$A$2228,$A11)>0,VLOOKUP($A11,Árlista!$A:$L,12,0),\"\")","v":""}]
[10,null,{"$f":"IF(COUNTIF(Árlista!$A$3:$A$2228,$A12)>0,VLOOKUP($A12,Árlista!$A:$L,2,0),\"\")","v":""},{"$f":"IF(COUNTIF(Árlista!$A$3:$A$2228,$A12)>0,VLOOKUP($A12,Árlista!$A:$L,3,0),\"\")","v":""},null,null,{"$f":"IF(COUNTIF(Árlista!$A$3:$A$2228,$A12)>0,VLOOKUP($A12,Árlista!$A:$L,8,0)/100,\"\")","v":""},{"$f":"IF(COUNTIF(Árlista!$A$3:$A$2228,$A12)>0,VLOOKUP($A12,Árlista!$A:$L,7,0),\"\")","v":""},null,{"$f":"IF(COUNTIF(Árlista!$A$3:$A$2228,$A12)>0,VLOOKUP($A12,Árlista!$A:$L,9,0),\"\")","v":""},{"$f":"IF(COUNTIF(Árlista!$A$3:$A$2228,$A12)>0,VLOOKUP($A12,Árlista!$A:$L,10,0),\"\")","v":""},{"$f":"IF(COUNTIF(Árlista!$A$3:$A$2228,$A12)>0,VLOOKUP($A12,Árlista!$A:$L,11,0),\"\")","v":""},{"$f":"IF(COUNTIF(Árlista!$A$3:$A$2228,$A12)>0,VLOOKUP($A12,Árlista!$A:$L,12,0),\"\")","v":""}]
[11,null,{"$f":"IF(COUNTIF(Árlista!$A$3:$A$2228,$A13)>0,VLOOKUP($A13,Árlista!$A:$L,2,0),\"\")","v":""},{"$f":"IF(COUNTIF(Árlista!$A$3:$A$2228,$A13)>0,VLOOKUP($A13,Árlista!$A:$L,3,0),\"\")","v":""},null,null,{"$f":"IF(COUNTIF(Árlista!$A$3:$A$2228,$A13)>0,VLOOKUP($A13,Árlista!$A:$L,8,0)/100,\"\")","v":""},{"$f":"IF(COUNTIF(Árlista!$A$3:$A$2228,$A13)>0,VLOOKUP($A13,Árlista!$A:$L,7,0),\"\")","v":""},null,{"$f":"IF(COUNTIF(Árlista!$A$3:$A$2228,$A13)>0,VLOOKUP($A13,Árlista!$A:$L,9,0),\"\")","v":""},{"$f":"IF(COUNTIF(Árlista!$A$3:$A$2228,$A13)>0,VLOOKUP($A13,Árlista!$A:$L,10,0),\"\")","v":""},{"$f":"IF(COUNTIF(Árlista!$A$3:$A$2228,$A13)>0,VLOOKUP($A13,Árlista!$A:$L,11,0),\"\")","v":""},{"$f":"IF(COUNTIF(Árlista!$A$3:$A$2228,$A13)>0,VLOOKUP($A13,Árlista!$A:$L,12,0),\"\")","v":""}]
[12,null,{"$f":"IF(COUNTIF(Árlista!$A$3:$A$2228,$A14)>0,VLOOKUP($A14,Árlista!$A:$L,2,0),\"\")","v":""},{"$f":"IF(COUNTIF(Árlista!$A$3:$A$2228,$A14)>0,VLOOKUP($A14,Árlista!$A:$L,3,0),\"\")","v":""},null,null,{"$f":"IF(COUNTIF(Árlista!$A$3:$A$2228,$A14)>0,VLOOKUP($A14,Árlista!$A:$L,8,0)/100,\"\")","v":""},{"$f":"IF(COUNTIF(Árlista!$A$3:$A$2228,$A14)>0,VLOOKUP($A14,Árlista!$A:$L,7,0),\"\")","v":""},null,{"$f":"IF(COUNTIF(Árlista!$A$3:$A$2228,$A14)>0,VLOOKUP($A14,Árlista!$A:$L,9,0),\"\")","v":""},{"$f":"IF(COUNTIF(Árlista!$A$3:$A$2228,$A14)>0,VLOOKUP($A14,Árlista!$A:$L,10,0),\"\")","v":""},{"$f":"IF(COUNTIF(Árlista!$A$3:$A$2228,$A14)>0,VLOOKUP($A14,Árlista!$A:$L,11,0),\"\")","v":""},{"$f":"IF(COUNTIF(Árlista!$A$3:$A$2228,$A14)>0,VLOOKUP($A14,Árlista!$A:$L,12,0),\"\")","v":""}]
[13,null,{"$f":"IF(COUNTIF(Árlista!$A$3:$A$2228,$A15)>0,VLOOKUP($A15,Árlista!$A:$L,2,0),\"\")","v":""},{"$f":"IF(COUNTIF(Árlista!$A$3:$A$2228,$A15)>0,VLOOKUP($A15,Árlista!$A:$L,3,0),\"\")","v":""},null,null,{"$f":"IF(COUNTIF(Árlista!$A$3:$A$2228,$A15)>0,VLOOKUP($A15,Árlista!$A:$L,8,0)/100,\"\")","v":""},{"$f":"IF(COUNTIF(Árlista!$A$3:$A$2228,$A15)>0,VLOOKUP($A15,Árlista!$A:$L,7,0),\"\")","v":""},null,{"$f":"IF(COUNTIF(Árlista!$A$3:$A$2228,$A15)>0,VLOOKUP($A15,Árlista!$A:$L,9,0),\"\")","v":""},{"$f":"IF(COUNTIF(Árlista!$A$3:$A$2228,$A15)>0,VLOOKUP($A15,Árlista!$A:$L,10,0),\"\")","v":""},{"$f":"IF(COUNTIF(Árlista!$A$3:$A$2228,$A15)>0,VLOOKUP($A15,Árlista!$A:$L,11,0),\"\")","v":""},{"$f":"IF(COUNTIF(Árlista!$A$3:$A$2228,$A15)>0,VLOOKUP($A15,Árlista!$A:$L,12,0),\"\")","v":""}]
[14,null,{"$f":"IF(COUNTIF(Árlista!$A$3:$A$2228,$A16)>0,VLOOKUP($A16,Árlista!$A:$L,2,0),\"\")","v":""},{"$f":"IF(COUNTIF(Árlista!$A$3:$A$2228,$A16)>0,VLOOKUP($A16,Árlista!$A:$L,3,0),\"\")","v":""},null,null,{"$f":"IF(COUNTIF(Árlista!$A$3:$A$2228,$A16)>0,VLOOKUP($A16,Árlista!$A:$L,8,0)/100,\"\")","v":""},{"$f":"IF(COUNTIF(Árlista!$A$3:$A$2228,$A16)>0,VLOOKUP($A16,Árlista!$A:$L,7,0),\"\")","v":""},null,{"$f":"IF(COUNTIF(Árlista!$A$3:$A$2228,$A16)>0,VLOOKUP($A16,Árlista!$A:$L,9,0),\"\")","v":""},{"$f":"IF(COUNTIF(Árlista!$A$3:$A$2228,$A16)>0,VLOOKUP($A16,Árlista!$A:$L,10,0),\"\")","v":""},{"$f":"IF(COUNTIF(Árlista!$A$3:$A$2228,$A16)>0,VLOOKUP($A16,Árlista!$A:$L,11,0),\"\")","v":""},{"$f":"IF(COUNTIF(Árlista!$A$3:$A$2228,$A16)>0,VLOOKUP($A16,Árlista!$A:$L,12,0),\"\")","v":""}]
[15,null,{"$f":"IF(COUNTIF(Árlista!$A$3:$A$2228,$A17)>0,VLOOKUP($A17,Árlista!$A:$L,2,0),\"\")","v":""},{"$f":"IF(COUNTIF(Árlista!$A$3:$A$2228,$A17)>0,VLOOKUP($A17,Árlista!$A:$L,3,0),\"\")","v":""},null,null,{"$f":"IF(COUNTIF(Árlista!$A$3:$A$2228,$A17)>0,VLOOKUP($A17,Árlista!$A:$L,8,0)/100,\"\")","v":""},{"$f":"IF(COUNTIF(Árlista!$A$3:$A$2228,$A17)>0,VLOOKUP($A17,Árlista!$A:$L,7,0),\"\")","v":""},null,{"$f":"IF(COUNTIF(Árlista!$A$3:$A$2228,$A17)>0,VLOOKUP($A17,Árlista!$A:$L,9,0),\"\")","v":""},{"$f":"IF(COUNTIF(Árlista!$A$3:$A$2228,$A17)>0,VLOOKUP($A17,Árlista!$A:$L,10,0),\"\")","v":""},{"$f":"IF(COUNTIF(Árlista!$A$3:$A$2228,$A17)>0,VLOOKUP($A17,Árlista!$A:$L,11,0),\"\")","v":""},{"$f":"IF(COUNTIF(Árlista!$A$3:$A$2228,$A17)>0,VLOOKUP($A17,Árlista!$A:$L,12,0),\"\")","v":""}]
[16,null,{"$f":"IF(COUNTIF(Árlista!$A$3:$A$2228,$A18)>0,VLOOKUP($A18,Árlista!$A:$L,2,0),\"\")","v":""},{"$f":"IF(COUNTIF(Árlista!$A$3:$A$2228,$A18)>0,VLOOKUP($A18,Árlista!$A:$L,3,0),\"\")","v":""},null,null,{"$f":"IF(COUNTIF(Árlista!$A$3:$A$2228,$A18)>0,VLOOKUP($A18,Árlista!$A:$L,8,0)/100,\"\")","v":""},{"$f":"IF(COUNTIF(Árlista!$A$3:$A$2228,$A18)>0,VLOOKUP($A18,Árlista!$A:$L,7,0),\"\")","v":""},null,{"$f":"IF(COUNTIF(Árlista!$A$3:$A$2228,$A18)>0,VLOOKUP($A18,Árlista!$A:$L,9,0),\"\")","v":""},{"$f":"IF(COUNTIF(Árlista!$A$3:$A$2228,$A18)>0,VLOOKUP($A18,Árlista!$A:$L,10,0),\"\")","v":""},{"$f":"IF(COUNTIF(Árlista!$A$3:$A$2228,$A18)>0,VLOOKUP($A18,Árlista!$A:$L,11,0),\"\")","v":""},{"$f":"IF(COUNTIF(Árlista!$A$3:$A$2228,$A18)>0,VLOOKUP($A18,Árlista!$A:$L,12,0),\"\")","v":""}]
[17,null,{"$f":"IF(COUNTIF(Árlista!$A$3:$A$2228,$A19)>0,VLOOKUP($A19,Árlista!$A:$L,2,0),\"\")","v":""},{"$f":"IF(COUNTIF(Árlista!$A$3:$A$2228,$A19)>0,VLOOKUP($A19,Árlista!$A:$L,3,0),\"\")","v":""},null,null,{"$f":"IF(COUNTIF(Árlista!$A$3:$A$2228,$A19)>0,VLOOKUP($A19,Árlista!$A:$L,8,0)/100,\"\")","v":""},{"$f":"IF(COUNTIF(Árlista!$A$3:$A$2228,$A19)>0,VLOOKUP($A19,Árlista!$A:$L,7,0),\"\")","v":""},null,{"$f":"IF(COUNTIF(Árlista!$A$3:$A$2228,$A19)>0,VLOOKUP($A19,Árlista!$A:$L,9,0),\"\")","v":""},{"$f":"IF(COUNTIF(Árlista!$A$3:$A$2228,$A19)>0,VLOOKUP($A19,Árlista!$A:$L,10,0),\"\")","v":""},{"$f":"IF(COUNTIF(Árlista!$A$3:$A$2228,$A19)>0,VLOOKUP($A19,Árlista!$A:$L,11,0),\"\")","v":""},{"$f":"IF(COUNTIF(Árlista!$A$3:$A$2228,$A19)>0,VLOOKUP($A19,Árlista!$A:$L,12,0),\"\")","v":""}]
[18,null,{"$f":"IF(COUNTIF(Árlista!$A$3:$A$2228,$A20)>0,VLOOKUP($A20,Árlista!$A:$L,2,0),\"\")","v":""},{"$f":"IF(COUNTIF(Árlista!$A$3:$A$2228,$A20)>0,VLOOKUP($A20,Árlista!$A:$L,3,0),\"\")","v":""},null,null,{"$f":"IF(COUNTIF(Árlista!$A$3:$A$2228,$A20)>0,VLOOKUP($A20,Árlista!$A:$L,8,0)/100,\"\")","v":""},{"$f":"IF(COUNTIF(Árlista!$A$3:$A$2228,$A20)>0,VLOOKUP($A20,Árlista!$A:$L,7,0),\"\")","v":""},null,{"$f":"IF(COUNTIF(Árlista!$A$3:$A$2228,$A20)>0,VLOOKUP($A20,Árlista!$A:$L,9,0),\"\")","v":""},{"$f":"IF(COUNTIF(Árlista!$A$3:$A$2228,$A20)>0,VLOOKUP($A20,Árlista!$A:$L,10,0),\"\")","v":""},{"$f":"IF(COUNTIF(Árlista!$A$3:$A$2228,$A20)>0,VLOOKUP($A20,Árlista!$A:$L,11,0),\"\")","v":""},{"$f":"IF(COUNTIF(Árlista!$A$3:$A$2228,$A20)>0,VLOOKUP($A20,Árlista!$A:$L,12,0),\"\")","v":""}]
[19,null,{"$f":"IF(COUNTIF(Árlista!$A$3:$A$2228,$A21)>0,VLOOKUP($A21,Árlista!$A:$L,2,0),\"\")","v":""},{"$f":"IF(COUNTIF(Árlista!$A$3:$A$2228,$A21)>0,VLOOKUP($A21,Árlista!$A:$L,3,0),\"\")","v":""},null,null,{"$f":"IF(COUNTIF(Árlista!$A$3:$A$2228,$A21)>0,VLOOKUP($A21,Árlista!$A:$L,8,0)/100,\"\")","v":""},{"$f":"IF(COUNTIF(Árlista!$A$3:$A$2228,$A21)>0,VLOOKUP($A21,Árlista!$A:$L,7,0),\"\")","v":""},null,{"$f":"IF(COUNTIF(Árlista!$A$3:$A$2228,$A21)>0,VLOOKUP($A21,Árlista!$A:$L,9,0),\"\")","v":""},{"$f":"IF(COUNTIF(Árlista!$A$3:$A$2228,$A21)>0,VLOOKUP($A21,Árlista!$A:$L,10,0),\"\")","v":""},{"$f":"IF(COUNTIF(Árlista!$A$3:$A$2228,$A21)>0,VLOOKUP($A21,Árlista!$A:$L,11,0),\"\")","v":""},{"$f":"IF(COUNTIF(Árlista!$A$3:$A$2228,$A21)>0,VLOOKUP($A21,Árlista!$A:$L,12,0),\"\")","v":""}]
[20,null,{"$f":"IF(COUNTIF(Árlista!$A$3:$A$2228,$A22)>0,VLOOKUP($A22,Árlista!$A:$L,2,0),\"\")","v":""},{"$f":"IF(COUNTIF(Árlista!$A$3:$A$2228,$A22)>0,VLOOKUP($A22,Árlista!$A:$L,3,0),\"\")","v":""},null,null,{"$f":"IF(COUNTIF(Árlista!$A$3:$A$2228,$A22)>0,VLOOKUP($A22,Árlista!$A:$L,8,0)/100,\"\")","v":""},{"$f":"IF(COUNTIF(Árlista!$A$3:$A$2228,$A22)>0,VLOOKUP($A22,Árlista!$A:$L,7,0),\"\")","v":""},null,{"$f":"IF(COUNTIF(Árlista!$A$3:$A$2228,$A22)>0,VLOOKUP($A22,Árlista!$A:$L,9,0),\"\")","v":""},{"$f":"IF(COUNTIF(Árlista!$A$3:$A$2228,$A22)>0,VLOOKUP($A22,Árlista!$A:$L,10,0),\"\")","v":""},{"$f":"IF(COUNTIF(Árlista!$A$3:$A$2228,$A22)>0,VLOOKUP($A22,Árlista!$A:$L,11,0),\"\")","v":""},{"$f":"IF(COUNTIF(Árlista!$A$3:$A$2228,$A22)>0,VLOOKUP($A22,Árlista!$A:$L,12,0),\"\")","v":""}]
[21,null,{"$f":"IF(COUNTIF(Árlista!$A$3:$A$2228,$A23)>0,VLOOKUP($A23,Árlista!$A:$L,2,0),\"\")","v":""},{"$f":"IF(COUNTIF(Árlista!$A$3:$A$2228,$A23)>0,VLOOKUP($A23,Árlista!$A:$L,3,0),\"\")","v":""},null,null,{"$f":"IF(COUNTIF(Árlista!$A$3:$A$2228,$A23)>0,VLOOKUP($A23,Árlista!$A:$L,8,0)/100,\"\")","v":""},{"$f":"IF(COUNTIF(Árlista!$A$3:$A$2228,$A23)>0,VLOOKUP($A23,Árlista!$A:$L,7,0),\"\")","v":""},null,{"$f":"IF(COUNTIF(Árlista!$A$3:$A$2228,$A23)>0,VLOOKUP($A23,Árlista!$A:$L,9,0),\"\")","v":""},{"$f":"IF(COUNTIF(Árlista!$A$3:$A$2228,$A23)>0,VLOOKUP($A23,Árlista!$A:$L,10,0),\"\")","v":""},{"$f":"IF(COUNTIF(Árlista!$A$3:$A$2228,$A23)>0,VLOOKUP($A23,Árlista!$A:$L,11,0),\"\")","v":""},{"$f":"IF(COUNTIF(Árlista!$A$3:$A$2228,$A23)>0,VLOOKUP($A23,Árlista!$A:$L,12,0),\"\")","v":""}]
[22,null,{"$f":"IF(COUNTIF(Árlista!$A$3:$A$2228,$A24)>0,VLOOKUP($A24,Árlista!$A:$L,2,0),\"\")","v":""},{"$f":"IF(COUNTIF(Árlista!$A$3:$A$2228,$A24)>0,VLOOKUP($A24,Árlista!$A:$L,3,0),\"\")","v":""},null,null,{"$f":"IF(COUNTIF(Árlista!$A$3:$A$2228,$A24)>0,VLOOKUP($A24,Árlista!$A:$L,8,0)/100,\"\")","v":""},{"$f":"IF(COUNTIF(Árlista!$A$3:$A$2228,$A24)>0,VLOOKUP($A24,Árlista!$A:$L,7,0),\"\")","v":""},null,{"$f":"IF(COUNTIF(Árlista!$A$3:$A$2228,$A24)>0,VLOOKUP($A24,Árlista!$A:$L,9,0),\"\")","v":""},{"$f":"IF(COUNTIF(Árlista!$A$3:$A$2228,$A24)>0,VLOOKUP($A24,Árlista!$A:$L,10,0),\"\")","v":""},{"$f":"IF(COUNTIF(Árlista!$A$3:$A$2228,$A24)>0,VLOOKUP($A24,Árlista!$A:$L,11,0),\"\")","v":""},{"$f":"IF(COUNTIF(Árlista!$A$3:$A$2228,$A24)>0,VLOOKUP($A24,Árlista!$A:$L,12,0),\"\")","v":""}]
[23,null,{"$f":"IF(COUNTIF(Árlista!$A$3:$A$2228,$A25)>0,VLOOKUP($A25,Árlista!$A:$L,2,0),\"\")","v":""},{"$f":"IF(COUNTIF(Árlista!$A$3:$A$2228,$A25)>0,VLOOKUP($A25,Árlista!$A:$L,3,0),\"\")","v":""},null,null,{"$f":"IF(COUNTIF(Árlista!$A$3:$A$2228,$A25)>0,VLOOKUP($A25,Árlista!$A:$L,8,0)/100,\"\")","v":""},{"$f":"IF(COUNTIF(Árlista!$A$3:$A$2228,$A25)>0,VLOOKUP($A25,Árlista!$A:$L,7,0),\"\")","v":""},null,{"$f":"IF(COUNTIF(Árlista!$A$3:$A$2228,$A25)>0,VLOOKUP($A25,Árlista!$A:$L,9,0),\"\")","v":""},{"$f":"IF(COUNTIF(Árlista!$A$3:$A$2228,$A25)>0,VLOOKUP($A25,Árlista!$A:$L,10,0),\"\")","v":""},{"$f":"IF(COUNTIF(Árlista!$A$3:$A$2228,$A25)>0,VLOOKUP($A25,Árlista!$A:$L,11,0),\"\")","v":""},{"$f":"IF(COUNTIF(Árlista!$A$3:$A$2228,$A25)>0,VLOOKUP($A25,Árlista!$A:$L,12,0),\"\")","v":""}]
[24,null,{"$f":"IF(COUNTIF(Árlista!$A$3:$A$2228,$A26)>0,VLOOKUP($A26,Árlista!$A:$L,2,0),\"\")","v":""},{"$f":"IF(COUNTIF(Árlista!$A$3:$A$2228,$A26)>0,VLOOKUP($A26,Árlista!$A:$L,3,0),\"\")","v":""},null,null,{"$f":"IF(COUNTIF(Árlista!$A$3:$A$2228,$A26)>0,VLOOKUP($A26,Árlista!$A:$L,8,0)/100,\"\")","v":""},{"$f":"IF(COUNTIF(Árlista!$A$3:$A$2228,$A26)>0,VLOOKUP($A26,Árlista!$A:$L,7,0),\"\")","v":""},null,{"$f":"IF(COUNTIF(Árlista!$A$3:$A$2228,$A26)>0,VLOOKUP($A26,Árlista!$A:$L,9,0),\"\")","v":""},{"$f":"IF(COUNTIF(Árlista!$A$3:$A$2228,$A26)>0,VLOOKUP($A26,Árlista!$A:$L,10,0),\"\")","v":""},{"$f":"IF(COUNTIF(Árlista!$A$3:$A$2228,$A26)>0,VLOOKUP($A26,Árlista!$A:$L,11,0),\"\")","v":""},{"$f":"IF(COUNTIF(Árlista!$A$3:$A$2228,$A26)>0,VLOOKUP($A26,Árlista!$A:$L,12,0),\"\")","v":""}]
[25,null,{"$f":"IF(COUNTIF(Árlista!$A$3:$A$2228,$A27)>0,VLOOKUP($A27,Árlista!$A:$L,2,0),\"\")","v":""},{"$f":"IF(COUNTIF(Árlista!$A$3:$A$2228,$A27)>0,VLOOKUP($A27,Árlista!$A:$L,3,0),\"\")","v":""},null,null,{"$f":"IF(COUNTIF(Árlista!$A$3:$A$2228,$A27)>0,VLOOKUP($A27,Árlista!$A:$L,8,0)/100,\"\")","v":""},{"$f":"IF(COUNTIF(Árlista!$A$3:$A$2228,$A27)>0,VLOOKUP($A27,Árlista!$A:$L,7,0),\"\")","v":""},null,{"$f":"IF(COUNTIF(Árlista!$A$3:$A$2228,$A27)>0,VLOOKUP($A27,Árlista!$A:$L,9,0),\"\")","v":""},{"$f":"IF(COUNTIF(Árlista!$A$3:$A$2228,$A27)>0,VLOOKUP($A27,Árlista!$A:$L,10,0),\"\")","v":""},{"$f":"IF(COUNTIF(Árlista!$A$3:$A$2228,$A27)>0,VLOOKUP($A27,Árlista!$A:$L,11,0),\"\")","v":""},{"$f":"IF(COUNTIF(Árlista!$A$3:$A$2228,$A27)>0,VLOOKUP($A27,Árlista!$A:$L,12,0),\"\")","v":""}]
[26,null,{"$f":"IF(COUNTIF(Árlista!$A$3:$A$2228,$A28)>0,VLOOKUP($A28,Árlista!$A:$L,2,0),\"\")","v":""},{"$f":"IF(COUNTIF(Árlista!$A$3:$A$2228,$A28)>0,VLOOKUP($A28,Árlista!$A:$L,3,0),\"\")","v":""},null,null,{"$f":"IF(COUNTIF(Árlista!$A$3:$A$2228,$A28)>0,VLOOKUP($A28,Árlista!$A:$L,8,0)/100,\"\")","v":""},{"$f":"IF(COUNTIF(Árlista!$A$3:$A$2228,$A28)>0,VLOOKUP($A28,Árlista!$A:$L,7,0),\"\")","v":""},null,{"$f":"IF(COUNTIF(Árlista!$A$3:$A$2228,$A28)>0,VLOOKUP($A28,Árlista!$A:$L,9,0),\"\")","v":""},{"$f":"IF(COUNTIF(Árlista!$A$3:$A$2228,$A28)>0,VLOOKUP($A28,Árlista!$A:$L,10,0),\"\")","v":""},{"$f":"IF(COUNTIF(Árlista!$A$3:$A$2228,$A28)>0,VLOOKUP($A28,Árlista!$A:$L,11,0),\"\")","v":""},{"$f":"IF(COUNTIF(Árlista!$A$3:$A$2228,$A28)>0,VLOOKUP($A28,Árlista!$A:$L,12,0),\"\")","v":""}]
[27,null,{"$f":"IF(COUNTIF(Árlista!$A$3:$A$2228,$A29)>0,VLOOKUP($A29,Árlista!$A:$L,2,0),\"\")","v":""},{"$f":"IF(COUNTIF(Árlista!$A$3:$A$2228,$A29)>0,VLOOKUP($A29,Árlista!$A:$L,3,0),\"\")","v":""},null,null,{"$f":"IF(COUNTIF(Árlista!$A$3:$A$2228,$A29)>0,VLOOKUP($A29,Árlista!$A:$L,8,0)/100,\"\")","v":""},{"$f":"IF(COUNTIF(Árlista!$A$3:$A$2228,$A29)>0,VLOOKUP($A29,Árlista!$A:$L,7,0),\"\")","v":""},null,{"$f":"IF(COUNTIF(Árlista!$A$3:$A$2228,$A29)>0,VLOOKUP($A29,Árlista!$A:$L,9,0),\"\")","v":""},{"$f":"IF(COUNTIF(Árlista!$A$3:$A$2228,$A29)>0,VLOOKUP($A29,Árlista!$A:$L,10,0),\"\")","v":""},{"$f":"IF(COUNTIF(Árlista!$A$3:$A$2228,$A29)>0,VLOOKUP($A29,Árlista!$A:$L,11,0),\"\")","v":""},{"$f":"IF(COUNTIF(Árlista!$A$3:$A$2228,$A29)>0,VLOOKUP($A29,Árlista!$A:$L,12,0),\"\")","v":""}]
[28,null,{"$f":"IF(COUNTIF(Árlista!$A$3:$A$2228,$A30)>0,VLOOKUP($A30,Árlista!$A:$L,2,0),\"\")","v":""},{"$f":"IF(COUNTIF(Árlista!$A$3:$A$2228,$A30)>0,VLOOKUP($A30,Árlista!$A:$L,3,0),\"\")","v":""},null,null,{"$f":"IF(COUNTIF(Árlista!$A$3:$A$2228,$A30)>0,VLOOKUP($A30,Árlista!$A:$L,8,0)/100,\"\")","v":""},{"$f":"IF(COUNTIF(Árlista!$A$3:$A$2228,$A30)>0,VLOOKUP($A30,Árlista!$A:$L,7,0),\"\")","v":""},null,{"$f":"IF(COUNTIF(Árlista!$A$3:$A$2228,$A30)>0,VLOOKUP($A30,Árlista!$A:$L,9,0),\"\")","v":""},{"$f":"IF(COUNTIF(Árlista!$A$3:$A$2228,$A30)>0,VLOOKUP($A30,Árlista!$A:$L,10,0),\"\")","v":""},{"$f":"IF(COUNTIF(Árlista!$A$3:$A$2228,$A30)>0,VLOOKUP($A30,Árlista!$A:$L,11,0),\"\")","v":""},{"$f":"IF(COUNTIF(Árlista!$A$3:$A$2228,$A30)>0,VLOOKUP($A30,Árlista!$A:$L,12,0),\"\")","v":""}]
[29,null,{"$f":"IF(COUNTIF(Árlista!$A$3:$A$2228,$A31)>0,VLOOKUP($A31,Árlista!$A:$L,2,0),\"\")","v":""},{"$f":"IF(COUNTIF(Árlista!$A$3:$A$2228,$A31)>0,VLOOKUP($A31,Árlista!$A:$L,3,0),\"\")","v":""},null,null,{"$f":"IF(COUNTIF(Árlista!$A$3:$A$2228,$A31)>0,VLOOKUP($A31,Árlista!$A:$L,8,0)/100,\"\")","v":""},{"$f":"IF(COUNTIF(Árlista!$A$3:$A$2228,$A31)>0,VLOOKUP($A31,Árlista!$A:$L,7,0),\"\")","v":""},null,{"$f":"IF(COUNTIF(Árlista!$A$3:$A$2228,$A31)>0,VLOOKUP($A31,Árlista!$A:$L,9,0),\"\")","v":""},{"$f":"IF(COUNTIF(Árlista!$A$3:$A$2228,$A31)>0,VLOOKUP($A31,Árlista!$A:$L,10,0),\"\")","v":""},{"$f":"IF(COUNTIF(Árlista!$A$3:$A$2228,$A31)>0,VLOOKUP($A31,Árlista!$A:$L,11,0),\"\")","v":""},{"$f":"IF(COUNTIF(Árlista!$A$3:$A$2228,$A31)>0,VLOOKUP($A31,Árlista!$A:$L,12,0),\"\")","v":""}]

{"sheet":"Megrendelő","index":61,"n_rows":53,"n_cols":31,"rows_kept":53,"cut":false,"hidden":false,"merged":[[39,0,39,1],[39,3,39,7],[40,3,40,7],[42,0,42,1],[42,3,42,7],[34,28,34,30],[35,18,37,18],[35,20,37,20],[35,22,37,22],[35,24,37,24],[24,28,24,30],[25,28,25,30],[26,28,26,30],[38,0,38,1],[38,3,38,7],[28,28,28,30],[29,28,29,30],[30,28,30,30],[31,28,31,30],[32,28,32,30],[33,28,33,30],[27,18,29,18],[27,20,29,20],[27,22,29,22],[27,24,29,24],[27,28,27,30],[19,28,19,30],[20,28,20,30],[21,28,21,30],[22,28,22,30],[23,28,23,30],[19,18,21,18],[19,20,21,20],[19,22,21,22],[19,24,21,24],[19,26,20,26],[11,31,13,31],[14,28,14,30],[15,28,15,30],[16,28,16,30],[18,28,18,30],[17,28,17,30],[11,24,12,24],[11,26,12,26],[5,0,5,1],[5,2,5,6],[1,2,1,6],[3,0,3,1],[3,2,3,6],[4,0,4,1],[4,2,4,6],[6,0,6,1],[7,0,7,1],[11,18,12,18],[11,20,12,20],[11,22,12,22]]}
[null,null,null,null,null,null,null,null,null,null,null,null,null,null,null,null,null,null,null,null,null,null,null,null,null,null,null,null,"Verzió:",null,"2015-05-05"]
[null,null,"MEGRENDELŐ"]
[null,null,null,null,null,null,null,null,null,null,null,null,null,null,null,null,null,null,null,null,null,null,null,null,null,null,null,null,"2015-05-05",null,"RC és CP árak módosítása USD árfolyam"]
["Cég neve:",null,null,null,null,null,null,null,null,null,null,null,null,null,null,null,null,null,null,null,null,null,null,null,null,null,null,null,null,null,"hatása végett."]
["Számlázási cím:",null,null,null,null,null,null,"Adószám:"]
["Szállítási cím:"]
["Megrendelő neve:",null,null,"Fizetési mód:",null,null,1,"Pénznem:",1,null,null,null,null,null,null,null,null,null,null,null,null,null,null,null,null,null,null,null,"2015-03-24",null,"Árak módosítása 315,-Ft/€ árfolyamról "]
["Telefon:",null,null,"Kedvezmény:",null,null,0.1,"Szállítás:",1,null,null,null,null,null,null,null,null,null,null,null,null,null,null,null,null,null,null,null,null,null,"305,-Ft/€-ra"]
[null,null,null,"Árfolyam:",-1,null,325,"HUF/EU",{"$f":"ROUND(G9/5,0)*5","v":325},null,null,null,null,null,null,null,null,null,null,null,null,null,null,null,null,null,null,null,"2015-03-02",null,"CP Star árak 2015-I"]
[]
[null,"Cikkszám","Megnevezés","Mennyiség","Kedvez- mény","Súly","Nettó listaár",{"$f":"\"Nettó kedvezményes egységár \"&IF($I$7=1,\"HUF\",\"HUF\")","v":"Nettó kedvezményes egységár HUF"},{"$f":"\"Összesen nettó \"&IF($I$7=1,\"HUF\",\"HUF\")","v":"Összesen nettó HUF"},null,null,null,null,null,null,null,null,null,null,null,null,null,null,null,null,null,null,null,null,null,"ALUP PRACTIC 2015"]
[1,{"$f":"IFERROR(IF('Árak 2012'!C3>0,'Árak 2012'!C3,\"\"),\"\")","v":""},{"$f":"IFERROR(IF('Árak 2012'!D3>0,'Árak 2012'!D3,\"\"),\"\")","v":""},null,{"$f":"IFERROR(IF(ISNUMBER(G12),IF(AND(0.12<G$8,0.21>G$8),IF('Árak 2012'!G3>0,G$8-'Árak 2012'!G3,G$8),IF(G$8>0.2,G$8-'Árak 2012'!G3,G$8)),\"\"),\"\")","v":""},{"$f":"IFERROR('Árak 2012'!H3*D12,\"\")","v":""},{"$f":"IFERROR(IF('Árak 2012'!K3>0,'Árak 2012'!K3,IF('Árak 2012'!J3>0,'Árak 2012'!J3,\"\")),\"\")","v":""},{"$f":"IFERROR(ROUND(IF(G12>0,IF(I$7>1,(1-E12)*G12/25,(1-E12)*G12/325*I$9),\"\"),E$9),\"\")","v":""},{"$f":"IFERROR(H12*D12,\"\")","v":""},null,null,null,null,null,null,null,null,null,"Légkulcsok",null,"Fúrók",null,"Racsnis kulcsok",null,"Csavar-behajtók",null,"Sarok- csiszolók"]
[2,{"$f":"IFERROR(IF('Árak 2012'!C4>0,'Árak 2012'!C4,\"\"),\"\")","v":""},{"$f":"IFERROR(IF('Árak 2012'!D4>0,'Árak 2012'!D4,\"\"),\"\")","v":""},null,{"$f":"IFERROR(IF(ISNUMBER(G13),IF(AND(0.12<G$8,0.21>G$8),IF('Árak 2012'!G4>0,G$8-'Árak 2012'!G4,G$8),IF(G$8>0.2,G$8-'Árak 2012'!G4,G$8)),\"\"),\"\")","v":""},{"$f":"IFERROR('Árak 2012'!H4*D13,\"\")","v":""},{"$f":"IFERROR(IF('Árak 2012'!K4>0,'Árak 2012'!K4,IF('Árak 2012'!J4>0,'Árak 2012'!J4,\"\")),\"\")","v":""},{"$f":"IFERROR(ROUND(IF(G13>0,IF(I$7>1,(1-E13)*G13/25,(1-E13)*G13/325*I$9),\"\"),E$9),\"\")","v":""},""]
[3,{"$f":"IFERROR(IF('Árak 2012'!C5>0,'Árak 2012'!C5,\"\"),\"\")","v":""},{"$f":"IFERROR(IF('Árak 2012'!D5>0,'Árak 2012'!D5,\"\"),\"\")","v":""},null,{"$f":"IFERROR(IF(ISNUMBER(G14),IF(AND(0.12<G$8,0.21>G$8),IF('Árak 2012'!G5>0,G$8-'Árak 2012'!G5,G$8),IF(G$8>0.2,G$8-'Árak 2012'!G5,G$8)),\"\"),\"\")","v":""},{"$f":"IFERROR('Árak 2012'!H5*D14,\"\")","v":""},{"$f":"IFERROR(IF('Árak 2012'!K5>0,'Árak 2012'!K5,IF('Árak 2012'!J5>0,'Árak 2012'!J5,\"\")),\"\")","v":""},"",""]
[4,{"$f":"IFERROR(IF('Árak 2012'!C6>0,'Árak 2012'!C6,\"\"),\"\")","v":""},{"$f":"IFERROR(IF('Árak 2012'!D6>0,'Árak 2012'!D6,\"\"),\"\")","v":""},null,{"$f":"IFERROR(IF(ISNUMBER(G15),IF(AND(0.12<G$8,0.21>G$8),IF('Árak 2012'!G6>0,G$8-'Árak 2012'!G6,G$8),IF(G$8>0.2,G$8-'Árak 2012'!G6,G$8)),\"\"),\"\")","v":""},{"$f":"IFERROR('Árak 2012'!H6*D15,\"\")","v":""},{"$f":"IFERROR(IF('Árak 2012'!K6>0,'Árak 2012'!K6,IF('Árak 2012'!J6>0,'Árak 2012'!J6,\"\")),\"\")","v":""},"","",null,null,null,null,null,null,null,null,null,null,null,null,null,null,null,null,null,null,null,{"$error":"#REF!"}]
[5,{"$f":"IFERROR(IF('Árak 2012'!C7>0,'Árak 2012'!C7,\"\"),\"\")","v":""},{"$f":"IFERROR(IF('Árak 2012'!D7>0,'Árak 2012'!D7,\"\"),\"\")","v":""},null,{"$f":"IFERROR(IF(ISNUMBER(G16),IF(AND(0.12<G$8,0.21>G$8),IF('Árak 2012'!G7>0,G$8-'Árak 2012'!G7,G$8),IF(G$8>0.2,G$8-'Árak 2012'!G7,G$8)),\"\"),\"\")","v":""},{"$f":"IFERROR('Árak 2012'!H7*D16,\"\")","v":""},{"$f":"IFERROR(IF('Árak 2012'!K7>0,'Árak 2012'!K7,IF('Árak 2012'!J7>0,'Árak 2012'!J7,\"\")),\"\")","v":""},"","",null,null,null,null,null,null,null,null,null,null,null,null,null,null,null,null,null,null,null,{"$error":"#REF!"}]
[6,{"$f":"IFERROR(IF('Árak 2012'!C8>0,'Árak 2012'!C8,\"\"),\"\")","v":""},{"$f":"IFERROR(IF('Árak 2012'!D8>0,'Árak 2012'!D8,\"\"),\"\")","v":""},null,{"$f":"IFERROR(IF(ISNUMBER(G17),IF(AND(0.12<G$8,0.21>G$8),IF('Árak 2012'!G8>0,G$8-'Árak 2012'!G8,G$8),IF(G$8>0.2,G$8-'Árak 2012'!G8,G$8)),\"\"),\"\")","v":""},{"$f":"IFERROR('Árak 2012'!H8*D17,\"\")","v":""},{"$f":"IFERROR(IF('Árak 2012'!K8>0,'Árak 2012'!K8,IF('Árak 2012'!J8>0,'Árak 2012'!J8,\"\")),\"\")","v":""},"","",null,null,null,null,null,null,null,null,null,null,null,null,null,null,null,null,null,null,null,{"$error":"#REF!"}]
[7,{"$f":"IFERROR(IF('Árak 2012'!C9>0,'Árak 2012'!C9,\"\"),\"\")","v":""},{"$f":"IFERROR(IF('Árak 2012'!D9>0,'Árak 2012'!D9,\"\"),\"\")","v":""},null,{"$f":"IFERROR(IF(ISNUMBER(G18),IF(AND(0.12<G$8,0.21>G$8),IF('Árak 2012'!G9>0,G$8-'Árak 2012'!G9,G$8),IF(G$8>0.2,G$8-'Árak 2012'!G9,G$8)),\"\"),\"\")","v":""},{"$f":"IFERROR('Árak 2012'!H9*D18,\"\")","v":""},{"$f":"IFERROR(IF('Árak 2012'!K9>0,'Árak 2012'!K9,IF('Árak 2012'!J9>0,'Árak 2012'!J9,\"\")),\"\")","v":""},"","",null,null,null,null,null,null,null,null,null,null,null,null,null,null,null,null,null,null,null,{"$error":"#REF!"}]
[8,{"$f":"IFERROR(IF('Árak 2012'!C10>0,'Árak 2012'!C10,\"\"),\"\")","v":""},{"$f":"IFERROR(IF('Árak 2012'!D10>0,'Árak 2012'!D10,\"\"),\"\")","v":""},null,{"$f":"IFERROR(IF(ISNUMBER(G19),IF(AND(0.12<G$8,0.21>G$8),IF('Árak 2012'!G10>0,G$8-'Árak 2012'!G10,G$8),IF(G$8>0.2,G$8-'Árak 2012'!G10,G$8)),\"\"),\"\")","v":""},{"$f":"IFERROR('Árak 2012'!H10*D19,\"\")","v":""},{"$f":"IFERROR(IF('Árak 2012'!K10>0,'Árak 2012'!K10,IF('Árak 2012'!J10>0,'Árak 2012'!J10,\"\")),\"\")","v":""},"","",null,null,null,null,null,null,null,null,null,null,null,null,null,null,null,null,null,null,null,{"$error":"#REF!"}]
[9,{"$f":"IFERROR(IF('Árak 2012'!C11>0,'Árak 2012'!C11,\"\"),\"\")","v":""},{"$f":"IFERROR(IF('Árak 2012'!D11>0,'Árak 2012'!D11,\"\"),\"\")","v":""},null,{"$f":"IFERROR(IF(ISNUMBER(G20),IF(AND(0.12<G$8,0.21>G$8),IF('Árak 2012'!G11>0,G$8-'Árak 2012'!G11,G$8),IF(G$8>0.2,G$8-'Árak 2012'!G11,G$8)),\"\"),\"\")","v":""},{"$f":"IFERROR('Árak 2012'!H11*D20,\"\")","v":""},{"$f":"IFERROR(IF('Árak 2012'!K11>0,'Árak 2012'!K11,IF('Árak 2012'!J11>0,'Árak 2012'!J11,\"\")),\"\")","v":""},"","",null,null,null,null,null,null,null,null,null,"Egyenes csiszolók",null,"Szalag- és excentercsiszolók",null,"Polír- és fiber- csiszolók",null,"Vésők és leverők",null,"Szóró és lefuvató pisztolyok",null,{"$error":"#REF!"}]
[10,{"$f":"IFERROR(IF('Árak 2012'!C12>0,'Árak 2012'!C12,\"\"),\"\")","v":""},{"$f":"IFERROR(IF('Árak 2012'!D12>0,'Árak 2012'!D12,\"\"),\"\")","v":""},null,{"$f":"IFERROR(IF(ISNUMBER(G21),IF(AND(0.12<G$8,0.21>G$8),IF('Árak 2012'!G12>0,G$8-'Árak 2012'!G12,G$8),IF(G$8>0.2,G$8-'Árak 2012'!G12,G$8)),\"\"),\"\")","v":""},{"$f":"IFERROR('Árak 2012'!H12*D21,\"\")","v":""},{"$f":"IFERROR(IF('Árak 2012'!K12>0,'Árak 2012'!K12,IF('Árak 2012'!J12>0,'Árak 2012'!J12,\"\")),\"\")","v":""},"","",null,null,null,null,null,null,null,null,null,null,null,null,null,null,null,null,null,null,null,{"$error":"#REF!"}]
[11,{"$f":"IFERROR(IF('Árak 2012'!C13>0,'Árak 2012'!C13,\"\"),\"\")","v":""},{"$f":"IFERROR(IF('Árak 2012'!D13>0,'Árak 2012'!D13,\"\"),\"\")","v":""},null,{"$f":"IFERROR(IF(ISNUMBER(G22),IF(AND(0.12<G$8,0.21>G$8),IF('Árak 2012'!G13>0,G$8-'Árak 2012'!G13,G$8),IF(G$8>0.2,G$8-'Árak 2012'!G13,G$8)),\"\"),\"\")","v":""},{"$f":"IFERROR('Árak 2012'!H13*D22,\"\")","v":""},{"$f":"IFERROR(IF('Árak 2012'!K13>0,'Árak 2012'!K13,IF('Árak 2012'!J13>0,'Árak 2012'!J13,\"\")),\"\")","v":""},"","",null,null,null,null,null,null,null,null,null,null,null,null,null,null,null,null,null,null,null,{"$error":"#REF!"}]
[12,{"$f":"IFERROR(IF('Árak 2012'!C14>0,'Árak 2012'!C14,\"\"),\"\")","v":""},{"$f":"IFERROR(IF('Árak 2012'!D14>0,'Árak 2012'!D14,\"\"),\"\")","v":""},null,{"$f":"IFERROR(IF(ISNUMBER(G23),IF(AND(0.12<G$8,0.21>G$8),IF('Árak 2012'!G14>0,G$8-'Árak 2012'!G14,G$8),IF(G$8>0.2,G$8-'Árak 2012'!G14,G$8)),\"\"),\"\")","v":""},{"$f":"IFERROR('Árak 2012'!H14*D23,\"\")","v":""},{"$f":"IFERROR(IF('Árak 2012'!K14>0,'Árak 2012'!K14,IF('Árak 2012'!J14>0,'Árak 2012'!J14,\"\")),\"\")","v":""},"","",null,null,null,null,null,null,null,null,null,null,null,null,null,null,null,null,null,null,null,{"$error":"#REF!"}]
[13,{"$f":"IFERROR(IF('Árak 2012'!C15>0,'Árak 2012'!C15,\"\"),\"\")","v":""},{"$f":"IFERROR(IF('Árak 2012'!D15>0,'Árak 2012'!D15,\"\"),\"\")","v":""},null,{"$f":"IFERROR(IF(ISNUMBER(G24),IF(AND(0.12<G$8,0.21>G$8),IF('Árak 2012'!G15>0,G$8-'Árak 2012'!G15,G$8),IF(G$8>0.2,G$8-'Árak 2012'!G15,G$8)),\"\"),\"\")","v":""},{"$f":"IFERROR('Árak 2012'!H15*D24,\"\")","v":""},{"$f":"IFERROR(IF('Árak 2012'!K15>0,'Árak 2012'!K15,IF('Árak 2012'!J15>0,'Árak 2012'!J15,\"\")),\"\")","v":""},"",""]
[14,{"$f":"IFERROR(IF('Árak 2012'!C16>0,'Árak 2012'!C16,\"\"),\"\")","v":""},{"$f":"IFERROR(IF('Árak 2012'!D16>0,'Árak 2012'!D16,\"\"),\"\")","v":""},null,{"$f":"IFERROR(IF(ISNUMBER(G25),IF(AND(0.12<G$8,0.21>G$8),IF('Árak 2012'!G16>0,G$8-'Árak 2012'!G16,G$8),IF(G$8>0.2,G$8-'Árak 2012'!G16,G$8)),\"\"),\"\")","v":""},{"$f":"IFERROR('Árak 2012'!H16*D25,\"\")","v":""},{"$f":"IFERROR(IF('Árak 2012'!K16>0,'Árak 2012'!K16,IF('Árak 2012'!J16>0,'Árak 2012'!J16,\"\")),\"\")","v":""},"","",null,null,null,null,null,null,null,null,null,null,null,null,null,null,null,null,null,null,null,{"$error":"#REF!"}]
[15,{"$f":"IFERROR(IF('Árak 2012'!C17>0,'Árak 2012'!C17,\"\"),\"\")","v":""},{"$f":"IFERROR(IF('Árak 2012'!D17>0,'Árak 2012'!D17,\"\"),\"\")","v":""},null,{"$f":"IFERROR(IF(ISNUMBER(G26),IF(AND(0.12<G$8,0.21>G$8),IF('Árak 2012'!G17>0,G$8-'Árak 2012'!G17,G$8),IF(G$8>0.2,G$8-'Árak 2012'!G17,G$8)),\"\"),\"\")","v":""},{"$f":"IFERROR('Árak 2012'!H17*D26,\"\")","v":""},{"$f":"IFERROR(IF('Árak 2012'!K17>0,'Árak 2012'!K17,IF('Árak 2012'!J17>0,'Árak 2012'!J17,\"\")),\"\")","v":""},"","",null,null,null,null,null,null,null,null,null,null,null,null,null,null,null,null,null,null,null,{"$error":"#REF!"}]
[16,{"$f":"IFERROR(IF('Árak 2012'!C18>0,'Árak 2012'!C18,\"\"),\"\")","v":""},{"$f":"IFERROR(IF('Árak 2012'!D18>0,'Árak 2012'!D18,\"\"),\"\")","v":""},null,{"$f":"IFERROR(IF(ISNUMBER(G27),IF(AND(0.12<G$8,0.21>G$8),IF('Árak 2012'!G18>0,G$8-'Árak 2012'!G18,G$8),IF(G$8>0.2,G$8-'Árak 2012'!G18,G$8)),\"\"),\"\")","v":""},{"$f":"IFERROR('Árak 2012'!H18*D27,\"\")","v":""},{"$f":"IFERROR(IF('Árak 2012'!K18>0,'Árak 2012'!K18,IF('Árak 2012'!J18>0,'Árak 2012'!J18,\"\")),\"\")","v":""},"","",null,null,null,null,null,null,null,null,null,null,null,null,null,null,null,null,null,null,null,{"$error":"#REF!"}]
[17,{"$f":"IFERROR(IF('Árak 2012'!C19>0,'Árak 2012'!C19,\"\"),\"\")","v":""},{"$f":"IFERROR(IF('Árak 2012'!D19>0,'Árak 2012'!D19,\"\"),\"\")","v":""},null,{"$f":"IFERROR(IF(ISNUMBER(G28),IF(AND(0.12<G$8,0.21>G$8),IF('Árak 2012'!G19>0,G$8-'Árak 2012'!G19,G$8),IF(G$8>0.2,G$8-'Árak 2012'!G19,G$8)),\"\"),\"\")","v":""},{"$f":"IFERROR('Árak 2012'!H19*D28,\"\")","v":""},{"$f":"IFERROR(IF('Árak 2012'!K19>0,'Árak 2012'!K19,IF('Árak 2012'!J19>0,'Árak 2012'!J19,\"\")),\"\")","v":""},"","",null,null,null,null,null,null,null,null,null,"Vágók, fűrészek, szegecshúzók",null,"Dugókulcsok",null,"Csatlakozók, tömlők",null,"Abroncs- töltők",null,"Tűzők és szegbelövők",null,{"$error":"#REF!"}]
[18,{"$f":"IFERROR(IF('Árak 2012'!C20>0,'Árak 2012'!C20,\"\"),\"\")","v":""},{"$f":"IFERROR(IF('Árak 2012'!D20>0,'Árak 2012'!D20,\"\"),\"\")","v":""},null,{"$f":"IFERROR(IF(ISNUMBER(G29),IF(AND(0.12<G$8,0.21>G$8),IF('Árak 2012'!G20>0,G$8-'Árak 2012'!G20,G$8),IF(G$8>0.2,G$8-'Árak 2012'!G20,G$8)),\"\"),\"\")","v":""},{"$f":"IFERROR('Árak 2012'!H20*D29,\"\")","v":""},{"$f":"IFERROR(IF('Árak 2012'!K20>0,'Árak 2012'!K20,IF('Árak 2012'!J20>0,'Árak 2012'!J20,\"\")),\"\")","v":""},"",""]
[19,{"$f":"IFERROR(IF('Árak 2012'!C21>0,'Árak 2012'!C21,\"\"),\"\")","v":""},{"$f":"IFERROR(IF('Árak 2012'!D21>0,'Árak 2012'!D21,\"\"),\"\")","v":""},null,{"$f":"IFERROR(IF(ISNUMBER(G30),IF(AND(0.12<G$8,0.21>G$8),IF('Árak 2012'!G21>0,G$8-'Árak 2012'!G21,G$8),IF(G$8>0.2,G$8-'Árak 2012'!G21,G$8)),\"\"),\"\")","v":""},{"$f":"IFERROR('Árak 2012'!H21*D30,\"\")","v":""},{"$f":"IFERROR(IF('Árak 2012'!K21>0,'Árak 2012'!K21,IF('Árak 2012'!J21>0,'Árak 2012'!J21,\"\")),\"\")","v":""},"","",null,null,null,null,null,null,null,null,null,null,null,null,null,null,null,null,null,null,null,{"$error":"#REF!"}]
[20,{"$f":"IFERROR(IF('Árak 2012'!C22>0,'Árak 2012'!C22,\"\"),\"\")","v":""},{"$f":"IFERROR(IF('Árak 2012'!D22>0,'Árak 2012'!D22,\"\"),\"\")","v":""},null,{"$f":"IFERROR(IF(ISNUMBER(G31),IF(AND(0.12<G$8,0.21>G$8),IF('Árak 2012'!G22>0,G$8-'Árak 2012'!G22,G$8),IF(G$8>0.2,G$8-'Árak 2012'!G22,G$8)),\"\"),\"\")","v":""},{"$f":"IFERROR('Árak 2012'!H22*D31,\"\")","v":""},{"$f":"IFERROR(IF('Árak 2012'!K22>0,'Árak 2012'!K22,IF('Árak 2012'!J22>0,'Árak 2012'!J22,\"\")),\"\")","v":""},"","",null,null,null,null,null,null,null,null,null,null,null,null,null,null,null,null,null,null,null,{"$error":"#REF!"}]
[21,{"$f":"IFERROR(IF('Árak 2012'!C23>0,'Árak 2012'!C23,\"\"),\"\")","v":""},{"$f":"IFERROR(IF('Árak 2012'!D23>0,'Árak 2012'!D23,\"\"),\"\")","v":""},null,{"$f":"IFERROR(IF(ISNUMBER(G32),IF(AND(0.12<G$8,0.21>G$8),IF('Árak 2012'!G23>0,G$8-'Árak 2012'!G23,G$8),IF(G$8>0.2,G$8-'Árak 2012'!G23,G$8)),\"\"),\"\")","v":""},{"$f":"IFERROR('Árak 2012'!H23*D32,\"\")","v":""},{"$f":"IFERROR(IF('Árak 2012'!K23>0,'Árak 2012'!K23,IF('Árak 2012'!J23>0,'Árak 2012'!J23,\"\")),\"\")","v":""},"",{"$f":"IFERROR(H32*D32,\"\")","v":""},null,null,null,null,null,null,null,null,null,null,null,null,null,null,null,null,null,null,null,{"$error":"#REF!"}]
[22,{"$f":"IFERROR(IF('Árak 2012'!C24>0,'Árak 2012'!C24,\"\"),\"\")","v":""},{"$f":"IFERROR(IF('Árak 2012'!D24>0,'Árak 2012'!D24,\"\"),\"\")","v":""},null,{"$f":"IFERROR(IF(ISNUMBER(G33),IF(AND(0.12<G$8,0.21>G$8),IF('Árak 2012'!G24>0,G$8-'Árak 2012'!G24,G$8),IF(G$8>0.2,G$8-'Árak 2012'!G24,G$8)),\"\"),\"\")","v":""},{"$f":"IFERROR('Árak 2012'!H24*D33,\"\")","v":""},{"$f":"IFERROR(IF('Árak 2012'!K24>0,'Árak 2012'!K24,IF('Árak 2012'!J24>0,'Árak 2012'!J24,\"\")),\"\")","v":""},"","",null,null,null,null,null,null,null,null,null,null,null,null,null,null,null,null,null,null,null,{"$error":"#REF!"}]
[23,{"$f":"IFERROR(IF('Árak 2012'!C25>0,'Árak 2012'!C25,\"\"),\"\")","v":""},{"$f":"IFERROR(IF('Árak 2012'!D25>0,'Árak 2012'!D25,\"\"),\"\")","v":""},null,{"$f":"IFERROR(IF(ISNUMBER(G34),IF(AND(0.12<G$8,0.21>G$8),IF('Árak 2012'!G25>0,G$8-'Árak 2012'!G25,G$8),IF(G$8>0.2,G$8-'Árak 2012'!G25,G$8)),\"\"),\"\")","v":""},{"$f":"IFERROR('Árak 2012'!H25*D34,\"\")","v":""},{"$f":"IFERROR(IF('Árak 2012'!K25>0,'Árak 2012'!K25,IF('Árak 2012'!J25>0,'Árak 2012'!J25,\"\")),\"\")","v":""},"","",null,null,null,null,null,null,null,null,null,null,null,null,null,null,null,null,null,null,null,{"$error":"#REF!"}]
[24,{"$f":"IFERROR(IF('Árak 2012'!C26>0,'Árak 2012'!C26,\"\"),\"\")","v":""},{"$f":"IFERROR(IF('Árak 2012'!D26>0,'Árak 2012'!D26,\"\"),\"\")","v":""},null,{"$f":"IFERROR(IF(ISNUMBER(G35),IF(AND(0.12<G$8,0.21>G$8),IF('Árak 2012'!G26>0,G$8-'Árak 2012'!G26,G$8),IF(G$8>0.2,G$8-'Árak 2012'!G26,G$8)),\"\"),\"\")","v":""},{"$f":"IFERROR('Árak 2012'!H26*D35,\"\")","v":""},{"$f":"IFERROR(IF('Árak 2012'!K26>0,'Árak 2012'!K26,IF('Árak 2012'!J26>0,'Árak 2012'!J26,\"\")),\"\")","v":""},"","",null,null,null,null,null,null,null,null,null,null,null,null,null,null,null,null,null,null,null,{"$error":"#REF!"}]
[25,{"$f":"IFERROR(IF('Árak 2012'!C27>0,'Árak 2012'!C27,\"\"),\"\")","v":""},{"$f":"IFERROR(IF('Árak 2012'!D27>0,'Árak 2012'!D27,\"\"),\"\")","v":""},null,{"$f":"IFERROR(IF(ISNUMBER(G36),IF(AND(0.12<G$8,0.21>G$8),IF('Árak 2012'!G27>0,G$8-'Árak 2012'!G27,G$8),IF(G$8>0.2,G$8-'Árak 2012'!G27,G$8)),\"\"),\"\")","v":""},{"$f":"IFERROR('Árak 2012'!H27*D36,\"\")","v":""},{"$f":"IFERROR(IF('Árak 2012'!K27>0,'Árak 2012'!K27,IF('Árak 2012'!J27>0,'Árak 2012'!J27,\"\")),\"\")","v":""},"","",null,null,null,null,null,null,null,null,null,"Garázsipari eszközök",null,"Akkus gépek",null,"Kompresszor",null,"Kompresszor alkatrészek",null,"ABAC\nakciós kompresszorok"]
[26,{"$f":"IFERROR(IF('Árak 2012'!C28>0,'Árak 2012'!C28,\"\"),\"\")","v":""},{"$f":"IFERROR(IF('Árak 2012'!D28>0,'Árak 2012'!D28,\"\"),\"\")","v":""},null,{"$f":"IFERROR(IF(ISNUMBER(G37),IF(AND(0.12<G$8,0.21>G$8),IF('Árak 2012'!G28>0,G$8-'Árak 2012'!G28,G$8),IF(G$8>0.2,G$8-'Árak 2012'!G28,G$8)),\"\"),\"\")","v":""},{"$f":"IFERROR('Árak 2012'!H28*D37,\"\")","v":""},{"$f":"IFERROR(IF('Árak 2012'!K28>0,'Árak 2012'!K28,IF('Árak 2012'!J28>0,'Árak 2012'!J28,\"\")),\"\")","v":""},"","",null,null,null,null,null,null,null,null,null,null,null,null,null,null,null,null,null,"akciós gépek"]
[27,{"$f":"IFERROR(IF('Árak 2012'!C29>0,'Árak 2012'!C29,\"\"),\"\")","v":""},{"$f":"IFERROR(IF('Árak 2012'!D29>0,'Árak 2012'!D29,\"\"),\"\")","v":""},null,{"$f":"IFERROR(IF(ISNUMBER(G38),IF(AND(0.12<G$8,0.21>G$8),IF('Árak 2012'!G29>0,G$8-'Árak 2012'!G29,G$8),IF(G$8>0.2,G$8-'Árak 2012'!G29,G$8)),\"\"),\"\")","v":""},{"$f":"IFERROR('Árak 2012'!H29*D38,\"\")","v":""},{"$f":"IFERROR(IF('Árak 2012'!K29>0,'Árak 2012'!K29,IF('Árak 2012'!J29>0,'Árak 2012'!J29,\"\")),\"\")","v":""},"",""]
["Súly (kg):",null,{"$f":"SUM(F12:F38)/1000","v":0},{"$f":"\"Nettó ár összesen \"&IF($I$7=1,\"HUF\",\"HUF\")","v":"Nettó ár összesen HUF"},null,null,null,null,{"$f":"SUM(I12:I38)","v":0}]
["Szállítási mód:",null,1,{"$f":"\"ÁFA \"&IF($I$7=1,\"HUF\",\"HUF\")","v":"ÁFA HUF"},null,null,null,null,{"$f":"I39*0.27","v":0}]
[30,{"$f":"A41*I9","v":9750},{"$f":"IF($I$7=1,B41,A41)","v":9750},{"$f":"IF($I$7=1,I39,I39*I$9)","v":0},null,null,null,null,{"$f":"IF($I$7=2,I39,I39/I$9)","v":0}]
[null,{"$f":"IF(C39<3,3,IF(C39<5,5,IF(C39<10,10,IF(C39<15,15,IF(C39<20,20,IF(C39<25,25,IF(C39<31,31,IF(C39<50,50,\"túlsúly\"))))))))","v":3},{"$f":"IF($I$7=1,D42+H42,(D42+H42)/I9)","v":1566},{"$f":"VLOOKUP(B42,Segéd!A$25:C$33,3,0)","v":1166},null,null,{"$f":"IF(D41<50000,50000,IF(D41<100000,100000,IF(D41<300000,300000,IF(D41<500000,500000,\"Limit\"))))","v":50000},{"$f":"IF(OR(G7=4,AND(I8=1,G7=1)),VLOOKUP(G$42,Segéd!A$35:B$38,2,0),0)","v":400}]
[{"$f":"\"Szállítási díj: \"&IF($I$7=1,\"HUF\",\"HUF\")","v":"Szállítási díj: HUF"},null,{"$f":"IF(I8=2,0,(IF(C40=1,IF(D41>50000,0,C42),IF(I41>400,0,C41))))","v":1566},{"$f":"\"Bruttó ár öszesen \"&IF($I$7=1,\"HUF\",\"HUF\")","v":"Bruttó ár öszesen HUF"},null,null,null,null,{"$f":"I39+I40+C43","v":1566}]
[]
[]
[]
[]
[]
[]
[]
[]
[null,null,"+36-30/626 8687",null,null,null,"+36-30/201-4931"]
[null,null,"ertekesites@kapitarkft.hu",null,null,null,"info@techtomat.hu"]

{"sheet":"Segéd","index":62,"n_rows":48,"n_cols":4,"rows_kept":48,"cut":false,"hidden":true,"merged":[]}
["Pénznem"]
["HUF",1,300]
["EUR",2,1]
["Szállítás"]
["Csomagküldés",1,1]
["Érte jön",2,0.97]
["Kiszállítás",3,1]
["Fizetési mód"]
["KP",1,0.99]
["Banki utalás",2,1]
["Előre utalás",3,0.99]
["Utánvét",4,0.99]
["Kedvezmény"]
["Alap ár",1,{"$f":"IF(ISBLANK(Megrendelő!D9),1,1-Megrendelő!D9)","v":{"$error":"#VALUE!"}}]
[0.2,2,0.8]
[0.21,3,{"$f":"1-A16","v":0.79}]
[0.22,4,{"$f":"1-A17","v":0.78}]
[0.23,5,{"$f":"1-A18","v":0.77}]
[0.24,6,{"$f":"1-A19","v":0.76}]
[0.25,7,{"$f":"1-A20","v":0.75}]
["Szállítási mód"]
["Normál"]
["Sűrgősségi"]
["Súly",1.06]
[3,1100,{"$f":"B25*B$24","v":1166}]
[5,1300,{"$f":"B26*B$24","v":1378}]
[10,1400,1484]
[15,1500,1590]
[20,1600,1696]
[25,1900,2014]
[31,2300,2438]
[50,3500,{"$f":"B32*B$24","v":3710}]
[1000,15000,15900]
["Utánvét"]
[50000,400]
[100000,800]
[300000,1500]
[500000,3000]
[]
[]
[]
[]
["0-100",0.78739999999999999,1,{"$f":"B43*C43","v":0.78739999999999999}]
["100-500",0.78739999999999999,0.97,{"$f":"B44*C44","v":0.76377799999999996}]
["500-1000",0.78739999999999999,0.94,0.74015599999999993]
["1000-5000",0.78739999999999999,0.91,0.716534]
["5000-1000",0.78739999999999999,0.88,0.69291199999999997]
[10000,0.78739999999999999,0.85,0.66928999999999994]